Workbook

Sheet PUCES
A1: IMSI | B1: N° DE LIGNE
A2: 608151442669857 | B2: 777400185
A3: 608015146576363 | B3: 776387406
A4: 608015146576364 | B4: 776387431
A5: 608151341938155 | B5: 778194325
A6: 608015143433020 | B6: 785894347
A7: 608015146576346 | B7: 776387224
A8: 608015146576345 | B8: 776387220
A9: 608015146576315 | B9: 776387027
A10: 608015146576344 | B10: 776387203
A11: 608015146576319 | B11: 776387054
A12: 608015137087410 | B12: 778196793
A13: 608015146576334 | B13: 776387148
A14: 5144271481 | B14: 775698021
A15: 608015144266986 | B15: 778195986
A16: 608015144266984 | B16: 778195984
A17: 5133115210 | B17: 775690533
A18: 5130542719 | B18: 770992758
A19: 608151341938148 | B19: 786374673
A20: 608015144266982 | B20: 778195982
A21: 608015143433032 | B21: 785894367
A22: 608015143430620 | B22: 775693138
A23: 5133115196 | B23: 775690514
A24: 5133115216 | B24: 776398826
A25: 5133115180 | B25: 776398819
A26: 608015143430619 | B26: 775693137
A27: 608015143433031 | B27: 785894366
A28: 608015143430618 | B28: 775693134
A29: 608015146576338 | B29: 776387175
A30: 608015146576318 | B30: 776387051
A31: 608015143433030 | B31: 785894363
A32: 608015146576337 | B32: 776387170
A33: 5134193699 | B33: 778194183
A34: 608015144266983 | B34: 778195983
A35: 5133115554 | B35: 775691095
A36: 5133115241 | B36: 775690575
A37: 608015143430630 | B37: 775693168
A38: 5133115208 | B38: 775690531
A39: 5133115217 | B39: 776398827
A40: 608015146576353 | B40: 776387279
...

Sheet SIMs
A1: SIM ID | B1: Simid | C1: Imsi | D1: Opérateur | E1: Appareil | F1: Véhicule | G1: Numéro de ligne | H1: Cnum | I1: Dernier signale | J1: Statut | K1: Plan (MB) | L1: Groupes | M1: N° DE LIGNE
A2: 856 | B2: "8922101051305427195" | M2: =VLOOKUP(VALUE(CONCATENATE("60801",MID(B2,10,10))),PUCES!A:B,2,FALSE) -> #N/A
A3: 332 | B3: "8922101051442669824" | M3: =VLOOKUP(VALUE(CONCATENATE("60801",MID(B3,10,10))),PUCES!A:B,2,FALSE) -> 778195982
A4: 233 | B4: "8922101051442669865" | M4: =VLOOKUP(VALUE(CONCATENATE("60801",MID(B4,10,10))),PUCES!A:B,2,FALSE) -> #N/A
A5: 897 | B5: "8922101051341938148" | M5: =VLOOKUP(VALUE(CONCATENATE("60801",MID(B5,10,10))),PUCES!A:B,2,FALSE) -> #N/A
A6: 889 | B6: "8922101051331152106" | M6: =VLOOKUP(VALUE(CONCATENATE("60801",MID(B6,10,10))),PUCES!A:B,2,FALSE) -> #N/A
A7: 35 | B7: "8922101051442669840" | M7: =VLOOKUP(VALUE(CONCATENATE("60801",MID(B7,10,10))),PUCES!A:B,2,FALSE) -> 778195984
A8: 1355 | B8: "8922101051138724727" | M8: =VLOOKUP(VALUE(CONCATENATE("60801",MID(B8,10,10))),PUCES!A:B,2,FALSE) -> #N/A
A9: 827 | B9: "8922101051465763413" | M9: =VLOOKUP(VALUE(CONCATENATE("60801",MID(B9,10,10))),PUCES!A:B,2,FALSE) -> 776387180
A10: 834 | B10: "8922101051465763421" | M10: =VLOOKUP(VALUE(CONCATENATE("60801",MID(B10,10,10))),PUCES!A:B,2,FALSE) -> 776387195
A11: 817 | B11: "8922101051465763397" | M11: =VLOOKUP(VALUE(CONCATENATE("60801",MID(B11,10,10))),PUCES!A:B,2,FALSE) -> 776387178
A12: 810 | B12: "8922101051465763173" | M12: =VLOOKUP(VALUE(CONCATENATE("60801",MID(B12,10,10))),PUCES!A:B,2,FALSE) -> 776387041
A13: 888 | B13: "8922101051465763405" | M13: =VLOOKUP(VALUE(CONCATENATE("60801",MID(B13,10,10))),PUCES!A:B,2,FALSE) -> 776387179
... A385: 2015 | B385: "8925301190401282608" | M385: =VLOOKUP(VALUE(CONCATENATE("60801",MID(B385,10,10))),PUCES!A:B,2,FALSE) -> #N/A
