Workbook

Sheet PUCES
A1: IMSI | B1: N° DE LIGNE
A2: 608151442669857 | B2: 777400185
A3: 608015146576363 | B3: 776387406
A4: 608015146576364 | B4: 776387431
A5: 608151341938155 | B5: 778194325
A6: 608015143433020 | B6: 785894347
A7: 608015146576346 | B7: 776387224
A8: 608015146576345 | B8: 776387220
A9: 608015146576315 | B9: 776387027
A10: 608015146576344 | B10: 776387203
A11: 608015146576319 | B11: 776387054
A12: 608015137087410 | B12: 778196793
A13: 608015146576334 | B13: 776387148
A14: 5144271481 | B14: 775698021
A15: 608015144266986 | B15: 778195986
A16: 608015144266984 | B16: 778195984
A17: 5133115210 | B17: 775690533
A18: 5130542719 | B18: 770992758
A19: 608151341938148 | B19: 786374673
A20: 608015144266982 | B20: 778195982
A21: 608015143433032 | B21: 785894367
A22: 608015143430620 | B22: 775693138
A23: 5133115196 | B23: 775690514
A24: 5133115216 | B24: 776398826
A25: 5133115180 | B25: 776398819
A26: 608015143430619 | B26: 775693137
A27: 608015143433031 | B27: 785894366
A28: 608015143430618 | B28: 775693134
A29: 608015146576338 | B29: 776387175
A30: 608015146576318 | B30: 776387051
A31: 608015143433030 | B31: 785894363
A32: 608015146576337 | B32: 776387170
A33: 5134193699 | B33: 778194183
A34: 608015144266983 | B34: 778195983
A35: 5133115554 | B35: 775691095
A36: 5133115241 | B36: 775690575
A37: 608015143430630 | B37: 775693168
A38: 5133115208 | B38: 775690531
A39: 5133115217 | B39: 776398827
A40: 608015146576353 | B40: 776387279
A41: 608015146576357 | B41: 776387315
A42: 608015146576336 | B42: 776387159
A43: 608015146576352 | B43: 776387273
A44: 608015146576331 | B44: 776387126
A45: 608015146576356 | B45: 776387312
A46: 608015146576348 | B46: 776387244
A47: 608015143430617 | B47: 775693133
A48: 608015146576335 | B48: 776387152
A49: 608015146576332 | B49: 776387129
A50: 608015146576347 | B50: 776387242
A51: 608015146576351 | B51: 776387266
... A59: 608015146576358 | B59: 776387328
A60: 5133115189 | B60: 775690504
A61: 5144267114 | B61: 778196782
A62: 5144267118 | B62: 778196787
A63: 5144267115 | B63: 778196783
A64: 5137076280 | B64: 770999481
A65: 5144267116 | B65: 778196785
A66: 5142075179 | B66: 786382295
A67: 5137082234 | B67: 773337189
A68: 5137087382 | B68: 778195137
A69: 5137082232 | B69: 773337181
A70: 608151370822478 | B70: 773337264
A71: SN112
A72: SN118
A73: SN108
A74: SN113
A75: SN117
A76: SN115
A77: SN116
A78: SN114
A79: 608015143433019 | B79: 785894346
A80: 608015146576361 | B80: 776387340
A81: 5134193694 | B81: 786374595
A82: 5133115215 | B82: 775690541
A83: 5133115555 | B83: 775691096
A84: 5144277037 | B84: 776398839
A85: 608015143430631 | B85: 775693176
A86: 5133115242 | B86: 775690576
A87: 5144271482 | B87: 776398763
A88: 5144271483 | B88: 775691205
A89: 608015143433024 | B89: 785894352
A90: 608015143433034 | B90: 785894369
A91: 608015143433037 | B91: 785894375
A92: 608015143433023 | B92: 785894350
A93: 608015143433026 | B93: 785894356
A94: 608015143433018 | B94: 785894344
A95: 608015143433027 | B95: 785894357
A96: 608015143433025 | B96: 785894353
A97: 608015143433016 | B97: 785894340
A98: 608015143433021 | B98: 785894348
... A119: 608015146576320 | B119: 776387060
A120: 608015137085137 | B120: 777403199
A121: 608015143430637 | B121: 775693184
A122: 608015143430632 | B122: 775693177
A123: 5144277033 | B123: 770993399
A124: 5144277036 | B124: 775690285
A125: 5144277034 | B125: 775690117
A126: 5133115213 | B126: 775690538
A127: 5144264107 | B127: 777400164
...

Sheet SIMs
A1: SIM ID | B1: Simid | C1: Imsi | D1: Opérateur | E1: Appareil | F1: Véhicule | G1: Numéro de ligne | H1: Cnum | I1: Dernier signale | J1: Statut | K1: Plan (MB) | L1: Groupes | M1: N° DE LIGNE
A2: 856 | B2: "8922101051305427195" | M2: =VLOOKUP(VALUE(CONCATENATE("60801",MID(B2,10,10))),PUCES!A:B,2,FALSE) -> #N/A
A3: 332 | B3: "8922101051442669824" | M3: =VLOOKUP(VALUE(CONCATENATE("60801",MID(B3,10,10))),PUCES!A:B,2,FALSE) -> 778195982
A4: 233 | B4: "8922101051442669865" | M4: =VLOOKUP(VALUE(CONCATENATE("60801",MID(B4,10,10))),PUCES!A:B,2,FALSE) -> #N/A
A5: 897 | B5: "8922101051341938148" | M5: =VLOOKUP(VALUE(CONCATENATE("60801",MID(B5,10,10))),PUCES!A:B,2,FALSE) -> #N/A
A6: 889 | B6: "8922101051331152106" | M6: =VLOOKUP(VALUE(CONCATENATE("60801",MID(B6,10,10))),PUCES!A:B,2,FALSE) -> #N/A
A7: 35 | B7: "8922101051442669840" | M7: =VLOOKUP(VALUE(CONCATENATE("60801",MID(B7,10,10))),PUCES!A:B,2,FALSE) -> 778195984
A8: 1355 | B8: "8922101051138724727" | M8: =VLOOKUP(VALUE(CONCATENATE("60801",MID(B8,10,10))),PUCES!A:B,2,FALSE) -> #N/A
A9: 827 | B9: "8922101051465763413" | M9: =VLOOKUP(VALUE(CONCATENATE("60801",MID(B9,10,10))),PUCES!A:B,2,FALSE) -> 776387180
A10: 834 | B10: "8922101051465763421" | M10: =VLOOKUP(VALUE(CONCATENATE("60801",MID(B10,10,10))),PUCES!A:B,2,FALSE) -> 776387195
A11: 817 | B11: "8922101051465763397" | M11: =VLOOKUP(VALUE(CONCATENATE("60801",MID(B11,10,10))),PUCES!A:B,2,FALSE) -> 776387178
A12: 810 | B12: "8922101051465763173" | M12: =VLOOKUP(VALUE(CONCATENATE("60801",MID(B12,10,10))),PUCES!A:B,2,FALSE) -> 776387041
A13: 888 | B13: "8922101051465763405" | M13: =VLOOKUP(VALUE(CONCATENATE("60801",MID(B13,10,10))),PUCES!A:B,2,FALSE) -> 776387179
... A385: 2015 | B385: "8925301190401282608" | M385: =VLOOKUP(VALUE(CONCATENATE("60801",MID(B385,10,10))),PUCES!A:B,2,FALSE) -> #N/A
