Workbook
Name ACTIVITES: LISTING!$F$3:$F$51
Name AESH: LISTING!$G$3:$G$10
Name BUS: LISTING!$H$3:$H$11
Name ECO_1: OFFSET(MonBase,,-23,,)
Name ECO_2: OFFSET(MonBase,,-18,,)
Name ECO_3: OFFSET(MonBase,,-13,,)
Name ECO_4: OFFSET(MonBase,,-8,,)
Name ECO_5: OFFSET(MonBase,,-3,,)
Name ECOLES: LISTING!$J$3:$J$7
Name EDUC: LISTING!$C$3:$C$51
Name ENTRESTAU: LISTING!$D$3:$D$50
Name ETUDES: LISTING!$E$3:$E$51
Name kop: ROW(OFFSET(MonBase,,1,1))-1
Name MonBase: 'BASE PERISCOLAIRE'!$Z$35:$Z$203
Name PROF: LISTING!$I$3:$I$51
Name REPAS: LISTING!$K$3:$K$8
Name SERVICE: LISTING!$B$2:$D$2
Name SLJ: LISTING!$B$3:$B$51
Name TRANSPORTSCOLAIRE: LISTING!$H$3:$H$51

Sheet LISTING
A2: NEANT | B2: SLJ | C2: EDUCATION | D2: ENTRERESTAU | E2: ETUDES | F2: ACTIVITES | G2: AESH | H2: Ligne de bus | I2: PROF | J2: ECOLES | K2: REPAS
B3: A1 | C3: B1 | D3: C1 | E3: D1 | F3: E1 | G3: F1 | H3: G1 | I3: H1 | J3: I1 | K3: L1
B4: A2 | C4: B2 | D4: C2 | E4: D2 | F4: E2 | G4: F2 | H4: G2 | I4: H2 | J4: I2 | K4: L2
B5: A3 | C5: B3 | D5: C3 | E5: D3 | F5: E3 | G5: F3 | H5: G3 | I5: H3 | J5: I3 | K5: L3
B6: A4 | C6: B4 | D6: C4 | E6: D4 | F6: E4 | H6: G4 | I6: H4 | J6: I4 | K6: L4
B7: A5 | C7: B5 | D7: C5 | E7: D5 | H7: G5 | I7: H5 | J7: I5
B8: A6 | C8: B6 | D8: C6 | E8: D6 | H8: G6 | I8: H6
B9: A7 | C9: B7 | D9: C7 | E9: D7 | H9: G7 | I9: H7
B10: A8 | C10: B8 | D10: C8 | E10: D8 | H10: G8 | I10: H8
B11: A9 | C11: B9 | D11: C9 | E11: D9 | H11: G9 | I11: H9
B12: A10 | C12: B10 | D12: C10 | E12: D10 | H12: G10 | I12: H10
B13: A11 | C13: B11 | D13: C11 | E13: D11 | I13: H11
B14: A12 | C14: B12 | D14: C12 | E14: D12 | I14: H12
B15: A13 | C15: B13 | D15: C13 | E15: D13 | I15: H13
B16: A14 | C16: B14 | D16: C14 | E16: D14 | I16: H14
B17: A15 | C17: B15 | D17: C15 | E17: D15 | I17: H15
B18: A16 | C18: B16 | D18: C16 | E18: D16 | I18: H16
B19: A17 | C19: B17 | D19: C17 | E19: D17 | I19: H17
B20: A18 | C20: B18 | D20: C18 | E20: D18 | I20: H18
B21: A19 | C21: B19 | D21: C19 | E21: D19 | I21: H19
B22: A20 | C22: B20 | D22: C20 | E22: D20 | I22: H20
B23: A21 | C23: B21 | D23: C21 | E23: D21 | I23: H21
B24: A22 | C24: B22 | D24: C22 | E24: D22 | I24: H22
... B45: A43 | C45: B43 | D45: C43 | E45: D43 | I45: H43
B46: A44 | C46: B44 | D46: C44 | I46: H44
B47: A45 | C47: B45 | D47: C45 | I47: H45
B48: A46 | C48: B46 | I48: H46
B49: A47 | C49: B47 | I49: H47
B50: A48 | C50: B48 | I50: H48
B51: A49 | C51: B49 | I51: H49
C52: B50 | I52: H50
I53: H51
I54: H52
I55: H53
I56: H54
I57: H55
I58: H56
I59: H57
I60: H58
I61: H59
I62: H60
I63: H61
I64: H62
... I84: H82

Sheet VARIABLES
A1: VARIABLES
A3: Variables en bleues modifiables | D3: Ec Campouns Elem | E3: Ec Daudet Mater | F3: Ec Garbejaire Mater/Elem | G3: Ec Ile Verte Mater/Elem | H3: Ec Sartoux Mater/Elem
A4: ACSO | B4: MATERNELLE | C4: MAT TT INSCRITS | D4: 345 | E4: 15 | F4: 41 | G4: 60 | H4: 80
C5: MAT RATIO | D5: 11 | E5: =D5 -> 11 | F5: =D5 -> 11 | G5: =D5 -> 11 | H5: =D5 -> 11
C6: MAT TX THEORIQUE | D6: =IFERROR(D4/D5,0) -> 31.363636 | E6: =E4/E5 -> 1.3636364 | F6: =F4/F5 -> 3.7272727 | G6: =G4/G5 -> 5.4545455 | H6: =H4/H5 -> 7.2727273
C7: MAT TX ARRONDI SUP | D7: =ROUNDUP(D6,0.1) -> 32 | E7: =ROUNDUP(E6,0.1) -> 2 | F7: =ROUNDUP(F6,0.1) -> 4 | G7: =ROUNDUP(G6,0.1) -> 6 | H7: =ROUNDUP(H6,0.1) -> 8
B8: ELEMENTAIRE | C8: ELEM TT INSCRITS | D8: 15 | E8: 22 | F8: 43 | G8: 62 | H8: 82
C9: ELLEM RATIO | D9: 30 | E9: =D9 -> 30 | F9: =D9 -> 30 | G9: =D9 -> 30 | H9: =D9 -> 30
C10: ELEM TX THEORIQUE | D10: =IFERROR(D8/D9,0) -> 0.5 | E10: =IFERROR(E8/E9,0) -> 0.73333333 | F10: =IFERROR(F8/F9,0) -> 1.4333333 | G10: =IFERROR(G8/G9,0) -> 2.0666667 | H10: =IFERROR(H8/H9,0) -> 2.7333333
C11: ELEM TX ARRONDI SUP | D11: =ROUNDUP(D10,0.1) -> 1 | E11: =ROUNDUP(E10,0.1) -> 1 | F11: =ROUNDUP(F10,0.1) -> 2 | G11: =ROUNDUP(G10,0.1) -> 3 | H11: =ROUNDUP(H10,0.1) -> 3
A12: ACMI | B12: MATERNELLE | C12: MAT TT INSCRITS | D12: 10 | E12: 24 | F12: 45 | G12: 64 | H12: 84
C13: MAT RATIO | D13: 8 | E13: =D13 -> 8 | F13: =D13 -> 8 | G13: =D13 -> 8 | H13: =D13 -> 8
C14: MAT TX THEORIQUE | D14: =IFERROR(D12/D13,0) -> 1.25 | E14: =IFERROR(E12/E13,0) -> 3 | F14: =IFERROR(F12/F13,0) -> 5.625 | G14: =IFERROR(G12/G13,0) -> 8 | H14: =IFERROR(H12/H13,0) -> 10.5
C15: MAT TX ARRONDI SUP | D15: =ROUNDUP(D14,0.1) -> 2 | E15: =ROUNDUP(E14,0.1) -> 3 | F15: =ROUNDUP(F14,0.1) -> 6 | G15: =ROUNDUP(G14,0.1) -> 8 | H15: =ROUNDUP(H14,0.1) -> 11
B16: ELEMENTAIRE | C16: ELEM TT INSCRITS | D16: 25 | E16: 26 | F16: 47 | G16: 66 | H16: 86
C17: ELLEM RATIO | D17: 35 | E17: =D17 -> 35 | F17: =D17 -> 35 | G17: =D17 -> 35 | H17: =D17 -> 35
C18: ELEM TX THEORIQUE | D18: =IFERROR(D16/D17,0) -> 0.71428571 | E18: =IFERROR(E16/E17,0) -> 0.74285714 | F18: =F16/F17 -> 1.3428571 | G18: =G16/G17 -> 1.8857143 | H18: =H16/H17 -> 2.4571429
C19: ELEM TX ARRONDI SUP | D19: =ROUNDUP(D18,0.1) -> 1 | E19: =ROUNDUP(E18,0.1) -> 1 | F19: =ROUNDUP(F18,0.1) -> 2 | G19: =ROUNDUP(G18,0.1) -> 2 | H19: =ROUNDUP(H18,0.1) -> 3
A20: ACSO | B20: MATERNELLE | C20: MAT TT INSCRITS | D20: 9 | E20: 28 | F20: 49 | G20: 68 | H20: 88
C21: MAT RATIO | D21: 10 | E21: =D21 -> 10 | F21: =D21 -> 10 | G21: =D21 -> 10 | H21: =D21 -> 10
C22: MAT TX THEORIQUE | D22: =IFERROR(D20/D21,0) -> 0.9 | E22: =IFERROR(E20/E21,0) -> 2.8 | F22: =IFERROR(F20/F21,0) -> 4.9 | G22: =IFERROR(G20/G21,0) -> 6.8 | H22: =IFERROR(H20/H21,0) -> 8.8
C23: MAT TX ARRONDI SUP | D23: =ROUNDUP(D22,0.1) -> 1 | E23: =ROUNDUP(E22,0.1) -> 3 | F23: =ROUNDUP(F22,0.1) -> 5 | G23: =ROUNDUP(G22,0.1) -> 7 | H23: =ROUNDUP(H22,0.1) -> 9
B24: ELEMENTAIRE | C24: ELEM TT INSCRITS | D24: 11 | E24: 30 | F24: 51 | G24: 70 | H24: 100
C25: ELLEM RATIO | D25: 12 | E25: =D25 -> 12 | F25: =D25 -> 12 | G25: =D25 -> 12 | H25: =D25 -> 12
C26: ELEM TX THEORIQUE | D26: =IFERROR(D24/D25,0) -> 0.91666667 | E26: =IFERROR(E24/E25,0) -> 2.5 | F26: =IFERROR(F24/F25,0) -> 4.25 | G26: =IFERROR(G24/G25,0) -> 5.8333333 | H26: =IFERROR(H24/H25,0) -> 8.3333333
C27: ELEM TX ARRONDI SUP | D27: =ROUNDUP(D26,0.1) -> 1 | E27: =ROUNDUP(E26,0.1) -> 3 | F27: =ROUNDUP(F26,0.1) -> 5 | G27: =ROUNDUP(G26,0.1) -> 6 | H27: =ROUNDUP(H26,0.1) -> 9
A28: ETUDES | B28: ELEMENTAIRE | C28: ETUDE TT INSCRITS | D28: 13 | E28: 32 | F28: 53 | G28: 72 | H28: 102
C29: ETUDE RATIO | D29: 14 | E29: =D29 -> 14 | F29: =D29 -> 14 | G29: =D29 -> 14 | H29: =D29 -> 14
C30: ELEM TX THEORIQUE | D30: =IFERROR(D28/D29,0) -> 0.92857143 | E30: =IFERROR(E28/E29,0) -> 2.2857143 | F30: =IFERROR(F28/F29,0) -> 3.7857143 | G30: =IFERROR(G28/G29,0) -> 5.1428571 | H30: =IFERROR(H28/H29,0) -> 7.2857143
C31: ETUDE TX ARRONDI SUP | D31: =ROUNDUP(D30,0.1) -> 1 | E31: =ROUNDUP(E30,0.1) -> 3 | F31: =ROUNDUP(F30,0.1) -> 4 | G31: =ROUNDUP(G30,0.1) -> 6 | H31: =ROUNDUP(H30,0.1) -> 8

Sheet BASE PERISCOLAIRE
A1: =COLUMN()-COLUMN($Z$1) -> -25 | B1: =COLUMN()-COLUMN($Z$1) -> -24 | C1: =COLUMN()-COLUMN($Z$1) -> -23 | D1: =COLUMN()-COLUMN($Z$1) -> -22 | E1: =COLUMN()-COLUMN($Z$1) -> -21 | F1: =COLUMN()-COLUMN($Z$1) -> -20 | G1: =COLUMN()-COLUMN($Z$1) -> -19 | H1: =COLUMN()-COLUMN($Z$1) -> -18 | ... Z1: =COLUMN()-COLUMN($Z$1) -> 0
A2: Site | B2: =VARIABLES!D3 -> Ec Campouns Elem | F2: Site | G2: =VARIABLES!E3 -> Ec Daudet Mater | K2: Site | L2: =VARIABLES!F3 -> Ec Garbejaire Mater/Elem | P2: Site | Q2: =VARIABLES!G3 -> Ec Ile Verte Mater/Elem | U2: Site | V2: =VARIABLES!H3 -> Ec Sartoux Mater/Elem
A4: BUS MATIN | B4: =A6 -> Mouton rouge | C4: =A10 -> NEANT | D4: =A14 -> NEANT | F4: BUS MATIN | G4: =F6 -> Vache verte | H4: =F10 -> Transfert | I4: =F14 -> NEANT | K4: BUS MATIN | L4: =K6 -> Cheval bleu | M4: =K10 -> NEANT | N4: =K14 -> NEANT | P4: BUS MATIN | Q4: =P6 -> Vache rouge | R4: =P10 -> Transfert | S4: =P14 -> NEANT | U4: BUS MATIN | V4: =U6 -> Libellule bleue | W4: =U10 -> Transfert | X4: =U14 -> NEANT
B5: OUVERT | C5: NEANT | D5: NEANT | G5: FERME | H5: OUVERT | I5: NEANT | L5: OUVERT | M5: NEANT | N5: NEANT | Q5: OUVERT | R5: OUVERT | S5: NEANT | V5: NEANT | W5: OUVERT | X5: NEANT
A6: Mouton rouge | B6: ENTRERESTAU | C6: PRESENT | F6: Vache verte | G6: EntreRestau | H6: PRESENT | K6: Cheval bleu | L6: EntreRestau | M6: PRESENT | P6: Vache rouge | Q6: EntreRestau | R6: PRESENT | U6: Libellule bleue | V6: EntreRestau | W6: PRESENT
B7: ENTRERESTAU | C7: PRESENT | G7: EntreRestau | H7: PRESENT | L7: EntreRestau | M7: PRESENT | Q7: EntreRestau | R7: PRESENT | V7: EntreRestau | W7: PRESENT
B8: EntreRestau | C8: NEANT | G8: EntreRestau | H8: NEANT | L8: EntreRestau | M8: NEANT | Q8: EntreRestau | R8: NEANT | V8: EntreRestau | W8: PRESENT
B9: EntreRestau | C9: NEANT | G9: EntreRestau | H9: NEANT | L9: EntreRestau | M9: NEANT | Q9: EntreRestau | R9: NEANT | V9: EntreRestau | W9: NEANT
A10: NEANT | B10: Education | C10: NEANT | F10: Transfert | G10: ENTRERESTAU | H10: PRESENT | K10: NEANT | L10: Education | M10: NEANT | P10: Transfert | Q10: ENTRERESTAU | R10: PRESENT | U10: Transfert | V10: ENTRERESTAU | W10: PRESENT
B11: SLJ | C11: NEANT | G11: ENTRERESTAU | H11: PRESENT | L11: SLJ | M11: NEANT | Q11: ENTRERESTAU | R11: PRESENT | V11: ENTRERESTAU | W11: PRESENT
B12: SLJ | C12: NEANT | G12: SLJ | H12: NEANT | L12: SLJ | M12: NEANT | Q12: ENTRERESTAU | R12: PRESENT | V12: SLJ | W12: NEANT
B13: Education | C13: NEANT | G13: Education | H13: NEANT | L13: Education | M13: NEANT | Q13: Education | R13: NEANT | V13: Education | W13: NEANT
A14: NEANT | B14: SLJ | C14: NEANT | F14: NEANT | G14: SLJ | H14: NEANT | K14: NEANT | L14: SLJ | M14: NEANT | P14: NEANT | Q14: SLJ | R14: NEANT | U14: NEANT | V14: SLJ | W14: NEANT
B15: SLJ | C15: NEANT | G15: SLJ | H15: NEANT | L15: SLJ | M15: NEANT | Q15: SLJ | R15: NEANT | V15: SLJ | W15: NEANT
B16: EntreRestau | C16: NEANT | G16: EntreRestau | H16: NEANT | L16: EntreRestau | M16: NEANT | Q16: EntreRestau | R16: NEANT | V16: EntreRestau | W16: NEANT
B17: Education | C17: NEANT | G17: Education | H17: NEANT | L17: Education | M17: NEANT | Q17: Education | R17: NEANT | V17: Education | W17: NEANT
A19: BUS SOIR | B19: =A21 -> Mouton rouge | C19: =A25 -> Vache verte | D19: =A29 -> NEANT | F19: BUS SOIR | G19: =F21 -> Mouton rouge | H19: =F25 -> Vache verte | I19: =F29 -> NEANT | K19: BUS SOIR | L19: =K21 -> Cheval bleu | M19: =K25 -> NEANT | N19: =K29 -> NEANT | P19: BUS SOIR | Q19: =P21 -> Vache rouge | R19: =P25 -> Transfert | S19: =P29 -> NEANT | U19: BUS SOIR | V19: =U21 -> Libellule bleue | W19: =U25 -> Transfert | X19: =U29 -> NEANT
B20: OUVERT | C20: OUVERT | D20: NEANT | G20: FERME | H20: OUVERT | I20: NEANT | L20: OUVERT | M20: NEANT | N20: NEANT | Q20: OUVERT | R20: OUVERT | S20: NEANT | V20: OUVERT | W20: OUVERT | X20: NEANT
A21: Mouton rouge | B21: EntreRestau | C21: PRESENT | F21: Mouton rouge | G21: EntreRestau | H21: NEANT | I21: ER2 | K21: Cheval bleu | L21: EntreRestau | M21: PRESENT | P21: Vache rouge | Q21: EntreRestau | R21: PRESENT | U21: Libellule bleue | V21: EntreRestau | W21: PRESENT
B22: EntreRestau | C22: PRESENT | G22: EntreRestau | H22: NEANT | I22: ER5 | L22: EntreRestau | M22: PRESENT | Q22: EntreRestau | R22: PRESENT | V22: EntreRestau | W22: PRESENT
B23: SLJ | C23: NEANT | G23: SLJ | H23: NEANT | L23: SLJ | M23: NEANT | Q23: SLJ | R23: NEANT | V23: SLJ | W23: NEANT
B24: Education | C24: NEANT | G24: Education | H24: NEANT | L24: Education | M24: NEANT | Q24: Education | R24: NEANT | V24: Education | W24: NEANT
A25: Vache verte | B25: EntreRestau | C25: PRESENT | F25: Vache verte | G25: EntreRestau | H25: NEANT | I25: ER4 | K25: NEANT | L25: EntreRestau | M25: NEANT | P25: Transfert | Q25: EntreRestau | R25: PRESENT | U25: Transfert | V25: EntreRestau | W25: PRESENT
B26: EntreRestau | C26: PRESENT | G26: EntreRestau | H26: NEANT | I26: ER9 | L26: EntreRestau | M26: NEANT | Q26: EntreRestau | R26: PRESENT | V26: EntreRestau | W26: PRESENT
B27: SLJ | C27: NEANT | G27: SLJ | H27: NEANT | L27: SLJ | M27: NEANT | Q27: SLJ | R27: NEANT | V27: SLJ | W27: NEANT
B28: Education | C28: NEANT | G28: Education | H28: NEANT | L28: Education | M28: NEANT | Q28: Education | R28: NEANT | V28: Education | W28: NEANT
A29: NEANT | B29: SLJ | C29: NEANT | F29: NEANT | G29: SLJ | H29: NEANT | K29: NEANT | L29: SLJ | M29: NEANT | P29: NEANT | Q29: SLJ | R29: NEANT | U29: NEANT | V29: SLJ | W29: NEANT
B30: SLJ | C30: NEANT | G30: SLJ | H30: NEANT | L30: SLJ | M30: NEANT | Q30: SLJ | R30: NEANT | V30: SLJ | W30: NEANT
B31: SLJ | C31: NEANT | G31: SLJ | H31: NEANT | L31: SLJ | M31: NEANT | Q31: SLJ | R31: NEANT | V31: SLJ | W31: NEANT
B32: Education | C32: NEANT | G32: Education | H32: NEANT | L32: Education | M32: NEANT | Q32: Education | R32: NEANT | V32: Education | W32: NEANT
A34: ACMA | B34: OUVERT | F34: ACMA | G34: OUVERT | K34: ACMA | L34: OUVERT | P34: ACMA | Q34: OUVERT | U34: ACMA | V34: OUVERT
A35: MAT TT INSCRITS | B35: Restauration | C35: PRESENT | F35: MAT TT INSCRITS | G35: Restauration | H35: PRESENT | K35: MAT TT INSCRITS | L35: Restauration | M35: RAISON DE SERVICE | P35: MAT TT INSCRITS | Q35: Restauration | R35: PRESENT | U35: MAT TT INSCRITS | V35: Restauration | W35: PRESENT | Z35: ACMA
A36: =VARIABLES!D4 -> 345 | B36: Présents+RS | C36: PRESENT | F36: =VARIABLES!E4 -> 15 | G36: Présents+RS | H36: PRESENT | K36: =+VARIABLES!F4 -> 41 | L36: Présents+RS | M36: PRESENT | P36: =VARIABLES!G4 -> 60 | Q36: Présents+RS | R36: PRESENT | U36: =VARIABLES!H4 -> 80 | V36: Présents+RS | W36: PRESENT | Z36: ACMA
A37: MAT RATIO | B37: =COUNTIF(C35:C43, "PRESENT")+COUNTIF(C35:C43, "RAISON DE SERVICE") -> 5 | C37: PRESENT | F37: MAT RATIO | G37: =COUNTIF(H35:H43, "PRESENT")+COUNTIF(H35:H43, "RAISON DE SERVICE") -> 5 | H37: PRESENT | K37: MAT RATIO | L37: =COUNTIF(M35:M43, "PRESENT")+COUNTIF(M35:M43, "RAISON DE SERVICE") -> 7 | M37: ABSENT | P37: MAT RATIO | Q37: =COUNTIF(R35:R43, "PRESENT")+COUNTIF(R35:R43, "RAISON DE SERVICE") -> 7 | R37: PRESENT | U37: MAT RATIO | V37: =COUNTIF(W35:W43, "PRESENT")+COUNTIF(W35:W43, "RAISON DE SERVICE") -> 6 | W37: PRESENT | Z37: ACMA
A38: =VARIABLES!D5 -> 11 | B38: Grèviste | C38: PRESENT | F38: =VARIABLES!E5 -> 11 | G38: Grèviste | H38: NEANT | K38: =VARIABLES!F5 -> 11 | L38: Grèviste | M38: PRESENT | P38: =VARIABLES!G4 -> 60 | Q38: Grèviste | R38: PRESENT | U38: =VARIABLES!H5 -> 11 | V38: Grèviste | W38: PRESENT | Z38: ACMA
A39: MAT TX THEORIQUE | B39: =COUNTIF(C35:C43, "GREVISTE") -> 0 | C39: PRESENT | F39: MAT TX THEORIQUE | G39: =COUNTIF(H35:H43, "GREVISTE") -> 0 | H39: NEANT | K39: MAT TX THEORIQUE | L39: =COUNTIF(M35:M43, "GREVISTE") -> 0 | M39: PRESENT | P39: MAT TX THEORIQUE | Q39: =COUNTIF(R35:R43, "GREVISTE") -> 0 | R39: PRESENT | U39: MAT TX THEORIQUE | V39: =COUNTIF(W35:W43, "GREVISTE") -> 0 | W39: NEANT | Z39: ACMA
A40: =VARIABLES!D6 -> 31.363636 | B40: AT+ABS+Forma | C40: NEANT | F40: =VARIABLES!E6 -> 1.3636364 | G40: AT+ABS+Forma | H40: NEANT | K40: =VARIABLES!F6 -> 3.7272727 | L40: AT+ABS+Forma | M40: PRESENT | P40: =VARIABLES!G6 -> 5.4545455 | Q40: AT+ABS+Forma | R40: NEANT | U40: =VARIABLES!H6 -> 7.2727273 | V40: AT+ABS+Forma | W40: NEANT | Z40: ACMA
A41: ELEM TT INSCRITS | B41: =COUNTIF(C35:C43, "FORMATION")+COUNTIF(C35:C43, "ARRET DE TRAVAIL")+COUNTIF(C35:C43, "ABSENT") -> 0 | C41: NEANT | F41: ELEM TT INSCRITS | G41: =COUNTIF(H35:H43, "FORMATION")+COUNTIF(H35:H43, "ARRET DE TRAVAIL")+COUNTIF(H35:H43, "ABSENT") -> 0 | H41: NEANT | K41: ELEM TT INSCRITS | L41: =COUNTIF(M35:M43, "FORMATION")+COUNTIF(M35:M43, "ARRET DE TRAVAIL")+COUNTIF(M35:M43, "ABSENT") -> 1 | M41: NEANT | P41: ELEM TT INSCRITS | Q41: =COUNTIF(R35:R43, "FORMATION")+COUNTIF(R35:R43, "ARRET DE TRAVAIL")+COUNTIF(R35:R43, "ABSENT") -> 0 | R41: NEANT | U41: ELEM TT INSCRITS | V41: =COUNTIF(W35:W43, "FORMATION")+COUNTIF(W35:W43, "ARRET DE TRAVAIL")+COUNTIF(W35:W43, "ABSENT") -> 0 | W41: NEANT | Z41: ACMA
A42: =VARIABLES!D8 -> 15 | C42: NEANT | F42: =VARIABLES!E8 -> 22 | H42: RAISON DE SERVICE | K42: =VARIABLES!F8 -> 43 | M42: RAISON DE SERVICE | P42: =VARIABLES!G8 -> 62 | R42: RAISON DE SERVICE | U42: =VARIABLES!H8 -> 82 | W42: RAISON DE SERVICE | Z42: ACMA
A43: ELEM RATIO | C43: NEANT | F43: Tx théo d'enca / anim | H43: RAISON DE SERVICE | K43: Tx théo d'enca / anim | M43: RAISON DE SERVICE | P43: Tx théo d'enca / anim | R43: RAISON DE SERVICE | U43: Tx théo d'enca / anim | W43: RAISON DE SERVICE | Z43: ACMA
A44: =VARIABLES!D9 -> 30 | B44: Entretien | C44: PRESENT | F44: =VARIABLES!E9 -> 30 | G44: Entretien | H44: PRESENT | K44: =VARIABLES!F9 -> 30 | L44: Entretien | M44: PRESENT | P44: =VARIABLES!G9 -> 30 | Q44: Entretien | R44: PRESENT | U44: =VARIABLES!H9 -> 30 | V44: Entretien | W44: PRESENT | Z44: ACMA
A45: ELEM TX THEORIQUE | B45: Présents+RS | C45: PRESENT | F45: ELEM TX THEORIQUE | G45: Présents+RS | H45: PRESENT | K45: ELEM TX THEORIQUE | L45: Présents+RS | M45: PRESENT | P45: ELEM TX THEORIQUE | Q45: Présents+RS | R45: PRESENT | U45: ELEM TX THEORIQUE | V45: Présents+RS | W45: PRESENT | Z45: ACMA
A46: =VARIABLES!D10 -> 0.5 | B46: =COUNTIF(C44:C51, "PRESENT")+COUNTIF(C44:C51, "RAISON DE SERVICE") -> 4 | C46: PRESENT | F46: =VARIABLES!E10 -> 0.73333333 | G46: =COUNTIF(H44:H51, "PRESENT")+COUNTIF(H44:H51, "RAISON DE SERVICE") -> 4 | H46: NEANT | K46: =VARIABLES!F10 -> 1.4333333 | L46: =COUNTIF(M44:M51, "PRESENT")+COUNTIF(M44:M51, "RAISON DE SERVICE") -> 6 | M46: PRESENT | P46: =VARIABLES!G10 -> 2.0666667 | Q46: =COUNTIF(R44:R51, "PRESENT")+COUNTIF(R44:R51, "RAISON DE SERVICE") -> 6 | R46: PRESENT | U46: =VARIABLES!H10 -> 2.7333333 | V46: =COUNTIF(W44:W51, "PRESENT")+COUNTIF(W44:W51, "RAISON DE SERVICE") -> 7 | W46: PRESENT | Z46: ACMA
A47: Tt Mat+Elem Inscrits | B47: Grèviste | C47: PRESENT | F47: Tt Mat+Elem Inscrits | G47: Grèviste | H47: NEANT | K47: Tt Mat+Elem Inscrits | L47: Grèviste | M47: PRESENT | P47: Tt Mat+Elem Inscrits | Q47: Grèviste | R47: PRESENT | U47: Tt Mat+Elem Inscrits | V47: Grèviste | W47: PRESENT | Z47: ACMA
A48: =VARIABLES!D4+VARIABLES!D8 -> 360 | B48: =COUNTIF(C44:C51, "GREVISTE") -> 0 | C48: NEANT | F48: =VARIABLES!E4+VARIABLES!E8 -> 37 | G48: =COUNTIF(H44:H51, "GREVISTE") -> 0 | H48: NEANT | K48: =VARIABLES!F4+VARIABLES!F8 -> 84 | L48: =COUNTIF(M44:M51, "GREVISTE") -> 0 | M48: NEANT | P48: =VARIABLES!G4+VARIABLES!G8 -> 122 | Q48: =COUNTIF(R44:R51, "GREVISTE") -> 0 | R48: NEANT | U48: =VARIABLES!H4+VARIABLES!H8 -> 162 | V48: =COUNTIF(W44:W51, "GREVISTE") -> 0 | W48: PRESENT | Z48: ACMA
A49: Tt besoin animateurs | B49: AT+ABS+Forma | C49: NEANT | F49: Tt besoin animateurs | G49: AT+ABS+Forma | H49: NEANT | K49: Tt besoin animateurs | L49: AT+ABS+Forma | M49: NEANT | P49: Tt besoin animateurs | Q49: AT+ABS+Forma | R49: NEANT | U49: Tt besoin animateurs | V49: AT+ABS+Forma | W49: NEANT | Z49: ACMA
A50: =VARIABLES!D7+VARIABLES!D11 -> 33 | B50: =COUNTIF(C44:C51, "FORMATION")+COUNTIF(C44:C51, "ARRET DE TRAVAIL")+COUNTIF(C44:C51, "ABSENT") -> 0 | C50: NEANT | F50: =VARIABLES!E7+VARIABLES!E11 -> 3 | G50: =COUNTIF(H44:H51, "FORMATION")+COUNTIF(H44:H51, "ARRET DE TRAVAIL")+COUNTIF(H44:H51, "ABSENT") -> 0 | H50: RAISON DE SERVICE | K50: =VARIABLES!F7+VARIABLES!F11 -> 6 | L50: =COUNTIF(M44:M51, "FORMATION")+COUNTIF(M44:M51, "ARRET DE TRAVAIL")+COUNTIF(M44:M51, "ABSENT") -> 0 | M50: RAISON DE SERVICE | P50: =VARIABLES!G7+VARIABLES!G11 -> 9 | Q50: =COUNTIF(R44:R51, "FORMATION")+COUNTIF(R44:R51, "ARRET DE TRAVAIL")+COUNTIF(R44:R51, "ABSENT") -> 0 | R50: RAISON DE SERVICE | U50: =VARIABLES!H7+VARIABLES!H11 -> 11 | V50: =COUNTIF(W44:W51, "FORMATION")+COUNTIF(W44:W51, "ARRET DE TRAVAIL")+COUNTIF(W44:W51, "ABSENT") -> 0 | W50: RAISON DE SERVICE | Z50: ACMA
A51: Tt Prés Anim EQU EDUC | C51: NEANT | F51: Tt Prés Anim EQU EDUC | H51: RAISON DE SERVICE | K51: Tt Prés Anim EQU EDUC | M51: RAISON DE SERVICE | P51: Tt Prés Anim EQU EDUC | R51: RAISON DE SERVICE | U51: Tt Prés Anim EQU EDUC | W51: RAISON DE SERVICE | Z51: ACMA
A52: =((COUNTIF(C52:C59, "PRESENT"))+(COUNTIF(C63:C89, "PRESENT"))) -> 0 | B52: ATSEM | C52: NEANT | F52: =((COUNTIF(H52:H59, "PRESENT"))+(COUNTIF(H63:H89, "PRESENT"))) -> 6 | G52: ATSEM | H52: PRESENT | K52: =((COUNTIF(M52:M59, "PRESENT"))+(COUNTIF(M63:M89, "PRESENT"))) -> 5 | L52: ATSEM | M52: PRESENT | P52: =((COUNTIF(R52:R59, "PRESENT"))+(COUNTIF(R63:R89, "PRESENT"))) -> 4 | Q52: ATSEM | R52: PRESENT | U52: =((COUNTIF(W52:W59, "PRESENT"))+(COUNTIF(W63:W89, "PRESENT"))) -> 4 | V52: ATSEM | W52: PRESENT | Z52: ACMA
A53: Raison de service | B53: Présents+RS | C53: NEANT | F53: Raison de service | G53: Présents+RS | H53: PRESENT | K53: Raison de service | L53: Présents+RS | M53: PRESENT | P53: Raison de service | Q53: Présents+RS | R53: PRESENT | U53: Raison de service | V53: Présents+RS | W53: PRESENT | Z53: ACMA
A54: =COUNTIF(C52:C89, "RAISON DE SERVICE") -> 0 | B54: =COUNTIF(C52:C62, "PRESENT")+COUNTIF(C52:C62, "RAISON DE SERVICE") -> 0 | C54: NEANT | F54: =COUNTIF(H52:H89, "RAISON DE SERVICE") -> 0 | G54: =COUNTIF(H52:H62, "PRESENT")+COUNTIF(H52:H62, "RAISON DE SERVICE") -> 7 | H54: PRESENT | K54: =COUNTIF(M53:M90, "RAISON DE SERVICE") -> 0 | L54: =COUNTIF(M52:M62, "PRESENT")+COUNTIF(M52:M62, "RAISON DE SERVICE") -> 6 | M54: PRESENT | P54: =COUNTIF(R52:R89, "RAISON DE SERVICE") -> 0 | Q54: =COUNTIF(R52:R62, "PRESENT")+COUNTIF(R52:R62, "RAISON DE SERVICE") -> 5 | R54: PRESENT | U54: =COUNTIF(W52:W89, "RAISON DE SERVICE") -> 0 | V54: =COUNTIF(W52:W62, "PRESENT")+COUNTIF(W52:W62, "RAISON DE SERVICE") -> 5 | W54: PRESENT | Z54: ACMA
A55: Tt Prés + Rais Serv | B55: Grèviste | C55: NEANT | F55: Tt Prés + Rais Serv | G55: Grèviste | H55: PRESENT | K55: Tt Prés + Rais Serv | L55: Grèviste | M55: PRESENT | P55: Tt Prés + Rais Serv | Q55: Grèviste | R55: PRESENT | U55: Tt Prés + Rais Serv | V55: Grèviste | W55: PRESENT | Z55: ACMA
A56: =A52+A54 -> 0 | B56: =COUNTIF(C52:C62, "GREVISTE") -> 0 | C56: NEANT | F56: =F52+F54 -> 6 | G56: =COUNTIF(H52:H62, "GREVISTE") -> 0 | H56: PRESENT | K56: =K52+K54 -> 5 | L56: =COUNTIF(M52:M62, "GREVISTE") -> 0 | M56: PRESENT | P56: =P52+P54 -> 4 | Q56: =COUNTIF(R52:R62, "GREVISTE") -> 0 | R56: NEANT | U56: =U52+U54 -> 4 | V56: =COUNTIF(W52:W62, "GREVISTE") -> 0 | W56: NEANT | Z56: ACMA
B57: AT+ABS+Forma | C57: NEANT | G57: AT+ABS+Forma | H57: PRESENT | L57: AT+ABS+Forma | M57: ABSENT | Q57: AT+ABS+Forma | R57: NEANT | V57: AT+ABS+Forma | W57: NEANT | Z57: ACMA
B58: =COUNTIF(C52:C62, "FORMATION")+COUNTIF(C52:C62, "ARRET DE TRAVAIL")+COUNTIF(C52:C62, "ABSENT") -> 0 | C58: NEANT | G58: =COUNTIF(H52:H62, "FORMATION")+COUNTIF(H52:H62, "ARRET DE TRAVAIL")+COUNTIF(H52:H62, "ABSENT") -> 0 | H58: NEANT | L58: =COUNTIF(M52:M62, "FORMATION")+COUNTIF(M52:M62, "ARRET DE TRAVAIL")+COUNTIF(M52:M62, "ABSENT") -> 1 | M58: NEANT | Q58: =COUNTIF(R52:R62, "FORMATION")+COUNTIF(R52:R62, "ARRET DE TRAVAIL")+COUNTIF(R52:R62, "ABSENT") -> 0 | R58: NEANT | V58: =COUNTIF(W52:W62, "FORMATION")+COUNTIF(W52:W62, "ARRET DE TRAVAIL")+COUNTIF(W52:W62, "ABSENT") -> 0 | W58: NEANT | Z58: ACMA
C59: NEANT | H59: NEANT | M59: NEANT | R59: NEANT | W59: NEANT | Z59: ACMA
B60: BCD | C60: NEANT | G60: BCD | H60: PRESENT | L60: BCD | M60: PRESENT | Q60: BCD | R60: PRESENT | V60: BCD | W60: PRESENT | Z60: ACMA
C61: NEANT | H61: NEANT | M61: NEANT | R61: NEANT | W61: NEANT | Z61: ACMA
C62: NEANT | H62: NEANT | M62: NEANT | R62: NEANT | W62: NEANT | Z62: ACMA
B63: AESH Péri | C63: NEANT | G63: AESH Péri | H63: NEANT | L63: AESH Péri | M63: NEANT | Q63: AESH Péri | R63: NEANT | V63: AESH Péri | W63: NEANT | Z63: ACMA
C64: NEANT | H64: NEANT | M64: NEANT | R64: NEANT | W64: NEANT | Z64: ACMA
C65: NEANT | H65: NEANT | M65: NEANT | R65: NEANT | W65: NEANT | Z65: ACMA
C66: NEANT | H66: NEANT | M66: NEANT | R66: NEANT | W66: NEANT | Z66: ACMA
B67: Direction | C67: NEANT | G67: Direction | H67: NEANT | L67: Direction | M67: NEANT | Q67: Direction | R67: NEANT | V67: Direction | W67: NEANT | Z67: ACMA
C68: NEANT | H68: NEANT | M68: NEANT | R68: NEANT | W68: NEANT | Z68: ACMA
C69: NEANT | H69: NEANT | M69: NEANT | R69: NEANT | W69: NEANT | Z69: ACMA
C70: NEANT | H70: NEANT | M70: NEANT | R70: NEANT | W70: NEANT | Z70: ACMA
B71: ETAPS | C71: NEANT | G71: ETAPS | H71: NEANT | L71: ETAPS | M71: NEANT | Q71: ETAPS | R71: NEANT | V71: ETAPS | W71: NEANT | Z71: ACMA
C72: NEANT | H72: NEANT | M72: NEANT | R72: NEANT | W72: NEANT | Z72: ACMA
C73: NEANT | H73: NEANT | M73: NEANT | R73: NEANT | W73: NEANT | Z73: ACMA
C74: NEANT | H74: NEANT | M74: NEANT | R74: NEANT | W74: NEANT | Z74: ACMA
B75: Animateurs | C75: NEANT | G75: Animateurs | H75: NEANT | L75: Animateurs | M75: NEANT | Q75: Animateurs | R75: NEANT | V75: Animateurs | W75: NEANT | Z75: ACMA
B76: Présents+RS | C76: NEANT | G76: Présents+RS | H76: NEANT | L76: Présents+RS | M76: NEANT | Q76: Présents+RS | R76: NEANT | V76: Présents+RS | W76: NEANT | Z76: ACMA
B77: =COUNTIF(C68:C89, "PRESENT")+COUNTIF(C68:C89, "RAISON DE SERVICE") -> 0 | C77: NEANT | G77: =COUNTIF(H68:H89, "PRESENT")+COUNTIF(H68:H89, "RAISON DE SERVICE") -> 0 | H77: NEANT | L77: =COUNTIF(M68:M89, "PRESENT")+COUNTIF(M68:M89, "RAISON DE SERVICE") -> 0 | M77: NEANT | Q77: =COUNTIF(R68:R89, "PRESENT")+COUNTIF(R68:R89, "RAISON DE SERVICE") -> 0 | R77: NEANT | V77: =COUNTIF(W68:W89, "PRESENT")+COUNTIF(W68:W89, "RAISON DE SERVICE") -> 0 | W77: NEANT | Z77: ACMA
B78: Grèviste | C78: NEANT | G78: Grèviste | H78: NEANT | L78: Grèviste | M78: NEANT | Q78: Grèviste | R78: NEANT | V78: Grèviste | W78: NEANT | Z78: ACMA
B79: =COUNTIF(C67:C89, "GREVISTE") -> 0 | C79: NEANT | G79: =COUNTIF(H67:H89, "GREVISTE") -> 0 | H79: NEANT | L79: =COUNTIF(M67:M89, "GREVISTE") -> 0 | M79: NEANT | Q79: =COUNTIF(R67:R89, "GREVISTE") -> 0 | R79: NEANT | V79: =COUNTIF(W67:W89, "GREVISTE") -> 0 | W79: NEANT | Z79: ACMA
B80: AT+ABS+Forma | C80: NEANT | G80: AT+ABS+Forma | H80: NEANT | L80: AT+ABS+Forma | M80: NEANT | Q80: AT+ABS+Forma | R80: NEANT | V80: AT+ABS+Forma | W80: NEANT | Z80: ACMA
B81: =COUNTIF(C68:C89, "FORMATION")+COUNTIF(C68:C89, "ARRET DE TRAVAIL")+COUNTIF(C68:C89, "ABSENT") -> 0 | C81: NEANT | G81: =COUNTIF(H68:H89, "FORMATION")+COUNTIF(H68:H89, "ARRET DE TRAVAIL")+COUNTIF(H68:H89, "ABSENT") -> 0 | H81: NEANT | L81: =COUNTIF(M68:M89, "FORMATION")+COUNTIF(M68:M89, "ARRET DE TRAVAIL")+COUNTIF(M68:M89, "ABSENT") -> 0 | M81: NEANT | Q81: =COUNTIF(R68:R89, "FORMATION")+COUNTIF(R68:R89, "ARRET DE TRAVAIL")+COUNTIF(R68:R89, "ABSENT") -> 0 | R81: NEANT | V81: =COUNTIF(W68:W89, "FORMATION")+COUNTIF(W68:W89, "ARRET DE TRAVAIL")+COUNTIF(W68:W89, "ABSENT") -> 0 | W81: NEANT | Z81: ACMA
C82: NEANT | H82: NEANT | M82: NEANT | R82: NEANT | W82: NEANT | Z82: ACMA
C83: NEANT | H83: NEANT | M83: NEANT | R83: NEANT | W83: NEANT | Z83: ACMA
C84: NEANT | H84: NEANT | M84: NEANT | R84: NEANT | W84: NEANT | Z84: ACMA
C85: NEANT | H85: NEANT | M85: NEANT | R85: NEANT | W85: NEANT | Z85: ACMA
C86: NEANT | H86: NEANT | M86: NEANT | R86: NEANT | W86: NEANT | Z86: ACMA
C87: NEANT | H87: NEANT | M87: NEANT | R87: NEANT | W87: NEANT | Z87: ACMA
C88: NEANT | H88: NEANT | M88: NEANT | R88: NEANT | W88: NEANT | Z88: ACMA
C89: NEANT | H89: NEANT | M89: NEANT | R89: NEANT | W89: NEANT | Z89: ACMA
A91: ACMI | B91: OUVERT | D91: Pas de déjeuner | F91: ACMI | G91: OUVERT | I91: Repas normal | K91: ACMI | L91: OUVERT | N91: PN fournis Famille | P91: ACMI | Q91: OUVERT | S91: PN fournis Mairie | U91: ACMI | V91: OUVERT | X91: Repas normal
A92: MAT TT INSCRITS | B92: Restauration | C92: PRESENT | F92: MAT TT INSCRITS | G92: Restauration | H92: PRESENT | K92: MAT TT INSCRITS | L92: Restauration | M92: PRESENT | P92: MAT TT INSCRITS | Q92: Restauration | R92: PRESENT | U92: MAT TT INSCRITS | V92: Restauration | W92: PRESENT | Z92: ACMI
A93: =VARIABLES!D12 -> 10 | B93: Présents+RS | C93: PRESENT | F93: =VARIABLES!E12 -> 24 | G93: Présents+RS | H93: PRESENT | K93: =VARIABLES!F12 -> 45 | L93: Présents+RS | M93: PRESENT | P93: =VARIABLES!G12 -> 64 | Q93: Présents+RS | R93: PRESENT | U93: =VARIABLES!H12 -> 84 | V93: Présents+RS | W93: PRESENT | Z93: ACMI
A94: MAT RATIO | B94: =COUNTIF(C92:C100, "PRESENT")+COUNTIF(C92:C100, "RAISON DE SERVICE") -> 6 | C94: PRESENT | F94: MAT RATIO | G94: =COUNTIF(H92:H100, "PRESENT")+COUNTIF(H92:H100, "RAISON DE SERVICE") -> 4 | H94: PRESENT | K94: MAT RATIO | L94: =COUNTIF(M92:M100, "PRESENT")+COUNTIF(M92:M100, "RAISON DE SERVICE") -> 4 | M94: PRESENT | P94: MAT RATIO | Q94: =COUNTIF(R92:R100, "PRESENT")+COUNTIF(R92:R100, "RAISON DE SERVICE") -> 4 | R94: PRESENT | U94: MAT RATIO | V94: =COUNTIF(W92:W100, "PRESENT")+COUNTIF(W92:W100, "RAISON DE SERVICE") -> 4 | W94: PRESENT | Z94: ACMI
A95: =VARIABLES!D13 -> 8 | B95: Grèviste | C95: PRESENT | F95: =VARIABLES!E13 -> 8 | G95: Grèviste | H95: PRESENT | K95: =VARIABLES!F13 -> 8 | L95: Grèviste | M95: PRESENT | P95: =VARIABLES!G13 -> 8 | Q95: Grèviste | R95: PRESENT | U95: =VARIABLES!H13 -> 8 | V95: Grèviste | W95: PRESENT | Z95: ACMI
A96: MAT TX THEORIQUE | B96: =COUNTIF(C92:C100, "GREVISTE") -> 0 | C96: NEANT | F96: MAT TX THEORIQUE | G96: =COUNTIF(H92:H100, "GREVISTE") -> 1 | H96: GREVISTE | K96: MAT TX THEORIQUE | L96: =COUNTIF(M92:M100, "GREVISTE") -> 1 | M96: GREVISTE | P96: MAT TX THEORIQUE | Q96: =COUNTIF(R92:R100, "GREVISTE") -> 1 | R96: GREVISTE | U96: MAT TX THEORIQUE | V96: =COUNTIF(W92:W100, "GREVISTE") -> 1 | W96: GREVISTE | Z96: ACMI
A97: =VARIABLES!D14 -> 1.25 | B97: AT+ABS+Forma | C97: NEANT | F97: =VARIABLES!E14 -> 3 | G97: AT+ABS+Forma | H97: NEANT | K97: =VARIABLES!F14 -> 5.625 | L97: AT+ABS+Forma | M97: NEANT | P97: =VARIABLES!G14 -> 8 | Q97: AT+ABS+Forma | R97: NEANT | U97: =VARIABLES!H14 -> 10.5 | V97: AT+ABS+Forma | W97: NEANT | Z97: ACMI
A98: ELEM TT INSCRITS | B98: =COUNTIF(C92:C100, "FORMATION")+COUNTIF(C92:C100, "ARRET DE TRAVAIL")+COUNTIF(C92:C100, "ABSENT") -> 0 | C98: NEANT | F98: ELEM TT INSCRITS | G98: =COUNTIF(H92:H100, "FORMATION")+COUNTIF(H92:H100, "ARRET DE TRAVAIL")+COUNTIF(H92:H100, "ABSENT") -> 0 | H98: NEANT | K98: ELEM TT INSCRITS | L98: =COUNTIF(M92:M100, "FORMATION")+COUNTIF(M92:M100, "ARRET DE TRAVAIL")+COUNTIF(M92:M100, "ABSENT") -> 0 | M98: NEANT | P98: ELEM TT INSCRITS | Q98: =COUNTIF(R92:R100, "FORMATION")+COUNTIF(R92:R100, "ARRET DE TRAVAIL")+COUNTIF(R92:R100, "ABSENT") -> 0 | R98: NEANT | U98: ELEM TT INSCRITS | V98: =COUNTIF(W92:W100, "FORMATION")+COUNTIF(W92:W100, "ARRET DE TRAVAIL")+COUNTIF(W92:W100, "ABSENT") -> 0 | W98: NEANT | Z98: ACMI
A99: =VARIABLES!D16 -> 25 | C99: RAISON DE SERVICE | F99: =VARIABLES!E16 -> 26 | H99: NEANT | K99: =VARIABLES!F16 -> 47 | M99: NEANT | P99: =VARIABLES!G16 -> 66 | R99: NEANT | U99: =VARIABLES!H16 -> 86 | W99: NEANT | Z99: ACMI
A100: ELEM RATIO | C100: RAISON DE SERVICE | F100: ELEM RATIO | H100: NEANT | K100: ELEM RATIO | M100: NEANT | P100: ELEM RATIO | R100: NEANT | U100: ELEM RATIO | W100: NEANT | Z100: ACMI
A101: =VARIABLES!D17 -> 35 | B101: Entretien | C101: PRESENT | F101: =VARIABLES!E17 -> 35 | G101: Entretien | H101: PRESENT | K101: =VARIABLES!F17 -> 35 | L101: Entretien | M101: PRESENT | P101: =VARIABLES!G17 -> 35 | Q101: Entretien | R101: PRESENT | U101: =VARIABLES!H17 -> 35 | V101: Entretien | W101: PRESENT | Z101: ACMI
A102: ELEM TX THEORIQUE | B102: Présents+RS | C102: PRESENT | F102: ELEM TX THEORIQUE | G102: Présents+RS | H102: PRESENT | K102: ELEM TX THEORIQUE | L102: Présents+RS | M102: PRESENT | P102: ELEM TX THEORIQUE | Q102: Présents+RS | R102: PRESENT | U102: ELEM TX THEORIQUE | V102: Présents+RS | W102: PRESENT | Z102: ACMI
A103: =VARIABLES!D18 -> 0.71428571 | B103: =COUNTIF(C101:C108, "PRESENT")+COUNTIF(C101:C108, "RAISON DE SERVICE") -> 3 | C103: PRESENT | F103: =VARIABLES!E18 -> 0.74285714 | G103: =COUNTIF(H101:H108, "PRESENT")+COUNTIF(H101:H108, "RAISON DE SERVICE") -> 3 | H103: PRESENT | K103: =VARIABLES!F18 -> 1.3428571 | L103: =COUNTIF(M101:M108, "PRESENT")+COUNTIF(M101:M108, "RAISON DE SERVICE") -> 3 | M103: PRESENT | P103: =VARIABLES!G18 -> 1.8857143 | Q103: =COUNTIF(R101:R108, "PRESENT")+COUNTIF(R101:R108, "RAISON DE SERVICE") -> 3 | R103: PRESENT | U103: =VARIABLES!H18 -> 2.4571429 | V103: =COUNTIF(W101:W108, "PRESENT")+COUNTIF(W101:W108, "RAISON DE SERVICE") -> 3 | W103: PRESENT | Z103: ACMI
A104: Tt Mat+Elem Inscrits | B104: Grèviste | C104: ABSENT | F104: Tt Mat+Elem Inscrits | G104: Grèviste | H104: ABSENT | K104: Tt Mat+Elem Inscrits | L104: Grèviste | M104: ABSENT | P104: Tt Mat+Elem Inscrits | Q104: Grèviste | R104: ABSENT | U104: Tt Mat+Elem Inscrits | V104: Grèviste | W104: ABSENT | Z104: ACMI
...

Sheet GREVE PRECO PERI
A1: ETAT DE LA GREVE
G2: =TODAY() -> 44893
A3: Ecole | C3: ='BASE PERISCOLAIRE'!B2 -> Ec Campouns Elem | D3: ='BASE PERISCOLAIRE'!G2 -> Ec Daudet Mater | E3: ='BASE PERISCOLAIRE'!L2 -> Ec Garbejaire Mater/Elem | F3: ='BASE PERISCOLAIRE'!Q2 -> Ec Ile Verte Mater/Elem | G3: ='BASE PERISCOLAIRE'!V2 -> Ec Sartoux Mater/Elem
A4: Transport scolaire matin | C4: ='BASE PERISCOLAIRE'!B4 -> Mouton rouge | D4: ='BASE PERISCOLAIRE'!G4 -> Vache verte | E4: ='BASE PERISCOLAIRE'!L4 -> Cheval bleu | F4: ='BASE PERISCOLAIRE'!Q4 -> Vache rouge | G4: ='BASE PERISCOLAIRE'!V4 -> Libellule bleue
C5: ='BASE PERISCOLAIRE'!B5 -> OUVERT | D5: ='BASE PERISCOLAIRE'!G5 -> FERME | E5: ='BASE PERISCOLAIRE'!L5 -> OUVERT | F5: ='BASE PERISCOLAIRE'!Q5 -> OUVERT | G5: ='BASE PERISCOLAIRE'!V5 -> NEANT
C6: ='BASE PERISCOLAIRE'!C4 -> NEANT | D6: ='BASE PERISCOLAIRE'!H4 -> Transfert | E6: ='BASE PERISCOLAIRE'!M4 -> NEANT | F6: ='BASE PERISCOLAIRE'!R4 -> Transfert | G6: ='BASE PERISCOLAIRE'!W4 -> Transfert
C7: ='BASE PERISCOLAIRE'!C5 -> NEANT | D7: ='BASE PERISCOLAIRE'!H5 -> OUVERT | E7: ='BASE PERISCOLAIRE'!M5 -> NEANT | F7: ='BASE PERISCOLAIRE'!R5 -> OUVERT | G7: ='BASE PERISCOLAIRE'!W5 -> OUVERT
C8: ='BASE PERISCOLAIRE'!D4 -> NEANT | D8: ='BASE PERISCOLAIRE'!I4 -> NEANT | E8: ='BASE PERISCOLAIRE'!N4 -> NEANT | F8: ='BASE PERISCOLAIRE'!S4 -> NEANT | G8: ='BASE PERISCOLAIRE'!X4 -> NEANT
C9: ='BASE PERISCOLAIRE'!D5 -> NEANT | D9: ='BASE PERISCOLAIRE'!I5 -> NEANT | E9: ='BASE PERISCOLAIRE'!N5 -> NEANT | F9: ='BASE PERISCOLAIRE'!S5 -> NEANT | G9: ='BASE PERISCOLAIRE'!X5 -> NEANT
A10: Transport scolaire soir | C10: ='BASE PERISCOLAIRE'!B19 -> Mouton rouge | D10: ='BASE PERISCOLAIRE'!G19 -> Mouton rouge | E10: ='BASE PERISCOLAIRE'!L19 -> Cheval bleu | F10: ='BASE PERISCOLAIRE'!Q19 -> Vache rouge | G10: ='BASE PERISCOLAIRE'!V19 -> Libellule bleue
C11: ='BASE PERISCOLAIRE'!B20 -> OUVERT | D11: ='BASE PERISCOLAIRE'!G20 -> FERME | E11: ='BASE PERISCOLAIRE'!L20 -> OUVERT | F11: ='BASE PERISCOLAIRE'!Q20 -> OUVERT | G11: ='BASE PERISCOLAIRE'!V20 -> OUVERT
C12: ='BASE PERISCOLAIRE'!C19 -> Vache verte | D12: ='BASE PERISCOLAIRE'!H19 -> Vache verte | E12: ='BASE PERISCOLAIRE'!M19 -> NEANT | F12: ='BASE PERISCOLAIRE'!R19 -> Transfert | G12: ='BASE PERISCOLAIRE'!W19 -> Transfert
C13: ='BASE PERISCOLAIRE'!C20 -> OUVERT | D13: ='BASE PERISCOLAIRE'!H20 -> OUVERT | E13: ='BASE PERISCOLAIRE'!M20 -> NEANT | F13: ='BASE PERISCOLAIRE'!R20 -> OUVERT | G13: ='BASE PERISCOLAIRE'!W20 -> OUVERT
C14: ='BASE PERISCOLAIRE'!D19 -> NEANT | D14: ='BASE PERISCOLAIRE'!I19 -> NEANT | E14: ='BASE PERISCOLAIRE'!N19 -> NEANT | F14: ='BASE PERISCOLAIRE'!S19 -> NEANT | G14: ='BASE PERISCOLAIRE'!X19 -> NEANT
C15: ='BASE PERISCOLAIRE'!D20 -> NEANT | D15: ='BASE PERISCOLAIRE'!I20 -> NEANT | E15: ='BASE PERISCOLAIRE'!N20 -> NEANT | F15: ='BASE PERISCOLAIRE'!S20 -> NEANT | G15: ='BASE PERISCOLAIRE'!X20 -> NEANT
A16: ACMA | C16: ='BASE PERISCOLAIRE'!B34 -> OUVERT | D16: ='BASE PERISCOLAIRE'!G34 -> OUVERT | E16: ='BASE PERISCOLAIRE'!L34 -> OUVERT | F16: ='BASE PERISCOLAIRE'!Q34 -> OUVERT | G16: ='BASE PERISCOLAIRE'!V34 -> OUVERT
B17: Raison de service | C17: {=IFERROR(INDEX(OFFSET(ECO_1,,1,,),_xlfn.AGGREGATE(15,6,(ROW(ECO_1)-kop)/((ECO_1="raison de service")*(OFFSET(ECO_1,,1,,)<>"")*(MonBase="ACMA")),ROW()-ROW($C$16))),"-")} -> - | D17: {=IFERROR(INDEX(OFFSET(ECO_2,,1,,),_xlfn.AGGREGATE(15,6,(ROW(ECO_2)-kop)/((ECO_2="raison de service")*(OFFSET(ECO_2,,1,,)<>"")*(MonBase="ACMA")),ROW()-ROW($C$16))),"-")} -> - | E17: {=IFERROR(INDEX(OFFSET(ECO_3,,1,,),_xlfn.AGGREGATE(15,6,(ROW(ECO_3)-kop)/((ECO_3="raison de service")*(OFFSET(ECO_3,,1,,)<>"")*(MonBase="ACMA")),ROW()-ROW($C$16))),"-")} -> - | F17: {=IFERROR(INDEX(OFFSET(ECO_4,,1,,),_xlfn.AGGREGATE(15,6,(ROW(ECO_4)-kop)/((ECO_4="raison de service")*(OFFSET(ECO_4,,1,,)<>"")*(MonBase="ACMA")),ROW()-ROW($C$16))),"-")} -> - | G17: {=IFERROR(INDEX(OFFSET(ECO_5,,1,,),_xlfn.AGGREGATE(15,6,(ROW(ECO_5)-kop)/((ECO_5="raison de service")*(OFFSET(ECO_5,,1,,)<>"")*(MonBase="ACMA")),ROW()-ROW($C$16))),"-")} -> -
C18: {=IFERROR(INDEX(OFFSET(ECO_1,,1,,),_xlfn.AGGREGATE(15,6,(ROW(ECO_1)-kop)/((ECO_1="raison de service")*(OFFSET(ECO_1,,1,,)<>"")*(MonBase="ACMA")),ROW()-ROW($C$16))),"-")} -> - | D18: {=IFERROR(INDEX(OFFSET(ECO_2,,1,,),_xlfn.AGGREGATE(15,6,(ROW(ECO_2)-kop)/((ECO_2="raison de service")*(OFFSET(ECO_2,,1,,)<>"")*(MonBase="ACMA")),ROW()-ROW($C$16))),"-")} -> - | E18: {=IFERROR(INDEX(OFFSET(ECO_3,,1,,),_xlfn.AGGREGATE(15,6,(ROW(ECO_3)-kop)/((ECO_3="raison de service")*(OFFSET(ECO_3,,1,,)<>"")*(MonBase="ACMA")),ROW()-ROW($C$16))),"-")} -> - | F18: {=IFERROR(INDEX(OFFSET(ECO_4,,1,,),_xlfn.AGGREGATE(15,6,(ROW(ECO_4)-kop)/((ECO_4="raison de service")*(OFFSET(ECO_4,,1,,)<>"")*(MonBase="ACMA")),ROW()-ROW($C$16))),"-")} -> - | G18: {=IFERROR(INDEX(OFFSET(ECO_5,,1,,),_xlfn.AGGREGATE(15,6,(ROW(ECO_5)-kop)/((ECO_5="raison de service")*(OFFSET(ECO_5,,1,,)<>"")*(MonBase="ACMA")),ROW()-ROW($C$16))),"-")} -> -
C19: {=IFERROR(INDEX(OFFSET(ECO_1,,1,,),_xlfn.AGGREGATE(15,6,(ROW(ECO_1)-kop)/((ECO_1="raison de service")*(OFFSET(ECO_1,,1,,)<>"")*(MonBase="ACMA")),ROW()-ROW($C$16))),"-")} -> - | D19: {=IFERROR(INDEX(OFFSET(ECO_2,,1,,),_xlfn.AGGREGATE(15,6,(ROW(ECO_2)-kop)/((ECO_2="raison de service")*(OFFSET(ECO_2,,1,,)<>"")*(MonBase="ACMA")),ROW()-ROW($C$16))),"-")} -> - | E19: {=IFERROR(INDEX(OFFSET(ECO_3,,1,,),_xlfn.AGGREGATE(15,6,(ROW(ECO_3)-kop)/((ECO_3="raison de service")*(OFFSET(ECO_3,,1,,)<>"")*(MonBase="ACMA")),ROW()-ROW($C$16))),"-")} -> - | F19: {=IFERROR(INDEX(OFFSET(ECO_4,,1,,),_xlfn.AGGREGATE(15,6,(ROW(ECO_4)-kop)/((ECO_4="raison de service")*(OFFSET(ECO_4,,1,,)<>"")*(MonBase="ACMA")),ROW()-ROW($C$16))),"-")} -> - | G19: {=IFERROR(INDEX(OFFSET(ECO_5,,1,,),_xlfn.AGGREGATE(15,6,(ROW(ECO_5)-kop)/((ECO_5="raison de service")*(OFFSET(ECO_5,,1,,)<>"")*(MonBase="ACMA")),ROW()-ROW($C$16))),"-")} -> -
C20: {=IFERROR(INDEX(OFFSET(ECO_1,,1,,),_xlfn.AGGREGATE(15,6,(ROW(ECO_1)-kop)/((ECO_1="raison de service")*(OFFSET(ECO_1,,1,,)<>"")*(MonBase="ACMA")),ROW()-ROW($C$16))),"-")} -> - | D20: {=IFERROR(INDEX(OFFSET(ECO_2,,1,,),_xlfn.AGGREGATE(15,6,(ROW(ECO_2)-kop)/((ECO_2="raison de service")*(OFFSET(ECO_2,,1,,)<>"")*(MonBase="ACMA")),ROW()-ROW($C$16))),"-")} -> - | E20: {=IFERROR(INDEX(OFFSET(ECO_3,,1,,),_xlfn.AGGREGATE(15,6,(ROW(ECO_3)-kop)/((ECO_3="raison de service")*(OFFSET(ECO_3,,1,,)<>"")*(MonBase="ACMA")),ROW()-ROW($C$16))),"-")} -> - | F20: {=IFERROR(INDEX(OFFSET(ECO_4,,1,,),_xlfn.AGGREGATE(15,6,(ROW(ECO_4)-kop)/((ECO_4="raison de service")*(OFFSET(ECO_4,,1,,)<>"")*(MonBase="ACMA")),ROW()-ROW($C$16))),"-")} -> - | G20: {=IFERROR(INDEX(OFFSET(ECO_5,,1,,),_xlfn.AGGREGATE(15,6,(ROW(ECO_5)-kop)/((ECO_5="raison de service")*(OFFSET(ECO_5,,1,,)<>"")*(MonBase="ACMA")),ROW()-ROW($C$16))),"-")} -> -
C21: {=IFERROR(INDEX(OFFSET(ECO_1,,1,,),_xlfn.AGGREGATE(15,6,(ROW(ECO_1)-kop)/((ECO_1="raison de service")*(OFFSET(ECO_1,,1,,)<>"")*(MonBase="ACMA")),ROW()-ROW($C$16))),"-")} -> - | D21: {=IFERROR(INDEX(OFFSET(ECO_2,,1,,),_xlfn.AGGREGATE(15,6,(ROW(ECO_2)-kop)/((ECO_2="raison de service")*(OFFSET(ECO_2,,1,,)<>"")*(MonBase="ACMA")),ROW()-ROW($C$16))),"-")} -> - | E21: {=IFERROR(INDEX(OFFSET(ECO_3,,1,,),_xlfn.AGGREGATE(15,6,(ROW(ECO_3)-kop)/((ECO_3="raison de service")*(OFFSET(ECO_3,,1,,)<>"")*(MonBase="ACMA")),ROW()-ROW($C$16))),"-")} -> - | F21: {=IFERROR(INDEX(OFFSET(ECO_4,,1,,),_xlfn.AGGREGATE(15,6,(ROW(ECO_4)-kop)/((ECO_4="raison de service")*(OFFSET(ECO_4,,1,,)<>"")*(MonBase="ACMA")),ROW()-ROW($C$16))),"-")} -> - | G21: {=IFERROR(INDEX(OFFSET(ECO_5,,1,,),_xlfn.AGGREGATE(15,6,(ROW(ECO_5)-kop)/((ECO_5="raison de service")*(OFFSET(ECO_5,,1,,)<>"")*(MonBase="ACMA")),ROW()-ROW($C$16))),"-")} -> -
C22: {=IFERROR(INDEX(OFFSET(ECO_1,,1,,),_xlfn.AGGREGATE(15,6,(ROW(ECO_1)-kop)/((ECO_1="raison de service")*(OFFSET(ECO_1,,1,,)<>"")*(MonBase="ACMA")),ROW()-ROW($C$16))),"-")} -> - | D22: {=IFERROR(INDEX(OFFSET(ECO_2,,1,,),_xlfn.AGGREGATE(15,6,(ROW(ECO_2)-kop)/((ECO_2="raison de service")*(OFFSET(ECO_2,,1,,)<>"")*(MonBase="ACMA")),ROW()-ROW($C$16))),"-")} -> - | E22: {=IFERROR(INDEX(OFFSET(ECO_3,,1,,),_xlfn.AGGREGATE(15,6,(ROW(ECO_3)-kop)/((ECO_3="raison de service")*(OFFSET(ECO_3,,1,,)<>"")*(MonBase="ACMA")),ROW()-ROW($C$16))),"-")} -> - | F22: {=IFERROR(INDEX(OFFSET(ECO_4,,1,,),_xlfn.AGGREGATE(15,6,(ROW(ECO_4)-kop)/((ECO_4="raison de service")*(OFFSET(ECO_4,,1,,)<>"")*(MonBase="ACMA")),ROW()-ROW($C$16))),"-")} -> - | G22: {=IFERROR(INDEX(OFFSET(ECO_5,,1,,),_xlfn.AGGREGATE(15,6,(ROW(ECO_5)-kop)/((ECO_5="raison de service")*(OFFSET(ECO_5,,1,,)<>"")*(MonBase="ACMA")),ROW()-ROW($C$16))),"-")} -> -
C23: {=IFERROR(INDEX(OFFSET(ECO_1,,1,,),_xlfn.AGGREGATE(15,6,(ROW(ECO_1)-kop)/((ECO_1="raison de service")*(OFFSET(ECO_1,,1,,)<>"")*(MonBase="ACMA")),ROW()-ROW($C$16))),"-")} -> - | D23: {=IFERROR(INDEX(OFFSET(ECO_2,,1,,),_xlfn.AGGREGATE(15,6,(ROW(ECO_2)-kop)/((ECO_2="raison de service")*(OFFSET(ECO_2,,1,,)<>"")*(MonBase="ACMA")),ROW()-ROW($C$16))),"-")} -> - | E23: {=IFERROR(INDEX(OFFSET(ECO_3,,1,,),_xlfn.AGGREGATE(15,6,(ROW(ECO_3)-kop)/((ECO_3="raison de service")*(OFFSET(ECO_3,,1,,)<>"")*(MonBase="ACMA")),ROW()-ROW($C$16))),"-")} -> - | F23: {=IFERROR(INDEX(OFFSET(ECO_4,,1,,),_xlfn.AGGREGATE(15,6,(ROW(ECO_4)-kop)/((ECO_4="raison de service")*(OFFSET(ECO_4,,1,,)<>"")*(MonBase="ACMA")),ROW()-ROW($C$16))),"-")} -> - | G23: {=IFERROR(INDEX(OFFSET(ECO_5,,1,,),_xlfn.AGGREGATE(15,6,(ROW(ECO_5)-kop)/((ECO_5="raison de service")*(OFFSET(ECO_5,,1,,)<>"")*(MonBase="ACMA")),ROW()-ROW($C$16))),"-")} -> -
C24: {=IFERROR(INDEX(OFFSET(ECO_1,,1,,),_xlfn.AGGREGATE(15,6,(ROW(ECO_1)-kop)/((ECO_1="raison de service")*(OFFSET(ECO_1,,1,,)<>"")*(MonBase="ACMA")),ROW()-ROW($C$16))),"-")} -> - | D24: {=IFERROR(INDEX(OFFSET(ECO_2,,1,,),_xlfn.AGGREGATE(15,6,(ROW(ECO_2)-kop)/((ECO_2="raison de service")*(OFFSET(ECO_2,,1,,)<>"")*(MonBase="ACMA")),ROW()-ROW($C$16))),"-")} -> - | E24: {=IFERROR(INDEX(OFFSET(ECO_3,,1,,),_xlfn.AGGREGATE(15,6,(ROW(ECO_3)-kop)/((ECO_3="raison de service")*(OFFSET(ECO_3,,1,,)<>"")*(MonBase="ACMA")),ROW()-ROW($C$16))),"-")} -> - | F24: {=IFERROR(INDEX(OFFSET(ECO_4,,1,,),_xlfn.AGGREGATE(15,6,(ROW(ECO_4)-kop)/((ECO_4="raison de service")*(OFFSET(ECO_4,,1,,)<>"")*(MonBase="ACMA")),ROW()-ROW($C$16))),"-")} -> - | G24: {=IFERROR(INDEX(OFFSET(ECO_5,,1,,),_xlfn.AGGREGATE(15,6,(ROW(ECO_5)-kop)/((ECO_5="raison de service")*(OFFSET(ECO_5,,1,,)<>"")*(MonBase="ACMA")),ROW()-ROW($C$16))),"-")} -> -
C25: {=IFERROR(INDEX(OFFSET(ECO_1,,1,,),_xlfn.AGGREGATE(15,6,(ROW(ECO_1)-kop)/((ECO_1="raison de service")*(OFFSET(ECO_1,,1,,)<>"")*(MonBase="ACMA")),ROW()-ROW($C$16))),"-")} -> - | D25: {=IFERROR(INDEX(OFFSET(ECO_2,,1,,),_xlfn.AGGREGATE(15,6,(ROW(ECO_2)-kop)/((ECO_2="raison de service")*(OFFSET(ECO_2,,1,,)<>"")*(MonBase="ACMA")),ROW()-ROW($C$16))),"-")} -> - | E25: {=IFERROR(INDEX(OFFSET(ECO_3,,1,,),_xlfn.AGGREGATE(15,6,(ROW(ECO_3)-kop)/((ECO_3="raison de service")*(OFFSET(ECO_3,,1,,)<>"")*(MonBase="ACMA")),ROW()-ROW($C$16))),"-")} -> - | F25: {=IFERROR(INDEX(OFFSET(ECO_4,,1,,),_xlfn.AGGREGATE(15,6,(ROW(ECO_4)-kop)/((ECO_4="raison de service")*(OFFSET(ECO_4,,1,,)<>"")*(MonBase="ACMA")),ROW()-ROW($C$16))),"-")} -> - | G25: {=IFERROR(INDEX(OFFSET(ECO_5,,1,,),_xlfn.AGGREGATE(15,6,(ROW(ECO_5)-kop)/((ECO_5="raison de service")*(OFFSET(ECO_5,,1,,)<>"")*(MonBase="ACMA")),ROW()-ROW($C$16))),"-")} -> -
A26: ACMI | C26: ='BASE PERISCOLAIRE'!B91 -> OUVERT | D26: ='BASE PERISCOLAIRE'!G91 -> OUVERT | E26: ='BASE PERISCOLAIRE'!L91 -> OUVERT | F26: ='BASE PERISCOLAIRE'!Q91 -> OUVERT | G26: ='BASE PERISCOLAIRE'!V91 -> OUVERT
C27: ='BASE PERISCOLAIRE'!$D$91 -> Pas de déjeuner | D27: ='BASE PERISCOLAIRE'!$I$91 -> Repas normal | E27: ='BASE PERISCOLAIRE'!$N$91 -> PN fournis Famille | F27: ='BASE PERISCOLAIRE'!$S$91 -> PN fournis Mairie | G27: ='BASE PERISCOLAIRE'!$X$91 -> Repas normal
B28: Raison de service | C28: {=IFERROR(INDEX(OFFSET(ECO_1,,1,,),_xlfn.AGGREGATE(15,6,(ROW(ECO_1)-kop)/((ECO_1="raison de service")*(OFFSET(ECO_1,,1,,)<>"")*(MonBase="ACMI")),ROW()-ROW($C$26))),"-")} -> - | D28: {=IFERROR(INDEX(OFFSET(ECO_2,,1,,),_xlfn.AGGREGATE(15,6,(ROW(ECO_2)-kop)/((ECO_2="raison de service")*(OFFSET(ECO_2,,1,,)<>"")*(MonBase="ACMI")),ROW()-ROW($C$26))),"-")} -> - | E28: {=IFERROR(INDEX(OFFSET(ECO_3,,1,,),_xlfn.AGGREGATE(15,6,(ROW(ECO_3)-kop)/((ECO_3="raison de service")*(OFFSET(ECO_3,,1,,)<>"")*(MonBase="ACMI")),ROW()-ROW($C$26))),"-")} -> - | F28: {=IFERROR(INDEX(OFFSET(ECO_4,,1,,),_xlfn.AGGREGATE(15,6,(ROW(ECO_4)-kop)/((ECO_4="raison de service")*(OFFSET(ECO_4,,1,,)<>"")*(MonBase="ACMI")),ROW()-ROW($C$26))),"-")} -> - | G28: {=IFERROR(INDEX(OFFSET(ECO_5,,1,,),_xlfn.AGGREGATE(15,6,(ROW(ECO_5)-kop)/((ECO_5="raison de service")*(OFFSET(ECO_5,,1,,)<>"")*(MonBase="ACMI")),ROW()-ROW($C$26))),"-")} -> -
C29: {=IFERROR(INDEX(OFFSET(ECO_1,,1,,),_xlfn.AGGREGATE(15,6,(ROW(ECO_1)-kop)/((ECO_1="raison de service")*(OFFSET(ECO_1,,1,,)<>"")*(MonBase="ACMI")),ROW()-ROW($C$26))),"-")} -> - | D29: {=IFERROR(INDEX(OFFSET(ECO_2,,1,,),_xlfn.AGGREGATE(15,6,(ROW(ECO_2)-kop)/((ECO_2="raison de service")*(OFFSET(ECO_2,,1,,)<>"")*(MonBase="ACMI")),ROW()-ROW($C$26))),"-")} -> - | E29: {=IFERROR(INDEX(OFFSET(ECO_3,,1,,),_xlfn.AGGREGATE(15,6,(ROW(ECO_3)-kop)/((ECO_3="raison de service")*(OFFSET(ECO_3,,1,,)<>"")*(MonBase="ACMI")),ROW()-ROW($C$26))),"-")} -> - | F29: {=IFERROR(INDEX(OFFSET(ECO_4,,1,,),_xlfn.AGGREGATE(15,6,(ROW(ECO_4)-kop)/((ECO_4="raison de service")*(OFFSET(ECO_4,,1,,)<>"")*(MonBase="ACMI")),ROW()-ROW($C$26))),"-")} -> - | G29: {=IFERROR(INDEX(OFFSET(ECO_5,,1,,),_xlfn.AGGREGATE(15,6,(ROW(ECO_5)-kop)/((ECO_5="raison de service")*(OFFSET(ECO_5,,1,,)<>"")*(MonBase="ACMI")),ROW()-ROW($C$26))),"-")} -> -
C30: {=IFERROR(INDEX(OFFSET(ECO_1,,1,,),_xlfn.AGGREGATE(15,6,(ROW(ECO_1)-kop)/((ECO_1="raison de service")*(OFFSET(ECO_1,,1,,)<>"")*(MonBase="ACMI")),ROW()-ROW($C$26))),"-")} -> - | D30: {=IFERROR(INDEX(OFFSET(ECO_2,,1,,),_xlfn.AGGREGATE(15,6,(ROW(ECO_2)-kop)/((ECO_2="raison de service")*(OFFSET(ECO_2,,1,,)<>"")*(MonBase="ACMI")),ROW()-ROW($C$26))),"-")} -> - | E30: {=IFERROR(INDEX(OFFSET(ECO_3,,1,,),_xlfn.AGGREGATE(15,6,(ROW(ECO_3)-kop)/((ECO_3="raison de service")*(OFFSET(ECO_3,,1,,)<>"")*(MonBase="ACMI")),ROW()-ROW($C$26))),"-")} -> - | F30: {=IFERROR(INDEX(OFFSET(ECO_4,,1,,),_xlfn.AGGREGATE(15,6,(ROW(ECO_4)-kop)/((ECO_4="raison de service")*(OFFSET(ECO_4,,1,,)<>"")*(MonBase="ACMI")),ROW()-ROW($C$26))),"-")} -> - | G30: {=IFERROR(INDEX(OFFSET(ECO_5,,1,,),_xlfn.AGGREGATE(15,6,(ROW(ECO_5)-kop)/((ECO_5="raison de service")*(OFFSET(ECO_5,,1,,)<>"")*(MonBase="ACMI")),ROW()-ROW($C$26))),"-")} -> -
C31: {=IFERROR(INDEX(OFFSET(ECO_1,,1,,),_xlfn.AGGREGATE(15,6,(ROW(ECO_1)-kop)/((ECO_1="raison de service")*(OFFSET(ECO_1,,1,,)<>"")*(MonBase="ACMI")),ROW()-ROW($C$26))),"-")} -> - | D31: {=IFERROR(INDEX(OFFSET(ECO_2,,1,,),_xlfn.AGGREGATE(15,6,(ROW(ECO_2)-kop)/((ECO_2="raison de service")*(OFFSET(ECO_2,,1,,)<>"")*(MonBase="ACMI")),ROW()-ROW($C$26))),"-")} -> - | E31: {=IFERROR(INDEX(OFFSET(ECO_3,,1,,),_xlfn.AGGREGATE(15,6,(ROW(ECO_3)-kop)/((ECO_3="raison de service")*(OFFSET(ECO_3,,1,,)<>"")*(MonBase="ACMI")),ROW()-ROW($C$26))),"-")} -> - | F31: {=IFERROR(INDEX(OFFSET(ECO_4,,1,,),_xlfn.AGGREGATE(15,6,(ROW(ECO_4)-kop)/((ECO_4="raison de service")*(OFFSET(ECO_4,,1,,)<>"")*(MonBase="ACMI")),ROW()-ROW($C$26))),"-")} -> - | G31: {=IFERROR(INDEX(OFFSET(ECO_5,,1,,),_xlfn.AGGREGATE(15,6,(ROW(ECO_5)-kop)/((ECO_5="raison de service")*(OFFSET(ECO_5,,1,,)<>"")*(MonBase="ACMI")),ROW()-ROW($C$26))),"-")} -> -
C32: {=IFERROR(INDEX(OFFSET(ECO_1,,1,,),_xlfn.AGGREGATE(15,6,(ROW(ECO_1)-kop)/((ECO_1="raison de service")*(OFFSET(ECO_1,,1,,)<>"")*(MonBase="ACMI")),ROW()-ROW($C$26))),"-")} -> - | D32: {=IFERROR(INDEX(OFFSET(ECO_2,,1,,),_xlfn.AGGREGATE(15,6,(ROW(ECO_2)-kop)/((ECO_2="raison de service")*(OFFSET(ECO_2,,1,,)<>"")*(MonBase="ACMI")),ROW()-ROW($C$26))),"-")} -> - | E32: {=IFERROR(INDEX(OFFSET(ECO_3,,1,,),_xlfn.AGGREGATE(15,6,(ROW(ECO_3)-kop)/((ECO_3="raison de service")*(OFFSET(ECO_3,,1,,)<>"")*(MonBase="ACMI")),ROW()-ROW($C$26))),"-")} -> - | F32: {=IFERROR(INDEX(OFFSET(ECO_4,,1,,),_xlfn.AGGREGATE(15,6,(ROW(ECO_4)-kop)/((ECO_4="raison de service")*(OFFSET(ECO_4,,1,,)<>"")*(MonBase="ACMI")),ROW()-ROW($C$26))),"-")} -> - | G32: {=IFERROR(INDEX(OFFSET(ECO_5,,1,,),_xlfn.AGGREGATE(15,6,(ROW(ECO_5)-kop)/((ECO_5="raison de service")*(OFFSET(ECO_5,,1,,)<>"")*(MonBase="ACMI")),ROW()-ROW($C$26))),"-")} -> -
C33: {=IFERROR(INDEX(OFFSET(ECO_1,,1,,),_xlfn.AGGREGATE(15,6,(ROW(ECO_1)-kop)/((ECO_1="raison de service")*(OFFSET(ECO_1,,1,,)<>"")*(MonBase="ACMI")),ROW()-ROW($C$26))),"-")} -> - | D33: {=IFERROR(INDEX(OFFSET(ECO_2,,1,,),_xlfn.AGGREGATE(15,6,(ROW(ECO_2)-kop)/((ECO_2="raison de service")*(OFFSET(ECO_2,,1,,)<>"")*(MonBase="ACMI")),ROW()-ROW($C$26))),"-")} -> - | E33: {=IFERROR(INDEX(OFFSET(ECO_3,,1,,),_xlfn.AGGREGATE(15,6,(ROW(ECO_3)-kop)/((ECO_3="raison de service")*(OFFSET(ECO_3,,1,,)<>"")*(MonBase="ACMI")),ROW()-ROW($C$26))),"-")} -> - | F33: {=IFERROR(INDEX(OFFSET(ECO_4,,1,,),_xlfn.AGGREGATE(15,6,(ROW(ECO_4)-kop)/((ECO_4="raison de service")*(OFFSET(ECO_4,,1,,)<>"")*(MonBase="ACMI")),ROW()-ROW($C$26))),"-")} -> - | G33: {=IFERROR(INDEX(OFFSET(ECO_5,,1,,),_xlfn.AGGREGATE(15,6,(ROW(ECO_5)-kop)/((ECO_5="raison de service")*(OFFSET(ECO_5,,1,,)<>"")*(MonBase="ACMI")),ROW()-ROW($C$26))),"-")} -> -
C34: {=IFERROR(INDEX(OFFSET(ECO_1,,1,,),_xlfn.AGGREGATE(15,6,(ROW(ECO_1)-kop)/((ECO_1="raison de service")*(OFFSET(ECO_1,,1,,)<>"")*(MonBase="ACMI")),ROW()-ROW($C$26))),"-")} -> - | D34: {=IFERROR(INDEX(OFFSET(ECO_2,,1,,),_xlfn.AGGREGATE(15,6,(ROW(ECO_2)-kop)/((ECO_2="raison de service")*(OFFSET(ECO_2,,1,,)<>"")*(MonBase="ACMI")),ROW()-ROW($C$26))),"-")} -> - | E34: {=IFERROR(INDEX(OFFSET(ECO_3,,1,,),_xlfn.AGGREGATE(15,6,(ROW(ECO_3)-kop)/((ECO_3="raison de service")*(OFFSET(ECO_3,,1,,)<>"")*(MonBase="ACMI")),ROW()-ROW($C$26))),"-")} -> - | F34: {=IFERROR(INDEX(OFFSET(ECO_4,,1,,),_xlfn.AGGREGATE(15,6,(ROW(ECO_4)-kop)/((ECO_4="raison de service")*(OFFSET(ECO_4,,1,,)<>"")*(MonBase="ACMI")),ROW()-ROW($C$26))),"-")} -> - | G34: {=IFERROR(INDEX(OFFSET(ECO_5,,1,,),_xlfn.AGGREGATE(15,6,(ROW(ECO_5)-kop)/((ECO_5="raison de service")*(OFFSET(ECO_5,,1,,)<>"")*(MonBase="ACMI")),ROW()-ROW($C$26))),"-")} -> -
C35: {=IFERROR(INDEX(OFFSET(ECO_1,,1,,),_xlfn.AGGREGATE(15,6,(ROW(ECO_1)-kop)/((ECO_1="raison de service")*(OFFSET(ECO_1,,1,,)<>"")*(MonBase="ACMI")),ROW()-ROW($C$26))),"-")} -> - | D35: {=IFERROR(INDEX(OFFSET(ECO_2,,1,,),_xlfn.AGGREGATE(15,6,(ROW(ECO_2)-kop)/((ECO_2="raison de service")*(OFFSET(ECO_2,,1,,)<>"")*(MonBase="ACMI")),ROW()-ROW($C$26))),"-")} -> - | E35: {=IFERROR(INDEX(OFFSET(ECO_3,,1,,),_xlfn.AGGREGATE(15,6,(ROW(ECO_3)-kop)/((ECO_3="raison de service")*(OFFSET(ECO_3,,1,,)<>"")*(MonBase="ACMI")),ROW()-ROW($C$26))),"-")} -> - | F35: {=IFERROR(INDEX(OFFSET(ECO_4,,1,,),_xlfn.AGGREGATE(15,6,(ROW(ECO_4)-kop)/((ECO_4="raison de service")*(OFFSET(ECO_4,,1,,)<>"")*(MonBase="ACMI")),ROW()-ROW($C$26))),"-")} -> - | G35: {=IFERROR(INDEX(OFFSET(ECO_5,,1,,),_xlfn.AGGREGATE(15,6,(ROW(ECO_5)-kop)/((ECO_5="raison de service")*(OFFSET(ECO_5,,1,,)<>"")*(MonBase="ACMI")),ROW()-ROW($C$26))),"-")} -> -
C36: {=IFERROR(INDEX(OFFSET(ECO_1,,1,,),_xlfn.AGGREGATE(15,6,(ROW(ECO_1)-kop)/((ECO_1="raison de service")*(OFFSET(ECO_1,,1,,)<>"")*(MonBase="ACMI")),ROW()-ROW($C$26))),"-")} -> - | D36: {=IFERROR(INDEX(OFFSET(ECO_2,,1,,),_xlfn.AGGREGATE(15,6,(ROW(ECO_2)-kop)/((ECO_2="raison de service")*(OFFSET(ECO_2,,1,,)<>"")*(MonBase="ACMI")),ROW()-ROW($C$26))),"-")} -> - | E36: {=IFERROR(INDEX(OFFSET(ECO_3,,1,,),_xlfn.AGGREGATE(15,6,(ROW(ECO_3)-kop)/((ECO_3="raison de service")*(OFFSET(ECO_3,,1,,)<>"")*(MonBase="ACMI")),ROW()-ROW($C$26))),"-")} -> - | F36: {=IFERROR(INDEX(OFFSET(ECO_4,,1,,),_xlfn.AGGREGATE(15,6,(ROW(ECO_4)-kop)/((ECO_4="raison de service")*(OFFSET(ECO_4,,1,,)<>"")*(MonBase="ACMI")),ROW()-ROW($C$26))),"-")} -> - | G36: {=IFERROR(INDEX(OFFSET(ECO_5,,1,,),_xlfn.AGGREGATE(15,6,(ROW(ECO_5)-kop)/((ECO_5="raison de service")*(OFFSET(ECO_5,,1,,)<>"")*(MonBase="ACMI")),ROW()-ROW($C$26))),"-")} -> -
A37: ACSO | C37: ='BASE PERISCOLAIRE'!B148 -> OUVERT | D37: ='BASE PERISCOLAIRE'!G148 -> OUVERT | E37: ='BASE PERISCOLAIRE'!L148 -> OUVERT | F37: ='BASE PERISCOLAIRE'!Q148 -> OUVERT | G37: ='BASE PERISCOLAIRE'!V148 -> OUVERT
B38: Raison de service | C38: {=IFERROR(INDEX(OFFSET(ECO_1,,1,,),_xlfn.AGGREGATE(15,6,(ROW(ECO_1)-kop)/((ECO_1="raison de service")*(OFFSET(ECO_1,,1,,)<>"")*(MonBase="ACSO")),ROW()-ROW($C$37))),"-")} -> - | D38: {=IFERROR(INDEX(OFFSET(ECO_2,,1,,),_xlfn.AGGREGATE(15,6,(ROW(ECO_2)-kop)/((ECO_2="raison de service")*(OFFSET(ECO_2,,1,,)<>"")*(MonBase="ACSO")),ROW()-ROW($C$37))),"-")} -> - | E38: {=IFERROR(INDEX(OFFSET(ECO_3,,1,,),_xlfn.AGGREGATE(15,6,(ROW(ECO_3)-kop)/((ECO_3="raison de service")*(OFFSET(ECO_3,,1,,)<>"")*(MonBase="ACSO")),ROW()-ROW($C$37))),"-")} -> - | F38: {=IFERROR(INDEX(OFFSET(ECO_4,,1,,),_xlfn.AGGREGATE(15,6,(ROW(ECO_4)-kop)/((ECO_4="raison de service")*(OFFSET(ECO_4,,1,,)<>"")*(MonBase="ACSO")),ROW()-ROW($C$37))),"-")} -> - | G38: {=IFERROR(INDEX(OFFSET(ECO_5,,1,,),_xlfn.AGGREGATE(15,6,(ROW(ECO_5)-kop)/((ECO_5="raison de service")*(OFFSET(ECO_5,,1,,)<>"")*(MonBase="ACSO")),ROW()-ROW($C$37))),"-")} -> -
C39: {=IFERROR(INDEX(OFFSET(ECO_1,,1,,),_xlfn.AGGREGATE(15,6,(ROW(ECO_1)-kop)/((ECO_1="raison de service")*(OFFSET(ECO_1,,1,,)<>"")*(MonBase="ACSO")),ROW()-ROW($C$37))),"-")} -> - | D39: {=IFERROR(INDEX(OFFSET(ECO_2,,1,,),_xlfn.AGGREGATE(15,6,(ROW(ECO_2)-kop)/((ECO_2="raison de service")*(OFFSET(ECO_2,,1,,)<>"")*(MonBase="ACSO")),ROW()-ROW($C$37))),"-")} -> - | E39: {=IFERROR(INDEX(OFFSET(ECO_3,,1,,),_xlfn.AGGREGATE(15,6,(ROW(ECO_3)-kop)/((ECO_3="raison de service")*(OFFSET(ECO_3,,1,,)<>"")*(MonBase="ACSO")),ROW()-ROW($C$37))),"-")} -> - | F39: {=IFERROR(INDEX(OFFSET(ECO_4,,1,,),_xlfn.AGGREGATE(15,6,(ROW(ECO_4)-kop)/((ECO_4="raison de service")*(OFFSET(ECO_4,,1,,)<>"")*(MonBase="ACSO")),ROW()-ROW($C$37))),"-")} -> - | G39: {=IFERROR(INDEX(OFFSET(ECO_5,,1,,),_xlfn.AGGREGATE(15,6,(ROW(ECO_5)-kop)/((ECO_5="raison de service")*(OFFSET(ECO_5,,1,,)<>"")*(MonBase="ACSO")),ROW()-ROW($C$37))),"-")} -> -
C40: {=IFERROR(INDEX(OFFSET(ECO_1,,1,,),_xlfn.AGGREGATE(15,6,(ROW(ECO_1)-kop)/((ECO_1="raison de service")*(OFFSET(ECO_1,,1,,)<>"")*(MonBase="ACSO")),ROW()-ROW($C$37))),"-")} -> - | D40: {=IFERROR(INDEX(OFFSET(ECO_2,,1,,),_xlfn.AGGREGATE(15,6,(ROW(ECO_2)-kop)/((ECO_2="raison de service")*(OFFSET(ECO_2,,1,,)<>"")*(MonBase="ACSO")),ROW()-ROW($C$37))),"-")} -> - | E40: {=IFERROR(INDEX(OFFSET(ECO_3,,1,,),_xlfn.AGGREGATE(15,6,(ROW(ECO_3)-kop)/((ECO_3="raison de service")*(OFFSET(ECO_3,,1,,)<>"")*(MonBase="ACSO")),ROW()-ROW($C$37))),"-")} -> - | F40: {=IFERROR(INDEX(OFFSET(ECO_4,,1,,),_xlfn.AGGREGATE(15,6,(ROW(ECO_4)-kop)/((ECO_4="raison de service")*(OFFSET(ECO_4,,1,,)<>"")*(MonBase="ACSO")),ROW()-ROW($C$37))),"-")} -> - | G40: {=IFERROR(INDEX(OFFSET(ECO_5,,1,,),_xlfn.AGGREGATE(15,6,(ROW(ECO_5)-kop)/((ECO_5="raison de service")*(OFFSET(ECO_5,,1,,)<>"")*(MonBase="ACSO")),ROW()-ROW($C$37))),"-")} -> -
C41: {=IFERROR(INDEX(OFFSET(ECO_1,,1,,),_xlfn.AGGREGATE(15,6,(ROW(ECO_1)-kop)/((ECO_1="raison de service")*(OFFSET(ECO_1,,1,,)<>"")*(MonBase="ACSO")),ROW()-ROW($C$37))),"-")} -> - | D41: {=IFERROR(INDEX(OFFSET(ECO_2,,1,,),_xlfn.AGGREGATE(15,6,(ROW(ECO_2)-kop)/((ECO_2="raison de service")*(OFFSET(ECO_2,,1,,)<>"")*(MonBase="ACSO")),ROW()-ROW($C$37))),"-")} -> - | E41: {=IFERROR(INDEX(OFFSET(ECO_3,,1,,),_xlfn.AGGREGATE(15,6,(ROW(ECO_3)-kop)/((ECO_3="raison de service")*(OFFSET(ECO_3,,1,,)<>"")*(MonBase="ACSO")),ROW()-ROW($C$37))),"-")} -> - | F41: {=IFERROR(INDEX(OFFSET(ECO_4,,1,,),_xlfn.AGGREGATE(15,6,(ROW(ECO_4)-kop)/((ECO_4="raison de service")*(OFFSET(ECO_4,,1,,)<>"")*(MonBase="ACSO")),ROW()-ROW($C$37))),"-")} -> - | G41: {=IFERROR(INDEX(OFFSET(ECO_5,,1,,),_xlfn.AGGREGATE(15,6,(ROW(ECO_5)-kop)/((ECO_5="raison de service")*(OFFSET(ECO_5,,1,,)<>"")*(MonBase="ACSO")),ROW()-ROW($C$37))),"-")} -> -
C42: {=IFERROR(INDEX(OFFSET(ECO_1,,1,,),_xlfn.AGGREGATE(15,6,(ROW(ECO_1)-kop)/((ECO_1="raison de service")*(OFFSET(ECO_1,,1,,)<>"")*(MonBase="ACSO")),ROW()-ROW($C$37))),"-")} -> - | D42: {=IFERROR(INDEX(OFFSET(ECO_2,,1,,),_xlfn.AGGREGATE(15,6,(ROW(ECO_2)-kop)/((ECO_2="raison de service")*(OFFSET(ECO_2,,1,,)<>"")*(MonBase="ACSO")),ROW()-ROW($C$37))),"-")} -> - | E42: {=IFERROR(INDEX(OFFSET(ECO_3,,1,,),_xlfn.AGGREGATE(15,6,(ROW(ECO_3)-kop)/((ECO_3="raison de service")*(OFFSET(ECO_3,,1,,)<>"")*(MonBase="ACSO")),ROW()-ROW($C$37))),"-")} -> - | F42: {=IFERROR(INDEX(OFFSET(ECO_4,,1,,),_xlfn.AGGREGATE(15,6,(ROW(ECO_4)-kop)/((ECO_4="raison de service")*(OFFSET(ECO_4,,1,,)<>"")*(MonBase="ACSO")),ROW()-ROW($C$37))),"-")} -> - | G42: {=IFERROR(INDEX(OFFSET(ECO_5,,1,,),_xlfn.AGGREGATE(15,6,(ROW(ECO_5)-kop)/((ECO_5="raison de service")*(OFFSET(ECO_5,,1,,)<>"")*(MonBase="ACSO")),ROW()-ROW($C$37))),"-")} -> -
C43: {=IFERROR(INDEX(OFFSET(ECO_1,,1,,),_xlfn.AGGREGATE(15,6,(ROW(ECO_1)-kop)/((ECO_1="raison de service")*(OFFSET(ECO_1,,1,,)<>"")*(MonBase="ACSO")),ROW()-ROW($C$37))),"-")} -> - | D43: {=IFERROR(INDEX(OFFSET(ECO_2,,1,,),_xlfn.AGGREGATE(15,6,(ROW(ECO_2)-kop)/((ECO_2="raison de service")*(OFFSET(ECO_2,,1,,)<>"")*(MonBase="ACSO")),ROW()-ROW($C$37))),"-")} -> - | E43: {=IFERROR(INDEX(OFFSET(ECO_3,,1,,),_xlfn.AGGREGATE(15,6,(ROW(ECO_3)-kop)/((ECO_3="raison de service")*(OFFSET(ECO_3,,1,,)<>"")*(MonBase="ACSO")),ROW()-ROW($C$37))),"-")} -> - | F43: {=IFERROR(INDEX(OFFSET(ECO_4,,1,,),_xlfn.AGGREGATE(15,6,(ROW(ECO_4)-kop)/((ECO_4="raison de service")*(OFFSET(ECO_4,,1,,)<>"")*(MonBase="ACSO")),ROW()-ROW($C$37))),"-")} -> - | G43: {=IFERROR(INDEX(OFFSET(ECO_5,,1,,),_xlfn.AGGREGATE(15,6,(ROW(ECO_5)-kop)/((ECO_5="raison de service")*(OFFSET(ECO_5,,1,,)<>"")*(MonBase="ACSO")),ROW()-ROW($C$37))),"-")} -> -
C44: {=IFERROR(INDEX(OFFSET(ECO_1,,1,,),_xlfn.AGGREGATE(15,6,(ROW(ECO_1)-kop)/((ECO_1="raison de service")*(OFFSET(ECO_1,,1,,)<>"")*(MonBase="ACSO")),ROW()-ROW($C$37))),"-")} -> - | D44: {=IFERROR(INDEX(OFFSET(ECO_2,,1,,),_xlfn.AGGREGATE(15,6,(ROW(ECO_2)-kop)/((ECO_2="raison de service")*(OFFSET(ECO_2,,1,,)<>"")*(MonBase="ACSO")),ROW()-ROW($C$37))),"-")} -> - | E44: {=IFERROR(INDEX(OFFSET(ECO_3,,1,,),_xlfn.AGGREGATE(15,6,(ROW(ECO_3)-kop)/((ECO_3="raison de service")*(OFFSET(ECO_3,,1,,)<>"")*(MonBase="ACSO")),ROW()-ROW($C$37))),"-")} -> - | F44: {=IFERROR(INDEX(OFFSET(ECO_4,,1,,),_xlfn.AGGREGATE(15,6,(ROW(ECO_4)-kop)/((ECO_4="raison de service")*(OFFSET(ECO_4,,1,,)<>"")*(MonBase="ACSO")),ROW()-ROW($C$37))),"-")} -> - | G44: {=IFERROR(INDEX(OFFSET(ECO_5,,1,,),_xlfn.AGGREGATE(15,6,(ROW(ECO_5)-kop)/((ECO_5="raison de service")*(OFFSET(ECO_5,,1,,)<>"")*(MonBase="ACSO")),ROW()-ROW($C$37))),"-")} -> -
C45: {=IFERROR(INDEX(OFFSET(ECO_1,,1,,),_xlfn.AGGREGATE(15,6,(ROW(ECO_1)-kop)/((ECO_1="raison de service")*(OFFSET(ECO_1,,1,,)<>"")*(MonBase="ACSO")),ROW()-ROW($C$37))),"-")} -> - | D45: {=IFERROR(INDEX(OFFSET(ECO_2,,1,,),_xlfn.AGGREGATE(15,6,(ROW(ECO_2)-kop)/((ECO_2="raison de service")*(OFFSET(ECO_2,,1,,)<>"")*(MonBase="ACSO")),ROW()-ROW($C$37))),"-")} -> - | E45: {=IFERROR(INDEX(OFFSET(ECO_3,,1,,),_xlfn.AGGREGATE(15,6,(ROW(ECO_3)-kop)/((ECO_3="raison de service")*(OFFSET(ECO_3,,1,,)<>"")*(MonBase="ACSO")),ROW()-ROW($C$37))),"-")} -> - | F45: {=IFERROR(INDEX(OFFSET(ECO_4,,1,,),_xlfn.AGGREGATE(15,6,(ROW(ECO_4)-kop)/((ECO_4="raison de service")*(OFFSET(ECO_4,,1,,)<>"")*(MonBase="ACSO")),ROW()-ROW($C$37))),"-")} -> - | G45: {=IFERROR(INDEX(OFFSET(ECO_5,,1,,),_xlfn.AGGREGATE(15,6,(ROW(ECO_5)-kop)/((ECO_5="raison de service")*(OFFSET(ECO_5,,1,,)<>"")*(MonBase="ACSO")),ROW()-ROW($C$37))),"-")} -> -
C46: {=IFERROR(INDEX(OFFSET(ECO_1,,1,,),_xlfn.AGGREGATE(15,6,(ROW(ECO_1)-kop)/((ECO_1="raison de service")*(OFFSET(ECO_1,,1,,)<>"")*(MonBase="ACSO")),ROW()-ROW($C$37))),"-")} -> - | D46: {=IFERROR(INDEX(OFFSET(ECO_2,,1,,),_xlfn.AGGREGATE(15,6,(ROW(ECO_2)-kop)/((ECO_2="raison de service")*(OFFSET(ECO_2,,1,,)<>"")*(MonBase="ACSO")),ROW()-ROW($C$37))),"-")} -> - | E46: {=IFERROR(INDEX(OFFSET(ECO_3,,1,,),_xlfn.AGGREGATE(15,6,(ROW(ECO_3)-kop)/((ECO_3="raison de service")*(OFFSET(ECO_3,,1,,)<>"")*(MonBase="ACSO")),ROW()-ROW($C$37))),"-")} -> - | F46: {=IFERROR(INDEX(OFFSET(ECO_4,,1,,),_xlfn.AGGREGATE(15,6,(ROW(ECO_4)-kop)/((ECO_4="raison de service")*(OFFSET(ECO_4,,1,,)<>"")*(MonBase="ACSO")),ROW()-ROW($C$37))),"-")} -> - | G46: {=IFERROR(INDEX(OFFSET(ECO_5,,1,,),_xlfn.AGGREGATE(15,6,(ROW(ECO_5)-kop)/((ECO_5="raison de service")*(OFFSET(ECO_5,,1,,)<>"")*(MonBase="ACSO")),ROW()-ROW($C$37))),"-")} -> -
A47: ETUDE | C47: ='BASE PERISCOLAIRE'!B205 -> FERME | D47: ='BASE PERISCOLAIRE'!G205 -> FERME | E47: ='BASE PERISCOLAIRE'!L205 -> FERME | F47: ='BASE PERISCOLAIRE'!Q205 -> FERME | G47: ='BASE PERISCOLAIRE'!V205 -> FERME
A48: ACTIVITES ANNEXES | C48: ='BASE PERISCOLAIRE'!B217 -> FERME | D48: ='BASE PERISCOLAIRE'!G217 -> FERME | E48: ='BASE PERISCOLAIRE'!L217 -> FERME | F48: ='BASE PERISCOLAIRE'!Q217 -> FERME | G48: ='BASE PERISCOLAIRE'!V217 -> FERME
A49: Enseignant gréviste mater | C49: ='BASE PERISCOLAIRE'!B231 -> 0 | D49: ='BASE PERISCOLAIRE'!G231 -> 0 | E49: ='BASE PERISCOLAIRE'!L231 -> 0 | F49: ='BASE PERISCOLAIRE'!Q231 -> 0 | G49: ='BASE PERISCOLAIRE'!V231 -> 0
A50: Enseignant gréviste Elem | C50: ='BASE PERISCOLAIRE'!C231 -> 0 | D50: ='BASE PERISCOLAIRE'!H231 -> 0 | E50: ='BASE PERISCOLAIRE'!M231 -> 0 | F50: ='BASE PERISCOLAIRE'!R231 -> 0 | G50: ='BASE PERISCOLAIRE'!W231 -> 0
A51: Mise en œuvre SMA | C51: ='BASE PERISCOLAIRE'!D231 -> PAS DE SMA | D51: ='BASE PERISCOLAIRE'!I231 -> PAS DE SMA | E51: ='BASE PERISCOLAIRE'!N231 -> PAS DE SMA | F51: ='BASE PERISCOLAIRE'!S231 -> PAS DE SMA | G51: ='BASE PERISCOLAIRE'!X231 -> PAS DE SMA
A52: Animateurs SMA pour raison de service | C52: ='BASE PERISCOLAIRE'!D261 -> SLJ3 | D52: ='BASE PERISCOLAIRE'!I261 -> ER12 | E52: ='BASE PERISCOLAIRE'!N261 -> ER3 | F52: ='BASE PERISCOLAIRE'!S261 -> ER11 | G52: ='BASE PERISCOLAIRE'!X261 -> ER11
C53: ='BASE PERISCOLAIRE'!D262 -> ER12 | D53: ='BASE PERISCOLAIRE'!I262 -> 0 | E53: ='BASE PERISCOLAIRE'!N262 -> 0 | F53: ='BASE PERISCOLAIRE'!S262 -> ER12 | G53: ='BASE PERISCOLAIRE'!X262 -> 0
C54: ='BASE PERISCOLAIRE'!D263 -> 0 | D54: ='BASE PERISCOLAIRE'!I263 -> 0 | E54: ='BASE PERISCOLAIRE'!N263 -> 0 | F54: ='BASE PERISCOLAIRE'!S263 -> 0 | G54: ='BASE PERISCOLAIRE'!X263 -> 0
C55: ='BASE PERISCOLAIRE'!D264 -> ER5 | D55: ='BASE PERISCOLAIRE'!I264 -> 0 | E55: ='BASE PERISCOLAIRE'!N264 -> 0 | F55: ='BASE PERISCOLAIRE'!S264 -> 0 | G55: ='BASE PERISCOLAIRE'!X264 -> 0
C56: ='BASE PERISCOLAIRE'!D265 -> 0 | D56: ='BASE PERISCOLAIRE'!I265 -> 0 | E56: ='BASE PERISCOLAIRE'!N265 -> 0 | F56: ='BASE PERISCOLAIRE'!S265 -> 0 | G56: ='BASE PERISCOLAIRE'!X265 -> SLJ12
C57: ='BASE PERISCOLAIRE'!D266 -> E4 | D57: ='BASE PERISCOLAIRE'!I266 -> 0 | E57: ='BASE PERISCOLAIRE'!N266 -> 0 | F57: ='BASE PERISCOLAIRE'!S266 -> 0 | G57: ='BASE PERISCOLAIRE'!X266 -> 0
C58: ='BASE PERISCOLAIRE'!D267 -> 0 | D58: ='BASE PERISCOLAIRE'!I267 -> 0 | E58: ='BASE PERISCOLAIRE'!N267 -> 0 | F58: ='BASE PERISCOLAIRE'!S267 -> 0 | G58: ='BASE PERISCOLAIRE'!X267 -> 0
C59: ='BASE PERISCOLAIRE'!D268 -> 0 | D59: ='BASE PERISCOLAIRE'!I268 -> 0 | E59: ='BASE PERISCOLAIRE'!N268 -> 0 | F59: ='BASE PERISCOLAIRE'!S268 -> 0 | G59: ='BASE PERISCOLAIRE'!X268 -> 0
C60: ='BASE PERISCOLAIRE'!D269 -> 0 | D60: ='BASE PERISCOLAIRE'!I269 -> 0 | E60: ='BASE PERISCOLAIRE'!N269 -> 0 | F60: ='BASE PERISCOLAIRE'!S269 -> 0 | G60: ='BASE PERISCOLAIRE'!X269 -> 0
C61: ='BASE PERISCOLAIRE'!D270 -> 0 | D61: ='BASE PERISCOLAIRE'!I270 -> 0 | E61: ='BASE PERISCOLAIRE'!N270 -> 0 | F61: ='BASE PERISCOLAIRE'!S270 -> 0 | G61: ='BASE PERISCOLAIRE'!X270 -> 0
C62: ='BASE PERISCOLAIRE'!D271 -> 0 | D62: ='BASE PERISCOLAIRE'!I271 -> 0 | E62: ='BASE PERISCOLAIRE'!N271 -> SLJ12 | F62: ='BASE PERISCOLAIRE'!S271 -> 0 | G62: ='BASE PERISCOLAIRE'!X271 -> 0
C63: ='BASE PERISCOLAIRE'!D272 -> 0 | D63: ='BASE PERISCOLAIRE'!I272 -> 0 | E63: ='BASE PERISCOLAIRE'!N272 -> 0 | F63: ='BASE PERISCOLAIRE'!S272 -> 0 | G63: ='BASE PERISCOLAIRE'!X272 -> 0
C64: ='BASE PERISCOLAIRE'!D273 -> 0 | D64: ='BASE PERISCOLAIRE'!I273 -> E12 | E64: ='BASE PERISCOLAIRE'!N273 -> 0 | F64: ='BASE PERISCOLAIRE'!S273 -> 0 | G64: ='BASE PERISCOLAIRE'!X273 -> 0
... C68: ='BASE PERISCOLAIRE'!D277 -> 0 | D68: ='BASE PERISCOLAIRE'!I277 -> 0 | E68: ='BASE PERISCOLAIRE'!N277 -> 0 | F68: ='BASE PERISCOLAIRE'!S277 -> 0 | G68: ='BASE PERISCOLAIRE'!X277 -> 0

Sheet Feuil1
G2: MEINDER Monique
G3: BEN SAAS Jessica
G4: DELBECQ Charlotte
G5: DOMAIN Corinne
G6: IMMACOLATA Valério
