Workbook
Name ACTIVITES: LISTING!$F$3:$F$51
Name AESH: LISTING!$G$3:$G$10
Name BUS: LISTING!$H$3:$H$11
Name ECO_1: OFFSET(MonBase,,-23,,)
Name ECO_2: OFFSET(MonBase,,-18,,)
Name ECO_3: OFFSET(MonBase,,-13,,)
Name ECO_4: OFFSET(MonBase,,-8,,)
Name ECO_5: OFFSET(MonBase,,-3,,)
Name ECOLES: LISTING!$J$3:$J$7
Name EDUC: LISTING!$C$3:$C$51
Name ENTRESTAU: LISTING!$D$3:$D$50
Name ETUDES: LISTING!$E$3:$E$51
Name kop: ROW(OFFSET(MonBase,,1,1))-1
Name MonBase: 'BASE PERISCOLAIRE'!$Z$35:$Z$203
Name PROF: LISTING!$I$3:$I$51
Name REPAS: LISTING!$K$3:$K$8
Name SERVICE: LISTING!$B$2:$D$2
Name SLJ: LISTING!$B$3:$B$51
Name TRANSPORTSCOLAIRE: LISTING!$H$3:$H$51

Sheet LISTING
A2: NEANT | B2: SLJ | C2: EDUCATION | D2: ENTRERESTAU | E2: ETUDES | F2: ACTIVITES | G2: AESH | H2: Ligne de bus | I2: PROF | J2: ECOLES | K2: REPAS
B3: A1 | C3: B1 | D3: C1 | E3: D1 | F3: E1 | G3: F1 | H3: G1 | I3: H1 | J3: I1 | K3: L1
B4: A2 | C4: B2 | D4: C2 | E4: D2 | F4: E2 | G4: F2 | H4: G2 | I4: H2 | J4: I2 | K4: L2
B5: A3 | C5: B3 | D5: C3 | E5: D3 | F5: E3 | G5: F3 | H5: G3 | I5: H3 | J5: I3 | K5: L3
B6: A4 | C6: B4 | D6: C4 | E6: D4 | F6: E4 | H6: G4 | I6: H4 | J6: I4 | K6: L4
B7: A5 | C7: B5 | D7: C5 | E7: D5 | H7: G5 | I7: H5 | J7: I5
B8: A6 | C8: B6 | D8: C6 | E8: D6 | H8: G6 | I8: H6
B9: A7 | C9: B7 | D9: C7 | E9: D7 | H9: G7 | I9: H7
B10: A8 | C10: B8 | D10: C8 | E10: D8 | H10: G8 | I10: H8
B11: A9 | C11: B9 | D11: C9 | E11: D9 | H11: G9 | I11: H9
B12: A10 | C12: B10 | D12: C10 | E12: D10 | H12: G10 | I12: H10
B13: A11 | C13: B11 | D13: C11 | E13: D11 | I13: H11
B14: A12 | C14: B12 | D14: C12 | E14: D12 | I14: H12
B15: A13 | C15: B13 | D15: C13 | E15: D13 | I15: H13
B16: A14 | C16: B14 | D16: C14 | E16: D14 | I16: H14
B17: A15 | C17: B15 | D17: C15 | E17: D15 | I17: H15
B18: A16 | C18: B16 | D18: C16 | E18: D16 | I18: H16
B19: A17 | C19: B17 | D19: C17 | E19: D17 | I19: H17
B20: A18 | C20: B18 | D20: C18 | E20: D18 | I20: H18
B21: A19 | C21: B19 | D21: C19 | E21: D19 | I21: H19
B22: A20 | C22: B20 | D22: C20 | E22: D20 | I22: H20
B23: A21 | C23: B21 | D23: C21 | E23: D21 | I23: H21
B24: A22 | C24: B22 | D24: C22 | E24: D22 | I24: H22
... B45: A43 | C45: B43 | D45: C43 | E45: D43 | I45: H43
B46: A44 | C46: B44 | D46: C44 | I46: H44
B47: A45 | C47: B45 | D47: C45 | I47: H45
B48: A46 | C48: B46 | I48: H46
B49: A47 | C49: B47 | I49: H47
B50: A48 | C50: B48 | I50: H48
B51: A49 | C51: B49 | I51: H49
C52: B50 | I52: H50
I53: H51
I54: H52
I55: H53
I56: H54
I57: H55
I58: H56
I59: H57
I60: H58
I61: H59
...

Sheet VARIABLES
A1: VARIABLES
A3: Variables en bleues modifiables | D3: Ec Campouns Elem | E3: Ec Daudet Mater | F3: Ec Garbejaire Mater/Elem | G3: Ec Ile Verte Mater/Elem | H3: Ec Sartoux Mater/Elem
A4: ACSO | B4: MATERNELLE | C4: MAT TT INSCRITS | D4: 345 | E4: 15 | F4: 41 | G4: 60 | H4: 80
C5: MAT RATIO | D5: 11 | E5: =D5 -> 11 | F5: =D5 -> 11 | G5: =D5 -> 11 | H5: =D5 -> 11
C6: MAT TX THEORIQUE | D6: =IFERROR(D4/D5,0) -> 31.363636 | E6: =E4/E5 -> 1.3636364 | F6: =F4/F5 -> 3.7272727 | G6: =G4/G5 -> 5.4545455 | H6: =H4/H5 -> 7.2727273
C7: MAT TX ARRONDI SUP | D7: =ROUNDUP(D6,0.1) -> 32 | E7: =ROUNDUP(E6,0.1) -> 2 | F7: =ROUNDUP(F6,0.1) -> 4 | G7: =ROUNDUP(G6,0.1) -> 6 | H7: =ROUNDUP(H6,0.1) -> 8
B8: ELEMENTAIRE | C8: ELEM TT INSCRITS | D8: 15 | E8: 22 | F8: 43 | G8: 62 | H8: 82
C9: ELLEM RATIO | D9: 30 | E9: =D9 -> 30 | F9: =D9 -> 30 | G9: =D9 -> 30 | H9: =D9 -> 30
C10: ELEM TX THEORIQUE | D10: =IFERROR(D8/D9,0) -> 0.5 | E10: =IFERROR(E8/E9,0) -> 0.73333333 | F10: =IFERROR(F8/F9,0) -> 1.4333333 | G10: =IFERROR(G8/G9,0) -> 2.0666667 | H10: =IFERROR(H8/H9,0) -> 2.7333333
C11: ELEM TX ARRONDI SUP | D11: =ROUNDUP(D10,0.1) -> 1 | E11: =ROUNDUP(E10,0.1) -> 1 | F11: =ROUNDUP(F10,0.1) -> 2 | G11: =ROUNDUP(G10,0.1) -> 3 | H11: =ROUNDUP(H10,0.1) -> 3
A12: ACMI | B12: MATERNELLE | C12: MAT TT INSCRITS | D12: 10 | E12: 24 | F12: 45 | G12: 64 | H12: 84
C13: MAT RATIO | D13: 8 | E13: =D13 -> 8 | F13: =D13 -> 8 | G13: =D13 -> 8 | H13: =D13 -> 8
C14: MAT TX THEORIQUE | D14: =IFERROR(D12/D13,0) -> 1.25 | E14: =IFERROR(E12/E13,0) -> 3 | F14: =IFERROR(F12/F13,0) -> 5.625 | G14: =IFERROR(G12/G13,0) -> 8 | H14: =IFERROR(H12/H13,0) -> 10.5
C15: MAT TX ARRONDI SUP | D15: =ROUNDUP(D14,0.1) -> 2 | E15: =ROUNDUP(E14,0.1) -> 3 | F15: =ROUNDUP(F14,0.1) -> 6 | G15: =ROUNDUP(G14,0.1) -> 8 | H15: =ROUNDUP(H14,0.1) -> 11
B16: ELEMENTAIRE | C16: ELEM TT INSCRITS | D16: 25 | E16: 26 | F16: 47 | G16: 66 | H16: 86
C17: ELLEM RATIO | D17: 35 | E17: =D17 -> 35 | F17: =D17 -> 35 | G17: =D17 -> 35 | H17: =D17 -> 35
C18: ELEM TX THEORIQUE | D18: =IFERROR(D16/D17,0) -> 0.71428571 | E18: =IFERROR(E16/E17,0) -> 0.74285714 | F18: =F16/F17 -> 1.3428571 | G18: =G16/G17 -> 1.8857143 | H18: =H16/H17 -> 2.4571429
C19: ELEM TX ARRONDI SUP | D19: =ROUNDUP(D18,0.1) -> 1 | E19: =ROUNDUP(E18,0.1) -> 1 | F19: =ROUNDUP(F18,0.1) -> 2 | G19: =ROUNDUP(G18,0.1) -> 2 | H19: =ROUNDUP(H18,0.1) -> 3
A20: ACSO | B20: MATERNELLE | C20: MAT TT INSCRITS | D20: 9 | E20: 28 | F20: 49 | G20: 68 | H20: 88
C21: MAT RATIO | D21: 10 | E21: =D21 -> 10 | F21: =D21 -> 10 | G21: =D21 -> 10 | H21: =D21 -> 10
C22: MAT TX THEORIQUE | D22: =IFERROR(D20/D21,0) -> 0.9 | E22: =IFERROR(E20/E21,0) -> 2.8 | F22: =IFERROR(F20/F21,0) -> 4.9 | G22: =IFERROR(G20/G21,0) -> 6.8 | H22: =IFERROR(H20/H21,0) -> 8.8
C23: MAT TX ARRONDI SUP | D23: =ROUNDUP(D22,0.1) -> 1 | E23: =ROUNDUP(E22,0.1) -> 3 | F23: =ROUNDUP(F22,0.1) -> 5 | G23: =ROUNDUP(G22,0.1) -> 7 | H23: =ROUNDUP(H22,0.1) -> 9
B24: ELEMENTAIRE | C24: ELEM TT INSCRITS | D24: 11 | E24: 30 | F24: 51 | G24: 70 | H24: 100
C25: ELLEM RATIO | D25: 12 | E25: =D25 -> 12 | F25: =D25 -> 12 | G25: =D25 -> 12 | H25: =D25 -> 12
C26: ELEM TX THEORIQUE | D26: =IFERROR(D24/D25,0) -> 0.91666667 | E26: =IFERROR(E24/E25,0) -> 2.5 | F26: =IFERROR(F24/F25,0) -> 4.25 | G26: =IFERROR(G24/G25,0) -> 5.8333333 | H26: =IFERROR(H24/H25,0) -> 8.3333333
C27: ELEM TX ARRONDI SUP | D27: =ROUNDUP(D26,0.1) -> 1 | E27: =ROUNDUP(E26,0.1) -> 3 | F27: =ROUNDUP(F26,0.1) -> 5 | G27: =ROUNDUP(G26,0.1) -> 6 | H27: =ROUNDUP(H26,0.1) -> 9
A28: ETUDES | B28: ELEMENTAIRE | C28: ETUDE TT INSCRITS | D28: 13 | E28: 32 | F28: 53 | G28: 72 | H28: 102
C29: ETUDE RATIO | D29: 14 | E29: =D29 -> 14 | F29: =D29 -> 14 | G29: =D29 -> 14 | H29: =D29 -> 14
C30: ELEM TX THEORIQUE | D30: =IFERROR(D28/D29,0) -> 0.92857143 | E30: =IFERROR(E28/E29,0) -> 2.2857143 | F30: =IFERROR(F28/F29,0) -> 3.7857143 | G30: =IFERROR(G28/G29,0) -> 5.1428571 | H30: =IFERROR(H28/H29,0) -> 7.2857143
C31: ETUDE TX ARRONDI SUP | D31: =ROUNDUP(D30,0.1) -> 1 | E31: =ROUNDUP(E30,0.1) -> 3 | F31: =ROUNDUP(F30,0.1) -> 4 | G31: =ROUNDUP(G30,0.1) -> 6 | H31: =ROUNDUP(H30,0.1) -> 8

Sheet BASE PERISCOLAIRE
A1: =COLUMN()-COLUMN($Z$1) -> -25 | B1: =COLUMN()-COLUMN($Z$1) -> -24 | C1: =COLUMN()-COLUMN($Z$1) -> -23 | D1: =COLUMN()-COLUMN($Z$1) -> -22 | E1: =COLUMN()-COLUMN($Z$1) -> -21 | F1: =COLUMN()-COLUMN($Z$1) -> -20 | G1: =COLUMN()-COLUMN($Z$1) -> -19 | H1: =COLUMN()-COLUMN($Z$1) -> -18 | ... Z1: =COLUMN()-COLUMN($Z$1) -> 0
A2: Site | B2: =VARIABLES!D3 -> Ec Campouns Elem | F2: Site | G2: =VARIABLES!E3 -> Ec Daudet Mater | K2: Site | L2: =VARIABLES!F3 -> Ec Garbejaire Mater/Elem | P2: Site | Q2: =VARIABLES!G3 -> Ec Ile Verte Mater/Elem | U2: Site | V2: =VARIABLES!H3 -> Ec Sartoux Mater/Elem
A4: BUS MATIN | B4: =A6 -> Mouton rouge | C4: =A10 -> NEANT | D4: =A14 -> NEANT | F4: BUS MATIN | G4: =F6 -> Vache verte | H4: =F10 -> Transfert | I4: =F14 -> NEANT | K4: BUS MATIN | L4: =K6 -> Cheval bleu | M4: =K10 -> NEANT | N4: =K14 -> NEANT | P4: BUS MATIN | Q4: =P6 -> Vache rouge | R4: =P10 -> Transfert | S4: =P14 -> NEANT | U4: BUS MATIN | V4: =U6 -> Libellule bleue | W4: =U10 -> Transfert | X4: =U14 -> NEANT
B5: OUVERT | C5: NEANT | D5: NEANT | G5: FERME | H5: OUVERT | I5: NEANT | L5: OUVERT | M5: NEANT | N5: NEANT | Q5: OUVERT | R5: OUVERT | S5: NEANT | V5: NEANT | W5: OUVERT | X5: NEANT
A6: Mouton rouge | B6: ENTRERESTAU | C6: PRESENT | F6: Vache verte | G6: EntreRestau | H6: PRESENT | K6: Cheval bleu | L6: EntreRestau | M6: PRESENT | P6: Vache rouge | Q6: EntreRestau | R6: PRESENT | U6: Libellule bleue | V6: EntreRestau | W6: PRESENT
B7: ENTRERESTAU | C7: PRESENT | G7: EntreRestau | H7: PRESENT | L7: EntreRestau | M7: PRESENT | Q7: EntreRestau | R7: PRESENT | V7: EntreRestau | W7: PRESENT
B8: EntreRestau | C8: NEANT | G8: EntreRestau | H8: NEANT | L8: EntreRestau | M8: NEANT | Q8: EntreRestau | R8: NEANT | V8: EntreRestau | W8: PRESENT
B9: EntreRestau | C9: NEANT | G9: EntreRestau | H9: NEANT | L9: EntreRestau | M9: NEANT | Q9: EntreRestau | R9: NEANT | V9: EntreRestau | W9: NEANT
A10: NEANT | B10: Education | C10: NEANT | F10: Transfert | G10: ENTRERESTAU | H10: PRESENT | K10: NEANT | L10: Education | M10: NEANT | P10: Transfert | Q10: ENTRERESTAU | R10: PRESENT | U10: Transfert | V10: ENTRERESTAU | W10: PRESENT
B11: SLJ | C11: NEANT | G11: ENTRERESTAU | H11: PRESENT | L11: SLJ | M11: NEANT | Q11: ENTRERESTAU | R11: PRESENT | V11: ENTRERESTAU | W11: PRESENT
B12: SLJ | C12: NEANT | G12: SLJ | H12: NEANT | L12: SLJ | M12: NEANT | Q12: ENTRERESTAU | R12: PRESENT | V12: SLJ | W12: NEANT
B13: Education | C13: NEANT | G13: Education | H13: NEANT | L13: Education | M13: NEANT | Q13: Education | R13: NEANT | V13: Education | W13: NEANT
A14: NEANT | B14: SLJ | C14: NEANT | F14: NEANT | G14: SLJ | H14: NEANT | K14: NEANT | L14: SLJ | M14: NEANT | P14: NEANT | Q14: SLJ | R14: NEANT | U14: NEANT | V14: SLJ | W14: NEANT
B15: SLJ | C15: NEANT | G15: SLJ | H15: NEANT | L15: SLJ | M15: NEANT | Q15: SLJ | R15: NEANT | V15: SLJ | W15: NEANT
B16: EntreRestau | C16: NEANT | G16: EntreRestau | H16: NEANT | L16: EntreRestau | M16: NEANT | Q16: EntreRestau | R16: NEANT | V16: EntreRestau | W16: NEANT
B17: Education | C17: NEANT | G17: Education | H17: NEANT | L17: Education | M17: NEANT | Q17: Education | R17: NEANT | V17: Education | W17: NEANT
A19: BUS SOIR | B19: =A21 -> Mouton rouge | C19: =A25 -> Vache verte | D19: =A29 -> NEANT | F19: BUS SOIR | G19: =F21 -> Mouton rouge | H19: =F25 -> Vache verte | I19: =F29 -> NEANT | K19: BUS SOIR | L19: =K21 -> Cheval bleu | M19: =K25 -> NEANT | N19: =K29 -> NEANT | P19: BUS SOIR | Q19: =P21 -> Vache rouge | R19: =P25 -> Transfert | S19: =P29 -> NEANT | U19: BUS SOIR | V19: =U21 -> Libellule bleue | W19: =U25 -> Transfert | X19: =U29 -> NEANT
B20: OUVERT | C20: OUVERT | D20: NEANT | G20: FERME | H20: OUVERT | I20: NEANT | L20: OUVERT | M20: NEANT | N20: NEANT | Q20: OUVERT | R20: OUVERT | S20: NEANT | V20: OUVERT | W20: OUVERT | X20: NEANT
A21: Mouton rouge | B21: EntreRestau | C21: PRESENT | F21: Mouton rouge | G21: EntreRestau | H21: NEANT | I21: ER2 | K21: Cheval bleu | L21: EntreRestau | M21: PRESENT | P21: Vache rouge | Q21: EntreRestau | R21: PRESENT | U21: Libellule bleue | V21: EntreRestau | W21: PRESENT
B22: EntreRestau | C22: PRESENT | G22: EntreRestau | H22: NEANT | I22: ER5 | L22: EntreRestau | M22: PRESENT | Q22: EntreRestau | R22: PRESENT | V22: EntreRestau | W22: PRESENT
B23: SLJ | C23: NEANT | G23: SLJ | H23: NEANT | L23: SLJ | M23: NEANT | Q23: SLJ | R23: NEANT | V23: SLJ | W23: NEANT
B24: Education | C24: NEANT | G24: Education | H24: NEANT | L24: Education | M24: NEANT | Q24: Education | R24: NEANT | V24: Education | W24: NEANT
A25: Vache verte | B25: EntreRestau | C25: PRESENT | F25: Vache verte | G25: EntreRestau | H25: NEANT | I25: ER4 | K25: NEANT | L25: EntreRestau | M25: NEANT | P25: Transfert | Q25: EntreRestau | R25: PRESENT | U25: Transfert | V25: EntreRestau | W25: PRESENT
B26: EntreRestau | C26: PRESENT | G26: EntreRestau | H26: NEANT | I26: ER9 | L26: EntreRestau | M26: NEANT | Q26: EntreRestau | R26: PRESENT | V26: EntreRestau | W26: PRESENT
B27: SLJ | C27: NEANT | G27: SLJ | H27: NEANT | L27: SLJ | M27: NEANT | Q27: SLJ | R27: NEANT | V27: SLJ | W27: NEANT
B28: Education | C28: NEANT | G28: Education | H28: NEANT | L28: Education | M28: NEANT | Q28: Education | R28: NEANT | V28: Education | W28: NEANT
A29: NEANT | B29: SLJ | C29: NEANT | F29: NEANT | G29: SLJ | H29: NEANT | K29: NEANT | L29: SLJ | M29: NEANT | P29: NEANT | Q29: SLJ | R29: NEANT | U29: NEANT | V29: SLJ | W29: NEANT
B30: SLJ | C30: NEANT | G30: SLJ | H30: NEANT | L30: SLJ | M30: NEANT | Q30: SLJ | R30: NEANT | V30: SLJ | W30: NEANT
B31: SLJ | C31: NEANT | G31: SLJ | H31: NEANT | L31: SLJ | M31: NEANT | Q31: SLJ | R31: NEANT | V31: SLJ | W31: NEANT
B32: Education | C32: NEANT | G32: Education | H32: NEANT | L32: Education | M32: NEANT | Q32: Education | R32: NEANT | V32: Education | W32: NEANT
A34: ACMA | B34: OUVERT | F34: ACMA | G34: OUVERT | K34: ACMA | L34: OUVERT | P34: ACMA | Q34: OUVERT | U34: ACMA | V34: OUVERT
A35: MAT TT INSCRITS | B35: Restauration | C35: PRESENT | F35: MAT TT INSCRITS | G35: Restauration | H35: PRESENT | K35: MAT TT INSCRITS | L35: Restauration | M35: RAISON DE SERVICE | P35: MAT TT INSCRITS | Q35: Restauration | R35: PRESENT | U35: MAT TT INSCRITS | V35: Restauration | W35: PRESENT | Z35: ACMA
A36: =VARIABLES!D4 -> 345 | B36: Présents+RS | C36: PRESENT | F36: =VARIABLES!E4 -> 15 | G36: Présents+RS | H36: PRESENT | K36: =+VARIABLES!F4 -> 41 | L36: Présents+RS | M36: PRESENT | P36: =VARIABLES!G4 -> 60 | Q36: Présents+RS | R36: PRESENT | U36: =VARIABLES!H4 -> 80 | V36: Présents+RS | W36: PRESENT | Z36: ACMA
A37: MAT RATIO | B37: =COUNTIF(C35:C43, "PRESENT")+COUNTIF(C35:C43, "RAISON DE SERVICE") -> 5 | C37: PRESENT | F37: MAT RATIO | G37: =COUNTIF(H35:H43, "PRESENT")+COUNTIF(H35:H43, "RAISON DE SERVICE") -> 5 | H37: PRESENT | K37: MAT RATIO | L37: =COUNTIF(M35:M43, "PRESENT")+COUNTIF(M35:M43, "RAISON DE SERVICE") -> 7 | M37: ABSENT | P37: MAT RATIO | Q37: =COUNTIF(R35:R43, "PRESENT")+COUNTIF(R35:R43, "RAISON DE SERVICE") -> 7 | R37: PRESENT | U37: MAT RATIO | V37: =COUNTIF(W35:W43, "PRESENT")+COUNTIF(W35:W43, "RAISON DE SERVICE") -> 6 | W37: PRESENT | Z37: ACMA
A38: =VARIABLES!D5 -> 11 | B38: Grèviste | C38: PRESENT | F38: =VARIABLES!E5 -> 11 | G38: Grèviste | H38: NEANT | K38: =VARIABLES!F5 -> 11 | L38: Grèviste | M38: PRESENT | P38: =VARIABLES!G4 -> 60 | Q38: Grèviste | R38: PRESENT | U38: =VARIABLES!H5 -> 11 | V38: Grèviste | W38: PRESENT | Z38: ACMA
A39: MAT TX THEORIQUE | B39: =COUNTIF(C35:C43, "GREVISTE") -> 0 | C39: PRESENT | F39: MAT TX THEORIQUE | G39: =COUNTIF(H35:H43, "GREVISTE") -> 0 | H39: NEANT | K39: MAT TX THEORIQUE | L39: =COUNTIF(M35:M43, "GREVISTE") -> 0 | M39: PRESENT | P39: MAT TX THEORIQUE | Q39: =COUNTIF(R35:R43, "GREVISTE") -> 0 | R39: PRESENT | U39: MAT TX THEORIQUE | V39: =COUNTIF(W35:W43, "GREVISTE") -> 0 | W39: NEANT | Z39: ACMA
A40: =VARIABLES!D6 -> 31.363636 | B40: AT+ABS+Forma | C40: NEANT | F40: =VARIABLES!E6 -> 1.3636364 | G40: AT+ABS+Forma | H40: NEANT | K40: =VARIABLES!F6 -> 3.7272727 | L40: AT+ABS+Forma | M40: PRESENT | P40: =VARIABLES!G6 -> 5.4545455 | Q40: AT+ABS+Forma | R40: NEANT | U40: =VARIABLES!H6 -> 7.2727273 | V40: AT+ABS+Forma | W40: NEANT | Z40: ACMA
A41: ELEM TT INSCRITS | B41: =COUNTIF(C35:C43, "FORMATION")+COUNTIF(C35:C43, "ARRET DE TRAVAIL")+COUNTIF(C35:C43, "ABSENT") -> 0 | C41: NEANT | F41: ELEM TT INSCRITS | G41: =COUNTIF(H35:H43, "FORMATION")+COUNTIF(H35:H43, "ARRET DE TRAVAIL")+COUNTIF(H35:H43, "ABSENT") -> 0 | H41: NEANT | K41: ELEM TT INSCRITS | L41: =COUNTIF(M35:M43, "FORMATION")+COUNTIF(M35:M43, "ARRET DE TRAVAIL")+COUNTIF(M35:M43, "ABSENT") -> 1 | M41: NEANT | P41: ELEM TT INSCRITS | Q41: =COUNTIF(R35:R43, "FORMATION")+COUNTIF(R35:R43, "ARRET DE TRAVAIL")+COUNTIF(R35:R43, "ABSENT") -> 0 | R41: NEANT | U41: ELEM TT INSCRITS | V41: =COUNTIF(W35:W43, "FORMATION")+COUNTIF(W35:W43, "ARRET DE TRAVAIL")+COUNTIF(W35:W43, "ABSENT") -> 0 | W41: NEANT | Z41: ACMA
A42: =VARIABLES!D8 -> 15 | C42: NEANT | F42: =VARIABLES!E8 -> 22 | H42: RAISON DE SERVICE | K42: =VARIABLES!F8 -> 43 | M42: RAISON DE SERVICE | P42: =VARIABLES!G8 -> 62 | R42: RAISON DE SERVICE | U42: =VARIABLES!H8 -> 82 | W42: RAISON DE SERVICE | Z42: ACMA
A43: ELEM RATIO | C43: NEANT | F43: Tx théo d'enca / anim | H43: RAISON DE SERVICE | K43: Tx théo d'enca / anim | M43: RAISON DE SERVICE | P43: Tx théo d'enca / anim | R43: RAISON DE SERVICE | U43: Tx théo d'enca / anim | W43: RAISON DE SERVICE | Z43: ACMA
...

Sheet GREVE PRECO PERI
A1: ETAT DE LA GREVE
G2: =TODAY() -> 44893
A3: Ecole | C3: ='BASE PERISCOLAIRE'!B2 -> Ec Campouns Elem | D3: ='BASE PERISCOLAIRE'!G2 -> Ec Daudet Mater | E3: ='BASE PERISCOLAIRE'!L2 -> Ec Garbejaire Mater/Elem | F3: ='BASE PERISCOLAIRE'!Q2 -> Ec Ile Verte Mater/Elem | G3: ='BASE PERISCOLAIRE'!V2 -> Ec Sartoux Mater/Elem
A4: Transport scolaire matin | C4: ='BASE PERISCOLAIRE'!B4 -> Mouton rouge | D4: ='BASE PERISCOLAIRE'!G4 -> Vache verte | E4: ='BASE PERISCOLAIRE'!L4 -> Cheval bleu | F4: ='BASE PERISCOLAIRE'!Q4 -> Vache rouge | G4: ='BASE PERISCOLAIRE'!V4 -> Libellule bleue
C5: ='BASE PERISCOLAIRE'!B5 -> OUVERT | D5: ='BASE PERISCOLAIRE'!G5 -> FERME | E5: ='BASE PERISCOLAIRE'!L5 -> OUVERT | F5: ='BASE PERISCOLAIRE'!Q5 -> OUVERT | G5: ='BASE PERISCOLAIRE'!V5 -> NEANT
C6: ='BASE PERISCOLAIRE'!C4 -> NEANT | D6: ='BASE PERISCOLAIRE'!H4 -> Transfert | E6: ='BASE PERISCOLAIRE'!M4 -> NEANT | F6: ='BASE PERISCOLAIRE'!R4 -> Transfert | G6: ='BASE PERISCOLAIRE'!W4 -> Transfert
C7: ='BASE PERISCOLAIRE'!C5 -> NEANT | D7: ='BASE PERISCOLAIRE'!H5 -> OUVERT | E7: ='BASE PERISCOLAIRE'!M5 -> NEANT | F7: ='BASE PERISCOLAIRE'!R5 -> OUVERT | G7: ='BASE PERISCOLAIRE'!W5 -> OUVERT
C8: ='BASE PERISCOLAIRE'!D4 -> NEANT | D8: ='BASE PERISCOLAIRE'!I4 -> NEANT | E8: ='BASE PERISCOLAIRE'!N4 -> NEANT | F8: ='BASE PERISCOLAIRE'!S4 -> NEANT | G8: ='BASE PERISCOLAIRE'!X4 -> NEANT
C9: ='BASE PERISCOLAIRE'!D5 -> NEANT | D9: ='BASE PERISCOLAIRE'!I5 -> NEANT | E9: ='BASE PERISCOLAIRE'!N5 -> NEANT | F9: ='BASE PERISCOLAIRE'!S5 -> NEANT | G9: ='BASE PERISCOLAIRE'!X5 -> NEANT
A10: Transport scolaire soir | C10: ='BASE PERISCOLAIRE'!B19 -> Mouton rouge | D10: ='BASE PERISCOLAIRE'!G19 -> Mouton rouge | E10: ='BASE PERISCOLAIRE'!L19 -> Cheval bleu | F10: ='BASE PERISCOLAIRE'!Q19 -> Vache rouge | G10: ='BASE PERISCOLAIRE'!V19 -> Libellule bleue
C11: ='BASE PERISCOLAIRE'!B20 -> OUVERT | D11: ='BASE PERISCOLAIRE'!G20 -> FERME | E11: ='BASE PERISCOLAIRE'!L20 -> OUVERT | F11: ='BASE PERISCOLAIRE'!Q20 -> OUVERT | G11: ='BASE PERISCOLAIRE'!V20 -> OUVERT
C12: ='BASE PERISCOLAIRE'!C19 -> Vache verte | D12: ='BASE PERISCOLAIRE'!H19 -> Vache verte | E12: ='BASE PERISCOLAIRE'!M19 -> NEANT | F12: ='BASE PERISCOLAIRE'!R19 -> Transfert | G12: ='BASE PERISCOLAIRE'!W19 -> Transfert
C13: ='BASE PERISCOLAIRE'!C20 -> OUVERT | D13: ='BASE PERISCOLAIRE'!H20 -> OUVERT | E13: ='BASE PERISCOLAIRE'!M20 -> NEANT | F13: ='BASE PERISCOLAIRE'!R20 -> OUVERT | G13: ='BASE PERISCOLAIRE'!W20 -> OUVERT
C14: ='BASE PERISCOLAIRE'!D19 -> NEANT | D14: ='BASE PERISCOLAIRE'!I19 -> NEANT | E14: ='BASE PERISCOLAIRE'!N19 -> NEANT | F14: ='BASE PERISCOLAIRE'!S19 -> NEANT | G14: ='BASE PERISCOLAIRE'!X19 -> NEANT
C15: ='BASE PERISCOLAIRE'!D20 -> NEANT | D15: ='BASE PERISCOLAIRE'!I20 -> NEANT | E15: ='BASE PERISCOLAIRE'!N20 -> NEANT | F15: ='BASE PERISCOLAIRE'!S20 -> NEANT | G15: ='BASE PERISCOLAIRE'!X20 -> NEANT
A16: ACMA | C16: ='BASE PERISCOLAIRE'!B34 -> OUVERT | D16: ='BASE PERISCOLAIRE'!G34 -> OUVERT | E16: ='BASE PERISCOLAIRE'!L34 -> OUVERT | F16: ='BASE PERISCOLAIRE'!Q34 -> OUVERT | G16: ='BASE PERISCOLAIRE'!V34 -> OUVERT
B17: Raison de service | C17: {=IFERROR(INDEX(OFFSET(ECO_1,,1,,),_xlfn.AGGREGATE(15,6,(ROW(ECO_1)-kop)/((ECO_1="raison de service")*(OFFSET(ECO_1,,1,,)<>"")*(MonBase="ACMA")),ROW()-ROW($C$16))),"-")} -> - | D17: {=IFERROR(INDEX(OFFSET(ECO_2,,1,,),_xlfn.AGGREGATE(15,6,(ROW(ECO_2)-kop)/((ECO_2="raison de service")*(OFFSET(ECO_2,,1,,)<>"")*(MonBase="ACMA")),ROW()-ROW($C$16))),"-")} -> - | E17: {=IFERROR(INDEX(OFFSET(ECO_3,,1,,),_xlfn.AGGREGATE(15,6,(ROW(ECO_3)-kop)/((ECO_3="raison de service")*(OFFSET(ECO_3,,1,,)<>"")*(MonBase="ACMA")),ROW()-ROW($C$16))),"-")} -> - | F17: {=IFERROR(INDEX(OFFSET(ECO_4,,1,,),_xlfn.AGGREGATE(15,6,(ROW(ECO_4)-kop)/((ECO_4="raison de service")*(OFFSET(ECO_4,,1,,)<>"")*(MonBase="ACMA")),ROW()-ROW($C$16))),"-")} -> - | G17: {=IFERROR(INDEX(OFFSET(ECO_5,,1,,),_xlfn.AGGREGATE(15,6,(ROW(ECO_5)-kop)/((ECO_5="raison de service")*(OFFSET(ECO_5,,1,,)<>"")*(MonBase="ACMA")),ROW()-ROW($C$16))),"-")} -> -
C18: {=IFERROR(INDEX(OFFSET(ECO_1,,1,,),_xlfn.AGGREGATE(15,6,(ROW(ECO_1)-kop)/((ECO_1="raison de service")*(OFFSET(ECO_1,,1,,)<>"")*(MonBase="ACMA")),ROW()-ROW($C$16))),"-")} -> - | D18: {=IFERROR(INDEX(OFFSET(ECO_2,,1,,),_xlfn.AGGREGATE(15,6,(ROW(ECO_2)-kop)/((ECO_2="raison de service")*(OFFSET(ECO_2,,1,,)<>"")*(MonBase="ACMA")),ROW()-ROW($C$16))),"-")} -> - | E18: {=IFERROR(INDEX(OFFSET(ECO_3,,1,,),_xlfn.AGGREGATE(15,6,(ROW(ECO_3)-kop)/((ECO_3="raison de service")*(OFFSET(ECO_3,,1,,)<>"")*(MonBase="ACMA")),ROW()-ROW($C$16))),"-")} -> - | F18: {=IFERROR(INDEX(OFFSET(ECO_4,,1,,),_xlfn.AGGREGATE(15,6,(ROW(ECO_4)-kop)/((ECO_4="raison de service")*(OFFSET(ECO_4,,1,,)<>"")*(MonBase="ACMA")),ROW()-ROW($C$16))),"-")} -> - | G18: {=IFERROR(INDEX(OFFSET(ECO_5,,1,,),_xlfn.AGGREGATE(15,6,(ROW(ECO_5)-kop)/((ECO_5="raison de service")*(OFFSET(ECO_5,,1,,)<>"")*(MonBase="ACMA")),ROW()-ROW($C$16))),"-")} -> -
C19: {=IFERROR(INDEX(OFFSET(ECO_1,,1,,),_xlfn.AGGREGATE(15,6,(ROW(ECO_1)-kop)/((ECO_1="raison de service")*(OFFSET(ECO_1,,1,,)<>"")*(MonBase="ACMA")),ROW()-ROW($C$16))),"-")} -> - | D19: {=IFERROR(INDEX(OFFSET(ECO_2,,1,,),_xlfn.AGGREGATE(15,6,(ROW(ECO_2)-kop)/((ECO_2="raison de service")*(OFFSET(ECO_2,,1,,)<>"")*(MonBase="ACMA")),ROW()-ROW($C$16))),"-")} -> - | E19: {=IFERROR(INDEX(OFFSET(ECO_3,,1,,),_xlfn.AGGREGATE(15,6,(ROW(ECO_3)-kop)/((ECO_3="raison de service")*(OFFSET(ECO_3,,1,,)<>"")*(MonBase="ACMA")),ROW()-ROW($C$16))),"-")} -> - | F19: {=IFERROR(INDEX(OFFSET(ECO_4,,1,,),_xlfn.AGGREGATE(15,6,(ROW(ECO_4)-kop)/((ECO_4="raison de service")*(OFFSET(ECO_4,,1,,)<>"")*(MonBase="ACMA")),ROW()-ROW($C$16))),"-")} -> - | G19: {=IFERROR(INDEX(OFFSET(ECO_5,,1,,),_xlfn.AGGREGATE(15,6,(ROW(ECO_5)-kop)/((ECO_5="raison de service")*(OFFSET(ECO_5,,1,,)<>"")*(MonBase="ACMA")),ROW()-ROW($C$16))),"-")} -> -
C20: {=IFERROR(INDEX(OFFSET(ECO_1,,1,,),_xlfn.AGGREGATE(15,6,(ROW(ECO_1)-kop)/((ECO_1="raison de service")*(OFFSET(ECO_1,,1,,)<>"")*(MonBase="ACMA")),ROW()-ROW($C$16))),"-")} -> - | D20: {=IFERROR(INDEX(OFFSET(ECO_2,,1,,),_xlfn.AGGREGATE(15,6,(ROW(ECO_2)-kop)/((ECO_2="raison de service")*(OFFSET(ECO_2,,1,,)<>"")*(MonBase="ACMA")),ROW()-ROW($C$16))),"-")} -> - | E20: {=IFERROR(INDEX(OFFSET(ECO_3,,1,,),_xlfn.AGGREGATE(15,6,(ROW(ECO_3)-kop)/((ECO_3="raison de service")*(OFFSET(ECO_3,,1,,)<>"")*(MonBase="ACMA")),ROW()-ROW($C$16))),"-")} -> - | F20: {=IFERROR(INDEX(OFFSET(ECO_4,,1,,),_xlfn.AGGREGATE(15,6,(ROW(ECO_4)-kop)/((ECO_4="raison de service")*(OFFSET(ECO_4,,1,,)<>"")*(MonBase="ACMA")),ROW()-ROW($C$16))),"-")} -> - | G20: {=IFERROR(INDEX(OFFSET(ECO_5,,1,,),_xlfn.AGGREGATE(15,6,(ROW(ECO_5)-kop)/((ECO_5="raison de service")*(OFFSET(ECO_5,,1,,)<>"")*(MonBase="ACMA")),ROW()-ROW($C$16))),"-")} -> -
C21: {=IFERROR(INDEX(OFFSET(ECO_1,,1,,),_xlfn.AGGREGATE(15,6,(ROW(ECO_1)-kop)/((ECO_1="raison de service")*(OFFSET(ECO_1,,1,,)<>"")*(MonBase="ACMA")),ROW()-ROW($C$16))),"-")} -> - | D21: {=IFERROR(INDEX(OFFSET(ECO_2,,1,,),_xlfn.AGGREGATE(15,6,(ROW(ECO_2)-kop)/((ECO_2="raison de service")*(OFFSET(ECO_2,,1,,)<>"")*(MonBase="ACMA")),ROW()-ROW($C$16))),"-")} -> - | E21: {=IFERROR(INDEX(OFFSET(ECO_3,,1,,),_xlfn.AGGREGATE(15,6,(ROW(ECO_3)-kop)/((ECO_3="raison de service")*(OFFSET(ECO_3,,1,,)<>"")*(MonBase="ACMA")),ROW()-ROW($C$16))),"-")} -> - | F21: {=IFERROR(INDEX(OFFSET(ECO_4,,1,,),_xlfn.AGGREGATE(15,6,(ROW(ECO_4)-kop)/((ECO_4="raison de service")*(OFFSET(ECO_4,,1,,)<>"")*(MonBase="ACMA")),ROW()-ROW($C$16))),"-")} -> - | G21: {=IFERROR(INDEX(OFFSET(ECO_5,,1,,),_xlfn.AGGREGATE(15,6,(ROW(ECO_5)-kop)/((ECO_5="raison de service")*(OFFSET(ECO_5,,1,,)<>"")*(MonBase="ACMA")),ROW()-ROW($C$16))),"-")} -> -
C22: {=IFERROR(INDEX(OFFSET(ECO_1,,1,,),_xlfn.AGGREGATE(15,6,(ROW(ECO_1)-kop)/((ECO_1="raison de service")*(OFFSET(ECO_1,,1,,)<>"")*(MonBase="ACMA")),ROW()-ROW($C$16))),"-")} -> - | D22: {=IFERROR(INDEX(OFFSET(ECO_2,,1,,),_xlfn.AGGREGATE(15,6,(ROW(ECO_2)-kop)/((ECO_2="raison de service")*(OFFSET(ECO_2,,1,,)<>"")*(MonBase="ACMA")),ROW()-ROW($C$16))),"-")} -> - | E22: {=IFERROR(INDEX(OFFSET(ECO_3,,1,,),_xlfn.AGGREGATE(15,6,(ROW(ECO_3)-kop)/((ECO_3="raison de service")*(OFFSET(ECO_3,,1,,)<>"")*(MonBase="ACMA")),ROW()-ROW($C$16))),"-")} -> - | F22: {=IFERROR(INDEX(OFFSET(ECO_4,,1,,),_xlfn.AGGREGATE(15,6,(ROW(ECO_4)-kop)/((ECO_4="raison de service")*(OFFSET(ECO_4,,1,,)<>"")*(MonBase="ACMA")),ROW()-ROW($C$16))),"-")} -> - | G22: {=IFERROR(INDEX(OFFSET(ECO_5,,1,,),_xlfn.AGGREGATE(15,6,(ROW(ECO_5)-kop)/((ECO_5="raison de service")*(OFFSET(ECO_5,,1,,)<>"")*(MonBase="ACMA")),ROW()-ROW($C$16))),"-")} -> -
C23: {=IFERROR(INDEX(OFFSET(ECO_1,,1,,),_xlfn.AGGREGATE(15,6,(ROW(ECO_1)-kop)/((ECO_1="raison de service")*(OFFSET(ECO_1,,1,,)<>"")*(MonBase="ACMA")),ROW()-ROW($C$16))),"-")} -> - | D23: {=IFERROR(INDEX(OFFSET(ECO_2,,1,,),_xlfn.AGGREGATE(15,6,(ROW(ECO_2)-kop)/((ECO_2="raison de service")*(OFFSET(ECO_2,,1,,)<>"")*(MonBase="ACMA")),ROW()-ROW($C$16))),"-")} -> - | E23: {=IFERROR(INDEX(OFFSET(ECO_3,,1,,),_xlfn.AGGREGATE(15,6,(ROW(ECO_3)-kop)/((ECO_3="raison de service")*(OFFSET(ECO_3,,1,,)<>"")*(MonBase="ACMA")),ROW()-ROW($C$16))),"-")} -> - | F23: {=IFERROR(INDEX(OFFSET(ECO_4,,1,,),_xlfn.AGGREGATE(15,6,(ROW(ECO_4)-kop)/((ECO_4="raison de service")*(OFFSET(ECO_4,,1,,)<>"")*(MonBase="ACMA")),ROW()-ROW($C$16))),"-")} -> - | G23: {=IFERROR(INDEX(OFFSET(ECO_5,,1,,),_xlfn.AGGREGATE(15,6,(ROW(ECO_5)-kop)/((ECO_5="raison de service")*(OFFSET(ECO_5,,1,,)<>"")*(MonBase="ACMA")),ROW()-ROW($C$16))),"-")} -> -
C24: {=IFERROR(INDEX(OFFSET(ECO_1,,1,,),_xlfn.AGGREGATE(15,6,(ROW(ECO_1)-kop)/((ECO_1="raison de service")*(OFFSET(ECO_1,,1,,)<>"")*(MonBase="ACMA")),ROW()-ROW($C$16))),"-")} -> - | D24: {=IFERROR(INDEX(OFFSET(ECO_2,,1,,),_xlfn.AGGREGATE(15,6,(ROW(ECO_2)-kop)/((ECO_2="raison de service")*(OFFSET(ECO_2,,1,,)<>"")*(MonBase="ACMA")),ROW()-ROW($C$16))),"-")} -> - | E24: {=IFERROR(INDEX(OFFSET(ECO_3,,1,,),_xlfn.AGGREGATE(15,6,(ROW(ECO_3)-kop)/((ECO_3="raison de service")*(OFFSET(ECO_3,,1,,)<>"")*(MonBase="ACMA")),ROW()-ROW($C$16))),"-")} -> - | F24: {=IFERROR(INDEX(OFFSET(ECO_4,,1,,),_xlfn.AGGREGATE(15,6,(ROW(ECO_4)-kop)/((ECO_4="raison de service")*(OFFSET(ECO_4,,1,,)<>"")*(MonBase="ACMA")),ROW()-ROW($C$16))),"-")} -> - | G24: {=IFERROR(INDEX(OFFSET(ECO_5,,1,,),_xlfn.AGGREGATE(15,6,(ROW(ECO_5)-kop)/((ECO_5="raison de service")*(OFFSET(ECO_5,,1,,)<>"")*(MonBase="ACMA")),ROW()-ROW($C$16))),"-")} -> -
C25: {=IFERROR(INDEX(OFFSET(ECO_1,,1,,),_xlfn.AGGREGATE(15,6,(ROW(ECO_1)-kop)/((ECO_1="raison de service")*(OFFSET(ECO_1,,1,,)<>"")*(MonBase="ACMA")),ROW()-ROW($C$16))),"-")} -> - | D25: {=IFERROR(INDEX(OFFSET(ECO_2,,1,,),_xlfn.AGGREGATE(15,6,(ROW(ECO_2)-kop)/((ECO_2="raison de service")*(OFFSET(ECO_2,,1,,)<>"")*(MonBase="ACMA")),ROW()-ROW($C$16))),"-")} -> - | E25: {=IFERROR(INDEX(OFFSET(ECO_3,,1,,),_xlfn.AGGREGATE(15,6,(ROW(ECO_3)-kop)/((ECO_3="raison de service")*(OFFSET(ECO_3,,1,,)<>"")*(MonBase="ACMA")),ROW()-ROW($C$16))),"-")} -> - | F25: {=IFERROR(INDEX(OFFSET(ECO_4,,1,,),_xlfn.AGGREGATE(15,6,(ROW(ECO_4)-kop)/((ECO_4="raison de service")*(OFFSET(ECO_4,,1,,)<>"")*(MonBase="ACMA")),ROW()-ROW($C$16))),"-")} -> - | G25: {=IFERROR(INDEX(OFFSET(ECO_5,,1,,),_xlfn.AGGREGATE(15,6,(ROW(ECO_5)-kop)/((ECO_5="raison de service")*(OFFSET(ECO_5,,1,,)<>"")*(MonBase="ACMA")),ROW()-ROW($C$16))),"-")} -> -
A26: ACMI | C26: ='BASE PERISCOLAIRE'!B91 -> OUVERT | D26: ='BASE PERISCOLAIRE'!G91 -> OUVERT | E26: ='BASE PERISCOLAIRE'!L91 -> OUVERT | F26: ='BASE PERISCOLAIRE'!Q91 -> OUVERT | G26: ='BASE PERISCOLAIRE'!V91 -> OUVERT
C27: ='BASE PERISCOLAIRE'!$D$91 -> Pas de déjeuner | D27: ='BASE PERISCOLAIRE'!$I$91 -> Repas normal | E27: ='BASE PERISCOLAIRE'!$N$91 -> PN fournis Famille | F27: ='BASE PERISCOLAIRE'!$S$91 -> PN fournis Mairie | G27: ='BASE PERISCOLAIRE'!$X$91 -> Repas normal
B28: Raison de service | C28: {=IFERROR(INDEX(OFFSET(ECO_1,,1,,),_xlfn.AGGREGATE(15,6,(ROW(ECO_1)-kop)/((ECO_1="raison de service")*(OFFSET(ECO_1,,1,,)<>"")*(MonBase="ACMI")),ROW()-ROW($C$26))),"-")} -> - | D28: {=IFERROR(INDEX(OFFSET(ECO_2,,1,,),_xlfn.AGGREGATE(15,6,(ROW(ECO_2)-kop)/((ECO_2="raison de service")*(OFFSET(ECO_2,,1,,)<>"")*(MonBase="ACMI")),ROW()-ROW($C$26))),"-")} -> - | E28: {=IFERROR(INDEX(OFFSET(ECO_3,,1,,),_xlfn.AGGREGATE(15,6,(ROW(ECO_3)-kop)/((ECO_3="raison de service")*(OFFSET(ECO_3,,1,,)<>"")*(MonBase="ACMI")),ROW()-ROW($C$26))),"-")} -> - | F28: {=IFERROR(INDEX(OFFSET(ECO_4,,1,,),_xlfn.AGGREGATE(15,6,(ROW(ECO_4)-kop)/((ECO_4="raison de service")*(OFFSET(ECO_4,,1,,)<>"")*(MonBase="ACMI")),ROW()-ROW($C$26))),"-")} -> - | G28: {=IFERROR(INDEX(OFFSET(ECO_5,,1,,),_xlfn.AGGREGATE(15,6,(ROW(ECO_5)-kop)/((ECO_5="raison de service")*(OFFSET(ECO_5,,1,,)<>"")*(MonBase="ACMI")),ROW()-ROW($C$26))),"-")} -> -
C29: {=IFERROR(INDEX(OFFSET(ECO_1,,1,,),_xlfn.AGGREGATE(15,6,(ROW(ECO_1)-kop)/((ECO_1="raison de service")*(OFFSET(ECO_1,,1,,)<>"")*(MonBase="ACMI")),ROW()-ROW($C$26))),"-")} -> - | D29: {=IFERROR(INDEX(OFFSET(ECO_2,,1,,),_xlfn.AGGREGATE(15,6,(ROW(ECO_2)-kop)/((ECO_2="raison de service")*(OFFSET(ECO_2,,1,,)<>"")*(MonBase="ACMI")),ROW()-ROW($C$26))),"-")} -> - | E29: {=IFERROR(INDEX(OFFSET(ECO_3,,1,,),_xlfn.AGGREGATE(15,6,(ROW(ECO_3)-kop)/((ECO_3="raison de service")*(OFFSET(ECO_3,,1,,)<>"")*(MonBase="ACMI")),ROW()-ROW($C$26))),"-")} -> - | F29: {=IFERROR(INDEX(OFFSET(ECO_4,,1,,),_xlfn.AGGREGATE(15,6,(ROW(ECO_4)-kop)/((ECO_4="raison de service")*(OFFSET(ECO_4,,1,,)<>"")*(MonBase="ACMI")),ROW()-ROW($C$26))),"-")} -> - | G29: {=IFERROR(INDEX(OFFSET(ECO_5,,1,,),_xlfn.AGGREGATE(15,6,(ROW(ECO_5)-kop)/((ECO_5="raison de service")*(OFFSET(ECO_5,,1,,)<>"")*(MonBase="ACMI")),ROW()-ROW($C$26))),"-")} -> -
C30: {=IFERROR(INDEX(OFFSET(ECO_1,,1,,),_xlfn.AGGREGATE(15,6,(ROW(ECO_1)-kop)/((ECO_1="raison de service")*(OFFSET(ECO_1,,1,,)<>"")*(MonBase="ACMI")),ROW()-ROW($C$26))),"-")} -> - | D30: {=IFERROR(INDEX(OFFSET(ECO_2,,1,,),_xlfn.AGGREGATE(15,6,(ROW(ECO_2)-kop)/((ECO_2="raison de service")*(OFFSET(ECO_2,,1,,)<>"")*(MonBase="ACMI")),ROW()-ROW($C$26))),"-")} -> - | E30: {=IFERROR(INDEX(OFFSET(ECO_3,,1,,),_xlfn.AGGREGATE(15,6,(ROW(ECO_3)-kop)/((ECO_3="raison de service")*(OFFSET(ECO_3,,1,,)<>"")*(MonBase="ACMI")),ROW()-ROW($C$26))),"-")} -> - | F30: {=IFERROR(INDEX(OFFSET(ECO_4,,1,,),_xlfn.AGGREGATE(15,6,(ROW(ECO_4)-kop)/((ECO_4="raison de service")*(OFFSET(ECO_4,,1,,)<>"")*(MonBase="ACMI")),ROW()-ROW($C$26))),"-")} -> - | G30: {=IFERROR(INDEX(OFFSET(ECO_5,,1,,),_xlfn.AGGREGATE(15,6,(ROW(ECO_5)-kop)/((ECO_5="raison de service")*(OFFSET(ECO_5,,1,,)<>"")*(MonBase="ACMI")),ROW()-ROW($C$26))),"-")} -> -
C31: {=IFERROR(INDEX(OFFSET(ECO_1,,1,,),_xlfn.AGGREGATE(15,6,(ROW(ECO_1)-kop)/((ECO_1="raison de service")*(OFFSET(ECO_1,,1,,)<>"")*(MonBase="ACMI")),ROW()-ROW($C$26))),"-")} -> - | D31: {=IFERROR(INDEX(OFFSET(ECO_2,,1,,),_xlfn.AGGREGATE(15,6,(ROW(ECO_2)-kop)/((ECO_2="raison de service")*(OFFSET(ECO_2,,1,,)<>"")*(MonBase="ACMI")),ROW()-ROW($C$26))),"-")} -> - | E31: {=IFERROR(INDEX(OFFSET(ECO_3,,1,,),_xlfn.AGGREGATE(15,6,(ROW(ECO_3)-kop)/((ECO_3="raison de service")*(OFFSET(ECO_3,,1,,)<>"")*(MonBase="ACMI")),ROW()-ROW($C$26))),"-")} -> - | F31: {=IFERROR(INDEX(OFFSET(ECO_4,,1,,),_xlfn.AGGREGATE(15,6,(ROW(ECO_4)-kop)/((ECO_4="raison de service")*(OFFSET(ECO_4,,1,,)<>"")*(MonBase="ACMI")),ROW()-ROW($C$26))),"-")} -> - | G31: {=IFERROR(INDEX(OFFSET(ECO_5,,1,,),_xlfn.AGGREGATE(15,6,(ROW(ECO_5)-kop)/((ECO_5="raison de service")*(OFFSET(ECO_5,,1,,)<>"")*(MonBase="ACMI")),ROW()-ROW($C$26))),"-")} -> -
C32: {=IFERROR(INDEX(OFFSET(ECO_1,,1,,),_xlfn.AGGREGATE(15,6,(ROW(ECO_1)-kop)/((ECO_1="raison de service")*(OFFSET(ECO_1,,1,,)<>"")*(MonBase="ACMI")),ROW()-ROW($C$26))),"-")} -> - | D32: {=IFERROR(INDEX(OFFSET(ECO_2,,1,,),_xlfn.AGGREGATE(15,6,(ROW(ECO_2)-kop)/((ECO_2="raison de service")*(OFFSET(ECO_2,,1,,)<>"")*(MonBase="ACMI")),ROW()-ROW($C$26))),"-")} -> - | E32: {=IFERROR(INDEX(OFFSET(ECO_3,,1,,),_xlfn.AGGREGATE(15,6,(ROW(ECO_3)-kop)/((ECO_3="raison de service")*(OFFSET(ECO_3,,1,,)<>"")*(MonBase="ACMI")),ROW()-ROW($C$26))),"-")} -> - | F32: {=IFERROR(INDEX(OFFSET(ECO_4,,1,,),_xlfn.AGGREGATE(15,6,(ROW(ECO_4)-kop)/((ECO_4="raison de service")*(OFFSET(ECO_4,,1,,)<>"")*(MonBase="ACMI")),ROW()-ROW($C$26))),"-")} -> - | G32: {=IFERROR(INDEX(OFFSET(ECO_5,,1,,),_xlfn.AGGREGATE(15,6,(ROW(ECO_5)-kop)/((ECO_5="raison de service")*(OFFSET(ECO_5,,1,,)<>"")*(MonBase="ACMI")),ROW()-ROW($C$26))),"-")} -> -
C33: {=IFERROR(INDEX(OFFSET(ECO_1,,1,,),_xlfn.AGGREGATE(15,6,(ROW(ECO_1)-kop)/((ECO_1="raison de service")*(OFFSET(ECO_1,,1,,)<>"")*(MonBase="ACMI")),ROW()-ROW($C$26))),"-")} -> - | D33: {=IFERROR(INDEX(OFFSET(ECO_2,,1,,),_xlfn.AGGREGATE(15,6,(ROW(ECO_2)-kop)/((ECO_2="raison de service")*(OFFSET(ECO_2,,1,,)<>"")*(MonBase="ACMI")),ROW()-ROW($C$26))),"-")} -> - | E33: {=IFERROR(INDEX(OFFSET(ECO_3,,1,,),_xlfn.AGGREGATE(15,6,(ROW(ECO_3)-kop)/((ECO_3="raison de service")*(OFFSET(ECO_3,,1,,)<>"")*(MonBase="ACMI")),ROW()-ROW($C$26))),"-")} -> - | F33: {=IFERROR(INDEX(OFFSET(ECO_4,,1,,),_xlfn.AGGREGATE(15,6,(ROW(ECO_4)-kop)/((ECO_4="raison de service")*(OFFSET(ECO_4,,1,,)<>"")*(MonBase="ACMI")),ROW()-ROW($C$26))),"-")} -> - | G33: {=IFERROR(INDEX(OFFSET(ECO_5,,1,,),_xlfn.AGGREGATE(15,6,(ROW(ECO_5)-kop)/((ECO_5="raison de service")*(OFFSET(ECO_5,,1,,)<>"")*(MonBase="ACMI")),ROW()-ROW($C$26))),"-")} -> -
C34: {=IFERROR(INDEX(OFFSET(ECO_1,,1,,),_xlfn.AGGREGATE(15,6,(ROW(ECO_1)-kop)/((ECO_1="raison de service")*(OFFSET(ECO_1,,1,,)<>"")*(MonBase="ACMI")),ROW()-ROW($C$26))),"-")} -> - | D34: {=IFERROR(INDEX(OFFSET(ECO_2,,1,,),_xlfn.AGGREGATE(15,6,(ROW(ECO_2)-kop)/((ECO_2="raison de service")*(OFFSET(ECO_2,,1,,)<>"")*(MonBase="ACMI")),ROW()-ROW($C$26))),"-")} -> - | E34: {=IFERROR(INDEX(OFFSET(ECO_3,,1,,),_xlfn.AGGREGATE(15,6,(ROW(ECO_3)-kop)/((ECO_3="raison de service")*(OFFSET(ECO_3,,1,,)<>"")*(MonBase="ACMI")),ROW()-ROW($C$26))),"-")} -> - | F34: {=IFERROR(INDEX(OFFSET(ECO_4,,1,,),_xlfn.AGGREGATE(15,6,(ROW(ECO_4)-kop)/((ECO_4="raison de service")*(OFFSET(ECO_4,,1,,)<>"")*(MonBase="ACMI")),ROW()-ROW($C$26))),"-")} -> - | G34: {=IFERROR(INDEX(OFFSET(ECO_5,,1,,),_xlfn.AGGREGATE(15,6,(ROW(ECO_5)-kop)/((ECO_5="raison de service")*(OFFSET(ECO_5,,1,,)<>"")*(MonBase="ACMI")),ROW()-ROW($C$26))),"-")} -> -
C35: {=IFERROR(INDEX(OFFSET(ECO_1,,1,,),_xlfn.AGGREGATE(15,6,(ROW(ECO_1)-kop)/((ECO_1="raison de service")*(OFFSET(ECO_1,,1,,)<>"")*(MonBase="ACMI")),ROW()-ROW($C$26))),"-")} -> - | D35: {=IFERROR(INDEX(OFFSET(ECO_2,,1,,),_xlfn.AGGREGATE(15,6,(ROW(ECO_2)-kop)/((ECO_2="raison de service")*(OFFSET(ECO_2,,1,,)<>"")*(MonBase="ACMI")),ROW()-ROW($C$26))),"-")} -> - | E35: {=IFERROR(INDEX(OFFSET(ECO_3,,1,,),_xlfn.AGGREGATE(15,6,(ROW(ECO_3)-kop)/((ECO_3="raison de service")*(OFFSET(ECO_3,,1,,)<>"")*(MonBase="ACMI")),ROW()-ROW($C$26))),"-")} -> - | F35: {=IFERROR(INDEX(OFFSET(ECO_4,,1,,),_xlfn.AGGREGATE(15,6,(ROW(ECO_4)-kop)/((ECO_4="raison de service")*(OFFSET(ECO_4,,1,,)<>"")*(MonBase="ACMI")),ROW()-ROW($C$26))),"-")} -> - | G35: {=IFERROR(INDEX(OFFSET(ECO_5,,1,,),_xlfn.AGGREGATE(15,6,(ROW(ECO_5)-kop)/((ECO_5="raison de service")*(OFFSET(ECO_5,,1,,)<>"")*(MonBase="ACMI")),ROW()-ROW($C$26))),"-")} -> -
C36: {=IFERROR(INDEX(OFFSET(ECO_1,,1,,),_xlfn.AGGREGATE(15,6,(ROW(ECO_1)-kop)/((ECO_1="raison de service")*(OFFSET(ECO_1,,1,,)<>"")*(MonBase="ACMI")),ROW()-ROW($C$26))),"-")} -> - | D36: {=IFERROR(INDEX(OFFSET(ECO_2,,1,,),_xlfn.AGGREGATE(15,6,(ROW(ECO_2)-kop)/((ECO_2="raison de service")*(OFFSET(ECO_2,,1,,)<>"")*(MonBase="ACMI")),ROW()-ROW($C$26))),"-")} -> - | E36: {=IFERROR(INDEX(OFFSET(ECO_3,,1,,),_xlfn.AGGREGATE(15,6,(ROW(ECO_3)-kop)/((ECO_3="raison de service")*(OFFSET(ECO_3,,1,,)<>"")*(MonBase="ACMI")),ROW()-ROW($C$26))),"-")} -> - | F36: {=IFERROR(INDEX(OFFSET(ECO_4,,1,,),_xlfn.AGGREGATE(15,6,(ROW(ECO_4)-kop)/((ECO_4="raison de service")*(OFFSET(ECO_4,,1,,)<>"")*(MonBase="ACMI")),ROW()-ROW($C$26))),"-")} -> - | G36: {=IFERROR(INDEX(OFFSET(ECO_5,,1,,),_xlfn.AGGREGATE(15,6,(ROW(ECO_5)-kop)/((ECO_5="raison de service")*(OFFSET(ECO_5,,1,,)<>"")*(MonBase="ACMI")),ROW()-ROW($C$26))),"-")} -> -
A37: ACSO | C37: ='BASE PERISCOLAIRE'!B148 -> OUVERT | D37: ='BASE PERISCOLAIRE'!G148 -> OUVERT | E37: ='BASE PERISCOLAIRE'!L148 -> OUVERT | F37: ='BASE PERISCOLAIRE'!Q148 -> OUVERT | G37: ='BASE PERISCOLAIRE'!V148 -> OUVERT
B38: Raison de service | C38: {=IFERROR(INDEX(OFFSET(ECO_1,,1,,),_xlfn.AGGREGATE(15,6,(ROW(ECO_1)-kop)/((ECO_1="raison de service")*(OFFSET(ECO_1,,1,,)<>"")*(MonBase="ACSO")),ROW()-ROW($C$37))),"-")} -> - | D38: {=IFERROR(INDEX(OFFSET(ECO_2,,1,,),_xlfn.AGGREGATE(15,6,(ROW(ECO_2)-kop)/((ECO_2="raison de service")*(OFFSET(ECO_2,,1,,)<>"")*(MonBase="ACSO")),ROW()-ROW($C$37))),"-")} -> - | E38: {=IFERROR(INDEX(OFFSET(ECO_3,,1,,),_xlfn.AGGREGATE(15,6,(ROW(ECO_3)-kop)/((ECO_3="raison de service")*(OFFSET(ECO_3,,1,,)<>"")*(MonBase="ACSO")),ROW()-ROW($C$37))),"-")} -> - | F38: {=IFERROR(INDEX(OFFSET(ECO_4,,1,,),_xlfn.AGGREGATE(15,6,(ROW(ECO_4)-kop)/((ECO_4="raison de service")*(OFFSET(ECO_4,,1,,)<>"")*(MonBase="ACSO")),ROW()-ROW($C$37))),"-")} -> - | G38: {=IFERROR(INDEX(OFFSET(ECO_5,,1,,),_xlfn.AGGREGATE(15,6,(ROW(ECO_5)-kop)/((ECO_5="raison de service")*(OFFSET(ECO_5,,1,,)<>"")*(MonBase="ACSO")),ROW()-ROW($C$37))),"-")} -> -
C39: {=IFERROR(INDEX(OFFSET(ECO_1,,1,,),_xlfn.AGGREGATE(15,6,(ROW(ECO_1)-kop)/((ECO_1="raison de service")*(OFFSET(ECO_1,,1,,)<>"")*(MonBase="ACSO")),ROW()-ROW($C$37))),"-")} -> - | D39: {=IFERROR(INDEX(OFFSET(ECO_2,,1,,),_xlfn.AGGREGATE(15,6,(ROW(ECO_2)-kop)/((ECO_2="raison de service")*(OFFSET(ECO_2,,1,,)<>"")*(MonBase="ACSO")),ROW()-ROW($C$37))),"-")} -> - | E39: {=IFERROR(INDEX(OFFSET(ECO_3,,1,,),_xlfn.AGGREGATE(15,6,(ROW(ECO_3)-kop)/((ECO_3="raison de service")*(OFFSET(ECO_3,,1,,)<>"")*(MonBase="ACSO")),ROW()-ROW($C$37))),"-")} -> - | F39: {=IFERROR(INDEX(OFFSET(ECO_4,,1,,),_xlfn.AGGREGATE(15,6,(ROW(ECO_4)-kop)/((ECO_4="raison de service")*(OFFSET(ECO_4,,1,,)<>"")*(MonBase="ACSO")),ROW()-ROW($C$37))),"-")} -> - | G39: {=IFERROR(INDEX(OFFSET(ECO_5,,1,,),_xlfn.AGGREGATE(15,6,(ROW(ECO_5)-kop)/((ECO_5="raison de service")*(OFFSET(ECO_5,,1,,)<>"")*(MonBase="ACSO")),ROW()-ROW($C$37))),"-")} -> -
C40: {=IFERROR(INDEX(OFFSET(ECO_1,,1,,),_xlfn.AGGREGATE(15,6,(ROW(ECO_1)-kop)/((ECO_1="raison de service")*(OFFSET(ECO_1,,1,,)<>"")*(MonBase="ACSO")),ROW()-ROW($C$37))),"-")} -> - | D40: {=IFERROR(INDEX(OFFSET(ECO_2,,1,,),_xlfn.AGGREGATE(15,6,(ROW(ECO_2)-kop)/((ECO_2="raison de service")*(OFFSET(ECO_2,,1,,)<>"")*(MonBase="ACSO")),ROW()-ROW($C$37))),"-")} -> - | E40: {=IFERROR(INDEX(OFFSET(ECO_3,,1,,),_xlfn.AGGREGATE(15,6,(ROW(ECO_3)-kop)/((ECO_3="raison de service")*(OFFSET(ECO_3,,1,,)<>"")*(MonBase="ACSO")),ROW()-ROW($C$37))),"-")} -> - | F40: {=IFERROR(INDEX(OFFSET(ECO_4,,1,,),_xlfn.AGGREGATE(15,6,(ROW(ECO_4)-kop)/((ECO_4="raison de service")*(OFFSET(ECO_4,,1,,)<>"")*(MonBase="ACSO")),ROW()-ROW($C$37))),"-")} -> - | G40: {=IFERROR(INDEX(OFFSET(ECO_5,,1,,),_xlfn.AGGREGATE(15,6,(ROW(ECO_5)-kop)/((ECO_5="raison de service")*(OFFSET(ECO_5,,1,,)<>"")*(MonBase="ACSO")),ROW()-ROW($C$37))),"-")} -> -
...

Sheet Feuil1
G2: MEINDER Monique
G3: BEN SAAS Jessica
G4: DELBECQ Charlotte
G5: DOMAIN Corinne
G6: IMMACOLATA Valério
