Workbook
Name ACTIVITES: LISTING!$F$3:$F$51
Name AESH: LISTING!$G$3:$G$51
Name ECOLES: LISTING!$J$3:$J$51
Name Education: LISTING!$C$3:$C$51
Name EntreRestau: LISTING!$D$3:$D$51
Name ETUDES: LISTING!$E$3:$E$51
Name PROF: LISTING!$I$3:$I$51
Name SERVICE: LISTING!$B$2:$D$2
Name SLJ: LISTING!$B$3:$B$51
Name TRANSPORTSCOLAIRE: LISTING!$H$3:$H$51

Sheet LISTING
A2: NEANT | B2: SLJ | C2: EDUCATION | D2: ENTRERESTAU | E2: ETUDES | F2: ACTIVITES | G2: AESH | H2: Ligne de bus | I2: PROF | J2: ECOLES
B3: SLJ1 | C3: E1 | D3: ER1 | E3: ET1 | F3: ACT1 | G3: AESH1 | H3: LDB1 | I3: PROF1 | J3: ECO1
B4: SLJ2 | C4: E2 | D4: ER2 | E4: ET2 | F4: ACT2 | G4: AESJ2 | H4: LDB2 | I4: PROF2 | J4: ECO2
B5: SLJ3 | C5: E3 | D5: ER3 | E5: ET3 | F5: ACT3 | G5: AESH3 | H5: LDB3 | I5: PROF3 | J5: ECO3
B6: SLJ4 | C6: E4 | D6: ER4 | E6: ET4 | F6: ACT4 | G6: AESH4 | H6: LDB4 | I6: PROF4 | J6: ECO4
B7: SLJ5 | C7: E5 | D7: ER5 | E7: ET5 | F7: ACT5 | G7: AESJ3 | H7: LDB5 | I7: PROF5 | J7: ECO5
B8: SLJ6 | C8: E6 | D8: ER6 | E8: ET6 | F8: ACT6 | G8: AESH5 | H8: LDB6 | I8: PROF6 | J8: ECO6
B9: SLJ7 | C9: E7 | D9: ER7 | E9: ET7 | F9: ACT7 | G9: AESH6 | H9: LDB7 | I9: PROF7 | J9: ECO7
B10: SLJ8 | C10: E8 | D10: ER8 | E10: ET8 | F10: ACT8 | G10: AESJ4 | H10: LDB8 | I10: PROF8 | J10: ECO8
B11: SLJ9 | C11: E9 | D11: ER9 | E11: ET9 | F11: ACT9 | G11: AESH7 | H11: LDB9 | I11: PROF9 | J11: ECO9
B12: SLJ10 | C12: E10 | D12: ER10 | E12: ET10 | F12: ACT10 | G12: AESH8 | H12: LDB10 | I12: PROF10 | J12: ECO10
B13: SLJ11 | C13: E11 | D13: ER11 | E13: ET11 | F13: ACT11 | G13: AESJ5 | H13: LDB11 | I13: PROF11 | J13: ECO11
B14: SLJ12 | C14: E12 | D14: ER12 | E14: ET12 | F14: ACT12 | G14: AESH9 | H14: LDB12 | I14: PROF12 | J14: ECO12
... B51: SLJ49 | C51: E49 | D51: ER49 | E51: ET49 | F51: ACT49 | G51: AESH34 | H51: LDB49 | I51: PROF49 | J51: ECO49

Sheet VARIABLES
A2: Variables en bleues modifiables | D2: ECO1 | E2: ECO2 | F2: ECO3 | G2: ECO4 | H2: ECO5
A3: ACSO | B3: MATERNELLE | C3: MAT TT INSCRITS | D3: 10 | E3: 20 | F3: 41 | G3: 60 | H3: 80
C4: MAT RATIO | D4: 14 | E4: 21 | F4: 42 | G4: 61 | H4: 81
C5: MAT TX THEORIQUE | D5: =IFERROR(D3/D4,0) -> 0.71428571 | E5: =E3/E4 -> 0.95238095 | F5: =F3/F4 -> 0.97619048 | G5: =G3/G4 -> 0.98360656 | H5: =H3/H4 -> 0.98765432
C6: MAT TX ARRONDI SUP | D6: =ROUNDUP(D5,0.1) -> 1 | E6: =ROUNDUP(E5,0.1) -> 1 | F6: =ROUNDUP(F5,0.1) -> 1 | G6: =ROUNDUP(G5,0.1) -> 1 | H6: =ROUNDUP(H5,0.1) -> 1
B7: ELEMENTAIRE | C7: ELEM TT INSCRITS | D7: 15 | E7: 22 | F7: 43 | G7: 62 | H7: 82
C8: ELLEM RATIO | D8: 30 | E8: 23 | F8: 44 | G8: 63 | H8: 83
C9: ELEM TX THEORIQUE | D9: =IFERROR(D7/D8,0) -> 0.5 | E9: =IFERROR(E7/E8,0) -> 0.95652174 | F9: =IFERROR(F7/F8,0) -> 0.97727273 | G9: =IFERROR(G7/G8,0) -> 0.98412698 | H9: =IFERROR(H7/H8,0) -> 0.98795181
C10: ELEM TX ARRONDI SUP | D10: =ROUNDUP(D9,0.1) -> 1 | E10: =ROUNDUP(E9,0.1) -> 1 | F10: =ROUNDUP(F9,0.1) -> 1 | G10: =ROUNDUP(G9,0.1) -> 1 | H10: =ROUNDUP(H9,0.1) -> 1
A11: ACMI | B11: MATERNELLE | C11: MAT TT INSCRITS | D11: 10 | E11: 24 | F11: 45 | G11: 64 | H11: 84
C12: MAT RATIO | D12: 8 | E12: 25 | F12: 46 | G12: 65 | H12: 85
C13: MAT TX THEORIQUE | D13: =IFERROR(D11/D12,0) -> 1.25 | E13: =IFERROR(E11/E12,0) -> 0.96 | F13: =IFERROR(F11/F12,0) -> 0.97826087 | G13: =IFERROR(G11/G12,0) -> 0.98461538 | H13: =IFERROR(H11/H12,0) -> 0.98823529
C14: MAT TX ARRONDI SUP | D14: =ROUNDUP(D13,0.1) -> 2 | E14: =ROUNDUP(E13,0.1) -> 1 | F14: =ROUNDUP(F13,0.1) -> 1 | G14: =ROUNDUP(G13,0.1) -> 1 | H14: =ROUNDUP(H13,0.1) -> 1
B15: ELEMENTAIRE | C15: ELEM TT INSCRITS | D15: 250 | E15: 26 | F15: 47 | G15: 66 | H15: 86
C16: ELLEM RATIO | D16: 35 | E16: 27 | F16: 48 | G16: 67 | H16: 87
C17: ELEM TX THEORIQUE | D17: =IFERROR(D15/D16,0) -> 7.1428571 | E17: =IFERROR(E15/E16,0) -> 0.96296296 | F17: =F15/F16 -> 0.97916667 | G17: =G15/G16 -> 0.98507463 | H17: =H15/H16 -> 0.98850575
C18: ELEM TX ARRONDI SUP | D18: =ROUNDUP(D17,0.1) -> 8 | E18: =ROUNDUP(E17,0.1) -> 1 | F18: =ROUNDUP(F17,0.1) -> 1 | G18: =ROUNDUP(G17,0.1) -> 1 | H18: =ROUNDUP(H17,0.1) -> 1
A19: ACSO | B19: MATERNELLE | C19: MAT TT INSCRITS | D19: 9 | E19: 28 | F19: 49 | G19: 68 | H19: 88
C20: MAT RATIO | D20: 10 | E20: 29 | F20: 50 | G20: 69 | H20: 89
C21: MAT TX THEORIQUE | D21: =IFERROR(D19/D20,0) -> 0.9 | E21: =IFERROR(E19/E20,0) -> 0.96551724 | F21: =IFERROR(F19/F20,0) -> 0.98 | G21: =IFERROR(G19/G20,0) -> 0.98550725 | H21: =IFERROR(H19/H20,0) -> 0.98876404
C22: MAT TX ARRONDI SUP | D22: =ROUNDUP(D21,0.1) -> 1 | E22: =ROUNDUP(E21,0.1) -> 1 | F22: =ROUNDUP(F21,0.1) -> 1 | G22: =ROUNDUP(G21,0.1) -> 1 | H22: =ROUNDUP(H21,0.1) -> 1
B23: ELEMENTAIRE | C23: ELEM TT INSCRITS | D23: 11 | E23: 30 | F23: 51 | G23: 70 | H23: 100
C24: ELLEM RATIO | D24: 12 | E24: 31 | F24: 52 | G24: 71 | H24: 101
C25: ELEM TX THEORIQUE | D25: =IFERROR(D23/D24,0) -> 0.91666667 | E25: =IFERROR(E23/E24,0) -> 0.96774194 | F25: =IFERROR(F23/F24,0) -> 0.98076923 | G25: =IFERROR(G23/G24,0) -> 0.98591549 | H25: =IFERROR(H23/H24,0) -> 0.99009901
C26: ELEM TX ARRONDI SUP | D26: =ROUNDUP(D25,0.1) -> 1 | E26: =ROUNDUP(E25,0.1) -> 1 | F26: =ROUNDUP(F25,0.1) -> 1 | G26: =ROUNDUP(G25,0.1) -> 1 | H26: =ROUNDUP(H25,0.1) -> 1
A27: ETUDES | B27: ELEMENTAIRE | C27: ETUDE TT INSCRITS | D27: 13 | E27: 32 | F27: 53 | G27: 72 | H27: 102
C28: ETUDE RATIO | D28: 14 | E28: 33 | F28: 54 | G28: 73 | H28: 103
C29: ELEM TX THEORIQUE | D29: =IFERROR(D27/D28,0) -> 0.92857143 | E29: =IFERROR(E27/E28,0) -> 0.96969697 | F29: =IFERROR(F27/F28,0) -> 0.98148148 | G29: =IFERROR(G27/G28,0) -> 0.98630137 | H29: =IFERROR(H27/H28,0) -> 0.99029126
C30: ETUDE TX ARRONDI SUP | D30: =ROUNDUP(D29,0.1) -> 1 | E30: =ROUNDUP(E29,0.1) -> 1 | F30: =ROUNDUP(F29,0.1) -> 1 | G30: =ROUNDUP(G29,0.1) -> 1 | H30: =ROUNDUP(H29,0.1) -> 1

Sheet BASE
A2: Site | B2: =VARIABLES!D2 -> ECO1 | F2: Site | G2: =VARIABLES!E2 -> ECO2 | K2: Site | L2: =VARIABLES!F2 -> ECO3 | P2: Site | Q2: =VARIABLES!G2 -> ECO4 | U2: Site | V2: =VARIABLES!H2 -> ECO5
A4: BUS MATIN | B4: =A6 -> Mouton rouge | C4: =A10 -> NEANT | D4: =A14 -> NEANT | F4: BUS MATIN | G4: =F6 -> Mouton rouge | H4: =F10 -> NEANT | I4: =F14 -> NEANT | K4: BUS MATIN | L4: =K6 -> Mouton rouge | M4: =K10 -> NEANT | N4: =K14 -> NEANT | P4: BUS MATIN | Q4: =P6 -> Mouton rouge | R4: =P10 -> NEANT | S4: =P14 -> NEANT | U4: BUS MATIN | V4: =U6 -> Mouton rouge | W4: =U10 -> NEANT | X4: =U14 -> NEANT
B5: OUVERT | C5: OUVERT | D5: OUVERT | G5: OUVERT | H5: OUVERT | I5: OUVERT | L5: OUVERT | M5: OUVERT | N5: OUVERT | Q5: OUVERT | R5: OUVERT | S5: OUVERT | V5: OUVERT | W5: OUVERT | X5: OUVERT
A6: Mouton rouge | B6: EntreRestau | C6: PRESENT | D6: ER1 | F6: Mouton rouge | G6: EntreRestau | H6: PRESENT | I6: ER1 | K6: Mouton rouge | L6: EntreRestau | M6: PRESENT | N6: ER1 | P6: Mouton rouge | Q6: EntreRestau | R6: PRESENT | S6: ER5 | U6: Mouton rouge | V6: EntreRestau | W6: PRESENT | X6: ER1
B7: EntreRestau | C7: PRESENT | D7: ER2 | G7: EntreRestau | H7: PRESENT | I7: ER2 | L7: EntreRestau | M7: PRESENT | N7: ER2 | Q7: EntreRestau | R7: PRESENT | S7: ER7 | V7: EntreRestau | W7: PRESENT | X7: ER2
B8: EntreRestau | C8: NEANT | G8: EntreRestau | H8: NEANT | L8: EntreRestau | M8: NEANT | Q8: EntreRestau | R8: NEANT | V8: EntreRestau | W8: NEANT
B9: EntreRestau | C9: NEANT | G9: EntreRestau | H9: NEANT | L9: EntreRestau | M9: NEANT | Q9: EntreRestau | R9: NEANT | V9: EntreRestau | W9: NEANT
A10: NEANT | B10: Education | C10: NEANT | F10: NEANT | G10: Education | H10: NEANT | K10: NEANT | L10: Education | M10: NEANT | P10: NEANT | Q10: Education | R10: NEANT | U10: NEANT | V10: Education | W10: NEANT
B11: SLJ | C11: NEANT | G11: SLJ | H11: NEANT | L11: SLJ | M11: NEANT | Q11: SLJ | R11: NEANT | V11: SLJ | W11: NEANT
B12: SLJ | C12: NEANT | G12: SLJ | H12: NEANT | L12: SLJ | M12: NEANT | Q12: SLJ | R12: NEANT | V12: SLJ | W12: NEANT
B13: Education | C13: NEANT | G13: Education | H13: NEANT | L13: Education | M13: NEANT | Q13: Education | R13: NEANT | V13: Education | W13: NEANT
A14: NEANT | B14: SLJ | C14: NEANT | F14: NEANT | G14: SLJ | H14: NEANT | K14: NEANT | L14: SLJ | M14: NEANT | P14: NEANT | Q14: SLJ | R14: NEANT | U14: NEANT | V14: SLJ | W14: NEANT
B15: SLJ | C15: NEANT | G15: SLJ | H15: NEANT | L15: SLJ | M15: NEANT | Q15: SLJ | R15: NEANT | V15: SLJ | W15: NEANT
B16: EntreRestau | C16: NEANT | G16: EntreRestau | H16: NEANT | L16: EntreRestau | M16: NEANT | Q16: EntreRestau | R16: NEANT | V16: EntreRestau | W16: NEANT
B17: Education | C17: NEANT | G17: Education | H17: NEANT | L17: Education | M17: NEANT | Q17: Education | R17: NEANT | V17: Education | W17: NEANT
A19: BUS SOIR | B19: =A21 -> Mouton rouge | C19: =A25 -> Vache verte | D19: =A29 -> NEANT | F19: BUS SOIR | G19: =F21 -> Mouton rouge | H19: =F25 -> Vache verte | I19: =F29 -> NEANT | K19: BUS SOIR | L19: =K21 -> Mouton rouge | M19: =K25 -> Vache verte | N19: =K29 -> NEANT | P19: BUS SOIR | Q19: =P21 -> Mouton rouge | R19: =P25 -> Vache verte | S19: =P29 -> NEANT | U19: BUS SOIR | V19: =U21 -> Mouton rouge | W19: =U25 -> Vache verte | X19: =U29 -> NEANT
B20: OUVERT | C20: OUVERT | D20: OUVERT | G20: OUVERT | H20: OUVERT | I20: OUVERT | L20: OUVERT | M20: OUVERT | N20: OUVERT | Q20: OUVERT | R20: OUVERT | S20: OUVERT | V20: OUVERT | W20: OUVERT | X20: OUVERT
A21: Mouton rouge | B21: EntreRestau | C21: PRESENT | D21: ER2 | F21: Mouton rouge | G21: EntreRestau | H21: PRESENT | I21: ER2 | K21: Mouton rouge | L21: EntreRestau | M21: PRESENT | N21: ER2 | P21: Mouton rouge | Q21: EntreRestau | R21: PRESENT | S21: ER11 | U21: Mouton rouge | V21: EntreRestau | W21: PRESENT | X21: ER2
B22: EntreRestau | C22: PRESENT | D22: ER5 | G22: EntreRestau | H22: PRESENT | I22: ER5 | L22: EntreRestau | M22: PRESENT | N22: ER5 | Q22: EntreRestau | R22: PRESENT | S22: ER9 | V22: EntreRestau | W22: PRESENT | X22: ER5
B23: SLJ | C23: NEANT | G23: SLJ | H23: NEANT | L23: SLJ | M23: NEANT | Q23: SLJ | R23: NEANT | V23: SLJ | W23: NEANT
B24: Education | C24: NEANT | G24: Education | H24: NEANT | L24: Education | M24: NEANT | Q24: Education | R24: NEANT | V24: Education | W24: NEANT
A25: Vache verte | B25: EntreRestau | C25: PRESENT | D25: ER4 | F25: Vache verte | G25: EntreRestau | H25: PRESENT | I25: ER4 | K25: Vache verte | L25: EntreRestau | M25: PRESENT | N25: ER4 | P25: Vache verte | Q25: EntreRestau | R25: PRESENT | S25: ER5 | U25: Vache verte | V25: EntreRestau | W25: PRESENT | X25: ER4
B26: EntreRestau | C26: PRESENT | D26: ER9 | G26: EntreRestau | H26: PRESENT | I26: ER9 | L26: EntreRestau | M26: PRESENT | N26: ER9 | Q26: EntreRestau | R26: PRESENT | S26: ER3 | V26: EntreRestau | W26: PRESENT | X26: ER9
B27: SLJ | C27: NEANT | G27: SLJ | H27: NEANT | L27: SLJ | M27: NEANT | Q27: SLJ | R27: NEANT | V27: SLJ | W27: NEANT
B28: Education | C28: NEANT | G28: Education | H28: NEANT | L28: Education | M28: NEANT | Q28: Education | R28: NEANT | V28: Education | W28: NEANT
A29: NEANT | B29: SLJ | C29: NEANT | F29: NEANT | G29: SLJ | H29: NEANT | K29: NEANT | L29: SLJ | M29: NEANT | P29: NEANT | Q29: SLJ | R29: NEANT | U29: NEANT | V29: SLJ | W29: NEANT
B30: SLJ | C30: NEANT | G30: SLJ | H30: NEANT | L30: SLJ | M30: NEANT | Q30: SLJ | R30: NEANT | V30: SLJ | W30: NEANT
B31: SLJ | C31: NEANT | G31: SLJ | H31: NEANT | L31: SLJ | M31: NEANT | Q31: SLJ | R31: NEANT | V31: SLJ | W31: NEANT
B32: Education | C32: NEANT | G32: Education | H32: NEANT | L32: Education | M32: NEANT | Q32: Education | R32: NEANT | V32: Education | W32: NEANT
A34: ACMA | B34: OUVERT | F34: ACMA | G34: OUVERT | K34: ACMA | L34: OUVERT | P34: ACMA | Q34: OUVERT | U34: ACMA | V34: OUVERT
A35: MAT TT INSCRITS | B35: Restauration | C35: RAISON DE SERVICE | D35: ER3 | F35: MAT TT INSCRITS | G35: Restauration | H35: PRESENT | I35: ER3 | K35: MAT TT INSCRITS | L35: Restauration | M35: PRESENT | N35: ER3 | P35: MAT TT INSCRITS | Q35: Restauration | R35: PRESENT | S35: ER3 | U35: MAT TT INSCRITS | V35: Restauration | W35: PRESENT | X35: ER3
A36: =VARIABLES!D3 -> 10 | B36: Présents | C36: PRESENT | D36: ER5 | F36: =VARIABLES!E3 -> 20 | G36: Présents | H36: PRESENT | I36: ER5 | K36: =+VARIABLES!F3 -> 41 | L36: Présents | M36: PRESENT | N36: ER5 | P36: =VARIABLES!G3 -> 60 | Q36: Présents | R36: PRESENT | S36: ER5 | U36: =VARIABLES!H3 -> 80 | V36: Présents | W36: PRESENT | X36: ER5
A37: MAT RATIO | B37: =COUNTIF(C35:C43, "PRESENT")+COUNTIF(C35:C43, "RAISON DE SERVICE") -> 5 | C37: PRESENT | D37: ER6 | F37: MAT RATIO | G37: =COUNTIF(H35:H43, "PRESENT")+COUNTIF(H35:H43, "RAISON DE SERVICE") -> 5 | H37: PRESENT | I37: ER6 | K37: MAT RATIO | L37: =COUNTIF(M35:M43, "PRESENT")+COUNTIF(M35:M43, "RAISON DE SERVICE") -> 5 | M37: PRESENT | N37: ER6 | P37: MAT RATIO | Q37: =COUNTIF(R35:R43, "PRESENT")+COUNTIF(R35:R43, "RAISON DE SERVICE") -> 5 | R37: PRESENT | S37: ER6 | U37: MAT RATIO | V37: =COUNTIF(W35:W43, "PRESENT")+COUNTIF(W35:W43, "RAISON DE SERVICE") -> 5 | W37: PRESENT | X37: ER6
A38: =VARIABLES!D4 -> 14 | B38: Grèviste | C38: PRESENT | D38: ER6 | F38: =VARIABLES!E4 -> 21 | G38: Grèviste | H38: PRESENT | I38: ER6 | K38: =VARIABLES!F4 -> 42 | L38: Grèviste | M38: PRESENT | N38: ER6 | P38: =VARIABLES!G3 -> 60 | Q38: Grèviste | R38: PRESENT | S38: ER6 | U38: =VARIABLES!H4 -> 81 | V38: Grèviste | W38: PRESENT | X38: ER6
A39: MAT TX THEORIQUE | B39: =COUNTIF(C35:C43, "GREVISTE") -> 0 | C39: PRESENT | D39: ER4 | F39: MAT TX THEORIQUE | G39: =COUNTIF(H35:H43, "GREVISTE") -> 0 | H39: PRESENT | I39: ER4 | K39: MAT TX THEORIQUE | L39: =COUNTIF(M35:M43, "GREVISTE") -> 0 | M39: PRESENT | N39: ER4 | P39: MAT TX THEORIQUE | Q39: =COUNTIF(R35:R43, "GREVISTE") -> 0 | R39: PRESENT | S39: ER4 | U39: MAT TX THEORIQUE | V39: =COUNTIF(W35:W43, "GREVISTE") -> 0 | W39: PRESENT | X39: ER4
A40: =VARIABLES!D5 -> 0.71428571 | C40: NEANT | F40: =VARIABLES!E5 -> 0.95238095 | H40: NEANT | K40: =VARIABLES!F5 -> 0.97619048 | M40: NEANT | P40: =VARIABLES!G5 -> 0.98360656 | R40: NEANT | U40: =VARIABLES!H5 -> 0.98765432 | W40: NEANT
A41: ELEM TT INSCRITS | C41: NEANT | F41: ELEM TT INSCRITS | H41: NEANT | K41: ELEM TT INSCRITS | M41: NEANT | P41: ELEM TT INSCRITS | R41: NEANT | U41: ELEM TT INSCRITS | W41: NEANT
A42: =VARIABLES!D7 -> 15 | C42: NEANT | F42: =VARIABLES!E7 -> 22 | H42: NEANT | K42: =VARIABLES!F7 -> 43 | M42: NEANT | P42: =VARIABLES!G7 -> 62 | R42: NEANT | U42: =VARIABLES!H7 -> 82 | W42: NEANT
A43: ELEM RATIO | C43: NEANT | F43: Tx théo d'enca / anim | H43: NEANT | K43: Tx théo d'enca / anim | M43: NEANT | P43: Tx théo d'enca / anim | R43: NEANT | U43: Tx théo d'enca / anim | W43: NEANT
A44: =VARIABLES!D8 -> 30 | B44: Entretien | C44: PRESENT | F44: =VARIABLES!E8 -> 23 | G44: Entretien | H44: PRESENT | K44: =VARIABLES!F8 -> 44 | L44: Entretien | M44: PRESENT | P44: =VARIABLES!G8 -> 63 | Q44: Entretien | R44: PRESENT | U44: =VARIABLES!H8 -> 83 | V44: Entretien | W44: PRESENT
...

Sheet GREVE SITUATION
A1: ETAT DE LA GREVE
G2: =TODAY() -> 44870
A3: Ecole | C3: =BASE!B2 -> ECO1 | D3: =BASE!G2 -> ECO2 | E3: =BASE!L2 -> ECO3 | F3: =BASE!Q2 -> ECO4 | G3: =BASE!V2 -> ECO5
A4: Transport scolaire matin | C4: =BASE!B4 -> Mouton rouge | D4: =BASE!G4 -> Mouton rouge | E4: =BASE!L4 -> Mouton rouge | F4: =BASE!Q4 -> Mouton rouge | G4: =BASE!V4 -> Mouton rouge
C5: =BASE!B5 -> OUVERT | D5: =BASE!G5 -> OUVERT | E5: =BASE!L5 -> OUVERT | F5: =BASE!Q5 -> OUVERT | G5: =BASE!V5 -> OUVERT
C6: =BASE!C4 -> NEANT | D6: =BASE!H4 -> NEANT | E6: =BASE!M4 -> NEANT | F6: =BASE!R4 -> NEANT | G6: =BASE!W4 -> NEANT
C7: =BASE!C5 -> OUVERT | D7: =BASE!H5 -> OUVERT | E7: =BASE!M5 -> OUVERT | F7: =BASE!R5 -> OUVERT | G7: =BASE!W5 -> OUVERT
C8: =BASE!D4 -> NEANT | D8: =BASE!I4 -> NEANT | E8: =BASE!N4 -> NEANT | F8: =BASE!S4 -> NEANT | G8: =BASE!X4 -> NEANT
C9: =BASE!D5 -> OUVERT | D9: =BASE!I5 -> OUVERT | E9: =BASE!N5 -> OUVERT | F9: =BASE!S5 -> OUVERT | G9: =BASE!X5 -> OUVERT
A10: Transport scolaire soir | C10: =BASE!B19 -> Mouton rouge | D10: =BASE!G19 -> Mouton rouge | E10: =BASE!L19 -> Mouton rouge | F10: =BASE!Q19 -> Mouton rouge | G10: =BASE!V19 -> Mouton rouge
C11: =BASE!B20 -> OUVERT | D11: =BASE!G20 -> OUVERT | E11: =BASE!L20 -> OUVERT | F11: =BASE!Q20 -> OUVERT | G11: =BASE!V20 -> OUVERT
C12: =BASE!C19 -> Vache verte | D12: =BASE!H19 -> Vache verte | E12: =BASE!M19 -> Vache verte | F12: =BASE!R19 -> Vache verte | G12: =BASE!W19 -> Vache verte
C13: =BASE!C20 -> OUVERT | D13: =BASE!H20 -> OUVERT | E13: =BASE!M20 -> OUVERT | F13: =BASE!R20 -> OUVERT | G13: =BASE!W20 -> OUVERT
C14: =BASE!D19 -> NEANT | D14: =BASE!I19 -> NEANT | E14: =BASE!N19 -> NEANT | F14: =BASE!S19 -> NEANT | G14: =BASE!X19 -> NEANT
C15: =BASE!D20 -> OUVERT | D15: =BASE!I20 -> OUVERT | E15: =BASE!N20 -> OUVERT | F15: =BASE!S20 -> OUVERT | G15: =BASE!X20 -> OUVERT
A16: ACMA | C16: =BASE!B34 -> OUVERT | D16: =BASE!G34 -> OUVERT | E16: =BASE!L34 -> OUVERT | F16: =BASE!Q34 -> OUVERT | G16: =BASE!V34 -> OUVERT
B17: Raison de service | C17: {=IFERROR(INDEX(BASE!E:E,_xlfn.AGGREGATE(15,6,ROW(BASE!$C$35:$C$89)/(BASE!$C$35:$C$89="RAISON DE SERVICE"),ROW()-ROW($C$16))),"")} -> 0 | D17: {=IFERROR(INDEX(BASE!F:F,_xlfn.AGGREGATE(15,6,ROW(BASE!$H$35:$H$89)/(BASE!$H$35:$H$89="RAISON DE SERVICE"),ROW()-ROW($C$16))),"")} | E17: {=IFERROR(INDEX(BASE!G:G,_xlfn.AGGREGATE(15,6,ROW(BASE!$M$35:$M$89)/(BASE!$M$35:$M$89="RAISON DE SERVICE"),ROW()-ROW($C$16))),"")} | F17: {=IFERROR(INDEX(BASE!H:H,_xlfn.AGGREGATE(15,6,ROW(BASE!$R$35:$R$89)/(BASE!$R$35:$R$89="RAISON DE SERVICE"),ROW()-ROW($C$16))),"")} | G17: {=IFERROR(INDEX(BASE!I:I,_xlfn.AGGREGATE(15,6,ROW(BASE!$W$35:$W$89)/(BASE!$W$35:$W$89="RAISON DE SERVICE"),ROW()-ROW($C$16))),"")}
C18: {=IFERROR(INDEX(BASE!E:E,_xlfn.AGGREGATE(15,6,ROW(BASE!$C$35:$C$89)/(BASE!$C$35:$C$89="RAISON DE SERVICE"),ROW()-ROW($C$16))),"")} -> 0 | D18: {=IFERROR(INDEX(BASE!F:F,_xlfn.AGGREGATE(15,6,ROW(BASE!$H$35:$H$89)/(BASE!$H$35:$H$89="RAISON DE SERVICE"),ROW()-ROW($C$16))),"")} | E18: {=IFERROR(INDEX(BASE!G:G,_xlfn.AGGREGATE(15,6,ROW(BASE!$M$35:$M$89)/(BASE!$M$35:$M$89="RAISON DE SERVICE"),ROW()-ROW($C$16))),"")} | F18: {=IFERROR(INDEX(BASE!H:H,_xlfn.AGGREGATE(15,6,ROW(BASE!$R$35:$R$89)/(BASE!$R$35:$R$89="RAISON DE SERVICE"),ROW()-ROW($C$16))),"")} | G18: {=IFERROR(INDEX(BASE!I:I,_xlfn.AGGREGATE(15,6,ROW(BASE!$W$35:$W$89)/(BASE!$W$35:$W$89="RAISON DE SERVICE"),ROW()-ROW($C$16))),"")}
C19: {=IFERROR(INDEX(BASE!E:E,_xlfn.AGGREGATE(15,6,ROW(BASE!$C$35:$C$89)/(BASE!$C$35:$C$89="RAISON DE SERVICE"),ROW()-ROW($C$16))),"")} -> 0 | D19: {=IFERROR(INDEX(BASE!F:F,_xlfn.AGGREGATE(15,6,ROW(BASE!$H$35:$H$89)/(BASE!$H$35:$H$89="RAISON DE SERVICE"),ROW()-ROW($C$16))),"")} | E19: {=IFERROR(INDEX(BASE!G:G,_xlfn.AGGREGATE(15,6,ROW(BASE!$M$35:$M$89)/(BASE!$M$35:$M$89="RAISON DE SERVICE"),ROW()-ROW($C$16))),"")} | F19: {=IFERROR(INDEX(BASE!H:H,_xlfn.AGGREGATE(15,6,ROW(BASE!$R$35:$R$89)/(BASE!$R$35:$R$89="RAISON DE SERVICE"),ROW()-ROW($C$16))),"")} | G19: {=IFERROR(INDEX(BASE!I:I,_xlfn.AGGREGATE(15,6,ROW(BASE!$W$35:$W$89)/(BASE!$W$35:$W$89="RAISON DE SERVICE"),ROW()-ROW($C$16))),"")}
C20: {=IFERROR(INDEX(BASE!E:E,_xlfn.AGGREGATE(15,6,ROW(BASE!$C$35:$C$89)/(BASE!$C$35:$C$89="RAISON DE SERVICE"),ROW()-ROW($C$16))),"")} -> 0 | D20: {=IFERROR(INDEX(BASE!F:F,_xlfn.AGGREGATE(15,6,ROW(BASE!$H$35:$H$89)/(BASE!$H$35:$H$89="RAISON DE SERVICE"),ROW()-ROW($C$16))),"")} | E20: {=IFERROR(INDEX(BASE!G:G,_xlfn.AGGREGATE(15,6,ROW(BASE!$M$35:$M$89)/(BASE!$M$35:$M$89="RAISON DE SERVICE"),ROW()-ROW($C$16))),"")} | F20: {=IFERROR(INDEX(BASE!H:H,_xlfn.AGGREGATE(15,6,ROW(BASE!$R$35:$R$89)/(BASE!$R$35:$R$89="RAISON DE SERVICE"),ROW()-ROW($C$16))),"")} | G20: {=IFERROR(INDEX(BASE!I:I,_xlfn.AGGREGATE(15,6,ROW(BASE!$W$35:$W$89)/(BASE!$W$35:$W$89="RAISON DE SERVICE"),ROW()-ROW($C$16))),"")}
C21: {=IFERROR(INDEX(BASE!E:E,_xlfn.AGGREGATE(15,6,ROW(BASE!$C$35:$C$89)/(BASE!$C$35:$C$89="RAISON DE SERVICE"),ROW()-ROW($C$16))),"")} | D21: {=IFERROR(INDEX(BASE!F:F,_xlfn.AGGREGATE(15,6,ROW(BASE!$H$35:$H$89)/(BASE!$H$35:$H$89="RAISON DE SERVICE"),ROW()-ROW($C$16))),"")} | E21: {=IFERROR(INDEX(BASE!G:G,_xlfn.AGGREGATE(15,6,ROW(BASE!$M$35:$M$89)/(BASE!$M$35:$M$89="RAISON DE SERVICE"),ROW()-ROW($C$16))),"")} | F21: {=IFERROR(INDEX(BASE!H:H,_xlfn.AGGREGATE(15,6,ROW(BASE!$R$35:$R$89)/(BASE!$R$35:$R$89="RAISON DE SERVICE"),ROW()-ROW($C$16))),"")} | G21: {=IFERROR(INDEX(BASE!I:I,_xlfn.AGGREGATE(15,6,ROW(BASE!$W$35:$W$89)/(BASE!$W$35:$W$89="RAISON DE SERVICE"),ROW()-ROW($C$16))),"")}
C22: {=IFERROR(INDEX(BASE!E:E,_xlfn.AGGREGATE(15,6,ROW(BASE!$C$35:$C$89)/(BASE!$C$35:$C$89="RAISON DE SERVICE"),ROW()-ROW($C$16))),"")} | D22: {=IFERROR(INDEX(BASE!F:F,_xlfn.AGGREGATE(15,6,ROW(BASE!$H$35:$H$89)/(BASE!$H$35:$H$89="RAISON DE SERVICE"),ROW()-ROW($C$16))),"")} | E22: {=IFERROR(INDEX(BASE!G:G,_xlfn.AGGREGATE(15,6,ROW(BASE!$M$35:$M$89)/(BASE!$M$35:$M$89="RAISON DE SERVICE"),ROW()-ROW($C$16))),"")} | F22: {=IFERROR(INDEX(BASE!H:H,_xlfn.AGGREGATE(15,6,ROW(BASE!$R$35:$R$89)/(BASE!$R$35:$R$89="RAISON DE SERVICE"),ROW()-ROW($C$16))),"")} | G22: {=IFERROR(INDEX(BASE!I:I,_xlfn.AGGREGATE(15,6,ROW(BASE!$W$35:$W$89)/(BASE!$W$35:$W$89="RAISON DE SERVICE"),ROW()-ROW($C$16))),"")}
C23: {=IFERROR(INDEX(BASE!E:E,_xlfn.AGGREGATE(15,6,ROW(BASE!$C$35:$C$89)/(BASE!$C$35:$C$89="RAISON DE SERVICE"),ROW()-ROW($C$16))),"")} | D23: {=IFERROR(INDEX(BASE!F:F,_xlfn.AGGREGATE(15,6,ROW(BASE!$H$35:$H$89)/(BASE!$H$35:$H$89="RAISON DE SERVICE"),ROW()-ROW($C$16))),"")} | E23: {=IFERROR(INDEX(BASE!G:G,_xlfn.AGGREGATE(15,6,ROW(BASE!$M$35:$M$89)/(BASE!$M$35:$M$89="RAISON DE SERVICE"),ROW()-ROW($C$16))),"")} | F23: {=IFERROR(INDEX(BASE!H:H,_xlfn.AGGREGATE(15,6,ROW(BASE!$R$35:$R$89)/(BASE!$R$35:$R$89="RAISON DE SERVICE"),ROW()-ROW($C$16))),"")} | G23: {=IFERROR(INDEX(BASE!I:I,_xlfn.AGGREGATE(15,6,ROW(BASE!$W$35:$W$89)/(BASE!$W$35:$W$89="RAISON DE SERVICE"),ROW()-ROW($C$16))),"")}
C24: {=IFERROR(INDEX(BASE!E:E,_xlfn.AGGREGATE(15,6,ROW(BASE!$C$35:$C$89)/(BASE!$C$35:$C$89="RAISON DE SERVICE"),ROW()-ROW($C$16))),"")} | D24: {=IFERROR(INDEX(BASE!F:F,_xlfn.AGGREGATE(15,6,ROW(BASE!$H$35:$H$89)/(BASE!$H$35:$H$89="RAISON DE SERVICE"),ROW()-ROW($C$16))),"")} | E24: {=IFERROR(INDEX(BASE!G:G,_xlfn.AGGREGATE(15,6,ROW(BASE!$M$35:$M$89)/(BASE!$M$35:$M$89="RAISON DE SERVICE"),ROW()-ROW($C$16))),"")} | F24: {=IFERROR(INDEX(BASE!H:H,_xlfn.AGGREGATE(15,6,ROW(BASE!$R$35:$R$89)/(BASE!$R$35:$R$89="RAISON DE SERVICE"),ROW()-ROW($C$16))),"")} | G24: {=IFERROR(INDEX(BASE!I:I,_xlfn.AGGREGATE(15,6,ROW(BASE!$W$35:$W$89)/(BASE!$W$35:$W$89="RAISON DE SERVICE"),ROW()-ROW($C$16))),"")}
C25: {=IFERROR(INDEX(BASE!E:E,_xlfn.AGGREGATE(15,6,ROW(BASE!$C$35:$C$89)/(BASE!$C$35:$C$89="RAISON DE SERVICE"),ROW()-ROW($C$16))),"")} | D25: {=IFERROR(INDEX(BASE!F:F,_xlfn.AGGREGATE(15,6,ROW(BASE!$H$35:$H$89)/(BASE!$H$35:$H$89="RAISON DE SERVICE"),ROW()-ROW($C$16))),"")} | E25: {=IFERROR(INDEX(BASE!G:G,_xlfn.AGGREGATE(15,6,ROW(BASE!$M$35:$M$89)/(BASE!$M$35:$M$89="RAISON DE SERVICE"),ROW()-ROW($C$16))),"")} | F25: {=IFERROR(INDEX(BASE!H:H,_xlfn.AGGREGATE(15,6,ROW(BASE!$R$35:$R$89)/(BASE!$R$35:$R$89="RAISON DE SERVICE"),ROW()-ROW($C$16))),"")} | G25: {=IFERROR(INDEX(BASE!I:I,_xlfn.AGGREGATE(15,6,ROW(BASE!$W$35:$W$89)/(BASE!$W$35:$W$89="RAISON DE SERVICE"),ROW()-ROW($C$16))),"")}
A26: ACMI | C26: =BASE!B91 -> OUVERT | D26: =BASE!G91 -> OUVERT | E26: =BASE!L91 -> OUVERT | F26: =BASE!Q91 -> OUVERT | G26: =BASE!V91 -> OUVERT
B27: Raison de service | C27: {=IFERROR(INDEX(BASE!E:E,_xlfn.AGGREGATE(15,6,ROW(BASE!$C$92:$C$146)/(BASE!$C$92:$C$146="RAISON DE SERVICE"),ROW()-ROW($C$16))),"")} | D27: {=IFERROR(INDEX(BASE!F:F,_xlfn.AGGREGATE(15,6,ROW(BASE!$H$92:$H$146)/(BASE!$H$92:$H$146="RAISON DE SERVICE"),ROW()-ROW($C$16))),"")} | E27: {=IFERROR(INDEX(BASE!G:G,_xlfn.AGGREGATE(15,6,ROW(BASE!$M$92:$M$146)/(BASE!$M$92:$M$146="RAISON DE SERVICE"),ROW()-ROW($C$16))),"")} | F27: {=IFERROR(INDEX(BASE!H:H,_xlfn.AGGREGATE(15,6,ROW(BASE!$R$92:$R$146)/(BASE!$R$92:$R$146="RAISON DE SERVICE"),ROW()-ROW($C$16))),"")} | G27: {=IFERROR(INDEX(BASE!I:I,_xlfn.AGGREGATE(15,6,ROW(BASE!$W$92:$W$146)/(BASE!$W$92:$W$146="RAISON DE SERVICE"),ROW()-ROW($C$16))),"")}
C28: {=IFERROR(INDEX(BASE!E:E,_xlfn.AGGREGATE(15,6,ROW(BASE!$C$92:$C$146)/(BASE!$C$92:$C$146="RAISON DE SERVICE"),ROW()-ROW($C$16))),"")} | D28: {=IFERROR(INDEX(BASE!F:F,_xlfn.AGGREGATE(15,6,ROW(BASE!$H$92:$H$146)/(BASE!$H$92:$H$146="RAISON DE SERVICE"),ROW()-ROW($C$16))),"")} | E28: {=IFERROR(INDEX(BASE!G:G,_xlfn.AGGREGATE(15,6,ROW(BASE!$M$92:$M$146)/(BASE!$M$92:$M$146="RAISON DE SERVICE"),ROW()-ROW($C$16))),"")} | F28: {=IFERROR(INDEX(BASE!H:H,_xlfn.AGGREGATE(15,6,ROW(BASE!$R$92:$R$146)/(BASE!$R$92:$R$146="RAISON DE SERVICE"),ROW()-ROW($C$16))),"")} | G28: {=IFERROR(INDEX(BASE!I:I,_xlfn.AGGREGATE(15,6,ROW(BASE!$W$92:$W$146)/(BASE!$W$92:$W$146="RAISON DE SERVICE"),ROW()-ROW($C$16))),"")}
C29: {=IFERROR(INDEX(BASE!E:E,_xlfn.AGGREGATE(15,6,ROW(BASE!$C$92:$C$146)/(BASE!$C$92:$C$146="RAISON DE SERVICE"),ROW()-ROW($C$16))),"")} | D29: {=IFERROR(INDEX(BASE!F:F,_xlfn.AGGREGATE(15,6,ROW(BASE!$H$92:$H$146)/(BASE!$H$92:$H$146="RAISON DE SERVICE"),ROW()-ROW($C$16))),"")} | E29: {=IFERROR(INDEX(BASE!G:G,_xlfn.AGGREGATE(15,6,ROW(BASE!$M$92:$M$146)/(BASE!$M$92:$M$146="RAISON DE SERVICE"),ROW()-ROW($C$16))),"")} | F29: {=IFERROR(INDEX(BASE!H:H,_xlfn.AGGREGATE(15,6,ROW(BASE!$R$92:$R$146)/(BASE!$R$92:$R$146="RAISON DE SERVICE"),ROW()-ROW($C$16))),"")} | G29: {=IFERROR(INDEX(BASE!I:I,_xlfn.AGGREGATE(15,6,ROW(BASE!$W$92:$W$146)/(BASE!$W$92:$W$146="RAISON DE SERVICE"),ROW()-ROW($C$16))),"")}
C30: {=IFERROR(INDEX(BASE!E:E,_xlfn.AGGREGATE(15,6,ROW(BASE!$C$92:$C$146)/(BASE!$C$92:$C$146="RAISON DE SERVICE"),ROW()-ROW($C$16))),"")} | D30: {=IFERROR(INDEX(BASE!F:F,_xlfn.AGGREGATE(15,6,ROW(BASE!$H$92:$H$146)/(BASE!$H$92:$H$146="RAISON DE SERVICE"),ROW()-ROW($C$16))),"")} | E30: {=IFERROR(INDEX(BASE!G:G,_xlfn.AGGREGATE(15,6,ROW(BASE!$M$92:$M$146)/(BASE!$M$92:$M$146="RAISON DE SERVICE"),ROW()-ROW($C$16))),"")} | F30: {=IFERROR(INDEX(BASE!H:H,_xlfn.AGGREGATE(15,6,ROW(BASE!$R$92:$R$146)/(BASE!$R$92:$R$146="RAISON DE SERVICE"),ROW()-ROW($C$16))),"")} | G30: {=IFERROR(INDEX(BASE!I:I,_xlfn.AGGREGATE(15,6,ROW(BASE!$W$92:$W$146)/(BASE!$W$92:$W$146="RAISON DE SERVICE"),ROW()-ROW($C$16))),"")}
C31: {=IFERROR(INDEX(BASE!E:E,_xlfn.AGGREGATE(15,6,ROW(BASE!$C$92:$C$146)/(BASE!$C$92:$C$146="RAISON DE SERVICE"),ROW()-ROW($C$16))),"")} | D31: {=IFERROR(INDEX(BASE!F:F,_xlfn.AGGREGATE(15,6,ROW(BASE!$H$92:$H$146)/(BASE!$H$92:$H$146="RAISON DE SERVICE"),ROW()-ROW($C$16))),"")} | E31: {=IFERROR(INDEX(BASE!G:G,_xlfn.AGGREGATE(15,6,ROW(BASE!$M$92:$M$146)/(BASE!$M$92:$M$146="RAISON DE SERVICE"),ROW()-ROW($C$16))),"")} | F31: {=IFERROR(INDEX(BASE!H:H,_xlfn.AGGREGATE(15,6,ROW(BASE!$R$92:$R$146)/(BASE!$R$92:$R$146="RAISON DE SERVICE"),ROW()-ROW($C$16))),"")} | G31: {=IFERROR(INDEX(BASE!I:I,_xlfn.AGGREGATE(15,6,ROW(BASE!$W$92:$W$146)/(BASE!$W$92:$W$146="RAISON DE SERVICE"),ROW()-ROW($C$16))),"")}
C32: {=IFERROR(INDEX(BASE!E:E,_xlfn.AGGREGATE(15,6,ROW(BASE!$C$92:$C$146)/(BASE!$C$92:$C$146="RAISON DE SERVICE"),ROW()-ROW($C$16))),"")} | D32: {=IFERROR(INDEX(BASE!F:F,_xlfn.AGGREGATE(15,6,ROW(BASE!$H$92:$H$146)/(BASE!$H$92:$H$146="RAISON DE SERVICE"),ROW()-ROW($C$16))),"")} | E32: {=IFERROR(INDEX(BASE!G:G,_xlfn.AGGREGATE(15,6,ROW(BASE!$M$92:$M$146)/(BASE!$M$92:$M$146="RAISON DE SERVICE"),ROW()-ROW($C$16))),"")} | F32: {=IFERROR(INDEX(BASE!H:H,_xlfn.AGGREGATE(15,6,ROW(BASE!$R$92:$R$146)/(BASE!$R$92:$R$146="RAISON DE SERVICE"),ROW()-ROW($C$16))),"")} | G32: {=IFERROR(INDEX(BASE!I:I,_xlfn.AGGREGATE(15,6,ROW(BASE!$W$92:$W$146)/(BASE!$W$92:$W$146="RAISON DE SERVICE"),ROW()-ROW($C$16))),"")}
C33: {=IFERROR(INDEX(BASE!E:E,_xlfn.AGGREGATE(15,6,ROW(BASE!$C$92:$C$146)/(BASE!$C$92:$C$146="RAISON DE SERVICE"),ROW()-ROW($C$16))),"")} | D33: {=IFERROR(INDEX(BASE!F:F,_xlfn.AGGREGATE(15,6,ROW(BASE!$H$92:$H$146)/(BASE!$H$92:$H$146="RAISON DE SERVICE"),ROW()-ROW($C$16))),"")} | E33: {=IFERROR(INDEX(BASE!G:G,_xlfn.AGGREGATE(15,6,ROW(BASE!$M$92:$M$146)/(BASE!$M$92:$M$146="RAISON DE SERVICE"),ROW()-ROW($C$16))),"")} | F33: {=IFERROR(INDEX(BASE!H:H,_xlfn.AGGREGATE(15,6,ROW(BASE!$R$92:$R$146)/(BASE!$R$92:$R$146="RAISON DE SERVICE"),ROW()-ROW($C$16))),"")} | G33: {=IFERROR(INDEX(BASE!I:I,_xlfn.AGGREGATE(15,6,ROW(BASE!$W$92:$W$146)/(BASE!$W$92:$W$146="RAISON DE SERVICE"),ROW()-ROW($C$16))),"")}
C34: {=IFERROR(INDEX(BASE!E:E,_xlfn.AGGREGATE(15,6,ROW(BASE!$C$92:$C$146)/(BASE!$C$92:$C$146="RAISON DE SERVICE"),ROW()-ROW($C$16))),"")} | D34: {=IFERROR(INDEX(BASE!F:F,_xlfn.AGGREGATE(15,6,ROW(BASE!$H$92:$H$146)/(BASE!$H$92:$H$146="RAISON DE SERVICE"),ROW()-ROW($C$16))),"")} | E34: {=IFERROR(INDEX(BASE!G:G,_xlfn.AGGREGATE(15,6,ROW(BASE!$M$92:$M$146)/(BASE!$M$92:$M$146="RAISON DE SERVICE"),ROW()-ROW($C$16))),"")} | F34: {=IFERROR(INDEX(BASE!H:H,_xlfn.AGGREGATE(15,6,ROW(BASE!$R$92:$R$146)/(BASE!$R$92:$R$146="RAISON DE SERVICE"),ROW()-ROW($C$16))),"")} | G34: {=IFERROR(INDEX(BASE!I:I,_xlfn.AGGREGATE(15,6,ROW(BASE!$W$92:$W$146)/(BASE!$W$92:$W$146="RAISON DE SERVICE"),ROW()-ROW($C$16))),"")}
C35: {=IFERROR(INDEX(BASE!E:E,_xlfn.AGGREGATE(15,6,ROW(BASE!$C$92:$C$146)/(BASE!$C$92:$C$146="RAISON DE SERVICE"),ROW()-ROW($C$16))),"")} | D35: {=IFERROR(INDEX(BASE!F:F,_xlfn.AGGREGATE(15,6,ROW(BASE!$H$92:$H$146)/(BASE!$H$92:$H$146="RAISON DE SERVICE"),ROW()-ROW($C$16))),"")} | E35: {=IFERROR(INDEX(BASE!G:G,_xlfn.AGGREGATE(15,6,ROW(BASE!$M$92:$M$146)/(BASE!$M$92:$M$146="RAISON DE SERVICE"),ROW()-ROW($C$16))),"")} | F35: {=IFERROR(INDEX(BASE!H:H,_xlfn.AGGREGATE(15,6,ROW(BASE!$R$92:$R$146)/(BASE!$R$92:$R$146="RAISON DE SERVICE"),ROW()-ROW($C$16))),"")} | G35: {=IFERROR(INDEX(BASE!I:I,_xlfn.AGGREGATE(15,6,ROW(BASE!$W$92:$W$146)/(BASE!$W$92:$W$146="RAISON DE SERVICE"),ROW()-ROW($C$16))),"")}
A36: ACSO | C36: =BASE!B148 -> OUVERT | D36: =BASE!G148 -> OUVERT | E36: =BASE!L148 -> OUVERT | F36: =BASE!Q148 -> OUVERT | G36: =BASE!V148 -> OUVERT
B37: Raison de service | C37: {=IFERROR(INDEX(BASE!E:E,_xlfn.AGGREGATE(15,6,ROW(BASE!$C$149:$C$203)/(BASE!$C$149:$C$203="RAISON DE SERVICE"),ROW()-ROW($C$16))),"")} | D37: {=IFERROR(INDEX(BASE!F:F,_xlfn.AGGREGATE(15,6,ROW(BASE!$H$149:$H$203)/(BASE!$H$149:$H$203="RAISON DE SERVICE"),ROW()-ROW($C$16))),"")} | E37: {=IFERROR(INDEX(BASE!G:G,_xlfn.AGGREGATE(15,6,ROW(BASE!$M$149:$M$203)/(BASE!$M$149:$M$203="RAISON DE SERVICE"),ROW()-ROW($C$16))),"")} | F37: {=IFERROR(INDEX(BASE!H:H,_xlfn.AGGREGATE(15,6,ROW(BASE!$R$149:$R$203)/(BASE!$R$149:$R$203="RAISON DE SERVICE"),ROW()-ROW($C$16))),"")} | G37: {=IFERROR(INDEX(BASE!I:I,_xlfn.AGGREGATE(15,6,ROW(BASE!$W$149:$W$203)/(BASE!$W$149:$W$203="RAISON DE SERVICE"),ROW()-ROW($C$16))),"")}
C38: {=IFERROR(INDEX(BASE!E:E,_xlfn.AGGREGATE(15,6,ROW(BASE!$C$149:$C$203)/(BASE!$C$149:$C$203="RAISON DE SERVICE"),ROW()-ROW($C$16))),"")} | D38: {=IFERROR(INDEX(BASE!F:F,_xlfn.AGGREGATE(15,6,ROW(BASE!$H$149:$H$203)/(BASE!$H$149:$H$203="RAISON DE SERVICE"),ROW()-ROW($C$16))),"")} | E38: {=IFERROR(INDEX(BASE!G:G,_xlfn.AGGREGATE(15,6,ROW(BASE!$M$149:$M$203)/(BASE!$M$149:$M$203="RAISON DE SERVICE"),ROW()-ROW($C$16))),"")} | F38: {=IFERROR(INDEX(BASE!H:H,_xlfn.AGGREGATE(15,6,ROW(BASE!$R$149:$R$203)/(BASE!$R$149:$R$203="RAISON DE SERVICE"),ROW()-ROW($C$16))),"")} | G38: {=IFERROR(INDEX(BASE!I:I,_xlfn.AGGREGATE(15,6,ROW(BASE!$W$149:$W$203)/(BASE!$W$149:$W$203="RAISON DE SERVICE"),ROW()-ROW($C$16))),"")}
C39: {=IFERROR(INDEX(BASE!E:E,_xlfn.AGGREGATE(15,6,ROW(BASE!$C$149:$C$203)/(BASE!$C$149:$C$203="RAISON DE SERVICE"),ROW()-ROW($C$16))),"")} | D39: {=IFERROR(INDEX(BASE!F:F,_xlfn.AGGREGATE(15,6,ROW(BASE!$H$149:$H$203)/(BASE!$H$149:$H$203="RAISON DE SERVICE"),ROW()-ROW($C$16))),"")} | E39: {=IFERROR(INDEX(BASE!G:G,_xlfn.AGGREGATE(15,6,ROW(BASE!$M$149:$M$203)/(BASE!$M$149:$M$203="RAISON DE SERVICE"),ROW()-ROW($C$16))),"")} | F39: {=IFERROR(INDEX(BASE!H:H,_xlfn.AGGREGATE(15,6,ROW(BASE!$R$149:$R$203)/(BASE!$R$149:$R$203="RAISON DE SERVICE"),ROW()-ROW($C$16))),"")} | G39: {=IFERROR(INDEX(BASE!I:I,_xlfn.AGGREGATE(15,6,ROW(BASE!$W$149:$W$203)/(BASE!$W$149:$W$203="RAISON DE SERVICE"),ROW()-ROW($C$16))),"")}
C40: {=IFERROR(INDEX(BASE!E:E,_xlfn.AGGREGATE(15,6,ROW(BASE!$C$149:$C$203)/(BASE!$C$149:$C$203="RAISON DE SERVICE"),ROW()-ROW($C$16))),"")} | D40: {=IFERROR(INDEX(BASE!F:F,_xlfn.AGGREGATE(15,6,ROW(BASE!$H$149:$H$203)/(BASE!$H$149:$H$203="RAISON DE SERVICE"),ROW()-ROW($C$16))),"")} | E40: {=IFERROR(INDEX(BASE!G:G,_xlfn.AGGREGATE(15,6,ROW(BASE!$M$149:$M$203)/(BASE!$M$149:$M$203="RAISON DE SERVICE"),ROW()-ROW($C$16))),"")} | F40: {=IFERROR(INDEX(BASE!H:H,_xlfn.AGGREGATE(15,6,ROW(BASE!$R$149:$R$203)/(BASE!$R$149:$R$203="RAISON DE SERVICE"),ROW()-ROW($C$16))),"")} | G40: {=IFERROR(INDEX(BASE!I:I,_xlfn.AGGREGATE(15,6,ROW(BASE!$W$149:$W$203)/(BASE!$W$149:$W$203="RAISON DE SERVICE"),ROW()-ROW($C$16))),"")}
...
