Workbook

Sheet LISTING
A2: Directeur Animation ETAPS | B2: Etudes | C2: Education : BCD ATSEM | D2: Cuisine/Restaura/Transport Scolaire | E2: ACTIVITES | F2: AESH | G2: Ligne de bus | H2: Prof
A3: A1 | B3: B1 | C3: C1 | D3: D1 | E3: E1 | F3: F1 | G3: G1 | H3: H1
A4: A2 | B4: B2 | C4: C2 | D4: D2 | E4: E2 | F4: F2 | G4: G2 | H4: H2
A5: A2 | B5: B3 | C5: C3 | D5: D3 | E5: E3 | F5: F3 | G5: G3 | H5: H3
A6: A4 | B6: B4 | C6: C4 | D6: D4 | E6: E4 | F6: F4 | G6: G4 | H6: H4
A7: A5 | B7: B5 | C7: C5 | D7: D5 | E7: E5 | F7: F5 | G7: G5 | H7: H5
A8: A6 | B8: B6 | C8: C6 | D8: D6 | E8: E6 | F8: F6 | G8: G6 | H8: H6
A9: A7 | B9: B7 | C9: C7 | D9: D7 | E9: E7 | F9: F7 | G9: G7 | H9: H7
A10: A8 | B10: B8 | C10: C8 | D10: D8 | E10: E8 | F10: F8 | G10: G8 | H10: H8
A11: A9 | B11: B9 | C11: C9 | D11: D9 | E11: E9 | F11: F9 | G11: G9 | H11: H9
A12: A10 | B12: B10 | C12: C10 | D12: D10 | E12: E10 | F12: F10 | G12: G10 | H12: H10
A13: A11 | B13: B11 | C13: C11 | D13: D11 | E13: E11 | F13: F11 | G13: G11 | H13: H11
... A51: A49 | B51: B49 | C51: C49 | D51: D49 | E51: E49 | F51: F49 | G51: G49 | H51: H49

Sheet BASE
B2: Site
B4: BUS MATIN | C4: FERME
C5: G4 | D5: GREVISTE | E5: 3
D6: RAISON DE SERVICE | E6: 3
D7: GREVISTE | E7: 3
D8: ABSENT | E8: 3
D9: ABSENT | E9: 3
C10: FERME
C11: G4 | D11: ABSENT | E11: 3
D12: ABSENT | E12: 3
D13: NEANT | E13: 3
D14: ABSENT | E14: 3
D15: ABSENT | E15: 3
C16: FERME
C17: G4 | D17: ABSENT | E17: 3
D18: NEANT
D19: NEANT | E19: 3
D20: RAISON DE SERVICE | E20: 3
D21: NEANT
B23: BUS SOIR | C23: OUVERT
C24: G4 | D24: GREVISTE | E24: 3
D25: GREVISTE | E25: 3
D26: GREVISTE | E26: 3
D27: ABSENT | E27: 3
D28: ABSENT | E28: 3
C29: OUVERT
C30: G4 | D30: ABSENT | E30: 3
D31: ABSENT | E31: 3
D32: NEANT | E32: 3
D33: ABSENT | E33: 3
D34: ABSENT | E34: 3
C35: NEANT
C36: G4 | D36: ABSENT | E36: 3
D37: NEANT | E37: 3
D38: NEANT | E38: 3
D39: RAISON DE SERVICE | E39: 3
D40: NEANT | E40: 3
B42: ACMA | C42: OUVERT
B43: Tt Mat Inscrits | C43: Restauration | D43: RAISON DE SERVICE | E43: D3
B44: 18 | C44: Besoin | D44: PRESENT | E44: D4
B45: Tx théo d'enca / anim | C45: 2 | D45: NEANT | E45: D4
B46: 12 | C46: Présents | D46: NEANT | E46: D4
B47: Mater réel d'enca | C47: =COUNTIF(D43:D54, "PRESENT")+COUNTIF(D43:D54, "RAISON DE SERVICE") -> 3 | D47: GREVISTE | E47: D4
B48: =B44/B46 -> 1.5 | C48: Grèviste | D48: RAISON DE SERVICE | E48: D4
B49: Tt Elem Inscrits | C49: =COUNTIF(D43:D54, "GREVISTE") -> 1 | D49: NEANT
B50: 300 | D50: NEANT
B51: Tx théo d'enca / anim | D51: NEANT
B52: 30 | D52: NEANT
B53: Elem réel d'enca | D53: NEANT
B54: =B50/B52 -> 10 | D54: NEANT
B55: Tt Mat+Elem Inscrits | C55: Entretien | D55: GREVISTE | E55: D3
B56: =B44+B50 -> 318 | C56: Besoin | D56: ABSENT | E56: D4
B57: Tt besoin animateurs | C57: 2 | D57: ABSENT | E57: D4
B58: =B48+B54 -> 11.5 | C58: Présents | D58: ABSENT | E58: D4
B59: Tt Prés Anim ATSE BCD ETA | C59: =COUNTIF(D55:D65, "PRESENT")+COUNTIF(D55:D65, "RAISON DE SERVICE") -> 0 | D59: NEANT | E59: D4
B60: =COUNTIF(D70:D104, "PRESENT") -> 4 | C60: Grèviste | D60: NEANT | E60: D4
B61: Raison de service | C61: =COUNTIF(D55:D69, "GREVISTE") -> 1 | D61: NEANT
B62: =COUNTIF(D70:D104, "RAISON DE SERVICE") -> 0 | D62: NEANT
B63: Tt Prés + Rais Serv | D63: NEANT
B64: =B54+B62 -> 10 | D64: NEANT
D65: NEANT
C66: AESH Péri | D66: NEANT | E66: F3
D67: NEANT
D68: NEANT
D69: NEANT
C70: ATSEM | D70: PRESENT | E70: C7
C71: Besoin | D71: PRESENT | E71: C4
C72: 2 | D72: PRESENT | E72: C8
C73: Présents | D73: GREVISTE | E73: C2
C74: =COUNTIF(D70:D81, "PRESENT")+COUNTIF(D70:D81, "RAISON DE SERVICE") -> 4 | D74: NEANT
C75: Grèviste | D75: NEANT
C76: =COUNTIF(D70:D81, "GREVISTE") -> 1 | D76: NEANT
C77: BCD | D77: PRESENT | E77: 3
D78: NEANT | E78: 3
D79: NEANT | E79: 3
D80: NEANT | E80: 3
D81: NEANT | E81: 3
C82: Direction
C83: Directeur | D83: NEANT
C84: Adjoint | D84: NEANT
D85: NEANT
D86: NEANT
C87: ETAPS | D87: NEANT
D88: NEANT
D89: NEANT
D90: NEANT
D91: NEANT
C92: Animateurs | D92: NEANT
C93: Besoin | D93: NEANT
C94: 0 | D94: NEANT
C95: Présents | D95: NEANT
C96: =COUNTIF(D83:D104, "PRESENT")+COUNTIF(D83:D104, "RAISON DE SERVICE") -> 0 | D96: NEANT
C97: Grèviste | D97: NEANT
C98: =COUNTIF(D83:D104, "GREVISTE") -> 0 | D98: NEANT
D99: NEANT
D100: NEANT
D101: NEANT
D102: NEANT
D103: NEANT
D104: NEANT
...

Sheet GREVE SITUATION
A1: ETAT DE LA GREVE
F2: =TODAY() -> 44858
A3: Ecole | C3: =BASE!C2 -> 0
A4: Trans scolaire matin | B4: =BASE!C5 -> G4 | C4: =BASE!C4 -> FERME
B5: =BASE!C11 -> G4 | C5: =BASE!C10 -> FERME
B6: =BASE!C17 -> G4 | C6: =BASE!C16 -> FERME
A7: Trans scolaire Soir | B7: =BASE!C24 -> G4 | C7: =BASE!C23 -> OUVERT
B8: =BASE!C30 -> G4 | C8: =BASE!C29 -> OUVERT
B9: =BASE!C36 -> G4 | C9: =BASE!C35 -> NEANT
A10: ACMA | C10: =BASE!C42 -> OUVERT
B11: Raison de service | C11: =IFERROR(INDEX('GREVE SITUATION'!E43:E104,SUMPRODUCT(SMALL((BASE!D$43:D$104=RAISON DE SERVICE)*ROW(BASE!D$43:D$104),COUNTIF(BASE!D$43:D$104,"<>RAISON DE SERVICE")+ROW(A1)))-5),"")
A20: ACMI | C20: =BASE!C106 -> OUVERT
B21: Raison de service
A30: ACSO | C30: =BASE!C164 -> OUVERT
B31: Raison de service
A40: ETUDE | C40: =BASE!C222 -> FERME
A41: ACTIVITES ANNEXES | C41: =BASE!C233 -> FERME
A42: Enseignant gréviste mater | C42: =BASE!C245 -> 0.25
A43: Enseignant gréviste Elem | C43: =BASE!D245 -> 0
A44: Mise en œuvre SMA | C44: =BASE!E245 -> SMA
A45: Animateurs SMA pour raison de service | C45: =BASE!E267 -> Pierre Essai
C46: =BASE!E268 -> Pierre Essai
C47: =BASE!E269 -> 0
C48: =BASE!E270 -> Pierre Essai
C49: =BASE!E271 -> 0
C50: =BASE!E272 -> 0
C51: =BASE!E273 -> 0
C52: =BASE!E274 -> 0
C53: =BASE!E275 -> Pierre Essai
C54: =BASE!E276 -> Pierre Essai
C55: =BASE!E277 -> 0
C56: =BASE!E278 -> 0
C57: =BASE!E279 -> 0
C58: =BASE!E280 -> 0
