Workbook

Sheet journal
A1: JOURNAL des VENTEs
A2: Journal | B2: Date | C2: Compte | E2: Libellé | F2: Débit | G2: Crédit
C3: Numéro | D3: Intitulé
A4: ven | B4: 44242 | C4: 707000 | D4: =VLOOKUP(C4,'[1]Plan comptable A'!$A:$B,2,0) -> VT marchandises | E4: marchendises | F4: 1500
A5: ven | B5: 44252 | C5: 706000 | D5: =VLOOKUP(C5,'[1]Plan comptable A'!$A:$B,2,0) -> Presta de services | E5: llkk
A6: ven | B6: 43863 | C6: 707000 | D6: =VLOOKUP(C6,'[1]Plan comptable A'!$A:$B,2,0) -> VT marchandises | E6: kjgjgkgki | F6: 1200
A7: ven | B7: 44321 | C7: 708000 | D7: =VLOOKUP(C7,'[1]Plan comptable A'!$A:$B,2,0) -> Produits des activités annexes Ventes de produits intermédiaires | E7: jhhj | F7: 451
A8: ven | B8: 44415 | C8: 707000 | D8: =VLOOKUP(C8,'[1]Plan comptable A'!$A:$B,2,0) -> VT marchandises | E8: irun | F8: 7000
A9: va | B9: 44416 | C9: 707000 | D9: =VLOOKUP(C9,'[1]Plan comptable A'!$A:$B,2,0) -> VT marchandises | E9: iuuuu | G9: 9000
D10: =VLOOKUP(C10,'[1]Plan comptable A'!$A:$B,2,0) -> #N/A
D11: =VLOOKUP(C11,'[1]Plan comptable A'!$A:$B,2,0) -> #N/A
D12: =VLOOKUP(C12,'[1]Plan comptable A'!$A:$B,2,0) -> #N/A
D13: =VLOOKUP(C13,'[1]Plan comptable A'!$A:$B,2,0) -> #N/A
D14: =VLOOKUP(C14,'[1]Plan comptable A'!$A:$B,2,0) -> #N/A
D15: =VLOOKUP(C15,'[1]Plan comptable A'!$A:$B,2,0) -> #N/A
D16: =VLOOKUP(C16,'[1]Plan comptable A'!$A:$B,2,0) -> #N/A
D17: =VLOOKUP(C17,'[1]Plan comptable A'!$A:$B,2,0) -> #N/A
D18: =VLOOKUP(C18,'[1]Plan comptable A'!$A:$B,2,0) -> #N/A
D19: =VLOOKUP(C19,'[1]Plan comptable A'!$A:$B,2,0) -> #N/A
D20: =VLOOKUP(C20,'[1]Plan comptable A'!$A:$B,2,0) -> #N/A
D21: =VLOOKUP(C21,'[1]Plan comptable A'!$A:$B,2,0) -> #N/A
... D23: =VLOOKUP(C23,'[1]Plan comptable A'!$A:$B,2,0) -> #N/A
E24: Total | F24: =SUM(F4:F23) -> 10151 | G24: =SUM(G4:G23) -> 9000

Sheet grand livre
A1: GRAND LIVRE
A2: Débit | C2: 707000 | D2: =VLOOKUP(C2,'[1]Plan comptable A'!$A:$B,2,0) -> VT marchandises | J2: Crédit
A3: Date | B3: JAL | C3: Libellé | D3: Montant | E3: Lettrage | G3: Date | H3: JAL | I3: Libellé | J3: Montant | K3: Lettrage
A4: =IF(AND(journal!$A$1="journal des ventes",journal!C4='grand livre'!$C$2,journal!F4>0),journal!B4,"") -> 44242 | B4: =IF(AND(journal!$A$1="journal des ventes",journal!$C4='grand livre'!$C$2,journal!$F4>0),journal!A4,"") -> ven | C4: =IF(AND(journal!$A$1="journal des ventes",journal!$C4='grand livre'!$C$2,journal!$F4>0),journal!E4,"") -> marchendises | D4: =IF(AND(journal!$A$1="journal des ventes",journal!$C4='grand livre'!$C$2,journal!$F4>0),journal!F4,"") -> 1500 | G4: =IF(AND(journal!$A$1="journal des ventes",journal!$C4='grand livre'!$C$2,journal!$G4>0),journal!A4,"") | H4: =IF(AND(journal!$A$1="journal des ventes",journal!$C4='grand livre'!$C$2,journal!$G4>0),journal!A4,"") | I4: =IF(AND(journal!$A$1="journal des ventes",journal!$C4='grand livre'!$C$2,journal!$G4>0),journal!E4,"") | J4: =IF(AND(journal!$A$1="journal des ventes",journal!$C4='grand livre'!$C$2,journal!$G4>0),journal!G4,"")
A5: =IF(AND(journal!$A$1="journal des ventes",journal!C5='grand livre'!$C$2,journal!F5>0),journal!B5,"") | B5: =IF(AND(journal!$A$1="journal des ventes",journal!$C5='grand livre'!$C$2,journal!$F5>0),journal!A5,"") | C5: =IF(AND(journal!$A$1="journal des ventes",journal!$C5='grand livre'!$C$2,journal!$F5>0),journal!E5,"") | D5: =IF(AND(journal!$A$1="journal des ventes",journal!$C5='grand livre'!$C$2,journal!$F5>0),journal!F5,"") | G5: =IF(AND(journal!$A$1="journal des ventes",journal!$C5='grand livre'!$C$2,journal!$G5>0),journal!B5,"") | H5: =IF(AND(journal!$A$1="journal des ventes",journal!$C5='grand livre'!$C$2,journal!$G5>0),journal!A5,"") | I5: =IF(AND(journal!$A$1="journal des ventes",journal!$C5='grand livre'!$C$2,journal!$G5>0),journal!E5,"") | J5: =IF(AND(journal!$A$1="journal des ventes",journal!$C5='grand livre'!$C$2,journal!$G5>0),journal!G5,"")
A6: =IF(AND(journal!$A$1="journal des ventes",journal!C6='grand livre'!$C$2,journal!F6>0),journal!B6,"") -> 43863 | B6: =IF(AND(journal!$A$1="journal des ventes",journal!$C6='grand livre'!$C$2,journal!$F6>0),journal!A6,"") -> ven | C6: =IF(AND(journal!$A$1="journal des ventes",journal!$C6='grand livre'!$C$2,journal!$F6>0),journal!E6,"") -> kjgjgkgki | D6: =IF(AND(journal!$A$1="journal des ventes",journal!$C6='grand livre'!$C$2,journal!$F6>0),journal!F6,"") -> 1200 | G6: =IF(AND(journal!$A$1="journal des ventes",journal!$C6='grand livre'!$C$2,journal!$G6>0),journal!B6,"") | H6: =IF(AND(journal!$A$1="journal des ventes",journal!$C6='grand livre'!$C$2,journal!$G6>0),journal!A6,"") | I6: =IF(AND(journal!$A$1="journal des ventes",journal!$C6='grand livre'!$C$2,journal!$G6>0),journal!E6,"") | J6: =IF(AND(journal!$A$1="journal des ventes",journal!$C6='grand livre'!$C$2,journal!$G6>0),journal!G6,"")
A7: =IF(AND(journal!$A$1="journal des ventes",journal!C7='grand livre'!$C$2,journal!F7>0),journal!B7,"") | B7: =IF(AND(journal!$A$1="journal des ventes",journal!$C7='grand livre'!$C$2,journal!$F7>0),journal!A7,"") | C7: =IF(AND(journal!$A$1="journal des ventes",journal!$C7='grand livre'!$C$2,journal!$F7>0),journal!E7,"") | D7: =IF(AND(journal!$A$1="journal des ventes",journal!$C7='grand livre'!$C$2,journal!$F7>0),journal!F7,"") | G7: =IF(AND(journal!$A$1="journal des ventes",journal!$C7='grand livre'!$C$2,journal!$G7>0),journal!B7,"") | H7: =IF(AND(journal!$A$1="journal des ventes",journal!$C7='grand livre'!$C$2,journal!$G7>0),journal!A7,"") | I7: =IF(AND(journal!$A$1="journal des ventes",journal!$C7='grand livre'!$C$2,journal!$G7>0),journal!E7,"") | J7: =IF(AND(journal!$A$1="journal des ventes",journal!$C7='grand livre'!$C$2,journal!$G7>0),journal!G7,"")
A8: =IF(AND(journal!$A$1="journal des ventes",journal!C8='grand livre'!$C$2,journal!F8>0),journal!B8,"") -> 44415 | B8: =IF(AND(journal!$A$1="journal des ventes",journal!$C8='grand livre'!$C$2,journal!$F8>0),journal!A8,"") -> ven | C8: =IF(AND(journal!$A$1="journal des ventes",journal!$C8='grand livre'!$C$2,journal!$F8>0),journal!E8,"") -> irun | D8: =IF(AND(journal!$A$1="journal des ventes",journal!$C8='grand livre'!$C$2,journal!$F8>0),journal!F8,"") -> 7000 | G8: =IF(AND(journal!$A$1="journal des ventes",journal!$C8='grand livre'!$C$2,journal!$G8>0),journal!B8,"") | H8: =IF(AND(journal!$A$1="journal des ventes",journal!$C8='grand livre'!$C$2,journal!$G8>0),journal!A8,"") | I8: =IF(AND(journal!$A$1="journal des ventes",journal!$C8='grand livre'!$C$2,journal!$G8>0),journal!E8,"") | J8: =IF(AND(journal!$A$1="journal des ventes",journal!$C8='grand livre'!$C$2,journal!$G8>0),journal!G8,"")
A9: =IF(AND(journal!$A$1="journal des ventes",journal!C9='grand livre'!$C$2,journal!F9>0),journal!B9,"") | B9: =IF(AND(journal!$A$1="journal des ventes",journal!$C9='grand livre'!$C$2,journal!$F9>0),journal!A9,"") | C9: =IF(AND(journal!$A$1="journal des ventes",journal!$C9='grand livre'!$C$2,journal!$F9>0),journal!E9,"") | D9: =IF(AND(journal!$A$1="journal des ventes",journal!$C9='grand livre'!$C$2,journal!$F9>0),journal!F9,"") | G9: =IF(AND(journal!$A$1="journal des ventes",journal!$C9='grand livre'!$C$2,journal!$G9>0),journal!B9,"") -> 44416 | H9: =IF(AND(journal!$A$1="journal des ventes",journal!$C9='grand livre'!$C$2,journal!$G9>0),journal!A9,"") -> va | I9: =IF(AND(journal!$A$1="journal des ventes",journal!$C9='grand livre'!$C$2,journal!$G9>0),journal!E9,"") -> iuuuu | J9: =IF(AND(journal!$A$1="journal des ventes",journal!$C9='grand livre'!$C$2,journal!$G9>0),journal!G9,"") -> 9000
A10: =IF(AND(journal!$A$1="journal des ventes",journal!C10='grand livre'!$C$2,journal!F10>0),journal!B10,"") | B10: =IF(AND(journal!$A$1="journal des ventes",journal!$C10='grand livre'!$C$2,journal!$F10>0),journal!A10,"") | C10: =IF(AND(journal!$A$1="journal des ventes",journal!$C10='grand livre'!$C$2,journal!$F10>0),journal!E10,"") | D10: =IF(AND(journal!$A$1="journal des ventes",journal!$C10='grand livre'!$C$2,journal!$F10>0),journal!F10,"") | G10: =IF(AND(journal!$A$1="journal des ventes",journal!$C10='grand livre'!$C$2,journal!$G10>0),journal!B10,"") | H10: =IF(AND(journal!$A$1="journal des ventes",journal!$C10='grand livre'!$C$2,journal!$G10>0),journal!A10,"") | I10: =IF(AND(journal!$A$1="journal des ventes",journal!$C10='grand livre'!$C$2,journal!$G10>0),journal!E10,"") | J10: =IF(AND(journal!$A$1="journal des ventes",journal!$C10='grand livre'!$C$2,journal!$G10>0),journal!G10,"")
A11: =IF(AND(journal!$A$1="journal des ventes",journal!C11='grand livre'!$C$2,journal!F11>0),journal!B11,"") | B11: =IF(AND(journal!$A$1="journal des ventes",journal!$C11='grand livre'!$C$2,journal!$F11>0),journal!A11,"") | C11: =IF(AND(journal!$A$1="journal des ventes",journal!$C11='grand livre'!$C$2,journal!$F11>0),journal!E11,"") | D11: =IF(AND(journal!$A$1="journal des ventes",journal!$C11='grand livre'!$C$2,journal!$F11>0),journal!F11,"") | G11: =IF(AND(journal!$A$1="journal des ventes",journal!$C11='grand livre'!$C$2,journal!$G11>0),journal!B11,"") | H11: =IF(AND(journal!$A$1="journal des ventes",journal!$C11='grand livre'!$C$2,journal!$G11>0),journal!A11,"") | I11: =IF(AND(journal!$A$1="journal des ventes",journal!$C11='grand livre'!$C$2,journal!$G11>0),journal!E11,"") | J11: =IF(AND(journal!$A$1="journal des ventes",journal!$C11='grand livre'!$C$2,journal!$G11>0),journal!G11,"")
C12: TOTAUX | D12: =SUM(D4:D11) -> 9700 | I12: TOTAUX | J12: =SUM(J4:J11) -> 9000
C13: Solde Débiteur | D13: =IF(D12>J12,D12-J12,"") -> 700 | I13: Solde Créditeur | J13: =IF(J12>D12,J12-D12,"")
