Workbook

Sheet Janvier 2021
B5: Janvier 2021
B7: Date | C7: Noms | D7: Date de convocation | E7: Nbre Isolé | F7: Sexe Isolé | G7: Nbre Familles | H7: Adultes Familles | I7: Enfants Familles | J7: Adultes Accomp. Familles | K7: Total Individus | L7: Age enfants | M7: Grossesse | N7: Pays
B8: 44200 | C8: ES | D8: 44201 | E8: 1 | F8: F | G8: 0 | H8: 0 | I8: 0 | J8: 0 | K8: =E8+H8+I8+J8 -> 1 | N8: Cameroun
B9: 44200 | C9: SR | D9: 44201 | E9: 1 | F9: H | G9: 0 | H9: 0 | I9: 0 | J9: 0 | K9: =E9+H9+I9+J9 -> 1 | N9: Cameroun
B10: 44200 | C10: MD | D10: 44203 | E10: 1 | F10: H | G10: 0 | H10: 0 | I10: 0 | J10: 0 | K10: =E10+H10+I10+J10 -> 1 | N10: Somalie
B11: 44200 | C11: HA | D11: 44201 | E11: 1 | F11: H | G11: 0 | H11: 0 | I11: 0 | J11: 0 | K11: =E11+H11+I11+J11 -> 1 | N11: Égypte
B12: 44200 | C12: OA | D12: 44201 | E12: 1 | F12: H | G12: 0 | H12: 0 | I12: 0 | J12: 0 | K12: =E12+H12+I12+J12 -> 1 | N12: Afghanistan
B13: 44200 | C13: AM | D13: 44201 | E13: 1 | F13: H | G13: 0 | H13: 0 | I13: 0 | J13: 0 | K13: =E13+H13+I13+J13 -> 1 | N13: Pakistan
B14: 44200 | C14: KJ | D14: 44201 | E14: 1 | F14: H | G14: 0 | H14: 0 | I14: 0 | J14: 0 | K14: =E14+H14+I14+J14 -> 1 | N14: Cameroun
B15: 44200 | C15: OL | D15: 44201 | E15: 0 | G15: 0 | H15: 0 | I15: 1 | J15: 0 | K15: =E15+H15+I15+J15 -> 1 | L15: Né le 03/09/2020 | N15: Guinée
B16: 44201 | C16: GV | D16: 44202 | E16: 1 | F16: H | G16: 0 | H16: 0 | I16: 0 | J16: 0 | K16: =E16+H16+I16+J16 -> 1 | N16: Sénégal
B17: 44201 | C17: AI | D17: 44202 | E17: 1 | F17: H | G17: 0 | H17: 0 | I17: 0 | J17: 0 | K17: =E17+H17+I17+J17 -> 1 | N17: Tchad
B18: 44201 | C18: KT | D18: 44202 | E18: 1 | F18: H | G18: 0 | H18: 0 | I18: 0 | J18: 0 | K18: =E18+H18+I18+J18 -> 1 | N18: Congo Brazzaville
B19: 44201 | C19: MM | E19: 1 | F19: H | G19: 0 | H19: 0 | I19: 0 | J19: 0 | K19: =E19+H19+I19+J19 -> 1 | N19: Iran
B20: 44202 | C20: AW | D20: 44203 | E20: 0 | G20: 1 | H20: 1 | I20: 3 | J20: 0 | K20: =E20+H20+I20+J20 -> 4 | L20: 10 - 13 ans | N20: Syrie
B21: 44202 | C21: LK | D21: 44203 | E21: 1 | F21: F | G21: 0 | H21: 0 | I21: 0 | J21: 0 | K21: =E21+H21+I21+J21 -> 1 | N21: Ghana
B22: 44202 | C22: PA | D22: 44203 | E22: 1 | F22: H | G22: 0 | H22: 0 | I22: 0 | J22: 0 | K22: =E22+H22+I22+J22 -> 1 | N22: Albanie
B23: 44202 | C23: AM | D23: 44203 | E23: 1 | F23: H | G23: 0 | H23: 0 | I23: 0 | J23: 0 | K23: =E23+H23+I23+J23 -> 1 | N23: Somalie
B24: 44202 | C24: IH | D24: 44203 | E24: 1 | F24: F | G24: 0 | H24: 0 | I24: 0 | J24: 0 | K24: =E24+H24+I24+J24 -> 1 | L24: Né le 05/01/2020 | N24: Nigéria
B25: 44202 | C25: BA | D25: 44203 | E25: 0 | G25: 0 | H25: 0 | I25: 1 | J25: 0 | K25: =E25+H25+I25+J25 -> 1 | L25: Né le 23/11/2020 | N25: Guinée
B26: 44202 | C26: AG | D26: 44203 | E26: 0 | G26: 0 | H26: 0 | I26: 1 | J26: 0 | K26: =E26+H26+I26+J26 -> 1 | L26: Né le 31/05/2020 | N26: Nigéria
B27: 44202 | C27: DA | E27: 1 | F27: H | G27: 0 | H27: 0 | I27: 0 | J27: 0 | K27: =E27+H27+I27+J27 -> 1 | N27: Guinée
B28: 44202 | C28: KA | D28: 44204 | E28: 0 | G28: 1 | H28: 2 | I28: 6 | J28: 0 | K28: =E28+H28+I28+J28 -> 8 | L28: 3 - 4 - 7 - 8 - 10 - 13 ans | N28: Russie
B29: 44203 | C29: BM | D29: 44208 | E29: 1 | F29: F | G29: 0 | H29: 0 | I29: 0 | J29: 0 | K29: =E29+H29+I29+J29 -> 1 | N29: Géorgie
B30: 44203 | C30: AS | D30: 44204 | E30: 1 | F30: H | G30: 0 | H30: 0 | I30: 0 | J30: 0 | K30: =E30+H30+I30+J30 -> 1 | N30: Togo
B31: 44203 | C31: BA | D31: 44204 | E31: 0 | G31: 0 | H31: 0 | I31: 1 | J31: 0 | K31: =E31+H31+I31+J31 -> 1 | L31: 1 an | N31: Syrie
B32: 44203 | C32: TM | E32: 1 | F32: H | G32: 0 | H32: 0 | I32: 0 | J32: 0 | K32: =E32+H32+I32+J32 -> 1 | N32: Guinée
B33: 44203 | C33: AS | D33: 44204 | E33: 0 | G33: 0 | H33: 0 | I33: 4 | J33: 0 | K33: =E33+H33+I33+J33 -> 4 | L33: 13 ans ( jumeaux) - 14 ans (jumeaux) | N33: Somalie
B34: 44203 | C34: MN | E34: 0 | G34: 1 | H34: 1 | I34: 1 | J34: 1 | K34: =E34+H34+I34+J34 -> 3 | L34: 17 - 21 ans | N34: Géorgie
B35: 44204 | C35: MA | D35: 44207 | E35: 1 | F35: H | G35: 0 | H35: 0 | I35: 0 | J35: 0 | K35: =E35+H35+I35+J35 -> 1 | N35: Somalie
B36: 44204 | C36: BA | D36: 44207 | E36: 1 | F36: H | G36: 0 | H36: 0 | I36: 0 | J36: 0 | K36: =E36+H36+I36+J36 -> 1 | N36: Arménie
B37: 44204 | C37: MO | D37: 44207 | E37: 1 | F37: H | G37: 0 | H37: 0 | I37: 0 | J37: 0 | K37: =E37+H37+I37+J37 -> 1 | N37: Soudan
B38: 44204 | C38: HS | D38: 44207 | E38: 1 | F38: H | G38: 0 | H38: 0 | I38: 0 | J38: 0 | K38: =E38+H38+I38+J38 -> 1 | N38: Yémen
B39: 44204 | C39: TM | D39: 44207 | E39: 1 | F39: H | G39: 0 | H39: 0 | I39: 0 | J39: 0 | K39: =E39+H39+I39+J39 -> 1 | N39: Géorgie
B40: 44204 | C40: PK | E40: 0 | G40: 1 | H40: 2 | I40: 3 | J40: 0 | K40: =E40+H40+I40+J40 -> 5 | L40: 1 - 4 - 6 ans | N40: Géorgie
B41: 44204 | C41: KD | D41: 44207 | E41: 1 | F41: H | G41: 0 | H41: 0 | I41: 0 | J41: 0 | K41: =E41+H41+I41+J41 -> 1 | N41: Géorgie
B42: 44207 | C42: BA | D42: 44208 | E42: 1 | F42: H | G42: 0 | H42: 0 | I42: 0 | J42: 0 | K42: =E42+H42+I42+J42 -> 1 | N42: Palestine
B43: 44207 | C43: NB | D43: 44208 | E43: 1 | F43: H | G43: 0 | H43: 0 | I43: 0 | J43: 0 | K43: =E43+H43+I43+J43 -> 1 | N43: Albanie
B44: 44207 | C44: MM | D44: 44208 | E44: 0 | G44: 1 | H44: 1 | I44: 1 | J44: 0 | K44: =E44+H44+I44+J44 -> 2 | N44: Kosovo
B45: 44207 | C45: DA | D45: 44208 | E45: 1 | F45: F | G45: 0 | H45: 0 | I45: 0 | J45: 0 | K45: =E45+H45+I45+J45 -> 1 | N45: Guinée
B46: 44207 | C46: DI | D46: 44208 | E46: 1 | F46: H | G46: 0 | H46: 0 | I46: 0 | J46: 0 | K46: =E46+H46+I46+J46 -> 1 | N46: Guinée
B47: 44207 | C47: HM | D47: 44209 | E47: 1 | F47: H | G47: 0 | H47: 0 | I47: 0 | J47: 0 | K47: =E47+H47+I47+J47 -> 1 | N47: Afghanistan
B48: 44207 | C48: BM | D48: 44208 | E48: 1 | F48: H | G48: 0 | H48: 0 | I48: 0 | J48: 0 | K48: =E48+H48+I48+J48 -> 1 | N48: Géorgie
B49: 44207 | C49: LJ | D49: 44208 | E49: 1 | F49: F | G49: 0 | H49: 0 | I49: 0 | J49: 0 | K49: =E49+H49+I49+J49 -> 1 | N49: Albanie
B50: 44207 | C50: KH | D50: 44208 | E50: 1 | F50: H | G50: 0 | H50: 0 | I50: 0 | J50: 0 | K50: =E50+H50+I50+J50 -> 1 | N50: Albanie
B51: 44207 | C51: AM | D51: 44208 | E51: 0 | G51: 1 | H51: 2 | I51: 0 | J51: 0 | K51: =E51+H51+I51+J51 -> 2 | N51: Cameroun
B52: 44208 | C52: VM | D52: 44215 | E52: 1 | F52: H | G52: 0 | H52: 0 | I52: 0 | J52: 0 | K52: =E52+H52+I52+J52 -> 1 | N52: Albanie
B53: 44208 | C53: BI | D53: 44209 | E53: 1 | F53: H | G53: 0 | H53: 0 | I53: 0 | J53: 0 | K53: =E53+H53+I53+J53 -> 1 | N53: Guinée
B54: 44208 | C54: BH | D54: 44209 | E54: 1 | F54: H | G54: 0 | H54: 0 | I54: 0 | J54: 0 | K54: =E54+H54+I54+J54 -> 1 | N54: Tchad
B55: 44208 | D55: 44209 | E55: 1 | F55: H | G55: 0 | H55: 0 | I55: 0 | J55: 0 | K55: =E55+H55+I55+J55 -> 1 | N55: Tchad
B56: 44209 | C56: OY | D56: 44210 | E56: 0 | G56: 1 | H56: 1 | I56: 2 | J56: 0 | K56: =E56+H56+I56+J56 -> 3 | L56: 3 - 5 ans | N56: Bosnie
B57: 44209 | C57: MA | D57: 44210 | E57: 1 | F57: F | G57: 0 | H57: 0 | I57: 0 | J57: 0 | K57: =E57+H57+I57+J57 -> 1 | N57: Tchad
B58: 44209 | C58: HI | D58: 44210 | E58: 1 | F58: H | G58: 0 | H58: 0 | I58: 0 | J58: 0 | K58: =E58+H58+I58+J58 -> 1 | N58: Afghanistan
B59: 44209 | C59: MA | D59: 44210 | E59: 1 | F59: H | G59: 0 | H59: 0 | I59: 0 | J59: 0 | K59: =E59+H59+I59+J59 -> 1 | N59: Cameroun
B60: 44209 | C60: NA | D60: 44210 | E60: 0 | G60: 1 | H60: 1 | I60: 1 | J60: 0 | K60: =E60+H60+I60+J60 -> 2 | L60: 5 ans | N60: Cameroun
B61: 44209 | C61: GR | D61: 44210 | E61: 1 | F61: H | G61: 0 | H61: 0 | I61: 0 | J61: 0 | K61: =E61+H61+I61+J61 -> 1 | N61: Russie
B62: 44209 | C62: SK | D62: 44210 | E62: 1 | F62: H | G62: 0 | H62: 0 | I62: 0 | J62: 0 | K62: =E62+H62+I62+J62 -> 1 | N62: Afghanistan
B63: 44209 | C63: AH | D63: 44210 | E63: 1 | F63: H | G63: 0 | H63: 0 | I63: 0 | J63: 0 | K63: =E63+H63+I63+J63 -> 1 | N63: Iran
B64: 44209 | C64: XE | D64: 44210 | E64: 0 | G64: 1 | H64: 1 | I64: 1 | J64: 1 | K64: =E64+H64+I64+J64 -> 3 | L64: 16 - 19 ans | N64: Albanie
B65: 44209 | C65: SA | D65: 44210 | E65: 1 | F65: H | G65: 0 | H65: 0 | I65: 0 | J65: 0 | K65: =E65+H65+I65+J65 -> 1 | N65: Centrafrique
B66: 44210 | C66: AK | E66: 1 | F66: H | G66: 0 | H66: 0 | I66: 0 | J66: 0 | K66: =E66+H66+I66+J66 -> 1 | N66: Togo
B67: 44210 | C67: DG | D67: 44211 | E67: 1 | F67: H | G67: 0 | H67: 0 | I67: 0 | J67: 0 | K67: =E67+H67+I67+J67 -> 1 | N67: Côte d'Ivoire
B68: 44210 | C68: AA | D68: 44211 | E68: 1 | F68: H | G68: 0 | H68: 0 | I68: 0 | J68: 0 | K68: =E68+H68+I68+J68 -> 1 | N68: Somalie
B69: 44210 | C69: AA | D69: 44215 | E69: 1 | F69: H | G69: 0 | H69: 0 | I69: 0 | J69: 0 | K69: =E69+H69+I69+J69 -> 1 | N69: Irak
B70: 44210 | C70: DO | D70: 44211 | E70: 0 | G70: 0 | H70: 0 | I70: 1 | J70: 0 | K70: =E70+H70+I70+J70 -> 1 | L70: Né le 03/01/2021 | N70: Guinée
B71: 44210 | C71: DA | D71: 44211 | E71: 1 | F71: H | G71: 0 | H71: 0 | I71: 0 | J71: 0 | K71: =E71+H71+I71+J71 -> 1 | L71: Né le 27/06/2004 | N71: Guatemala
B72: 44211 | C72: GS | D72: 44214 | E72: 1 | F72: H | G72: 0 | H72: 0 | I72: 0 | J72: 0 | K72: =E72+H72+I72+J72 -> 1 | N72: Kosovo
B73: 44211 | C73: BM | D73: 44215 | E73: 1 | F73: H | G73: 0 | H73: 0 | I73: 0 | J73: 0 | K73: =E73+H73+I73+J73 -> 1 | N73: Guinée
B74: 44211 | C74: ME | E74: 1 | F74: H | G74: 0 | H74: 0 | I74: 0 | J74: 0 | K74: =E74+H74+I74+J74 -> 1 | N74: Géorgie
B75: 44214 | C75: DT | D75: 19/01/2021 | E75: 0 | F75: H | G75: 1 | H75: 0 | I75: 1 | J75: 0 | K75: =E75+H75+I75+J75 -> 1 | L75: Né le 04/08/2020 | N75: Guinée
B76: 44214 | C76: NJ | D76: 21/01/2021 | E76: 0 | F76: H | G76: 1 | H76: 2 | I76: 0 | J76: 0 | K76: =E76+H76+I76+J76 -> 2 | N76: Géorgie
B77: 44214 | C77: AL | D77: 19/01/2021 | E77: 1 | F77: H | G77: 0 | H77: 0 | I77: 0 | J77: 0 | K77: =E77+H77+I77+J77 -> 1 | N77: Syrie
B78: 44214 | C78: CM | D78: 19/01/2021 | E78: 0 | F78: F | G78: 1 | H78: 1 | I78: 2 | J78: 2 | K78: =E78+H78+I78+J78 -> 5 | L78: 9 - 13 - 19 - 21 ans | N78: Albanie
B79: 44214 | C79: DO | D79: 19/01/2021 | E79: 1 | F79: H | G79: 0 | H79: 0 | I79: 0 | J79: 0 | K79: =E79+H79+I79+J79 -> 1 | N79: Guinée
B80: 44214 | C80: ZB | D80: 20/01/2021 | E80: 1 | F80: H | G80: 0 | H80: 0 | I80: 0 | J80: 0 | K80: =E80+H80+I80+J80 -> 1 | N80: Algérie
B81: 44214 | C81: MZ | D81: 19/01/2021 | E81: 0 | F81: H | G81: 1 | H81: 2 | I81: 2 | J81: 0 | K81: =E81+H81+I81+J81 -> 4 | L81: 1 - 8 ans | N81: Géorgie
B82: 44214 | C82: SL | D82: 22/01/2021 | E82: 1 | F82: H | G82: 0 | H82: 0 | I82: 0 | J82: 0 | K82: =E82+H82+I82+J82 -> 1 | N82: Guinée
B83: 44214 | C83: AN | D83: 19/01/2021 | E83: 1 | F83: H | G83: 0 | H83: 0 | I83: 0 | J83: 0 | K83: =E83+H83+I83+J83 -> 1 | N83: Centrafrique
B84: 44214 | C84: NS | D84: 19/01/2021 | E84: 1 | F84: H | G84: 0 | H84: 0 | I84: 1 | J84: 0 | K84: =E84+H84+I84+J84 -> 2 | L84: Né le 23/10/2020 | N84: Syrie
B85: 44214 | C85: BN | D85: 19/01/2021 | E85: 1 | F85: F | G85: 0 | H85: 0 | I85: 0 | J85: 0 | K85: =E85+H85+I85+J85 -> 1 | N85: Moldavie
B86: 44214 | C86: KK | D86: 19/01/2021 | E86: 1 | F86: H | G86: 0 | H86: 0 | I86: 0 | J86: 0 | K86: =E86+H86+I86+J86 -> 1 | N86: Guinée
B87: 44215 | C87: HK | D87: 44216 | E87: 1 | F87: H | G87: 0 | H87: 0 | I87: 0 | J87: 0 | K87: =E87+H87+I87+J87 -> 1 | N87: Kosovo
B88: 44215 | C88: DA | D88: 44216 | E88: 1 | F88: F | G88: 0 | H88: 0 | I88: 0 | J88: 0 | K88: =E88+H88+I88+J88 -> 1 | N88: Guinée
B89: 44215 | C89: MA | D89: 44218 | E89: 1 | F89: H | G89: 0 | H89: 0 | I89: 0 | J89: 0 | K89: =E89+H89+I89+J89 -> 1 | N89: Égypte
B90: 44215 | C90: KA | D90: 44216 | E90: 1 | F90: F | G90: 0 | H90: 0 | I90: 0 | J90: 0 | K90: =E90+H90+I90+J90 -> 1 | N90: Kosovo
B91: 44215 | C91: HK | D91: 44216 | E91: 1 | F91: H | G91: 0 | H91: 0 | I91: 0 | J91: 0 | K91: =E91+H91+I91+J91 -> 1 | N91: Kosovo
B92: 44215 | C92: HH | D92: 44216 | E92: 1 | F92: H | G92: 0 | H92: 0 | I92: 0 | J92: 0 | K92: =E92+H92+I92+J92 -> 1 | N92: Somalie
B93: 44216 | C93: NJ | D93: 44217 | E93: 0 | G93: 1 | H93: 2 | I93: 0 | J93: 0 | K93: =E93+H93+I93+J93 -> 2 | N93: Géorgie
B94: 44216 | C94: IC | D94: 44217 | E94: 1 | F94: H | G94: 0 | H94: 0 | I94: 0 | J94: 0 | K94: =E94+H94+I94+J94 -> 1 | N94: Nigéria
B95: 44216 | C95: RF | D95: 44217 | E95: 1 | F95: H | G95: 0 | H95: 0 | I95: 0 | J95: 0 | K95: =E95+H95+I95+J95 -> 1 | N95: Afghanistan
B96: 44216 | C96: MI | D96: 44217 | E96: 1 | F96: H | G96: 0 | H96: 0 | I96: 0 | J96: 0 | K96: =E96+H96+I96+J96 -> 1 | N96: Tchad
B97: 44216 | C97: OG | D97: 44217 | E97: 1 | F97: H | G97: 0 | H97: 0 | I97: 0 | J97: 0 | K97: =E97+H97+I97+J97 -> 1 | N97: Nigéria
B98: 44216 | C98: JL | D98: 44217 | E98: 1 | F98: H | G98: 0 | H98: 0 | I98: 0 | J98: 0 | K98: =E98+H98+I98+J98 -> 1 | N98: Sénégal
B99: 44216 | C99: KS | D99: 44217 | E99: 1 | F99: H | G99: 0 | H99: 0 | I99: 0 | J99: 0 | K99: =E99+H99+I99+J99 -> 1 | N99: Guinée
B100: 44216 | C100: IE | D100: 44217 | E100: 1 | F100: F | G100: 0 | H100: 0 | I100: 0 | J100: 0 | K100: =E100+H100+I100+J100 -> 1 | N100: Arménie
B101: 44217 | C101: IN | D101: 44217 | E101: 1 | F101: F | G101: 0 | H101: 0 | I101: 0 | J101: 0 | K101: =E101+H101+I101+J101 -> 1 | N101: Ukraine
B102: 44217 | C102: UE | D102: 44218 | E102: 1 | F102: F | G102: 0 | H102: 0 | I102: 0 | J102: 0 | K102: =E102+H102+I102+J102 -> 1 | N102: Nigéria
B103: 44217 | C103: MS | D103: 44218 | E103: 1 | F103: H | G103: 0 | H103: 0 | I103: 0 | J103: 0 | K103: =E103+H103+I103+J103 -> 1 | N103: Sri Lanka
B104: 44217 | C104: SW | D104: 44218 | E104: 0 | G104: 1 | H104: 1 | I104: 1 | J104: 0 | K104: =E104+H104+I104+J104 -> 2 | L104: 5 mois | N104: Congo RDC
B105: 44217 | C105: RA | D105: 44218 | E105: 0 | G105: 0 | H105: 0 | I105: 1 | J105: 0 | K105: =E105+H105+I105+J105 -> 1 | N105: Albanie
...

Sheet Février 2021
B5: Février 2021
B7: Date | C7: Noms | D7: Date de convocation | E7: Nbre Isolé | F7: Sexe Isolé | G7: Nbre Familles | H7: Adultes Familles | I7: Enfants Familles | J7: Adultes Accomp. Familles | K7: Total Individus | L7: Age enfants | M7: Grossesse | N7: Pays
B8: 44232 | C8: BM | D8: 44235 | E8: 1 | F8: F | G8: 0 | H8: 0 | I8: 0 | J8: 0 | K8: =E8+H8+I8+J8 -> 1 | N8: Guinée
B9: 44232 | C9: AN | D9: 44235 | E9: 1 | F9: H | G9: 0 | H9: 0 | I9: 0 | J9: 0 | K9: =E9+H9+I9+J9 -> 1 | N9: Afghanistan
B10: 44232 | C10: MS | D10: 44235 | E10: 1 | F10: H | G10: 0 | H10: 0 | I10: 0 | J10: 0 | K10: =E10+H10+I10+J10 -> 1 | N10: Afghanistan
B11: 44232 | C11: SH | D11: 44235 | E11: 1 | F11: H | G11: 0 | H11: 0 | I11: 0 | J11: 0 | K11: =E11+H11+I11+J11 -> 1 | N11: Afghanistan
B12: 44232 | C12: ZA | D12: 44235 | E12: 1 | F12: H | G12: 0 | H12: 0 | I12: 0 | J12: 0 | K12: =E12+H12+I12+J12 -> 1 | N12: Tchad
B13: 44232 | C13: KG | D13: 44235 | E13: 1 | F13: H | G13: 0 | H13: 0 | I13: 0 | J13: 0 | K13: =E13+H13+I13+J13 -> 1 | N13: Géorgie
B14: 44232 | C14: UR | D14: 44235 | E14: 1 | F14: F | G14: 0 | H14: 0 | I14: 0 | J14: 0 | K14: =E14+H14+I14+J14 -> 1 | N14: Burundi
B15: 44232 | C15: EN | D15: 44235 | E15: 0 | G15: 0 | H15: 0 | I15: 1 | J15: 0 | K15: =E15+H15+I15+J15 -> 1 | L15: 7 mois | N15: Géorgie
B16: 44235 | C16: MB | D16: 44236 | E16: 1 | F16: H | G16: 0 | H16: 0 | I16: 0 | J16: 0 | K16: =E16+H16+I16+J16 -> 1 | N16: Géorgie
B17: 44235 | C17: MK | D17: 44236 | E17: 1 | F17: H | G17: 0 | H17: 0 | I17: 0 | J17: 0 | K17: =E17+H17+I17+J17 -> 1 | N17: Russie
B18: 44235 | C18: MJ | D18: 44236 | E18: 1 | F18: H | G18: 0 | H18: 0 | I18: 0 | J18: 0 | K18: =E18+H18+I18+J18 -> 1 | N18: Sierra Leone
B19: 44235 | C19: AY | D19: 44236 | E19: 1 | F19: H | G19: 0 | H19: 0 | I19: 0 | J19: 0 | K19: =E19+H19+I19+J19 -> 1 | N19: Algérie
B20: 44235 | C20: KA | D20: 44236 | E20: 1 | F20: F | G20: 0 | H20: 0 | I20: 0 | J20: 0 | K20: =E20+H20+I20+J20 -> 1 | N20: Guinée
B21: 44235 | C21: GT | D21: 44236 | E21: 1 | F21: H | G21: 0 | H21: 0 | I21: 0 | J21: 0 | K21: =E21+H21+I21+J21 -> 1 | N21: Géorgie
B22: 44236 | C22: FA | D22: 44237 | E22: 0 | G22: 1 | H22: 2 | I22: 2 | J22: 0 | K22: =E22+H22+I22+J22 -> 4 | L22: 2 - 6 ans | N22: Albanie
B23: 44236 | C23: SH | D23: 44237 | E23: 1 | F23: H | G23: 0 | H23: 0 | I23: 0 | J23: 0 | K23: =E23+H23+I23+J23 -> 1 | N23: Afghanistan
B24: 44237 | C24: ZD | D24: 44238 | E24: 0 | G24: 1 | H24: 2 | I24: 0 | J24: 0 | K24: =E24+H24+I24+J24 -> 2 | N24: Géorgie
B25: 44237 | C25: VB | D25: 44238 | E25: 0 | G25: 1 | H25: 2 | I25: 0 | J25: 0 | K25: =E25+H25+I25+J25 -> 2 | N25: Géorgie
B26: 44237 | C26: BG | D26: 44238 | E26: 1 | F26: H | G26: 0 | H26: 0 | I26: 0 | J26: 0 | K26: =E26+H26+I26+J26 -> 1 | N26: Géorgie
B27: 44237 | C27: AN | D27: 44238 | E27: 1 | F27: H | G27: 0 | H27: 0 | I27: 0 | J27: 0 | K27: =E27+H27+I27+J27 -> 1 | N27: Croatie
B28: 44237 | C28: AK | D28: 44242 | E28: 1 | F28: H | G28: 0 | H28: 0 | I28: 0 | J28: 0 | K28: =E28+H28+I28+J28 -> 1 | N28: Afghanistan
B29: 44237 | C29: DJ | D29: 44238 | E29: 0 | G29: 1 | H29: 2 | I29: 0 | J29: 0 | K29: =E29+H29+I29+J29 -> 2 | N29: Géorgie
B30: 44237 | C30: OE | D30: 44238 | E30: 1 | F30: H | G30: 0 | H30: 0 | I30: 0 | J30: 0 | K30: =E30+H30+I30+J30 -> 1 | N30: Nigéria
B31: 44237 | C31: KL | D31: 44238 | E31: 1 | F31: H | G31: 0 | H31: 0 | I31: 0 | J31: 0 | K31: =E31+H31+I31+J31 -> 1 | N31: Géorgie
B32: 44238 | C32: OM | D32: 44239 | E32: 0 | G32: 0 | H32: 0 | I32: 1 | J32: 0 | K32: =E32+H32+I32+J32 -> 1 | N32: Nigéria
B33: 44238 | C33: NS | E33: 1 | F33: F | G33: 0 | H33: 0 | I33: 0 | J33: 0 | K33: =E33+H33+I33+J33 -> 1 | N33: Azerbaïdjan
B34: 44238 | C34: NM | D34: 44239 | E34: 0 | G34: 1 | H34: 2 | I34: 0 | J34: 0 | K34: =E34+H34+I34+J34 -> 2 | N34: Azerbaïdjan
B35: 44238 | C35: EO | D35: 44244 | E35: 1 | F35: H | G35: 0 | H35: 0 | I35: 0 | J35: 0 | K35: =E35+H35+I35+J35 -> 1 | N35: Nigéria
B36: 44238 | C36: ZG | E36: 1 | F36: H | G36: 0 | H36: 0 | I36: 0 | J36: 0 | K36: =E36+H36+I36+J36 -> 1 | N36: Géorgie
B37: 44238 | C37: SA | E37: 1 | F37: H | G37: 0 | H37: 0 | I37: 0 | J37: 0 | K37: =E37+H37+I37+J37 -> 1 | N37: Guinée
B38: 44238 | C38: UO | E38: 1 | F38: H | G38: 0 | H38: 0 | I38: 0 | J38: 0 | K38: =E38+H38+I38+J38 -> 1 | N38: Nigéria
B39: 44238 | C39: NS | E39: 1 | F39: H | G39: 0 | H39: 0 | I39: 0 | J39: 0 | K39: =E39+H39+I39+J39 -> 1 | N39: Azerbaïdjan
B40: 44239 | C40: DM | D40: 44244 | E40: 1 | F40: H | G40: 0 | H40: 0 | I40: 0 | J40: 0 | K40: =E40+H40+I40+J40 -> 1 | N40: Guinée
B41: 44239 | C41: ME | D41: 44242 | E41: 1 | F41: F | G41: 0 | H41: 0 | I41: 0 | J41: 0 | K41: =E41+H41+I41+J41 -> 1 | N41: Congo RDC
B42: 44239 | C42: GG | D42: 44244 | E42: 1 | F42: H | G42: 0 | H42: 0 | I42: 0 | J42: 0 | K42: =E42+H42+I42+J42 -> 1 | N42: Côte d'Ivoire
B43: 44239 | C43: AS | D43: 44242 | E43: 0 | G43: 1 | H43: 1 | I43: 1 | J43: 0 | K43: =E43+H43+I43+J43 -> 2 | L43: 13 ans | N43: Géorgie
B44: 44239 | C44: KY | D44: 44242 | E44: 1 | F44: H | G44: 0 | H44: 0 | I44: 0 | J44: 0 | K44: 1 | N44: Burundi
B45: 44239 | C45: VA | D45: 44242 | E45: 1 | F45: H | G45: 0 | H45: 0 | I45: 0 | J45: 0 | K45: =E45+H45+I45+J45 -> 1 | N45: Albanie
B46: 44239 | C46: SI | D46: 44242 | E46: 1 | F46: H | G46: 0 | H46: 0 | I46: 0 | J46: 0 | K46: 1 | N46: Russie
B47: 44239 | C47: KK | D47: 44242 | E47: 1 | F47: H | G47: 0 | H47: 0 | I47: 0 | J47: 0 | K47: =E47+H47+I47+J47 -> 1 | N47: Arménie
B48: 44239 | C48: AH | D48: 44244 | E48: 1 | F48: H | G48: 0 | H48: 0 | I48: 0 | J48: 0 | K48: =E48+H48+I48+J48 -> 1 | N48: Afghanistan
B49: 44239 | C49: EN | D49: 44244 | E49: 0 | G49: 0 | H49: 0 | I49: 1 | J49: 0 | K49: =E49+H49+I49+J49 -> 1 | L49: Né le 02/06/2020 | N49: Géorgie
B50: 44239 | C50: NO | D50: 44250 | E50: 1 | F50: H | G50: 0 | H50: 0 | I50: 0 | J50: 0 | K50: =E50+H50+I50+J50 -> 1 | N50: Congo RDC
B51: 44242 | C51: NE | D51: 44244 | E51: 1 | F51: H | G51: 0 | H51: 0 | I51: 0 | J51: 0 | K51: =E51+H51+I51+J51 -> 1 | N51: Géorgie
B52: 44242 | C52: MC | D52: 44244 | E52: 1 | F52: H | G52: 0 | H52: 0 | I52: 0 | J52: 0 | K52: =E52+H52+I52+J52 -> 1 | N52: Somalie
B53: 44242 | C53: HO | D53: 44243 | E53: 1 | F53: H | G53: 0 | H53: 0 | I53: 0 | J53: 0 | K53: =E53+H53+I53+J53 -> 1 | N53: Somalie
B54: 44242 | C54: AS | D54: 44244 | E54: 1 | F54: F | G54: 0 | H54: 0 | I54: 0 | J54: 0 | K54: =E54+H54+I54+J54 -> 1 | N54: Syrie
B55: 44242 | C55: RR | D55: 44244 | E55: 0 | G55: 1 | H55: 2 | I55: 0 | J55: 0 | K55: =E55+H55+I55+J55 -> 2 | N55: Géorgie
B56: 44242 | C56: OA | D56: 44244 | E56: 1 | F56: H | G56: 0 | H56: 0 | I56: 0 | J56: 0 | K56: =E56+H56+I56+J56 -> 1 | N56: Ghana
B57: 44242 | C57: MI | D57: 44249 | E57: 1 | F57: H | G57: 0 | H57: 0 | I57: 0 | J57: 0 | K57: 1 | N57: Libye
B58: 44242 | C58: HA | D58: 44245 | E58: 1 | F58: H | G58: 0 | H58: 0 | I58: 0 | J58: 0 | K58: =E58+H58+I58+J58 -> 1 | N58: Pakistan
B59: 44242 | C59: MT | D59: 44258 | E59: 0 | G59: 1 | H59: 2 | I59: 2 | J59: 0 | K59: =E59+H59+I59+J59 -> 4 | L59: 13 -15 ans | N59: Géorgie
B60: 44242 | C60: GD | D60: 44245 | E60: 1 | F60: H | G60: 0 | H60: 0 | I60: 0 | J60: 0 | K60: =E60+H60+I60+J60 -> 1 | N60: Géorgie
B61: 44242 | C61: QZ | D61: 44245 | E61: 1 | F61: H | G61: 0 | H61: 0 | I61: 0 | J61: 0 | K61: =E61+H61+I61+J61 -> 1 | N61: Afghanistan
B62: 44242 | C62: MA | D62: 44249 | E62: 1 | F62: H | G62: 0 | H62: 0 | I62: 0 | J62: 0 | K62: =E62+H62+I62+J62 -> 1 | N62: Somalie
B63: 44242 | C63: CN | D63: 44245 | E63: 1 | F63: F | G63: 0 | H63: 0 | I63: 0 | J63: 0 | K63: =E63+H63+I63+J63 -> 1 | N63: Géorgie
B64: 44243 | C64: AA | D64: 44245 | E64: 1 | F64: H | G64: 0 | H64: 0 | I64: 0 | J64: 0 | K64: =E64+H64+I64+J64 -> 1 | N64: Somalie
B65: 44243 | C65: NM | D65: 44244 | E65: 1 | F65: F | G65: 0 | H65: 0 | I65: 0 | J65: 0 | K65: =E65+H65+I65+J65 -> 1 | N65: Cameroun
B66: 44243 | C66: SL | D66: 44244 | E66: 0 | G66: 1 | H66: 1 | I66: 1 | J66: 0 | K66: =E66+H66+I66+J66 -> 2 | L66: 1 mois | N66: Géorgie
B67: 44244 | C67: NH | D67: 44245 | E67: 0 | G67: 0 | H67: 0 | I67: 1 | J67: 0 | K67: =E67+H67+I67+J67 -> 1 | N67: Somalie
B68: 44244 | C68: DB | D68: 44245 | E68: 1 | F68: H | G68: 0 | H68: 0 | I68: 0 | J68: 0 | K68: =E68+H68+I68+J68 -> 1 | N68: Afghanistan
B69: 44244 | C69: DN | D69: 44245 | E69: 1 | F69: H | G69: 0 | H69: 0 | I69: 0 | J69: 0 | K69: =E69+H69+I69+J69 -> 1 | N69: Guinée
B70: 44244 | C70: BG | D70: 44245 | E70: 1 | F70: H | G70: 0 | H70: 0 | I70: 0 | J70: 0 | K70: =E70+H70+I70+J70 -> 1 | N70: Géorgie
B71: 44244 | C71: SM | D71: 44245 | E71: 1 | F71: H | G71: 0 | H71: 0 | I71: 0 | J71: 0 | K71: =E71+H71+I71+J71 -> 1 | N71: Somalie
B72: 44244 | C72: TS | D72: 44246 | E72: 0 | G72: 1 | H72: 2 | I72: 0 | J72: 1 | K72: =E72+H72+I72+J72 -> 3 | N72: Kosovo
B73: 44244 | C73: JP | D73: 44245 | E73: 1 | F73: F | G73: 0 | H73: 0 | I73: 0 | J73: 0 | K73: =E73+H73+I73+J73 -> 1 | N73: Nigéria
B74: 44244 | C74: SD | D74: 44246 | E74: 1 | F74: H | G74: 0 | H74: 0 | I74: 0 | J74: 0 | K74: =E74+H74+I74+J74 -> 1 | N74: Albanie
B75: 44244 | C75: DK | E75: 0 | G75: 1 | H75: 1 | I75: 2 | J75: 0 | K75: =E75+H75+I75+J75 -> 3 | L75: 11 - 16 ans | N75: Arménie
B76: 44245 | C76: HA | D76: 44246 | E76: 1 | F76: H | G76: 0 | H76: 0 | I76: 0 | J76: 0 | K76: =E76+H76+I76+J76 -> 1 | N76: Arménie
B77: 44245 | C77: KD | D77: 44249 | E77: 1 | F77: H | G77: 0 | H77: 0 | I77: 0 | J77: 0 | K77: =E77+H77+I77+J77 -> 1 | N77: Géorgie
B78: 44245 | C78: AS | D78: 44246 | E78: 1 | F78: H | G78: 0 | H78: 0 | I78: 0 | J78: 0 | K78: =E78+H78+I78+J78 -> 1 | N78: Pakistan
B79: 44245 | C79: SO | D79: 44246 | E79: 1 | F79: H | G79: 0 | H79: 0 | I79: 0 | J79: 0 | K79: =E79+H79+I79+J79 -> 1 | N79: Afghanistan
B80: 44245 | C80: FI | D80: 44246 | E80: 1 | F80: H | G80: 0 | H80: 0 | I80: 0 | J80: 0 | K80: =E80+H80+I80+J80 -> 1 | N80: Égypte
B81: 44245 | C81: QA | D81: 44246 | E81: 1 | F81: H | G81: 0 | H81: 0 | I81: 0 | J81: 0 | K81: =E81+H81+I81+J81 -> 1 | N81: Somalie
B82: 44246 | C82: MI | D82: 44249 | E82: 1 | F82: H | G82: 0 | H82: 0 | I82: 0 | J82: 0 | K82: =E82+H82+I82+J82 -> 1 | N82: Libye
B83: 44246 | C83: GS | E83: 1 | F83: H | G83: 0 | H83: 0 | I83: 0 | J83: 0 | K83: =E83+H83+I83+J83 -> 1 | N83: Géorgie
B84: 44246 | C84: BM | D84: 44249 | E84: 1 | F84: H | G84: 0 | H84: 0 | I84: 0 | J84: 0 | K84: =E84+H84+I84+J84 -> 1 | N84: Guinée
B85: 44246 | C85: JN | D85: 44249 | E85: 0 | G85: 1 | H85: 1 | I85: 0 | J85: 1 | K85: =E85+H85+I85+J85 -> 2 | N85: Géorgie
B86: 44246 | C86: HM | D86: 44249 | E86: 0 | G86: 1 | H86: 1 | I86: 5 | J86: 1 | K86: =E86+H86+I86+J86 -> 7 | L86: 3 - 9 - 12 - 12 - 16 ans | N86: Bosnie
B87: 44246 | C87: MI | D87: 44249 | E87: 1 | F87: H | G87: 0 | H87: 0 | I87: 0 | J87: 0 | K87: =E87+H87+I87+J87 -> 1 | N87: Libye
B88: 44249 | C88: ID | D88: 44250 | E88: 1 | F88: H | G88: 0 | H88: 0 | I88: 0 | J88: 0 | K88: =E88+H88+I88+J88 -> 1 | N88: Géorgie
B89: 44249 | C89: AS | D89: 44250 | E89: 1 | F89: H | G89: 0 | H89: 0 | I89: 0 | J89: 0 | K89: =E89+H89+I89+J89 -> 1 | N89: Somalie
B90: 44249 | C90: PL | D90: 44250 | E90: 1 | F90: H | G90: 0 | H90: 0 | I90: 0 | J90: 0 | K90: =E90+H90+I90+J90 -> 1 | N90: Géorgie
B91: 44249 | C91: PG | D91: 44250 | E91: 1 | F91: H | H91: 0 | I91: 0 | J91: 0 | K91: =E91+H91+I91+J91 -> 1 | N91: Géorgie
B92: 44249 | C92: SI | D92: 44250 | E92: 0 | G92: 1 | H92: 2 | I92: 4 | J92: 0 | K92: =E92+H92+I92+J92 -> 6 | L92: 3 mois - 9 - 15 ans | N92: Turquie
B93: 44249 | C93: KA | D93: 44250 | E93: 1 | F93: H | G93: 0 | H93: 0 | I93: 0 | J93: 0 | K93: =E93+H93+I93+J93 -> 1 | N93: Brésil
B94: 44249 | C94: HB | D94: 44250 | E94: 1 | F94: F | G94: 0 | H94: 0 | I94: 0 | J94: 0 | K94: =E94+H94+I94+J94 -> 1 | N94: Albanie
B95: 44249 | C95: SM | D95: 44250 | E95: 1 | F95: H | G95: 0 | H95: 0 | I95: 0 | J95: 0 | K95: =E95+H95+I95+J95 -> 1 | N95: Burkina Faso
B96: 44250 | C96: AA | D96: 44251 | E96: 1 | F96: H | G96: 0 | H96: 0 | I96: 0 | J96: 0 | K96: =E96+H96+I96+J96 -> 1 | N96: Russie
B97: 44250 | C97: DM | D97: 44251 | E97: 1 | F97: H | G97: 0 | H97: 0 | I97: 0 | J97: 0 | K97: =E97+H97+I97+J97 -> 1 | N97: Cameroun
B98: 44250 | C98: DM | D98: 44251 | E98: 1 | F98: H | G98: 0 | H98: 0 | I98: 0 | J98: 0 | K98: =E98+H98+I98+J98 -> 1 | N98: Gambie
B99: 44251 | C99: RK | D99: 44252 | E99: 1 | F99: H | G99: 0 | H99: 0 | I99: 0 | J99: 0 | K99: =E99+H99+I99+J99 -> 1 | N99: Libye
B100: 44251 | C100: HJ | D100: 44252 | E100: 1 | F100: H | G100: 0 | H100: 0 | I100: 0 | J100: 0 | K100: =E100+H100+I100+J100 -> 1 | N100: Albanie
B101: 44251 | C101: MX | D101: 44252 | E101: 1 | F101: H | G101: 0 | H101: 0 | I101: 0 | J101: 0 | K101: =E101+H101+I101+J101 -> 1 | N101: Kosovo
B102: 44251 | C102: TN | D102: 44252 | E102: 1 | F102: F | G102: 0 | H102: 0 | I102: 0 | J102: 0 | K102: =E102+H102+I102+J102 -> 1 | N102: Côte d'Ivoire
B103: 44251 | C103: MO | D103: 44252 | E103: 0 | G103: 0 | H103: 0 | I103: 1 | J103: 0 | K103: =E103+H103+I103+J103 -> 1 | N103: Angola
B104: 44251 | C104: KF | D104: 44253 | E104: 1 | F104: H | G104: 0 | H104: 0 | I104: 0 | J104: 0 | K104: =E104+H104+I104+J104 -> 1 | N104: Afghanistan
B105: 44252 | C105: LR | D105: 44253 | E105: 1 | F105: H | G105: 0 | H105: 0 | I105: 0 | J105: 0 | K105: =E105+H105+I105+J105 -> 1 | N105: Algérie
...

Sheet Mars 2021
A5: Mars 2021
A7: Date D'enregistrement | B7: Noms | C7: Date de convocation | D7: Nbre Isolé | E7: Sexe Isolé | F7: Nbre Familles | G7: Adultes Familles | H7: Enfants Familles | I7: Adultes Accomp. Familles | J7: Total Individus | K7: Age enfants | L7: Grossesse | M7: Pays
A8: 44256 | B8: KA | C8: 44258 | D8: 0 | F8: 1 | G8: 1 | H8: 1 | I8: 1 | J8: =D8+G8+H8+I8 -> 3 | K8: 16 - 18 ans | M8: Kosovo
A9: 44256 | B9: IE | C9: 44257 | D9: 0 | F9: 1 | G9: 2 | H9: 0 | I9: 0 | J9: =D9+G9+H9+I9 -> 2 | M9: Kosovo
A10: 44256 | B10: AA | C10: 44257 | D10: 1 | E10: H | F10: 0 | G10: 0 | H10: 0 | I10: 0 | J10: =D10+G10+H10+I10 -> 1 | M10: Somalie
A11: 44256 | B11: IT | C11: 44257 | D11: 0 | F11: 1 | G11: 2 | H11: 0 | I11: 0 | J11: =D11+G11+H11+I11 -> 2 | K11: 3 - 4 ans | M11: Géorgie
A12: 44256 | B12: LG | C12: 44257 | D12: 1 | E12: H | F12: 0 | G12: 0 | H12: 0 | I12: 0 | J12: =D12+G12+H12+I12 -> 1 | M12: Géorgie
A13: 44256 | B13: KG | C13: 44257 | D13: 1 | E13: H | F13: 0 | G13: 0 | H13: 0 | I13: 0 | J13: =D13+G13+H13+I13 -> 1 | M13: Géorgie
A14: 44256 | B14: SR | C14: 44257 | D14: 1 | E14: H | F14: 0 | G14: 0 | H14: 0 | I14: 0 | J14: =D14+G14+H14+I14 -> 1 | M14: Afghanistan
A15: 44256 | B15: HB | C15: 44257 | D15: 1 | E15: H | F15: 0 | G15: 0 | H15: 0 | I15: 0 | J15: =D15+G15+H15+I15 -> 1 | M15: Kosovo
A16: 44256 | B16: KJ | C16: 44257 | D16: 0 | F16: 0 | G16: 0 | H16: 1 | I16: 0 | J16: =D16+G16+H16+I16 -> 1 | K16: 1 an | M16: Congo RDC
A17: 44256 | B17: AZ | C17: 44257 | D17: 1 | E17: H | F17: 0 | G17: 0 | H17: 0 | I17: 0 | J17: =D17+G17+H17+I17 -> 1 | M17: Géorgie
A18: 44256 | B18: EM | C18: 44257 | D18: 0 | F18: 1 | G18: 2 | H18: 2 | I18: 0 | J18: =D18+G18+H18+I18 -> 4 | K18: 2 mois - 2 ans | M18: Nigéria
A19: 44256 | B19: ZV | C19: 44259 | D19: 1 | E19: H | F19: 0 | G19: 0 | H19: 0 | I19: 0 | J19: =D19+G19+H19+I19 -> 1 | M19: Albanie
A20: 44256 | B20: PA | C20: 44259 | D20: 1 | E20: H | F20: 0 | G20: 0 | H20: 0 | I20: 0 | J20: =D20+G20+H20+I20 -> 1 | M20: Biélorussie
A21: 44256 | B21: DJ | C21: 44257 | D21: 1 | E21: H | F21: 0 | G21: 0 | H21: 0 | I21: 0 | J21: =D21+G21+H21+I21 -> 1 | M21: Haïti
A22: 44257 | B22: TJ | C22: 44258 | D22: 0 | F22: 1 | G22: 2 | H22: 1 | I22: 0 | J22: =D22+G22+H22+I22 -> 3 | K22: 3 ans | M22: Sri Lanka
A23: 44257 | B23: HN | C23: 44258 | D23: 1 | E23: H | F23: 0 | G23: 0 | H23: 0 | I23: 0 | J23: =D23+G23+H23+I23 -> 1 | M23: Afghanistan
A24: 44257 | B24: SS | C24: 44258 | D24: 0 | F24: 0 | G24: 0 | H24: 1 | I24: 0 | J24: =D24+G24+H24+I24 -> 1 | K24: 3 ans | M24: Russie
A25: 44257 | B25: LN | C25: 44258 | D25: 1 | E25: H | F25: 0 | G25: 0 | H25: 0 | I25: 0 | J25: =D25+G25+H25+I25 -> 1 | M25: Albanie
A26: 44257 | B26: IM | C26: 44258 | D26: 0 | F26: 0 | G26: 0 | H26: 1 | I26: 0 | J26: =D26+G26+H26+I26 -> 1 | K26: 1 an | M26: Somalie
A27: 44257 | B27: ZG | C27: 44258 | D27: 1 | E27: H | F27: 0 | G27: 0 | H27: 0 | I27: 0 | J27: =D27+G27+H27+I27 -> 1 | M27: Afghanistan
A28: 44257 | B28: XE | C28: 44258 | D28: 1 | E28: H | F28: 0 | G28: 0 | H28: 0 | I28: 0 | J28: =D28+G28+H28+I28 -> 1 | M28: Albanie
A29: 44257 | B29: AF | C29: 44258 | D29: 1 | E29: H | F29: 0 | G29: 0 | H29: 0 | I29: 0 | J29: =D29+G29+H29+I29 -> 1 | M29: Nigéria
A30: 44258 | B30: CN | C30: 44259 | D30: 1 | E30: H | F30: 0 | G30: 0 | H30: 0 | I30: 0 | J30: =D30+G30+H30+I30 -> 1 | M30: Kosovo
A31: 44258 | B31: AA | C31: 44271 | D31: 0 | F31: 0 | G31: 0 | H31: 2 | I31: 0 | J31: =D31+G31+H31+I31 -> 2 | K31: 15 - 16 ans | M31: Chine
A32: 44258 | B32: SA | C32: 44259 | D32: 1 | E32: H | F32: 0 | G32: 0 | H32: 0 | I32: 0 | J32: =D32+G32+H32+I32 -> 1 | M32: Afghanistan
A33: 44258 | B33: JP | C33: 44259 | D33: 1 | E33: H | F33: 0 | G33: 0 | H33: 0 | I33: 0 | J33: =D33+G33+H33+I33 -> 1 | M33: Nigéria
A34: 44258 | B34: SR | C34: 44259 | D34: 1 | E34: H | F34: 0 | G34: 0 | H34: 0 | I34: 0 | J34: =D34+G34+H34+I34 -> 1 | M34: Afghanistan
A35: 44258 | B35: BA | C35: 44259 | D35: 1 | E35: H | F35: 0 | G35: 0 | H35: 0 | I35: 0 | J35: =D35+G35+H35+I35 -> 1 | M35: Algérie
A36: 44258 | B36: MB | C36: 44259 | D36: 1 | E36: H | F36: 0 | G36: 0 | H36: 0 | I36: 0 | J36: =D36+G36+H36+I36 -> 1 | M36: Somalie
A37: 44258 | B37: DM | C37: 44259 | D37: 1 | E37: H | F37: 0 | G37: 0 | H37: 0 | I37: 0 | J37: =D37+G37+H37+I37 -> 1 | M37: Afghanistan
A38: 44258 | B38: HE | C38: 44259 | D38: 1 | E38: H | F38: 0 | G38: 0 | H38: 0 | I38: 0 | J38: =D38+G38+H38+I38 -> 1 | M38: Turquie
A39: 44258 | B39: DM | C39: 44260 | D39: 1 | E39: H | F39: 0 | G39: 0 | H39: 0 | I39: 0 | J39: =D39+G39+H39+I39 -> 1 | M39: Russie
A40: 44259 | B40: CN | C40: 44260 | D40: 1 | E40: H | F40: 0 | G40: 0 | H40: 0 | I40: 0 | J40: =D40+G40+H40+I40 -> 1 | M40: Kosovo
A41: 44259 | B41: MA | C41: 44263 | D41: 0 | F41: 1 | G41: 1 | H41: 3 | I41: 0 | J41: =D41+G41+H41+I41 -> 4 | K41: 1 - 7 - 15 ans | M41: Kosovo
A42: 44259 | B42: OS | C42: 44260 | D42: 1 | E42: F | F42: 0 | G42: 0 | H42: 0 | I42: 0 | J42: =D42+G42+H42+I42 -> 1 | M42: Congo RDC
A43: 44259 | B43: GD | C43: 44260 | D43: 1 | E43: H | F43: 0 | G43: 0 | H43: 0 | I43: 0 | J43: =D43+G43+H43+I43 -> 1 | M43: Arménie
A44: 44259 | B44: OK | C44: 44260 | D44: 1 | E44: H | F44: 0 | G44: 0 | H44: 0 | I44: 0 | J44: =D44+G44+H44+I44 -> 1 | M44: Nigéria
A45: 44259 | B45: OJ | C45: 44260 | D45: 0 | F45: 1 | G45: 1 | H45: 1 | I45: 0 | J45: =D45+G45+H45+I45 -> 2 | K45: 2 ans | M45: Nigéria
A46: 44259 | B46: GM | C46: 44260 | D46: 1 | E46: H | F46: 0 | G46: 0 | H46: 0 | I46: 0 | J46: =D46+G46+H46+I46 -> 1 | M46: Géorgie
A47: 44260 | B47: BM | C47: 44263 | D47: 1 | E47: H | F47: 0 | G47: 0 | H47: 0 | I47: 0 | J47: =D47+G47+H47+I47 -> 1 | M47: Somalie
A48: 44260 | B48: KD | C48: 44263 | D48: 1 | E48: H | F48: 0 | G48: 0 | H48: 0 | I48: 0 | J48: =D48+G48+H48+I48 -> 1 | M48: Nigéria
A49: 44260 | B49: PL | C49: 44263 | D49: 1 | E49: H | F49: 0 | G49: 0 | H49: 0 | I49: 0 | J49: =D49+G49+H49+I49 -> 1 | M49: Arménie
A50: 44260 | B50: KD | C50: 44263 | D50: 1 | E50: H | F50: 0 | G50: 0 | H50: 0 | I50: 0 | J50: =D50+G50+H50+I50 -> 1 | M50: Géorgie
A51: 44260 | B51: NG | C51: 44263 | D51: 1 | E51: H | F51: 0 | G51: 0 | H51: 0 | I51: 0 | J51: =D51+G51+H51+I51 -> 1 | M51: Géorgie
A52: 44260 | B52: GV | C52: 44265 | D52: 1 | E52: H | F52: 0 | G52: 0 | H52: 0 | I52: 0 | J52: =D52+G52+H52+I52 -> 1 | M52: Russie
A53: 44260 | B53: JM | C53: 44263 | D53: 1 | E53: H | F53: 0 | G53: 0 | H53: 0 | I53: 0 | J53: =D53+G53+H53+I53 -> 1 | M53: Pakistan
A54: 44263 | B54: MM | C54: 44264 | D54: 1 | E54: H | F54: 0 | G54: 0 | H54: 0 | I54: 0 | J54: =D54+G54+H54+I54 -> 1 | M54: Somalie
A55: 44263 | B55: PA | C55: 44264 | D55: 1 | E55: H | F55: 0 | G55: 0 | H55: 0 | I55: 0 | J55: =D55+G55+H55+I55 -> 1 | M55: Cameroun
A56: 44263 | B56: BO | C56: 44264 | D56: 1 | E56: H | F56: 0 | G56: 0 | H56: 0 | I56: 0 | J56: =D56+G56+H56+I56 -> 1 | M56: Géorgie
A57: 44263 | B57: AA | C57: 44265 | D57: 0 | F57: 0 | G57: 0 | H57: 1 | I57: 0 | J57: =D57+G57+H57+I57 -> 1 | K57: 5 ans | M57: Kirghizistan
A58: 44263 | B58: KA | C58: 44264 | D58: 1 | E58: H | F58: 0 | G58: 0 | H58: 0 | I58: 0 | J58: =D58+G58+H58+I58 -> 1 | M58: Afghanistan
A59: 44263 | B59: DA | C59: 44264 | D59: 1 | E59: H | F59: 0 | G59: 0 | H59: 0 | I59: 0 | J59: =D59+G59+H59+I59 -> 1 | M59: Pakistan
A60: 44263 | B60: DS | C60: 44264 | D60: 1 | E60: H | F60: 0 | G60: 0 | H60: 0 | I60: 0 | J60: =D60+G60+H60+I60 -> 1 | M60: Guinée
A61: 44263 | B61: MI | C61: 44264 | D61: 1 | E61: H | F61: 0 | G61: 0 | H61: 0 | I61: 0 | J61: =D61+G61+H61+I61 -> 1 | M61: Afghanistan
A62: 44264 | B62: KP | C62: 44265 | D62: 1 | E62: H | F62: 0 | G62: 0 | H62: 0 | I62: 0 | J62: =D62+G62+H62+I62 -> 1 | M62: Rwanda
A63: 44264 | B63: UA | D63: 1 | E63: H | F63: 0 | G63: 0 | H63: 0 | I63: 0 | J63: =D63+G63+H63+I63 -> 1 | M63: Russie
A64: 44264 | B64: DM | C64: 44265 | D64: 0 | F64: 0 | G64: 0 | H64: 2 | I64: 0 | J64: =D64+G64+H64+I64 -> 2 | K64: 3 - 5 ans | M64: Guinée
A65: 44264 | B65: AY | C65: 44265 | D65: 0 | F65: 1 | G65: 1 | H65: 1 | I65: 0 | J65: =D65+G65+H65+I65 -> 2 | M65: Éthiopie
A66: 44264 | B66: AB | C66: 44265 | D66: 1 | E66: H | F66: 0 | G66: 0 | H66: 0 | I66: 0 | J66: =D66+G66+H66+I66 -> 1 | M66: Kosovo
A67: 44264 | B67: QM | C67: 44265 | D67: 1 | E67: H | F67: 0 | G67: 0 | H67: 0 | I67: 0 | J67: =D67+G67+H67+I67 -> 1 | M67: Afghanistan
A68: 44264 | B68: CA | C68: 44265 | D68: 1 | E68: F | F68: 0 | G68: 0 | H68: 0 | I68: 0 | J68: =D68+G68+H68+I68 -> 1 | M68: Côte d'Ivoire
A69: 44265 | B69: QM | C69: 44266 | D69: 1 | E69: H | F69: 0 | G69: 0 | H69: 0 | I69: 0 | J69: =D69+G69+H69+I69 -> 1 | M69: Afghanistan
A70: 44265 | B70: OA | C70: 44266 | D70: 0 | F70: 1 | G70: 2 | H70: 0 | I70: 0 | J70: =D70+G70+H70+I70 -> 2 | M70: Géorgie
A71: 44265 | B71: FR | C71: 44266 | D71: 1 | E71: H | F71: 0 | G71: 0 | H71: 0 | I71: 0 | J71: =D71+G71+H71+I71 -> 1 | M71: Cameroun
A72: 44265 | B72: LM | C72: 44266 | D72: 1 | E72: H | F72: 0 | G72: 0 | H72: 0 | I72: 0 | J72: =D72+G72+H72+I72 -> 1 | M72: Tunisie
A73: 44265 | B73: SM | C73: 44266 | D73: 1 | E73: H | F73: 0 | G73: 0 | H73: 0 | I73: 0 | J73: =D73+G73+H73+I73 -> 1 | M73: Guinée
A74: 44266 | B74: DH | C74: 44267 | D74: 0 | F74: 0 | G74: 0 | H74: 1 | I74: 0 | J74: =D74+G74+H74+I74 -> 1 | K74: 1 mois | M74: Guinée
A75: 44266 | B75: JM | C75: 44270 | D75: 1 | E75: H | F75: 0 | G75: 0 | H75: 0 | I75: 0 | J75: =D75+G75+H75+I75 -> 1 | M75: Pakistan
A76: 44264 | B76: CA | C76: 44265 | D76: 1 | E76: F | F76: 0 | G76: 0 | H76: 0 | I76: 0 | J76: 1 | M76: Côte d'Ivoire
A77: 44266 | B77: FZ | C77: 44267 | D77: 1 | E77: F | F77: 0 | G77: 0 | H77: 0 | I77: 0 | J77: =D77+G77+H77+I77 -> 1 | M77: Guinée
A78: 44266 | B78: BS | C78: 44271 | D78: 1 | E78: H | F78: 0 | G78: 0 | H78: 0 | I78: 0 | J78: =D78+G78+H78+I78 -> 1 | M78: Albanie
A79: 44266 | B79: TK | C79: 44267 | D79: 1 | E79: H | F79: 0 | G79: 0 | H79: 0 | I79: 0 | J79: =D79+G79+H79+I79 -> 1 | M79: Géorgie
A80: 44266 | B80: NM | C80: 44270 | D80: 1 | E80: H | F80: 0 | G80: 0 | H80: 0 | I80: 0 | J80: =D80+G80+H80+I80 -> 1 | M80: Russie
A81: 44266 | B81: SS | C81: 44267 | D81: 1 | E81: H | F81: 0 | G81: 0 | H81: 0 | I81: 0 | J81: =D81+G81+H81+I81 -> 1 | M81: Afghanistan
A82: 44266 | B82: KI | C82: 44267 | D82: 0 | F82: 1 | G82: 2 | H82: 0 | I82: 0 | J82: =D82+G82+H82+I82 -> 2 | M82: Géorgie
A83: 44266 | B83: GG | D83: 0 | F83: 1 | G83: 2 | H83: 1 | I83: 0 | J83: =D83+G83+H83+I83 -> 3 | K83: 5 ans | M83: Géorgie
A84: 44266 | B84: NB | C84: 44270 | D84: 1 | E84: F | F84: 0 | G84: 0 | H84: 0 | I84: 0 | J84: =D84+G84+H84+I84 -> 1 | M84: Cameroun
A85: 44266 | B85: EF | C85: 44270 | D85: 1 | E85: H | F85: 0 | G85: 0 | H85: 0 | I85: 0 | J85: =D85+G85+H85+I85 -> 1 | M85: Cameroun
A86: 44266 | B86: SH | C86: 44270 | D86: 1 | E86: F | F86: 0 | G86: 0 | H86: 0 | I86: 0 | J86: =D86+G86+H86+I86 -> 1 | M86: Libye
A87: 44267 | B87: LS | C87: 44270 | D87: 0 | F87: 1 | G87: 1 | H87: 2 | I87: 0 | J87: =D87+G87+H87+I87 -> 3 | K87: 1 - 2 ans | M87: Éthiopie
A88: 44267 | B88: BZ | C88: 44270 | D88: 1 | E88: H | F88: 0 | G88: 0 | H88: 0 | I88: 0 | J88: =D88+G88+H88+I88 -> 1 | M88: Géorgie
A89: 44270 | B89: TA | C89: 44270 | D89: 1 | E89: H | F89: 0 | G89: 0 | H89: 0 | I89: 0 | J89: =D89+G89+H89+I89 -> 1 | M89: Soudan
A90: 44270 | B90: DG | C90: 44271 | D90: 1 | E90: H | F90: 0 | G90: 0 | H90: 0 | I90: 0 | J90: =D90+G90+H90+I90 -> 1 | M90: Turquie
A91: 44270 | B91: SM | C91: 44271 | D91: 1 | E91: H | F91: 0 | G91: 0 | H91: 0 | I91: 0 | J91: =D91+G91+H91+I91 -> 1 | M91: Guinée
A92: 44270 | B92: VP | C92: 44271 | D92: 1 | E92: F | F92: 0 | G92: 0 | H92: 0 | I92: 0 | J92: =D92+G92+H92+I92 -> 1 | M92: Sri Lanka
A93: 44270 | B93: KI | C93: 44271 | D93: 1 | E93: F | F93: 0 | G93: 0 | H93: 0 | I93: 0 | J93: =D93+G93+H93+I93 -> 1 | M93: Géorgie
A94: 44270 | B94: KG | C94: 44271 | D94: 1 | E94: H | F94: 0 | G94: 0 | H94: 0 | I94: 0 | J94: =D94+G94+H94+I94 -> 1 | M94: Géorgie
A95: 44270 | B95: FA | C95: 44271 | D95: 1 | E95: H | F95: 0 | G95: 0 | H95: 0 | I95: 0 | J95: =D95+G95+H95+I95 -> 1 | M95: Syrie
A96: 44270 | B96: HK | C96: 44271 | D96: 1 | E96: F | F96: 0 | G96: 0 | H96: 0 | I96: 0 | J96: =D96+G96+H96+I96 -> 1 | M96: Syrie
A97: 44270 | B97: TI | C97: 44271 | D97: 1 | E97: F | F97: 0 | G97: 0 | H97: 0 | I97: 0 | J97: =D97+G97+H97+I97 -> 1 | M97: Géorgie
A98: 44271 | B98: IR | C98: 44272 | D98: 0 | F98: 1 | G98: 1 | H98: 3 | I98: 0 | J98: =D98+G98+H98+I98 -> 4 | K98: 1 an (jumeaux) - 3 ans | M98: Nigéria
A99: 44273 | B99: BM | C99: 44274 | D99: 1 | E99: F | F99: 0 | G99: 0 | H99: 0 | I99: 0 | J99: =D99+G99+H99+I99 -> 1 | M99: Guinée
A100: 44272 | B100: KG | C100: 44273 | D100: 1 | E100: H | F100: 0 | G100: 0 | H100: 0 | I100: 0 | J100: =D100+G100+H100+I100 -> 1 | M100: Turquie
A101: 44272 | B101: SL | C101: 44273 | D101: 1 | E101: H | F101: 0 | G101: 0 | H101: 0 | I101: 0 | J101: =D101+G101+H101+I101 -> 1 | M101: Kosovo
A102: 44272 | B102: AM | C102: 44273 | D102: 0 | F102: 1 | G102: 1 | H102: 3 | I102: 0 | J102: =D102+G102+H102+I102 -> 4 | M102: Géorgie
A103: 44272 | B103: YC | C103: 44273 | D103: 1 | E103: H | F103: 0 | G103: 0 | H103: 0 | I103: 0 | J103: =D103+G103+H103+I103 -> 1 | M103: Cameroun
A104: 44272 | B104: LM | C104: 44273 | D104: 1 | E104: H | F104: 0 | G104: 0 | H104: 0 | I104: 0 | J104: =D104+G104+H104+I104 -> 1 | M104: Tunisie
A105: 44273 | B105: AJ | D105: 1 | E105: H | F105: 0 | G105: 0 | H105: 0 | I105: 0 | J105: =D105+G105+H105+I105 -> 1 | M105: Afghanistan
...

Sheet Avril 2021
A5: Avril 2021
A7: Date D'enregistrement | B7: Noms | C7: Nbre Isolé | D7: Sexe Isolé | E7: Nbre Familles | F7: Adultes Familles | G7: Enfants Familles | H7: Adultes Accomp. Familles | I7: Total Individus | J7: Age enfants | K7: Grossesse | L7: Pays
A8: 44287 | B8: MS | C8: 0 | E8: 0 | F8: 0 | G8: 1 | H8: 0 | I8: =C8+F8+G8+H8 -> 1 | J8: 14 ans | L8: Russie
A9: 44287 | B9: DY | C9: 0 | E9: 0 | F9: 0 | G9: 1 | H9: 0 | I9: =C9+F9+G9+H9 -> 1 | J9: 4 mois | L9: Mauritanie
A10: 44287 | B10: WN | C10: 1 | D10: H | E10: 0 | F10: 0 | G10: 0 | H10: 0 | I10: =C10+F10+G10+H10 -> 1 | L10: Afghanistan
A11: 44287 | B11: MR | C11: 0 | E11: 1 | F11: 2 | G11: 6 | H11: 0 | I11: =C11+F11+G11+H11 -> 8 | J11: 5 - 9 - 11 - 13 - 14 - 16 ans | L11: Russie
A12: 44287 | B12: ZS | C12: 0 | E12: 1 | F12: 1 | G12: 1 | H12: 0 | I12: =C12+F12+G12+H12 -> 2 | J12: 8 mois | L12: Côte d'Ivoire
A13: 44287 | B13: FN | C13: 1 | D13: H | E13: 0 | F13: 0 | G13: 0 | H13: 0 | I13: =C13+F13+G13+H13 -> 1 | L13: Congo RDC
A14: 44287 | B14: MS | C14: 1 | D14: H | E14: 0 | F14: 0 | G14: 0 | H14: 0 | I14: =C14+F14+G14+H14 -> 1 | L14: Somalie
A15: 44292 | B15: MA | C15: 1 | D15: H | E15: 0 | F15: 0 | G15: 0 | H15: 0 | I15: =C15+F15+G15+H15 -> 1 | L15: Somalie
A16: 44292 | B16: OS | C16: 1 | D16: F | E16: 0 | F16: 0 | G16: 0 | H16: 0 | I16: =C16+F16+G16+H16 -> 1 | L16: Nigéria
A17: 44292 | B17: SI | C17: 0 | E17: 1 | F17: 2 | G17: 1 | H17: 0 | I17: =C17+F17+G17+H17 -> 3 | J17: 6 ans | L17: Géorgie
A18: 44292 | B18: HA | C18: 0 | E18: 1 | F18: 2 | G18: 2 | H18: 0 | I18: =C18+F18+G18+H18 -> 4 | J18: 3 - 6 ans | L18: Biélorussie
A19: 44292 | B19: CZ | C19: 1 | D19: H | E19: 0 | F19: 0 | G19: 0 | H19: 0 | I19: =C19+F19+G19+H19 -> 1 | L19: Géorgie
A20: 44292 | B20: BA | C20: 0 | E20: 1 | F20: 2 | G20: 1 | H20: 0 | I20: =C20+F20+G20+H20 -> 3 | J20: 2 ans | L20: Somalie
A21: 44293 | B21: CA | C21: 1 | D21: H | E21: 0 | F21: 0 | G21: 0 | H21: 0 | I21: =C21+F21+G21+H21 -> 1 | L21: Libye
A22: 44293 | B22: AD | C22: 1 | D22: H | E22: 0 | F22: 0 | G22: 0 | H22: 0 | I22: =C22+F22+G22+H22 -> 1 | L22: Somalie
A23: 44293 | B23: AN | C23: 1 | D23: H | E23: 0 | F23: 0 | G23: 0 | H23: 0 | I23: =C23+F23+G23+H23 -> 1 | L23: Érythrée
A24: 44294 | B24: CO | C24: 1 | D24: H | E24: 0 | F24: 0 | G24: 0 | H24: 0 | I24: =C24+F24+G24+H24 -> 1 | L24: Libye
A25: 44293 | B25: AF | C25: 1 | D25: F | E25: 0 | F25: 0 | G25: 0 | H25: 0 | I25: =C25+F25+G25+H25 -> 1 | L25: Somalie
A26: 44293 | B26: SG | C26: 0 | E26: 1 | F26: 2 | G26: 1 | H26: 0 | I26: =C26+F26+G26+H26 -> 3 | J26: 7 ans | L26: Géorgie
A27: 44294 | B27: VB | C27: 0 | E27: 1 | F27: 2 | G27: 0 | H27: 0 | I27: =C27+F27+G27+H27 -> 2 | L27: Géorgie
A28: 44294 | B28: FP | C28: 1 | D28: H | E28: 0 | F28: 0 | G28: 0 | H28: 0 | I28: =C28+F28+G28+H28 -> 1 | L28: Nigéria
A29: 44294 | B29: SA | C29: 1 | D29: H | E29: 0 | F29: 0 | G29: 0 | H29: 0 | I29: 1 | L29: Somalie
A30: 44294 | B30: KN | C30: 1 | D30: H | E30: 0 | F30: 0 | G30: 0 | H30: 0 | I30: =C30+F30+G30+H30 -> 1 | L30: Pakistan
A31: 44294 | B31: AU | C31: 1 | D31: H | E31: 0 | F31: 0 | G31: 0 | H31: 0 | I31: =C31+F31+G31+H31 -> 1 | L31: Somalie
A32: 44294 | B32: HA | C32: 1 | D32: H | E32: 0 | F32: 0 | G32: 0 | H32: 0 | I32: =C32+F32+G32+H32 -> 1 | L32: Somalie
A33: 44295 | B33: MK | C33: 1 | D33: F | E33: 0 | F33: 0 | G33: 0 | H33: 0 | I33: =C33+F33+G33+H33 -> 1 | L33: Arménie
A34: 44295 | B34: KN | C34: 1 | D34: F | E34: 0 | F34: 0 | G34: 0 | H34: 0 | I34: =C34+F34+G34+H34 -> 1 | L34: Géorgie
A35: 44299 | B35: YN | C35: 1 | D35: F | E35: 0 | F35: 0 | G35: 0 | H35: 0 | I35: =C35+F35+G35+H35 -> 1 | L35: Turquie
A36: 44299 | B36: ST | C36: 1 | D36: H | E36: 0 | F36: 0 | G36: 0 | H36: 0 | I36: =C36+F36+G36+H36 -> 1 | L36: Géorgie
A37: 44299 | B37: SK | C37: 1 | D37: H | E37: 0 | F37: 0 | G37: 0 | H37: 0 | I37: =C37+F37+G37+H37 -> 1 | L37: Nigéria
A38: 44299 | B38: SB | C38: 1 | D38: F | E38: 0 | F38: 0 | G38: 0 | H38: 1 | I38: =C38+F38+G38+H38 -> 2 | L38: Afghanistan
A39: 44299 | B39: GH | C39: 1 | D39: H | E39: 0 | F39: 0 | G39: 0 | H39: 0 | I39: =C39+F39+G39+H39 -> 1 | L39: Turquie
A40: 44299 | B40: CY | C40: 1 | D40: F | E40: 0 | F40: 0 | G40: 0 | H40: 0 | I40: =C40+F40+G40+H40 -> 1 | L40: Guinée
A41: 44300 | B41: GD | C41: 1 | D41: H | E41: 0 | F41: 0 | G41: 0 | H41: 0 | I41: =C41+F41+G41+H41 -> 1 | L41: Côte d'Ivoire
A42: 44300 | B42: TA | C42: 0 | E42: 1 | F42: 2 | G42: 1 | H42: 0 | I42: =C42+F42+G42+H42 -> 3 | J42: 4 ans | L42: Côte d'Ivoire
A43: 44300 | B43: AN | C43: 0 | E43: 1 | F43: 1 | G43: 2 | H43: 0 | I43: =C43+F43+G43+H43 -> 3 | J43: 1 - 8 ans | L43: Géorgie
A44: 44300 | B44: CM | C44: 1 | D44: H | E44: 0 | F44: 0 | G44: 0 | H44: 0 | I44: =C44+F44+G44+H44 -> 1 | L44: Géorgie
A45: 44300 | B45: MH | C45: 1 | D45: F | E45: 0 | F45: 0 | G45: 0 | H45: 0 | I45: =C45+F45+G45+H45 -> 1 | L45: Ouganda
A46: 44300 | B46: MH | C46: 1 | D46: H | E46: 0 | F46: 0 | G46: 0 | H46: 0 | I46: =C46+F46+G46+H46 -> 1 | L46: Afghanistan
A47: 44300 | B47: BS | C47: 1 | D47: H | E47: 0 | F47: 0 | G47: 0 | H47: 0 | I47: =C47+F47+G47+H47 -> 1 | L47: Syrie
A48: 44301 | B48: ST | C48: 1 | D48: F | E48: 0 | F48: 0 | G48: 0 | H48: 0 | I48: =C48+F48+G48+H48 -> 1 | L48: Géorgie
A49: 44301 | B49: KT | C49: 1 | D49: F | E49: 0 | F49: 0 | G49: 0 | H49: 0 | I49: =C49+F49+G49+H49 -> 1 | L49: Russie
A50: 44301 | B50: KL | C50: 1 | D50: H | E50: 0 | F50: 0 | G50: 0 | H50: 0 | I50: =C50+F50+G50+H50 -> 1 | L50: Géorgie
A51: 44301 | B51: AN | C51: 0 | E51: 1 | F51: 1 | G51: 2 | H51: 0 | I51: =C51+F51+G51+H51 -> 3 | L51: Liban
A52: 44301 | B52: MN | C52: 1 | D52: H | E52: 0 | F52: 0 | G52: 0 | H52: 0 | I52: =C52+F52+G52+H52 -> 1 | L52: Somalie
A53: 44301 | B53: AS | C53: 1 | D53: H | E53: 0 | F53: 0 | G53: 0 | H53: 0 | I53: =C53+F53+G53+H53 -> 1 | L53: Somalie
A54: 44301 | B54: MA | C54: 1 | D54: H | E54: 0 | F54: 0 | G54: 0 | H54: 0 | I54: =C54+F54+G54+H54 -> 1 | L54: Somalie
A55: 44301 | B55: HM | C55: 1 | D55: F | E55: 0 | F55: 0 | G55: 0 | H55: 0 | I55: =C55+F55+G55+H55 -> 1 | L55: Chine
A56: 16/04/2021 | B56: DA | C56: 1 | D56: H | E56: 0 | F56: 0 | G56: 0 | H56: 0 | I56: =C56+F56+G56+H56 -> 1 | L56: Guinée
A57: 16/04/2021 | B57: AO | C57: 0 | E57: 1 | F57: 2 | G57: 0 | H57: 0 | I57: =C57+F57+G57+H57 -> 2 | L57: Turkménistan
A58: 16/04/2021 | B58: SN | C58: 1 | D58: H | E58: 0 | F58: 0 | G58: 0 | H58: 0 | I58: =C58+F58+G58+H58 -> 1 | L58: Afghanistan
A59: 16/04/2021 | B59: FN | C59: 1 | D59: H | E59: 0 | F59: 0 | G59: 0 | H59: 0 | I59: =C59+F59+G59+H59 -> 1 | L59: Congo RDC
A60: 44302 | B60: NA | C60: 1 | D60: F | E60: 0 | F60: 0 | G60: 0 | H60: 0 | I60: =C60+F60+G60+H60 -> 1 | L60: Centrafrique
A61: 19/04/2021 | B61: AL | C61: 0 | E61: 1 | F61: 1 | G61: 1 | H61: 1 | I61: =C61+F61+G61+H61 -> 3 | L61: Russie
A62: 19/04/2021 | B62: MA | C62: 1 | D62: H | E62: 0 | F62: 0 | G62: 0 | H62: 0 | I62: =C62+F62+G62+H62 -> 1 | L62: Tchad
A63: 19/04/2021 | B63: HZ | C63: 1 | D63: F | E63: 0 | F63: 0 | G63: 0 | H63: 0 | I63: =C63+F63+G63+H63 -> 1 | L63: Afghanistan
A64: 19/04/2021 | B64: AY | C64: 0 | E64: 1 | F64: 2 | G64: 5 | H64: 0 | I64: =C64+F64+G64+H64 -> 7 | J64: 4 - 9 - 12 - 15 - 17 ans | L64: Russie
A65: 19/04/2021 | B65: OH | C65: 1 | D65: H | E65: 0 | F65: 0 | G65: 0 | H65: 0 | I65: =C65+F65+G65+H65 -> 1 | L65: Somalie
A66: 19/04/2021 | B66: GI | C66: 1 | D66: H | E66: 0 | F66: 0 | G66: 0 | H66: 0 | I66: =C66+F66+G66+H66 -> 1 | L66: Arménie
A67: 19/04/2021 | B67: VG | C67: 1 | D67: H | E67: 0 | F67: 0 | G67: 0 | H67: 0 | I67: =C67+F67+G67+H67 -> 1 | L67: Géorgie
A68: 19/04/2021 | B68: IH | C68: 1 | D68: H | E68: 0 | F68: 0 | G68: 0 | H68: 0 | I68: =C68+F68+G68+H68 -> 1 | L68: Nigéria
A69: 19/04/2021 | B69: AK | C69: 1 | D69: H | E69: 0 | F69: 0 | G69: 0 | H69: 0 | I69: =C69+F69+G69+H69 -> 1 | L69: Afghanistan
A70: 19/04/2021 | B70: FE | C70: 0 | E70: 1 | F70: 2 | G70: 2 | H70: 0 | I70: =C70+F70+G70+H70 -> 4 | J70: 9 mois - 5 ans | L70: Kosovo
A71: 19/04/2021 | B71: NN | C71: 1 | D71: F | E71: 0 | F71: 0 | G71: 0 | H71: 0 | I71: =C71+F71+G71+H71 -> 1 | L71: Albanie
A72: 19/04/2021 | B72: GG | C72: 1 | D72: F | E72: 0 | F72: 0 | G72: 1 | H72: 0 | I72: =C72+F72+G72+H72 -> 2 | J72: Né le 23/03/2021 | L72: Tchad
A73: 19/04/2021 | B73: BM | C73: 0 | E73: 1 | F73: 2 | G73: 0 | H73: 0 | I73: =C73+F73+G73+H73 -> 2 | L73: Guinée
A74: 19/04/2021 | B74: UM | C74: 1 | D74: H | E74: 0 | F74: 0 | G74: 0 | H74: 0 | I74: =C74+F74+G74+H74 -> 1 | L74: Géorgie
A75: 20/04/2021 | B75: DM | C75: 0 | E75: 1 | F75: 2 | G75: 2 | H75: 1 | I75: =C75+F75+G75+H75 -> 5 | J75: 3 - 17 ans | L75: Géorgie
A76: 20/04/2021 | B76: SI | C76: 1 | D76: H | E76: 0 | F76: 0 | G76: 0 | H76: 0 | I76: =C76+F76+G76+H76 -> 1 | L76: Guinée
A77: 44306 | B77: DK | C77: 0 | E77: 1 | F77: 2 | G77: 1 | H77: 2 | I77: =C77+F77+G77+H77 -> 5 | J77: 3 ans | L77: Géorgie
A78: 20/04/2021 | B78: NZ | C78: 1 | D78: H | E78: 0 | F78: 0 | G78: 0 | H78: 0 | I78: =C78+F78+G78+H78 -> 1 | L78: Géorgie
A79: 20/04/2021 | B79: AN | C79: 1 | D79: H | E79: 0 | F79: 0 | G79: 0 | H79: 0 | I79: =C79+F79+G79+H79 -> 1 | L79: Géorgie
A80: 20/04/2021 | B80: RV | C80: 0 | E80: 1 | F80: 2 | G80: 0 | H80: 0 | I80: =C80+F80+G80+H80 -> 2 | L80: Géorgie
A81: 20/04/2021 | B81: EA | C81: 1 | D81: H | E81: 0 | F81: 0 | G81: 0 | H81: 0 | I81: =C81+F81+G81+H81 -> 1 | L81: Érythrée
A82: 44306 | B82: PK | C82: 1 | D82: H | E82: 0 | F82: 0 | G82: 0 | H82: 0 | I82: =C82+F82+G82+H82 -> 1 | L82: Ukraine
A83: 20/04/2021 | B83: PJ | C83: 0 | E83: 1 | F83: 0 | G83: 1 | H83: 0 | I83: =C83+F83+G83+H83 -> 1 | J83: 10 ans | L83: Ukraine
A84: 20/04/2021 | B84: PN | C84: 0 | E84: 1 | F84: 1 | G84: 1 | H84: 0 | I84: =C84+F84+G84+H84 -> 2 | J84: 6 ans | L84: Ukraine
A85: 21/04/2021 | B85: AB | C85: 1 | D85: H | E85: 0 | F85: 0 | G85: 0 | H85: 0 | I85: =C85+F85+G85+H85 -> 1 | L85: Géorgie
A86: 21/04/2021 | B86: MI | C86: 1 | D86: H | E86: 0 | F86: 0 | G86: 0 | H86: 0 | I86: =C86+F86+G86+H86 -> 1 | L86: Kosovo
A87: 21/04/2021 | B87: BA | C87: 1 | D87: H | E87: 0 | F87: 0 | G87: 0 | H87: 0 | I87: =C87+F87+G87+H87 -> 1 | L87: Gambie
A88: 21/04/2021 | B88: MB | C88: 1 | D88: H | E88: 0 | F88: 0 | G88: 0 | H88: 0 | I88: =C88+F88+G88+H88 -> 1 | L88: Afghanistan
A89: 22/04/2021 | B89: SM | C89: 1 | D89: H | E89: 0 | F89: 0 | G89: 0 | H89: 0 | I89: =C89+F89+G89+H89 -> 1 | L89: Somalie
A90: 22/04/2021 | B90: SA | C90: 1 | D90: H | E90: 0 | F90: 0 | G90: 0 | H90: 0 | I90: =C90+F90+G90+H90 -> 1 | L90: Somalie
A91: 22/04/2021 | B91: KS | C91: 1 | D91: H | E91: 0 | F91: 0 | G91: 0 | H91: 0 | I91: =C91+F91+G91+H91 -> 1 | L91: Afghanistan
A92: 22/04/2021 | B92: SH | C92: 1 | D92: H | E92: 0 | F92: 0 | G92: 0 | H92: 0 | I92: =C92+F92+G92+H92 -> 1 | L92: Cameroun
A93: 44309 | B93: BB | C93: 1 | D93: H | E93: 0 | F93: 0 | G93: 0 | H93: 0 | I93: =C93+F93+G93+H93 -> 1 | L93: Guinée
A94: 44309 | B94: NT | C94: 1 | D94: F | E94: 0 | F94: 0 | G94: 0 | H94: 0 | I94: =C94+F94+G94+H94 -> 1 | L94: Géorgie
A95: 44309 | B95: MK | C95: 0 | E95: 0 | F95: 0 | G95: 1 | H95: 0 | I95: =C95+F95+G95+H95 -> 1 | J95: 2 ans | L95: Congo RDC
A96: 44309 | B96: BS | C96: 0 | E96: 1 | F96: 2 | G96: 2 | H96: 0 | I96: =C96+F96+G96+H96 -> 4 | J96: 10 - 12 ans | L96: Afghanistan
A97: 44312 | B97: SB | C97: 1 | D97: H | E97: 0 | F97: 0 | G97: 0 | H97: 0 | I97: =C97+F97+G97+H97 -> 1 | L97: Kosovo
A98: 44313 | B98: SM | C98: 1 | D98: H | E98: 0 | F98: 0 | G98: 0 | H98: 0 | I98: =C98+F98+G98+H98 -> 1 | L98: Liban
A99: 44313 | B99: EF | C99: 1 | D99: H | E99: 0 | F99: 0 | G99: 0 | H99: 0 | I99: =C99+F99+G99+H99 -> 1 | L99: Nigéria
A100: 44313 | B100: SA | C100: 1 | D100: H | E100: 0 | F100: 0 | G100: 4 | H100: 1 | I100: =C100+F100+G100+H100 -> 6 | J100: 13 - 15 - 16 - 19 ans | L100: Afghanistan
A101: 44313 | B101: BF | C101: 1 | D101: H | E101: 0 | F101: 0 | G101: 0 | H101: 0 | I101: =C101+F101+G101+H101 -> 1 | L101: Kosovo
A102: 44313 | B102: CI | C102: 1 | D102: H | E102: 0 | F102: 0 | G102: 0 | H102: 1 | I102: =C102+F102+G102+H102 -> 2 | L102: Guinée
A103: 44314 | B103: JM | C103: 1 | D103: F | E103: 0 | F103: 0 | G103: 0 | H103: 0 | I103: =C103+F103+G103+H103 -> 1 | L103: Géorgie
A104: 44314 | B104: HS | C104: 1 | D104: H | E104: 0 | F104: 0 | G104: 0 | H104: 0 | I104: =C104+F104+G104+H104 -> 1 | L104: Bangladesh
A105: 44315 | B105: BN | C105: 0 | E105: 1 | F105: 2 | G105: 1 | H105: 0 | I105: =C105+F105+G105+H105 -> 3 | J105: 8 mois | L105: Géorgie
...

Sheet Mai 2021
A5: Mai 2021
A7: Date D'enregistrement | B7: Noms | C7: Nbre Isolé | D7: Sexe Isolé | E7: Nbre Familles | F7: Adultes Familles | G7: Enfants Familles | H7: Adultes Accomp. Familles | I7: Total Individus | J7: Age enfants | K7: Grossesse | L7: Pays
A8: 44319 | B8: DG | C8: 1 | D8: F | E8: 0 | F8: 0 | G8: 0 | H8: 0 | I8: =C8+F8+G8+H8 -> 1 | L8: Angola
A9: 44319 | B9: AA | C9: 1 | D9: H | E9: 0 | F9: 0 | G9: 0 | H9: 0 | I9: =C9+F9+G9+H9 -> 1 | L9: Tchad
A10: 44319 | B10: SM | C10: 0 | E10: 1 | F10: 2 | G10: 1 | H10: 0 | I10: =C10+F10+G10+H10 -> 3 | J10: 1 an | L10: Ukraine
A11: 44319 | B11: MZ | C11: 1 | D11: F | E11: 0 | F11: 0 | G11: 0 | H11: 0 | I11: =C11+F11+G11+H11 -> 1 | L11: Afghanistan
A12: 44319 | B12: KA | C12: 1 | D12: H | E12: 0 | F12: 0 | G12: 0 | H12: 0 | I12: =C12+F12+G12+H12 -> 1 | L12: Nigéria
A13: 44319 | B13: AB | C13: 1 | D13: H | E13: 0 | F13: 0 | G13: 0 | H13: 0 | I13: =C13+F13+G13+H13 -> 1 | L13: Géorgie
A14: 44319 | B14: EM | C14: 1 | D14: H | E14: 0 | F14: 0 | G14: 0 | H14: 0 | I14: =C14+F14+G14+H14 -> 1 | L14: Nigéria
A15: 44319 | B15: IY | C15: 1 | D15: H | E15: 0 | F15: 0 | G15: 0 | H15: 0 | I15: =C15+F15+G15+H15 -> 1 | L15: Érythrée
A16: 44319 | B16: BI | C16: 1 | D16: H | E16: 0 | F16: 0 | G16: 0 | H16: 0 | I16: =C16+F16+G16+H16 -> 1 | L16: Géorgie
A17: 44319 | B17: BA | C17: 1 | D17: H | E17: 0 | F17: 0 | G17: 0 | H17: 0 | I17: =C17+F17+G17+H17 -> 1 | L17: Érythrée
A18: 44319 | B18: KA | C18: 1 | D18: H | E18: 0 | F18: 0 | G18: 0 | H18: 0 | I18: =C18+F18+G18+H18 -> 1 | L18: Géorgie
A19: 44319 | B19: NZ | C19: 0 | E19: 1 | F19: 2 | G19: 3 | H19: 0 | I19: =C19+F19+G19+H19 -> 5 | J19: 9 mois -1 - 5 ans | L19: Géorgie
A20: 44319 | B20: GA | C20: 0 | E20: 1 | F20: 2 | G20: 2 | H20: 0 | I20: =C20+F20+G20+H20 -> 4 | J20: 7 - 11 ans | L20: Arménie
A21: 44319 | B21: MG | C21: 0 | E21: 1 | F21: 2 | G21: 0 | H21: 0 | I21: =C21+F21+G21+H21 -> 2 | L21: Géorgie
A22: 44319 | B22: EJ | C22: 1 | D22: H | E22: 0 | F22: 0 | G22: 0 | H22: 0 | I22: =C22+F22+G22+H22 -> 1 | L22: Nigéria
A23: 44320 | B23: AM | C23: 0 | E23: 0 | F23: 0 | G23: 3 | H23: 0 | I23: =C23+F23+G23+H23 -> 3 | J23: 1 - 3 - 16 ans | L23: Afghanistan
A24: 44320 | B24: GK | C24: 0 | E24: 1 | F24: 1 | G24: 2 | H24: 0 | I24: =C24+F24+G24+H24 -> 3 | J24: 10 - 11 ans | L24: Géorgie
A25: 44320 | B25: MM | C25: 1 | D25: H | E25: 0 | F25: 0 | G25: 0 | H25: 0 | I25: =C25+F25+G25+H25 -> 1 | L25: Pakistan
A26: 44320 | B26: JA | C26: 1 | D26: H | E26: 0 | F26: 0 | G26: 0 | H26: 0 | I26: =C26+F26+G26+H26 -> 1 | L26: Somalie
A27: 44320 | B27: KR | C27: 1 | D27: H | E27: 0 | F27: 0 | G27: 0 | H27: 0 | I27: =C27+F27+G27+H27 -> 1 | L27: Géorgie
A28: 44321 | B28: TS | C28: 0 | E28: 1 | F28: 2 | G28: 2 | H28: 0 | I28: =C28+F28+G28+H28 -> 4 | J28: 2 - 7 ans | L28: Géorgie
A29: 44321 | B29: DA | C29: 1 | D29: H | E29: 0 | F29: 0 | G29: 0 | H29: 0 | I29: =C29+F29+G29+H29 -> 1 | L29: Macedoine
A30: 44321 | B30: BY | C30: 1 | D30: H | E30: 0 | F30: 0 | G30: 0 | H30: 0 | I30: =C30+F30+G30+H30 -> 1 | L30: Algérie
A31: 44321 | B31: OA | C31: 1 | D31: H | E31: 0 | F31: 0 | G31: 0 | H31: 0 | I31: =C31+F31+G31+H31 -> 1 | L31: Turquie
A32: 44321 | B32: CF | C32: 1 | D32: H | E32: 0 | F32: 0 | G32: 0 | H32: 0 | I32: =C32+F32+G32+H32 -> 1 | L32: Turquie
A33: 44322 | B33: DM | C33: 1 | D33: H | E33: 0 | F33: 0 | G33: 0 | H33: 0 | I33: =C33+F33+G33+H33 -> 1 | L33: Guinée
A34: 44322 | B34: TS | C34: 1 | D34: F | E34: 0 | F34: 0 | G34: 0 | H34: 0 | I34: =C34+F34+G34+H34 -> 1 | L34: Côte d'Ivoire
A35: 44322 | B35: KK | C35: 1 | D35: H | E35: 0 | F35: 0 | G35: 0 | H35: 0 | I35: =C35+F35+G35+H35 -> 1 | L35: Côte d'ivoire
A36: 44322 | B36: ON | C36: 1 | D36: H | E36: 0 | F36: 0 | G36: 0 | H36: 0 | I36: =C36+F36+G36+H36 -> 1 | L36: Algérie
A37: 44322 | B37: BM | C37: 0 | E37: 1 | F37: 2 | G37: 1 | H37: 0 | I37: =C37+F37+G37+H37 -> 3 | J37: 1 an | L37: Géorgie
A38: 44322 | B38: DM | C38: 0 | E38: 0 | F38: 0 | G38: 1 | H38: 0 | I38: =C38+F38+G38+H38 -> 1 | J38: Né le 04/04/2020 | L38: Portugal
A39: 44322 | B39: KO | C39: 1 | D39: H | E39: 0 | F39: 0 | G39: 0 | H39: 0 | I39: =C39+F39+G39+H39 -> 1 | L39: Ukraine
A40: 44322 | B40: AH | C40: 1 | D40: H | E40: 0 | F40: 0 | G40: 0 | H40: 0 | I40: =C40+F40+G40+H40 -> 1 | L40: Somalie
A41: 44322 | B41: NA | C41: 0 | E41: 1 | F41: 2 | G41: 4 | H41: 1 | I41: =C41+F41+G41+H41 -> 7 | J41: 5 - 13 - 13 - 15 - 17 - 19 ans | L41: Russie
A42: 44322 | B42: SS | C42: 1 | D42: H | E42: 0 | F42: 0 | G42: 0 | H42: 0 | I42: =C42+F42+G42+H42 -> 1 | L42: Érythrée
A43: 44322 | B43: DS | C43: 1 | D43: H | E43: 0 | F43: 0 | G43: 0 | H43: 0 | I43: =C43+F43+G43+H43 -> 1 | L43: Côte d'Ivoire
A44: 44322 | B44: MV | C44: 1 | D44: H | E44: 0 | F44: 0 | G44: 0 | H44: 0 | I44: =C44+F44+G44+H44 -> 1 | L44: Géorgie
A45: 44322 | B45: NS | C45: 0 | E45: 1 | F45: 2 | G45: 3 | H45: 0 | I45: =C45+F45+G45+H45 -> 5 | J45: 1 - 4 - 8 ans | L45: Russie
A46: 44322 | B46: NA | C46: 0 | E46: 0 | F46: 0 | G46: 1 | H46: 0 | I46: =C46+F46+G46+H46 -> 1 | L46: Russie
A47: 44323 | B47: MS | C47: 0 | E47: 1 | F47: 1 | G47: 1 | H47: 0 | I47: =C47+F47+G47+H47 -> 2 | J47: 5 mois | L47: Somalie
A48: 44323 | B48: MM | C48: 1 | D48: H | E48: 0 | F48: 0 | G48: 0 | H48: 0 | I48: =C48+F48+G48+H48 -> 1 | L48: Afghanistan
A49: 44323 | B49: KM | C49: 1 | D49: F | E49: 0 | F49: 0 | G49: 0 | H49: 0 | I49: =C49+F49+G49+H49 -> 1 | L49: Albanie
A50: 44323 | B50: TM | C50: 1 | D50: H | E50: 0 | F50: 0 | G50: 0 | H50: 0 | I50: =C50+F50+G50+H50 -> 1 | L50: Guinée
A51: 44323 | B51: AE | C51: 1 | D51: H | E51: 0 | F51: 0 | G51: 0 | H51: 0 | I51: =C51+F51+G51+H51 -> 1 | L51: Bosnie
A52: 44323 | B52: TA | C52: 1 | D52: F | E52: 0 | F52: 0 | G52: 0 | H52: 0 | I52: =C52+F52+G52+H52 -> 1 | L52: Algérie
A53: 44323 | B53: KI | C53: 1 | D53: H | E53: 0 | F53: 0 | G53: 0 | H53: 0 | I53: =C53+F53+G53+H53 -> 1 | L53: Russie
A54: 44326 | B54: DB | C54: 1 | D54: H | E54: 0 | F54: 0 | G54: 0 | H54: 0 | I54: =C54+F54+G54+H54 -> 1 | L54: Mali
A55: 44326 | B55: OW | C55: 0 | E55: 1 | F55: 2 | G55: 3 | H55: 0 | I55: =C55+F55+G55+H55 -> 5 | L55: Nigéria
A56: 44326 | B56: SU | C56: 0 | E56: 1 | F56: 2 | G56: 3 | H56: 1 | I56: =C56+F56+G56+H56 -> 6 | J56: 4 - 13 -16 -18 ans | L56: Russie
A57: 44326 | B57: UD | C57: 1 | D57: H | E57: 0 | F57: 0 | G57: 0 | H57: 0 | I57: =C57+F57+G57+H57 -> 1 | L57: Nigéria
A58: 44326 | B58: GG | C58: 1 | D58: H | E58: 0 | F58: 0 | G58: 0 | H58: 0 | I58: =C58+F58+G58+H58 -> 1 | L58: Géorgie
A59: 44326 | B59: MD | C59: 1 | D59: F | E59: 0 | F59: 0 | G59: 0 | H59: 0 | I59: =C59+F59+G59+H59 -> 1 | L59: Géorgie
A60: 44326 | B60: SM | C60: 1 | D60: H | E60: 0 | F60: 0 | G60: 0 | H60: 0 | I60: =C60+F60+G60+H60 -> 1 | L60: Sierra-Léone
A61: 44326 | B61: KA | C61: 1 | D61: H | E61: 0 | F61: 0 | G61: 0 | H61: 0 | I61: =C61+F61+G61+H61 -> 1 | L61: Géorgie
A62: 44326 | B62: TM | C62: 0 | E62: 1 | F62: 1 | G62: 4 | H62: 0 | I62: =C62+F62+G62+H62 -> 5 | J62: 4 - 7 - 9 - 10 ans | L62: Russie
A63: 44326 | B63: GM | C63: 1 | D63: H | E63: 0 | F63: 0 | G63: 0 | H63: 0 | I63: =C63+F63+G63+H63 -> 1 | L63: Turquie
A64: 44327 | B64: UD | C64: 1 | D64: H | E64: 0 | F64: 0 | G64: 0 | H64: 0 | I64: =C64+F64+G64+H64 -> 1 | L64: Nigéria
A65: 44327 | B65: KG | C65: 0 | E65: 1 | F65: 2 | G65: 0 | H65: 0 | I65: =C65+F65+G65+H65 -> 2 | L65: Arménie
A66: 44327 | B66: UI | C66: 1 | D66: H | E66: 0 | F66: 0 | G66: 0 | H66: 0 | I66: =C66+F66+G66+H66 -> 1 | L66: Géorgie
A67: 44327 | B67: TA | C67: 0 | E67: 1 | F67: 2 | G67: 1 | H67: 3 | I67: =C67+F67+G67+H67 -> 6 | J67: 15 ans | L67: Russie
A68: 44327 | B68: HL | C68: 1 | D68: H | E68: 0 | F68: 0 | G68: 0 | H68: 0 | I68: =C68+F68+G68+H68 -> 1 | L68: Guinée
A69: 44327 | B69: SP | C69: 1 | D69: H | E69: 0 | F69: 0 | G69: 0 | H69: 0 | I69: =C69+F69+G69+H69 -> 1 | L69: Albanie
A70: 44327 | B70: SK | C70: 1 | D70: H | E70: 0 | F70: 0 | G70: 0 | H70: 0 | I70: =C70+F70+G70+H70 -> 1 | L70: Guinée
A71: 44327 | B71: HS | C71: 0 | E71: 1 | F71: 2 | G71: 0 | H71: 0 | I71: =C71+F71+G71+H71 -> 2 | L71: Arménie
A72: 44327 | B72: SU | C72: 1 | D72: H | E72: 0 | F72: 0 | G72: 0 | H72: 1 | I72: =C72+F72+G72+H72 -> 2 | L72: Afghanistan
A73: 44327 | B73: ON | C73: 1 | D73: H | E73: 0 | F73: 0 | G73: 0 | H73: 0 | I73: =C73+F73+G73+H73 -> 1 | L73: Algérie
A74: 44327 | B74: SK | C74: 1 | D74: H | E74: 0 | F74: 0 | G74: 0 | H74: 0 | I74: =C74+F74+G74+H74 -> 1 | L74: Guinée
A75: 44328 | B75: MO | C75: 1 | D75: H | E75: 0 | F75: 0 | G75: 0 | H75: 0 | I75: =C75+F75+G75+H75 -> 1 | L75: Tchad
A76: 44328 | B76: KG | C76: 1 | D76: H | E76: 0 | F76: 0 | G76: 0 | H76: 0 | I76: =C76+F76+G76+H76 -> 1 | L76: Turquie
A77: 44328 | B77: AA | C77: 1 | D77: H | E77: 0 | F77: 0 | G77: 0 | H77: 0 | I77: =C77+F77+G77+H77 -> 1 | L77: Turquie
A78: 44328 | B78: AB | C78: 1 | D78: H | E78: 0 | F78: 0 | G78: 0 | H78: 0 | I78: =C78+F78+G78+H78 -> 1 | L78: Syrie
A79: 44328 | B79: SF | C79: 1 | D79: F | E79: 0 | F79: 0 | G79: 0 | H79: 0 | I79: =C79+F79+G79+H79 -> 1 | L79: Somalie
A80: 44328 | B80: EJ | C80: 1 | D80: H | E80: 0 | F80: 0 | G80: 0 | H80: 0 | I80: =C80+F80+G80+H80 -> 1 | L80: Cameroun
A81: 44328 | B81: ZA | C81: 0 | E81: 1 | F81: 2 | G81: 0 | H81: 0 | I81: =C81+F81+G81+H81 -> 2 | L81: Géorgie
A82: 44328 | B82: AA | C82: 0 | E82: 0 | F82: 0 | G82: 1 | H82: 0 | I82: =C82+F82+G82+H82 -> 1 | J82: Né le 14/01/2021 | L82: Afghanistan
A83: 44328 | B83: AM | C83: 1 | D83: H | E83: 0 | F83: 0 | G83: 0 | H83: 0 | I83: =C83+F83+G83+H83 -> 1 | L83: Somalie
A84: 14/05/2021 | B84: KR | C84: 1 | D84: H | E84: 0 | F84: 0 | G84: 0 | H84: 0 | I84: =C84+F84+G84+H84 -> 1 | L84: Géorgie
A85: 17/05/2021 | B85: KG | C85: 0 | E85: 0 | F85: 0 | G85: 1 | H85: 0 | I85: =C85+F85+G85+H85 -> 1 | J85: 4 mois | L85: Géorgie
A86: 17/05/2021 | B86: KA | C86: 1 | D86: H | E86: 0 | F86: 0 | G86: 0 | H86: 0 | I86: =C86+F86+G86+H86 -> 1 | L86: Kosovo
A87: 17/05/2021 | B87: BV | C87: 0 | E87: 1 | F87: 2 | G87: 1 | H87: 0 | I87: =C87+F87+G87+H87 -> 3 | J87: 6 ans | L87: Ukraine
A88: 17/05/2021 | B88: HM | C88: 1 | D88: H | E88: 0 | F88: 0 | G88: 0 | H88: 0 | I88: =C88+F88+G88+H88 -> 1 | L88: Guinée
A89: 17/05/2021 | B89: KA | C89: 1 | D89: H | E89: 0 | F89: 0 | G89: 0 | H89: 0 | I89: =C89+F89+G89+H89 -> 1 | L89: Guinée
A90: 17/05/2021 | B90: BA | C90: 1 | D90: H | E90: 0 | F90: 0 | G90: 0 | H90: 0 | I90: =C90+F90+G90+H90 -> 1 | L90: Guinée
A91: 17/05/2021 | B91: ZO | C91: 1 | D91: H | E91: 0 | F91: 0 | G91: 0 | H91: 0 | I91: =C91+F91+G91+H91 -> 1 | L91: Afghanistan
A92: 17/05/2021 | B92: KT | C92: 1 | D92: H | E92: 0 | F92: 0 | G92: 0 | H92: 0 | I92: =C92+F92+G92+H92 -> 1 | L92: Afghanistan
A93: 17/05/2021 | B93: NA | C93: 1 | D93: H | E93: 0 | F93: 0 | G93: 0 | H93: 0 | I93: =C93+F93+G93+H93 -> 1 | L93: Cameroun
A94: 17/05/2021 | B94: SK | C94: 0 | E94: 0 | F94: 0 | G94: 1 | H94: 0 | I94: =C94+F94+G94+H94 -> 1 | J94: 5 ans | L94: Guinée
A95: 17/05/2021 | B95: RA | C95: 1 | D95: H | E95: 0 | F95: 0 | G95: 0 | H95: 0 | I95: =C95+F95+G95+H95 -> 1 | L95: Somalie
A96: 17/05/2021 | B96: KM | C96: 1 | D96: H | E96: 0 | F96: 0 | G96: 0 | H96: 0 | I96: =C96+F96+G96+H96 -> 1 | L96: Biélorussie
A97: 17/05/2021 | B97: PG | C97: 0 | E97: 1 | F97: 1 | G97: 2 | H97: 0 | I97: =C97+F97+G97+H97 -> 3 | J97: 8 - 14 ans | L97: Albanie
A98: 17/05/2021 | B98: AH | C98: 1 | D98: H | E98: 0 | F98: 0 | G98: 0 | H98: 0 | I98: =C98+F98+G98+H98 -> 1 | L98: Afghanistan
A99: 17/05/2021 | B99: IS | C99: 0 | E99: 1 | F99: 2 | G99: 1 | H99: 0 | I99: =C99+F99+G99+H99 -> 3 | J99: 11 mois et 2 ans | L99: Nigéria
A100: 17/05/2021 | B100: ET | C100: 0 | E100: 1 | F100: 1 | G100: 1 | H100: 0 | I100: =C100+F100+G100+H100 -> 2 | J100: 17 ans | L100: Géorgie
A101: 17/05/2021 | B101: SI | C101: 1 | D101: F | E101: 0 | F101: 0 | G101: 0 | H101: 0 | I101: =C101+F101+G101+H101 -> 1 | L101: Géorgie
A102: 17/05/2021 | B102: BG | C102: 0 | E102: 1 | F102: 2 | G102: 1 | H102: 0 | I102: =C102+F102+G102+H102 -> 3 | J102: 4 ans | L102: Géorgie
A103: 17/05/2021 | B103: PG | C103: 0 | E103: 1 | F103: 1 | G103: 0 | H103: 1 | I103: =C103+F103+G103+H103 -> 2 | L103: Géorgie
A104: 44333 | B104: BG | C104: 0 | E104: 1 | F104: 2 | G104: 0 | H104: 0 | I104: =C104+F104+G104+H104 -> 2 | J104: 5 ans | L104: Géorgie
A105: 44334 | B105: SH | C105: 0 | E105: 1 | F105: 2 | G105: 3 | H105: 1 | I105: =C105+F105+G105+H105 -> 6 | J105: 4 -13 - 16 ans | L105: Russie
...

Sheet Juin 2021
A7: Date D'enregistrement | B7: Noms | C7: Nbre Isolé | D7: Sexe Isolé | E7: Nbre Familles | F7: Adultes Familles | G7: Enfants Familles | H7: Adultes Accomp. Familles | I7: Total Individus | J7: Age enfants | K7: Grossesse | L7: Pays
A8: 44348 | B8: MS | C8: 1 | D8: H | E8: 0 | F8: 0 | G8: 0 | H8: 0 | I8: 1 | L8: Kosovo
A9: 44348 | B9: KS | C9: 1 | D9: H | E9: 0 | F9: 0 | G9: 0 | H9: 0 | I9: 1 | L9: Albanie
A10: 44348 | B10: KM | C10: 1 | D10: H | E10: 0 | F10: 0 | G10: 0 | H10: 0 | I10: 1 | L10: Géorgie
A11: 44348 | B11: TD | C11: 0 | E11: 1 | F11: 2 | G11: 2 | H11: 0 | I11: 4 | J11: 2 - 7 ans | L11: Géorgie
A12: 44348 | B12: AS | C12: 1 | D12: H | E12: 0 | F12: 0 | G12: 0 | H12: 0 | I12: 1 | L12: Algérie
A13: 44348 | B13: OJ | C13: 0 | E13: 0 | F13: 0 | G13: 1 | H13: 0 | I13: 1 | J13: Né le 08/03/2021 | L13: Nigéria
A14: 44348 | B14: AJ | C14: 1 | D14: H | E14: 0 | F14: 0 | G14: 0 | H14: 0 | I14: 1 | L14: Nigéria
A15: 44348 | B15: AH | C15: 0 | E15: 1 | F15: 2 | G15: 1 | H15: 0 | I15: 3 | J15: 10 mois | L15: Nigéria
A16: 44349 | B16: DV | C16: 0 | E16: 1 | F16: 1 | G16: 0 | H16: 1 | I16: 2 | L16: Albanie
A17: 44349 | B17: AO | C17: 1 | D17: H | E17: 0 | F17: 0 | G17: 0 | H17: 0 | I17: 1 | L17: Tchad
A18: 44349 | B18: DK | C18: 1 | D18: H | E18: 0 | F18: 0 | G18: 0 | H18: 0 | I18: 1 | L18: Albanie
A19: 44349 | B19: BD | C19: 0 | E19: 0 | F19: 0 | G19: 1 | H19: 0 | I19: 1 | J19: 11 ans | L19: Cameroun
A20: 44349 | B20: KR | C20: 1 | D20: H | E20: 0 | F20: 0 | G20: 0 | H20: 0 | I20: 1 | L20: Bangladesh
A21: 44349 | B21: BM | C21: 1 | D21: H | E21: 0 | F21: 0 | G21: 0 | H21: 0 | I21: 1 | L21: Maroc
A22: 44349 | B22: HA | C22: 1 | D22: H | E22: 0 | F22: 0 | G22: 0 | H22: 0 | I22: 1 | L22: Afghanistan
A23: 44349 | B23: AA | C23: 0 | E23: 1 | F23: 2 | G23: 2 | H23: 0 | I23: 4 | J23: 3 - 6 ans | L23: Syrie
A24: 44349 | B24: BK | C24: 1 | D24: H | E24: 0 | F24: 0 | G24: 0 | H24: 0 | I24: 1 | L24: Tunisie
A25: 44350 | B25: KF | C25: 0 | E25: 1 | F25: 1 | G25: 3 | H25: 0 | I25: 4 | J25: 1 - 7 - 15 ans | L25: Congo RDC
A26: 44350 | B26: BD | C26: 0 | E26: 1 | F26: 1 | G26: 1 | H26: 0 | I26: 2 | L26: Guinée
A27: 44350 | B27: MB | C27: 0 | E27: 0 | F27: 0 | G27: 1 | H27: 0 | I27: 1 | L27: Congo RDC
A28: 44350 | B28: KT | C28: 1 | D28: H | E28: 0 | F28: 0 | G28: 0 | H28: 0 | I28: 1 | L28: Géorgie
A29: 44350 | B29: TK | C29: 1 | D29: H | E29: 0 | F29: 0 | G29: 0 | H29: 0 | I29: 1 | L29: Irak
A30: 44350 | B30: TA | C30: 1 | D30: H | E30: 0 | F30: 0 | G30: 0 | H30: 0 | I30: 1 | L30: Côte d'ivoire
A31: 44350 | B31: GK | C31: 1 | D31: H | E31: 0 | F31: 0 | G31: 0 | H31: 0 | I31: 1 | L31: Côte d'ivoire
A32: 44350 | B32: ND | C32: 1 | D32: F | E32: 0 | F32: 0 | G32: 0 | H32: 0 | I32: 1 | L32: Cameroun
A33: 44351 | B33: AR | C33: 0 | E33: 1 | F33: 1 | G33: 0 | H33: 0 | I33: 1 | L33: Somalie
A34: 44351 | B34: HL | C34: 0 | E34: 1 | F34: 1 | G34: 2 | H34: 0 | I34: 3 | J34: 6 - 15 - 17 ans | L34: Arménie
A35: 44351 | B35: SR | C35: 1 | D35: H | E35: 0 | F35: 0 | G35: 0 | H35: 0 | I35: 1 | L35: Russie
A36: 44351 | B36: AH | C36: 1 | D36: H | E36: 0 | F36: 0 | G36: 0 | H36: 0 | I36: 1 | L36: Nigéria
A37: 44351 | B37: PP | C37: 1 | D37: H | E37: 0 | F37: 0 | G37: 0 | H37: 0 | I37: 1 | L37: Kosovo
A38: 44351 | B38: RD | C38: 1 | D38: H | E38: 0 | F38: 0 | G38: 0 | H38: 0 | I38: 1 | L38: Russie
A39: 44351 | B39: JH | C39: 0 | E39: 0 | F39: 0 | G39: 2 | H39: 0 | I39: 2 | J39: 8 mois - 2 ans | L39: Afghanistan
A40: 44354 | B40: DN | C40: 1 | D40: F | E40: 0 | F40: 0 | G40: 0 | H40: 0 | I40: 1 | L40: Côte d'ivoire
A41: 44354 | B41: TM | C41: 0 | E41: 1 | F41: 2 | G41: 2 | H41: 0 | I41: 4 | J41: 1 - 4 ans | L41: Macédoine
A42: 44354 | B42: HB | C42: 0 | E42: 0 | F42: 0 | G42: 1 | H42: 0 | I42: =C42+F42+G42+H42 -> 1 | L42: Nigéria
A43: 44354 | B43: KA | C43: 0 | E43: 1 | F43: 2 | G43: 1 | H43: 0 | I43: 3 | L43: Afghanistan
A44: 44355 | B44: BV | C44: 1 | D44: H | E44: 0 | F44: 0 | G44: 0 | H44: 0 | I44: =C44+F44+G44+H44 -> 1 | L44: Géorgie
A45: 44355 | B45: MH | C45: 1 | D45: H | E45: 0 | F45: 0 | G45: 0 | H45: 0 | I45: =C45+F45+G45+H45 -> 1 | L45: Cameroun
A46: 44355 | B46: CA | C46: 1 | D46: H | E46: 0 | F46: 0 | G46: 0 | H46: 0 | I46: =C46+F46+G46+H46 -> 1 | L46: Cote d'Ivoire
A47: 44355 | B47: MR | C47: 1 | D47: H | E47: 0 | F47: 0 | G47: 0 | H47: 0 | I47: =C47+F47+G47+H47 -> 1 | L47: Algérie
A48: 44355 | B48: GL | C48: 0 | E48: 1 | F48: 2 | G48: 2 | H48: 0 | I48: =C48+F48+G48+H48 -> 4 | J48: 3 -5 ans | L48: Géorgie
A49: 44355 | B49: JM | C49: 1 | D49: H | E49: 0 | F49: 0 | G49: 0 | H49: 0 | I49: =C49+F49+G49+H49 -> 1 | L49: Gambien
A50: 44355 | B50: OS | C50: 1 | D50: H | E50: 0 | F50: 0 | G50: 0 | H50: 0 | I50: =C50+F50+G50+H50 -> 1 | L50: Nigéria
A51: 44355 | B51: KS | C51: 1 | D51: H | E51: 0 | F51: 0 | G51: 0 | H51: 0 | I51: =C51+F51+G51+H51 -> 1 | L51: Afghanistan
A52: 44356 | B52: AM | C52: 1 | D52: H | E52: 0 | F52: 0 | G52: 0 | H52: 0 | I52: =C52+F52+G52+H52 -> 1 | L52: Nigéria
A53: 44356 | B53: DA | C53: 1 | D53: H | E53: 0 | F53: 0 | G53: 0 | H53: 0 | I53: =C53+F53+G53+H53 -> 1 | L53: Géorgie
A54: 44356 | B54: SG | C54: 1 | D54: H | E54: 0 | F54: 0 | G54: 0 | H54: 0 | I54: =C54+F54+G54+H54 -> 1 | L54: Géorgie
A55: 44356 | B55: KB | C55: 1 | D55: H | E55: 0 | F55: 0 | G55: 0 | H55: 0 | I55: =C55+F55+G55+H55 -> 1 | L55: Côte d'ivoire
A56: 44356 | B56: AM | C56: 1 | D56: H | E56: 0 | F56: 0 | G56: 0 | H56: 0 | I56: =C56+F56+G56+H56 -> 1 | L56: Somalie
A57: 44357 | B57: MM | C57: 1 | D57: H | E57: 0 | F57: 0 | G57: 0 | H57: 0 | I57: =C57+F57+G57+H57 -> 1 | L57: Géorgie
A58: 44357 | B58: IF | C58: 0 | E58: 0 | F58: 0 | G58: 1 | H58: 0 | I58: =C58+F58+G58+H58 -> 1 | L58: Nigéria
A59: 44357 | B59: YA | C59: 1 | D59: F | E59: 0 | F59: 0 | G59: 0 | H59: 0 | I59: =C59+F59+G59+H59 -> 1 | L59: Somalie
A60: 44357 | B60: CK | C60: 1 | D60: H | E60: 0 | F60: 0 | G60: 0 | H60: 0 | I60: =C60+F60+G60+H60 -> 1 | L60: Arménie
A61: 44357 | B61: SA | C61: 0 | E61: 0 | F61: 0 | G61: 1 | H61: 0 | I61: =C61+F61+G61+H61 -> 1 | L61: Syrie
A62: 44357 | B62: CM | C62: 0 | E62: 0 | F62: 0 | G62: 1 | H62: 0 | I62: =C62+F62+G62+H62 -> 1 | L62: Guinée
A63: 44357 | B63: CR | C63: 1 | D63: H | E63: 0 | F63: 0 | G63: 0 | H63: 0 | I63: =C63+F63+G63+H63 -> 1 | L63: Albanie
A64: 44357 | B64: AM | C64: 1 | D64: H | E64: 0 | F64: 0 | G64: 0 | H64: 0 | I64: =C64+F64+G64+H64 -> 1 | L64: Syrie
A65: 44357 | B65: IG | C65: 1 | D65: H | E65: 0 | F65: 0 | G65: 0 | H65: 0 | I65: =C65+F65+G65+H65 -> 1 | L65: Russie
A66: 44357 | B66: KN | C66: 1 | D66: H | E66: 0 | F66: 0 | G66: 0 | H66: 0 | I66: =C66+F66+G66+H66 -> 1 | L66: Géorgie
A67: 44358 | B67: VW | C67: 1 | D67: H | E67: 0 | F67: 0 | G67: 0 | H67: 0 | I67: =C67+F67+G67+H67 -> 1 | L67: Géorgie
A68: 44358 | B68: TS | C68: 1 | D68: H | E68: 0 | F68: 0 | G68: 0 | H68: 0 | I68: =C68+F68+G68+H68 -> 1 | L68: Arménie
A69: 44358 | B69: MV | C69: 0 | E69: 1 | F69: 2 | G69: 2 | H69: 0 | I69: =C69+F69+G69+H69 -> 4 | J69: 1 - 5 ans | L69: Azerbaïdjan
A70: 44358 | B70: MA | C70: 0 | E70: 1 | F70: 2 | G70: 1 | H70: 0 | I70: =C70+F70+G70+H70 -> 3 | J70: 9 mois | L70: Algérie
A71: 44361 | B71: AA | C71: 1 | D71: H | E71: 0 | F71: 0 | G71: 0 | H71: 0 | I71: =C71+F71+G71+H71 -> 1 | L71: Somalie
A72: 44361 | B72: BG | C72: 0 | E72: 1 | F72: 2 | G72: 1 | H72: 0 | I72: =C72+F72+G72+H72 -> 3 | J72: 5 ans | L72: Géorgie
A73: 44361 | B73: LC | C73: 1 | D73: H | E73: 0 | F73: 0 | G73: 0 | H73: 0 | I73: =C73+F73+G73+H73 -> 1 | L73: Cameroun
A74: 44361 | B74: SO | C74: 1 | D74: H | E74: 0 | F74: 0 | G74: 0 | H74: 0 | I74: =C74+F74+G74+H74 -> 1 | L74: Afghanistan
A75: 44361 | B75: DF | C75: 0 | E75: 0 | F75: 0 | G75: 1 | H75: 0 | I75: =C75+F75+G75+H75 -> 1 | J75: 1 mois | L75: Guinée
A76: 44362 | B76: IA | C76: 1 | D76: H | E76: 0 | F76: 0 | G76: 0 | H76: 0 | I76: =C76+F76+G76+H76 -> 1 | L76: Erythrée
A77: 44362 | B77: AA | C77: 0 | E77: 1 | F77: 2 | G77: 3 | H77: 0 | I77: =C77+F77+G77+H77 -> 5 | J77: 10 - 12 - 16 ans | L77: Afghanistan
A78: 44362 | B78: SD | C78: 0 | E78: 0 | F78: 0 | G78: 1 | H78: 0 | I78: =C78+F78+G78+H78 -> 1 | J78: 1 an | L78: Bosnie
A79: 44362 | B79: CR | C79: 1 | D79: F | E79: 0 | F79: 0 | G79: 0 | H79: 0 | I79: =C79+F79+G79+H79 -> 1 | L79: Sénégal
A80: 44363 | B80: AK | C80: 1 | D80: H | E80: 0 | F80: 0 | G80: 0 | H80: 0 | I80: =C80+F80+G80+H80 -> 1 | L80: Géorgie
A81: 44363 | B81: AM | C81: 1 | D81: F | E81: 0 | F81: 0 | G81: 0 | H81: 0 | I81: =C81+F81+G81+H81 -> 1 | L81: Bosnie
A82: 44363 | B82: AM | C82: 1 | D82: H | E82: 0 | F82: 0 | G82: 0 | H82: 0 | I82: =C82+F82+G82+H82 -> 1 | L82: Gambie
A83: 44363 | B83: AS | C83: 0 | E83: 1 | F83: 1 | G83: 4 | H83: 0 | I83: =C83+F83+G83+H83 -> 5 | J83: 12 - 14 -15 -17 ans | L83: Somalie
A84: 44364 | B84: IS | C84: 1 | D84: H | E84: 0 | F84: 0 | G84: 0 | H84: 0 | I84: =C84+F84+G84+H84 -> 1 | L84: Nigéria
A85: 44364 | B85: BA | C85: 1 | D85: H | E85: 0 | F85: 0 | G85: 0 | H85: 0 | I85: =C85+F85+G85+H85 -> 1 | L85: Arabie Saoudi
A86: 44364 | B86: SS | C86: 0 | E86: 1 | F86: 2 | G86: 0 | H86: 0 | I86: =C86+F86+G86+H86 -> 2 | L86: Iran
A87: 44364 | B87: GV | C87: 0 | E87: 1 | F87: 2 | G87: 2 | H87: 0 | I87: =C87+F87+G87+H87 -> 4 | J87: 12 - 14 ans | L87: Géorgie
A88: 44368 | B88: TM | C88: 1 | D88: H | E88: 0 | F88: 0 | G88: 0 | H88: 0 | I88: =C88+F88+G88+H88 -> 1 | L88: Géorgie
A89: 44368 | B89: CS | C89: 1 | D89: H | E89: 0 | F89: 0 | G89: 0 | H89: 0 | I89: =C89+F89+G89+H89 -> 1 | L89: Turquie
A90: 44368 | B90: AA | C90: 1 | D90: H | E90: 0 | F90: 0 | G90: 0 | H90: 0 | I90: =C90+F90+G90+H90 -> 1 | L90: Somalie
A91: 44368 | B91: SM | C91: 0 | E91: 1 | F91: 2 | G91: 3 | H91: 0 | I91: =C91+F91+G91+H91 -> 5 | J91: 6 - 10 - 16 ans | L91: Bosnie
A92: 44368 | B92: KI | C92: 1 | D92: H | E92: 0 | F92: 0 | G92: 0 | H92: 0 | I92: =C92+F92+G92+H92 -> 1 | L92: Bosnie
A93: 44368 | B93: UV | C93: 1 | D93: H | E93: 0 | F93: 0 | G93: 0 | H93: 0 | I93: =C93+F93+G93+H93 -> 1 | L93: Géorgie
A94: 44368 | B94: TI | C94: 1 | D94: H | E94: 0 | F94: 0 | G94: 0 | H94: 0 | I94: =C94+F94+G94+H94 -> 1 | L94: Géorgie
A95: 44368 | B95: SS | C95: 1 | D95: H | E95: 0 | F95: 0 | G95: 0 | H95: 0 | I95: =C95+F95+G95+H95 -> 1 | L95: Serbie
A96: 44368 | B96: AA | C96: 1 | D96: H | E96: 0 | F96: 0 | G96: 0 | H96: 0 | I96: =C96+F96+G96+H96 -> 1 | L96: Arménie
A97: 44368 | B97: HK | C97: 1 | D97: H | E97: 0 | F97: 0 | G97: 0 | H97: 0 | I97: =C97+F97+G97+H97 -> 1 | L97: Somalie
A98: 44368 | B98: DT | C98: 1 | D98: F | E98: 0 | F98: 0 | G98: 0 | H98: 0 | I98: =C98+F98+G98+H98 -> 1 | L98: Géorgie
A99: 44368 | B99: MR | C99: 1 | D99: H | E99: 0 | F99: 0 | G99: 0 | H99: 0 | I99: =C99+F99+G99+H99 -> 1 | L99: Russie
A100: 44368 | B100: AM | C100: 1 | D100: H | E100: 0 | F100: 0 | G100: 0 | H100: 0 | I100: =C100+F100+G100+H100 -> 1 | L100: Nigéria
A101: 44368 | B101: FZ | C101: 1 | D101: H | E101: 0 | F101: 0 | G101: 0 | H101: 0 | I101: =C101+F101+G101+H101 -> 1 | L101: Pakistan
A102: 44368 | B102: AM | C102: 1 | D102: H | E102: 0 | F102: 0 | G102: 0 | H102: 0 | I102: =C102+F102+G102+H102 -> 1 | L102: Afghanistan
I103: =C103+F103+G103+H103 -> 0
A104: Total | C104: =SUM(C8:C103) -> 66 | E104: =SUM(E8:E103) -> 19 | F104: =SUM(F8:F103) -> 32 | G104: =SUM(G8:G103) -> 43 | H104: =SUM(H8:H103) -> 1 | I104: =C104+F104+G104+H104 -> 142

Sheet Total
B3: Isolés | E3: Familles | I3: 2021 | J3: 2020 | K3: 2019
B4: Nombres | C4: Hommes | D4: Femmes | E4: Nombres | F4: Adultes | G4: Enfants | H4: Adultes Accom.
A5: Janvier | B5: =+'Janvier 2021'!E134 -> 94 | C5: =COUNTIF('Janvier 2021'!F8:F133,"H") -> 83 | D5: =COUNTIF('Janvier 2021'!F8:F133,"F") -> 15 | E5: ='Janvier 2021'!G134 -> 22 | F5: ='Janvier 2021'!H134 -> 33 | G5: ='Janvier 2021'!I134 -> 61 | H5: ='Janvier 2021'!J134 -> 5 | I5: =B5+F5+G5+H5 -> 193 | J5: 289 | K5: 322
A6: Février | B6: ='Février 2021'!E116 -> 86 | C6: =COUNTIF('Février 2021'!F8:F115,"H") -> 73 | D6: =COUNTIF('Février 2021'!F8:F115,"F") -> 13 | E6: ='Février 2021'!G116 -> 16 | F6: ='Février 2021'!H116 -> 25 | G6: ='Février 2021'!I116 -> 25 | H6: ='Février 2021'!J116 -> 4 | I6: =B6+F6+G6+H6 -> 140 | J6: 274 | K6: 323
A7: Mars | B7: =+'Mars 2021'!D155 -> 118 | C7: =COUNTIF(Tableau123245623[Sexe Isolé],"H") -> 101 | D7: =COUNTIF(Tableau123245623[Sexe Isolé],"F") -> 17 | E7: ='Mars 2021'!F155 -> 21 | F7: ='Mars 2021'!G155 -> 31 | G7: ='Mars 2021'!H155 -> 39 | H7: ='Mars 2021'!I155 -> 6 | I7: =B7+F7+G7+H7 -> 194 | J7: 156 | K7: 355
A8: Avril | B8: ='Avril 2021'!C122 -> 85 | C8: =COUNTIF('Avril 2021'!D8:D121,"H") -> 68 | D8: =COUNTIF('Avril 2021'!D8:D121,"F") -> 17 | E8: ='Avril 2021'!E122 -> 25 | F8: ='Avril 2021'!F122 -> 41 | G8: ='Avril 2021'!G122 -> 44 | H8: ='Avril 2021'!H122 -> 12 | I8: =B8+F8+G8+H8 -> 182 | J8: 21 | K8: 366
A9: Mai | B9: ='Mai 2021'!C161 -> 107 | C9: =COUNTIF('Mai 2021'!D9:D161,"H") -> 88 | D9: =COUNTIF('Mai 2021'!D9:D161,"F") -> 18 | E9: ='Mai 2021'!E161 -> 39 | F9: ='Mai 2021'!F161 -> 69 | G9: ='Mai 2021'!G161 -> 61 | H9: ='Mai 2021'!H161 -> 9 | I9: =B9+F9+G9+H9 -> 246 | J9: 52 | K9: 392
A10: Juin (21) | B10: ='Juin 2021'!C104 -> 66 | C10: =COUNTIF(Tableau123245623457[Sexe Isolé],"H") -> 60 | D10: =COUNTIF(Tableau123245623457[Sexe Isolé],"F") -> 6 | E10: ='Juin 2021'!E104 -> 19 | F10: ='Juin 2021'!F104 -> 32 | G10: ='Juin 2021'!G104 -> 43 | H10: ='Juin 2021'!H104 -> 1 | I10: =B10+F10+G10+H10 -> 142 | J10: 101 | K10: 285
A11: Juillet | I11: =B11+F11+G11+H11 -> 0 | J11: 246 | K11: 423
A12: Août | I12: =B12+F12+G12+H12 -> 0 | J12: 269 | K12: 361
A13: Septembre | I13: =B13+F13+G13+H13 -> 0 | J13: 247 | K13: 383
A14: Octobre | I14: =B14+F14+G14+H14 -> 0 | J14: 234 | K14: 412
A15: Novembre | I15: =B15+F15+G15+H15 -> 0 | J15: 190 | K15: 293
A16: Décembre | I16: =B16+F16+G16+H16 -> 0 | J16: 206 | K16: 298
A17: Total | B17: =SUM(B5:B16) -> 556 | C17: =SUM(C5:C16) -> 473 | D17: =SUM(D5:D16) -> 86 | E17: =SUM(E5:E16) -> 142 | F17: =SUM(F5:F16) -> 231 | G17: =SUM(G5:G16) -> 273 | H17: =SUM(H5:H16) -> 37 | I17: =SUM(I5:I16) -> 1097 | J17: =SUM(J5:J16) -> 2285 | K17: 4213
K22: =I17-K17 -> -3116
