Workbook

Sheet Janvier 2021
B5: Janvier 2021
B7: Date | C7: Noms | D7: Date de convocation | E7: Nbre Isolé | F7: Sexe Isolé | G7: Nbre Familles | H7: Adultes Familles | I7: Enfants Familles | J7: Adultes Accomp. Familles | K7: Total Individus | L7: Age enfants | M7: Grossesse | N7: Pays
B8: 44200 | C8: ES | D8: 44201 | E8: 1 | F8: F | G8: 0 | H8: 0 | I8: 0 | J8: 0 | K8: =E8+H8+I8+J8 -> 1 | N8: Cameroun
B9: 44200 | C9: SR | D9: 44201 | E9: 1 | F9: H | G9: 0 | H9: 0 | I9: 0 | J9: 0 | K9: =E9+H9+I9+J9 -> 1 | N9: Cameroun
B10: 44200 | C10: MD | D10: 44203 | E10: 1 | F10: H | G10: 0 | H10: 0 | I10: 0 | J10: 0 | K10: =E10+H10+I10+J10 -> 1 | N10: Somalie
B11: 44200 | C11: HA | D11: 44201 | E11: 1 | F11: H | G11: 0 | H11: 0 | I11: 0 | J11: 0 | K11: =E11+H11+I11+J11 -> 1 | N11: Égypte
B12: 44200 | C12: OA | D12: 44201 | E12: 1 | F12: H | G12: 0 | H12: 0 | I12: 0 | J12: 0 | K12: =E12+H12+I12+J12 -> 1 | N12: Afghanistan
B13: 44200 | C13: AM | D13: 44201 | E13: 1 | F13: H | G13: 0 | H13: 0 | I13: 0 | J13: 0 | K13: =E13+H13+I13+J13 -> 1 | N13: Pakistan
B14: 44200 | C14: KJ | D14: 44201 | E14: 1 | F14: H | G14: 0 | H14: 0 | I14: 0 | J14: 0 | K14: =E14+H14+I14+J14 -> 1 | N14: Cameroun
B15: 44200 | C15: OL | D15: 44201 | E15: 0 | G15: 0 | H15: 0 | I15: 1 | J15: 0 | K15: =E15+H15+I15+J15 -> 1 | L15: Né le 03/09/2020 | N15: Guinée
B16: 44201 | C16: GV | D16: 44202 | E16: 1 | F16: H | G16: 0 | H16: 0 | I16: 0 | J16: 0 | K16: =E16+H16+I16+J16 -> 1 | N16: Sénégal
B17: 44201 | C17: AI | D17: 44202 | E17: 1 | F17: H | G17: 0 | H17: 0 | I17: 0 | J17: 0 | K17: =E17+H17+I17+J17 -> 1 | N17: Tchad
B18: 44201 | C18: KT | D18: 44202 | E18: 1 | F18: H | G18: 0 | H18: 0 | I18: 0 | J18: 0 | K18: =E18+H18+I18+J18 -> 1 | N18: Congo Brazzaville
B19: 44201 | C19: MM | E19: 1 | F19: H | G19: 0 | H19: 0 | I19: 0 | J19: 0 | K19: =E19+H19+I19+J19 -> 1 | N19: Iran
B20: 44202 | C20: AW | D20: 44203 | E20: 0 | G20: 1 | H20: 1 | I20: 3 | J20: 0 | K20: =E20+H20+I20+J20 -> 4 | L20: 10 - 13 ans | N20: Syrie
B21: 44202 | C21: LK | D21: 44203 | E21: 1 | F21: F | G21: 0 | H21: 0 | I21: 0 | J21: 0 | K21: =E21+H21+I21+J21 -> 1 | N21: Ghana
B22: 44202 | C22: PA | D22: 44203 | E22: 1 | F22: H | G22: 0 | H22: 0 | I22: 0 | J22: 0 | K22: =E22+H22+I22+J22 -> 1 | N22: Albanie
B23: 44202 | C23: AM | D23: 44203 | E23: 1 | F23: H | G23: 0 | H23: 0 | I23: 0 | J23: 0 | K23: =E23+H23+I23+J23 -> 1 | N23: Somalie
B24: 44202 | C24: IH | D24: 44203 | E24: 1 | F24: F | G24: 0 | H24: 0 | I24: 0 | J24: 0 | K24: =E24+H24+I24+J24 -> 1 | L24: Né le 05/01/2020 | N24: Nigéria
B25: 44202 | C25: BA | D25: 44203 | E25: 0 | G25: 0 | H25: 0 | I25: 1 | J25: 0 | K25: =E25+H25+I25+J25 -> 1 | L25: Né le 23/11/2020 | N25: Guinée
B26: 44202 | C26: AG | D26: 44203 | E26: 0 | G26: 0 | H26: 0 | I26: 1 | J26: 0 | K26: =E26+H26+I26+J26 -> 1 | L26: Né le 31/05/2020 | N26: Nigéria
B27: 44202 | C27: DA | E27: 1 | F27: H | G27: 0 | H27: 0 | I27: 0 | J27: 0 | K27: =E27+H27+I27+J27 -> 1 | N27: Guinée
B28: 44202 | C28: KA | D28: 44204 | E28: 0 | G28: 1 | H28: 2 | I28: 6 | J28: 0 | K28: =E28+H28+I28+J28 -> 8 | L28: 3 - 4 - 7 - 8 - 10 - 13 ans | N28: Russie
B29: 44203 | C29: BM | D29: 44208 | E29: 1 | F29: F | G29: 0 | H29: 0 | I29: 0 | J29: 0 | K29: =E29+H29+I29+J29 -> 1 | N29: Géorgie
B30: 44203 | C30: AS | D30: 44204 | E30: 1 | F30: H | G30: 0 | H30: 0 | I30: 0 | J30: 0 | K30: =E30+H30+I30+J30 -> 1 | N30: Togo
B31: 44203 | C31: BA | D31: 44204 | E31: 0 | G31: 0 | H31: 0 | I31: 1 | J31: 0 | K31: =E31+H31+I31+J31 -> 1 | L31: 1 an | N31: Syrie
B32: 44203 | C32: TM | E32: 1 | F32: H | G32: 0 | H32: 0 | I32: 0 | J32: 0 | K32: =E32+H32+I32+J32 -> 1 | N32: Guinée
B33: 44203 | C33: AS | D33: 44204 | E33: 0 | G33: 0 | H33: 0 | I33: 4 | J33: 0 | K33: =E33+H33+I33+J33 -> 4 | L33: 13 ans ( jumeaux) - 14 ans (jumeaux) | N33: Somalie
B34: 44203 | C34: MN | E34: 0 | G34: 1 | H34: 1 | I34: 1 | J34: 1 | K34: =E34+H34+I34+J34 -> 3 | L34: 17 - 21 ans | N34: Géorgie
B35: 44204 | C35: MA | D35: 44207 | E35: 1 | F35: H | G35: 0 | H35: 0 | I35: 0 | J35: 0 | K35: =E35+H35+I35+J35 -> 1 | N35: Somalie
B36: 44204 | C36: BA | D36: 44207 | E36: 1 | F36: H | G36: 0 | H36: 0 | I36: 0 | J36: 0 | K36: =E36+H36+I36+J36 -> 1 | N36: Arménie
B37: 44204 | C37: MO | D37: 44207 | E37: 1 | F37: H | G37: 0 | H37: 0 | I37: 0 | J37: 0 | K37: =E37+H37+I37+J37 -> 1 | N37: Soudan
B38: 44204 | C38: HS | D38: 44207 | E38: 1 | F38: H | G38: 0 | H38: 0 | I38: 0 | J38: 0 | K38: =E38+H38+I38+J38 -> 1 | N38: Yémen
B39: 44204 | C39: TM | D39: 44207 | E39: 1 | F39: H | G39: 0 | H39: 0 | I39: 0 | J39: 0 | K39: =E39+H39+I39+J39 -> 1 | N39: Géorgie
B40: 44204 | C40: PK | E40: 0 | G40: 1 | H40: 2 | I40: 3 | J40: 0 | K40: =E40+H40+I40+J40 -> 5 | L40: 1 - 4 - 6 ans | N40: Géorgie
B41: 44204 | C41: KD | D41: 44207 | E41: 1 | F41: H | G41: 0 | H41: 0 | I41: 0 | J41: 0 | K41: =E41+H41+I41+J41 -> 1 | N41: Géorgie
B42: 44207 | C42: BA | D42: 44208 | E42: 1 | F42: H | G42: 0 | H42: 0 | I42: 0 | J42: 0 | K42: =E42+H42+I42+J42 -> 1 | N42: Palestine
B43: 44207 | C43: NB | D43: 44208 | E43: 1 | F43: H | G43: 0 | H43: 0 | I43: 0 | J43: 0 | K43: =E43+H43+I43+J43 -> 1 | N43: Albanie
B44: 44207 | C44: MM | D44: 44208 | E44: 0 | G44: 1 | H44: 1 | I44: 1 | J44: 0 | K44: =E44+H44+I44+J44 -> 2 | N44: Kosovo
B45: 44207 | C45: DA | D45: 44208 | E45: 1 | F45: F | G45: 0 | H45: 0 | I45: 0 | J45: 0 | K45: =E45+H45+I45+J45 -> 1 | N45: Guinée
...

Sheet Février 2021
B5: Février 2021
B7: Date | C7: Noms | D7: Date de convocation | E7: Nbre Isolé | F7: Sexe Isolé | G7: Nbre Familles | H7: Adultes Familles | I7: Enfants Familles | J7: Adultes Accomp. Familles | K7: Total Individus | L7: Age enfants | M7: Grossesse | N7: Pays
B8: 44232 | C8: BM | D8: 44235 | E8: 1 | F8: F | G8: 0 | H8: 0 | I8: 0 | J8: 0 | K8: =E8+H8+I8+J8 -> 1 | N8: Guinée
B9: 44232 | C9: AN | D9: 44235 | E9: 1 | F9: H | G9: 0 | H9: 0 | I9: 0 | J9: 0 | K9: =E9+H9+I9+J9 -> 1 | N9: Afghanistan
B10: 44232 | C10: MS | D10: 44235 | E10: 1 | F10: H | G10: 0 | H10: 0 | I10: 0 | J10: 0 | K10: =E10+H10+I10+J10 -> 1 | N10: Afghanistan
B11: 44232 | C11: SH | D11: 44235 | E11: 1 | F11: H | G11: 0 | H11: 0 | I11: 0 | J11: 0 | K11: =E11+H11+I11+J11 -> 1 | N11: Afghanistan
B12: 44232 | C12: ZA | D12: 44235 | E12: 1 | F12: H | G12: 0 | H12: 0 | I12: 0 | J12: 0 | K12: =E12+H12+I12+J12 -> 1 | N12: Tchad
B13: 44232 | C13: KG | D13: 44235 | E13: 1 | F13: H | G13: 0 | H13: 0 | I13: 0 | J13: 0 | K13: =E13+H13+I13+J13 -> 1 | N13: Géorgie
B14: 44232 | C14: UR | D14: 44235 | E14: 1 | F14: F | G14: 0 | H14: 0 | I14: 0 | J14: 0 | K14: =E14+H14+I14+J14 -> 1 | N14: Burundi
B15: 44232 | C15: EN | D15: 44235 | E15: 0 | G15: 0 | H15: 0 | I15: 1 | J15: 0 | K15: =E15+H15+I15+J15 -> 1 | L15: 7 mois | N15: Géorgie
B16: 44235 | C16: MB | D16: 44236 | E16: 1 | F16: H | G16: 0 | H16: 0 | I16: 0 | J16: 0 | K16: =E16+H16+I16+J16 -> 1 | N16: Géorgie
B17: 44235 | C17: MK | D17: 44236 | E17: 1 | F17: H | G17: 0 | H17: 0 | I17: 0 | J17: 0 | K17: =E17+H17+I17+J17 -> 1 | N17: Russie
B18: 44235 | C18: MJ | D18: 44236 | E18: 1 | F18: H | G18: 0 | H18: 0 | I18: 0 | J18: 0 | K18: =E18+H18+I18+J18 -> 1 | N18: Sierra Leone
B19: 44235 | C19: AY | D19: 44236 | E19: 1 | F19: H | G19: 0 | H19: 0 | I19: 0 | J19: 0 | K19: =E19+H19+I19+J19 -> 1 | N19: Algérie
B20: 44235 | C20: KA | D20: 44236 | E20: 1 | F20: F | G20: 0 | H20: 0 | I20: 0 | J20: 0 | K20: =E20+H20+I20+J20 -> 1 | N20: Guinée
B21: 44235 | C21: GT | D21: 44236 | E21: 1 | F21: H | G21: 0 | H21: 0 | I21: 0 | J21: 0 | K21: =E21+H21+I21+J21 -> 1 | N21: Géorgie
B22: 44236 | C22: FA | D22: 44237 | E22: 0 | G22: 1 | H22: 2 | I22: 2 | J22: 0 | K22: =E22+H22+I22+J22 -> 4 | L22: 2 - 6 ans | N22: Albanie
B23: 44236 | C23: SH | D23: 44237 | E23: 1 | F23: H | G23: 0 | H23: 0 | I23: 0 | J23: 0 | K23: =E23+H23+I23+J23 -> 1 | N23: Afghanistan
B24: 44237 | C24: ZD | D24: 44238 | E24: 0 | G24: 1 | H24: 2 | I24: 0 | J24: 0 | K24: =E24+H24+I24+J24 -> 2 | N24: Géorgie
B25: 44237 | C25: VB | D25: 44238 | E25: 0 | G25: 1 | H25: 2 | I25: 0 | J25: 0 | K25: =E25+H25+I25+J25 -> 2 | N25: Géorgie
B26: 44237 | C26: BG | D26: 44238 | E26: 1 | F26: H | G26: 0 | H26: 0 | I26: 0 | J26: 0 | K26: =E26+H26+I26+J26 -> 1 | N26: Géorgie
B27: 44237 | C27: AN | D27: 44238 | E27: 1 | F27: H | G27: 0 | H27: 0 | I27: 0 | J27: 0 | K27: =E27+H27+I27+J27 -> 1 | N27: Croatie
B28: 44237 | C28: AK | D28: 44242 | E28: 1 | F28: H | G28: 0 | H28: 0 | I28: 0 | J28: 0 | K28: =E28+H28+I28+J28 -> 1 | N28: Afghanistan
B29: 44237 | C29: DJ | D29: 44238 | E29: 0 | G29: 1 | H29: 2 | I29: 0 | J29: 0 | K29: =E29+H29+I29+J29 -> 2 | N29: Géorgie
B30: 44237 | C30: OE | D30: 44238 | E30: 1 | F30: H | G30: 0 | H30: 0 | I30: 0 | J30: 0 | K30: =E30+H30+I30+J30 -> 1 | N30: Nigéria
B31: 44237 | C31: KL | D31: 44238 | E31: 1 | F31: H | G31: 0 | H31: 0 | I31: 0 | J31: 0 | K31: =E31+H31+I31+J31 -> 1 | N31: Géorgie
B32: 44238 | C32: OM | D32: 44239 | E32: 0 | G32: 0 | H32: 0 | I32: 1 | J32: 0 | K32: =E32+H32+I32+J32 -> 1 | N32: Nigéria
B33: 44238 | C33: NS | E33: 1 | F33: F | G33: 0 | H33: 0 | I33: 0 | J33: 0 | K33: =E33+H33+I33+J33 -> 1 | N33: Azerbaïdjan
B34: 44238 | C34: NM | D34: 44239 | E34: 0 | G34: 1 | H34: 2 | I34: 0 | J34: 0 | K34: =E34+H34+I34+J34 -> 2 | N34: Azerbaïdjan
B35: 44238 | C35: EO | D35: 44244 | E35: 1 | F35: H | G35: 0 | H35: 0 | I35: 0 | J35: 0 | K35: =E35+H35+I35+J35 -> 1 | N35: Nigéria
B36: 44238 | C36: ZG | E36: 1 | F36: H | G36: 0 | H36: 0 | I36: 0 | J36: 0 | K36: =E36+H36+I36+J36 -> 1 | N36: Géorgie
B37: 44238 | C37: SA | E37: 1 | F37: H | G37: 0 | H37: 0 | I37: 0 | J37: 0 | K37: =E37+H37+I37+J37 -> 1 | N37: Guinée
B38: 44238 | C38: UO | E38: 1 | F38: H | G38: 0 | H38: 0 | I38: 0 | J38: 0 | K38: =E38+H38+I38+J38 -> 1 | N38: Nigéria
B39: 44238 | C39: NS | E39: 1 | F39: H | G39: 0 | H39: 0 | I39: 0 | J39: 0 | K39: =E39+H39+I39+J39 -> 1 | N39: Azerbaïdjan
B40: 44239 | C40: DM | D40: 44244 | E40: 1 | F40: H | G40: 0 | H40: 0 | I40: 0 | J40: 0 | K40: =E40+H40+I40+J40 -> 1 | N40: Guinée
B41: 44239 | C41: ME | D41: 44242 | E41: 1 | F41: F | G41: 0 | H41: 0 | I41: 0 | J41: 0 | K41: =E41+H41+I41+J41 -> 1 | N41: Congo RDC
B42: 44239 | C42: GG | D42: 44244 | E42: 1 | F42: H | G42: 0 | H42: 0 | I42: 0 | J42: 0 | K42: =E42+H42+I42+J42 -> 1 | N42: Côte d'Ivoire
B43: 44239 | C43: AS | D43: 44242 | E43: 0 | G43: 1 | H43: 1 | I43: 1 | J43: 0 | K43: =E43+H43+I43+J43 -> 2 | L43: 13 ans | N43: Géorgie
B44: 44239 | C44: KY | D44: 44242 | E44: 1 | F44: H | G44: 0 | H44: 0 | I44: 0 | J44: 0 | K44: 1 | N44: Burundi
B45: 44239 | C45: VA | D45: 44242 | E45: 1 | F45: H | G45: 0 | H45: 0 | I45: 0 | J45: 0 | K45: =E45+H45+I45+J45 -> 1 | N45: Albanie
...

Sheet Mars 2021
A5: Mars 2021
A7: Date D'enregistrement | B7: Noms | C7: Date de convocation | D7: Nbre Isolé | E7: Sexe Isolé | F7: Nbre Familles | G7: Adultes Familles | H7: Enfants Familles | I7: Adultes Accomp. Familles | J7: Total Individus | K7: Age enfants | L7: Grossesse | M7: Pays
A8: 44256 | B8: KA | C8: 44258 | D8: 0 | F8: 1 | G8: 1 | H8: 1 | I8: 1 | J8: =D8+G8+H8+I8 -> 3 | K8: 16 - 18 ans | M8: Kosovo
A9: 44256 | B9: IE | C9: 44257 | D9: 0 | F9: 1 | G9: 2 | H9: 0 | I9: 0 | J9: =D9+G9+H9+I9 -> 2 | M9: Kosovo
A10: 44256 | B10: AA | C10: 44257 | D10: 1 | E10: H | F10: 0 | G10: 0 | H10: 0 | I10: 0 | J10: =D10+G10+H10+I10 -> 1 | M10: Somalie
A11: 44256 | B11: IT | C11: 44257 | D11: 0 | F11: 1 | G11: 2 | H11: 0 | I11: 0 | J11: =D11+G11+H11+I11 -> 2 | K11: 3 - 4 ans | M11: Géorgie
A12: 44256 | B12: LG | C12: 44257 | D12: 1 | E12: H | F12: 0 | G12: 0 | H12: 0 | I12: 0 | J12: =D12+G12+H12+I12 -> 1 | M12: Géorgie
A13: 44256 | B13: KG | C13: 44257 | D13: 1 | E13: H | F13: 0 | G13: 0 | H13: 0 | I13: 0 | J13: =D13+G13+H13+I13 -> 1 | M13: Géorgie
A14: 44256 | B14: SR | C14: 44257 | D14: 1 | E14: H | F14: 0 | G14: 0 | H14: 0 | I14: 0 | J14: =D14+G14+H14+I14 -> 1 | M14: Afghanistan
A15: 44256 | B15: HB | C15: 44257 | D15: 1 | E15: H | F15: 0 | G15: 0 | H15: 0 | I15: 0 | J15: =D15+G15+H15+I15 -> 1 | M15: Kosovo
A16: 44256 | B16: KJ | C16: 44257 | D16: 0 | F16: 0 | G16: 0 | H16: 1 | I16: 0 | J16: =D16+G16+H16+I16 -> 1 | K16: 1 an | M16: Congo RDC
A17: 44256 | B17: AZ | C17: 44257 | D17: 1 | E17: H | F17: 0 | G17: 0 | H17: 0 | I17: 0 | J17: =D17+G17+H17+I17 -> 1 | M17: Géorgie
A18: 44256 | B18: EM | C18: 44257 | D18: 0 | F18: 1 | G18: 2 | H18: 2 | I18: 0 | J18: =D18+G18+H18+I18 -> 4 | K18: 2 mois - 2 ans | M18: Nigéria
A19: 44256 | B19: ZV | C19: 44259 | D19: 1 | E19: H | F19: 0 | G19: 0 | H19: 0 | I19: 0 | J19: =D19+G19+H19+I19 -> 1 | M19: Albanie
A20: 44256 | B20: PA | C20: 44259 | D20: 1 | E20: H | F20: 0 | G20: 0 | H20: 0 | I20: 0 | J20: =D20+G20+H20+I20 -> 1 | M20: Biélorussie
A21: 44256 | B21: DJ | C21: 44257 | D21: 1 | E21: H | F21: 0 | G21: 0 | H21: 0 | I21: 0 | J21: =D21+G21+H21+I21 -> 1 | M21: Haïti
A22: 44257 | B22: TJ | C22: 44258 | D22: 0 | F22: 1 | G22: 2 | H22: 1 | I22: 0 | J22: =D22+G22+H22+I22 -> 3 | K22: 3 ans | M22: Sri Lanka
A23: 44257 | B23: HN | C23: 44258 | D23: 1 | E23: H | F23: 0 | G23: 0 | H23: 0 | I23: 0 | J23: =D23+G23+H23+I23 -> 1 | M23: Afghanistan
A24: 44257 | B24: SS | C24: 44258 | D24: 0 | F24: 0 | G24: 0 | H24: 1 | I24: 0 | J24: =D24+G24+H24+I24 -> 1 | K24: 3 ans | M24: Russie
A25: 44257 | B25: LN | C25: 44258 | D25: 1 | E25: H | F25: 0 | G25: 0 | H25: 0 | I25: 0 | J25: =D25+G25+H25+I25 -> 1 | M25: Albanie
A26: 44257 | B26: IM | C26: 44258 | D26: 0 | F26: 0 | G26: 0 | H26: 1 | I26: 0 | J26: =D26+G26+H26+I26 -> 1 | K26: 1 an | M26: Somalie
A27: 44257 | B27: ZG | C27: 44258 | D27: 1 | E27: H | F27: 0 | G27: 0 | H27: 0 | I27: 0 | J27: =D27+G27+H27+I27 -> 1 | M27: Afghanistan
A28: 44257 | B28: XE | C28: 44258 | D28: 1 | E28: H | F28: 0 | G28: 0 | H28: 0 | I28: 0 | J28: =D28+G28+H28+I28 -> 1 | M28: Albanie
A29: 44257 | B29: AF | C29: 44258 | D29: 1 | E29: H | F29: 0 | G29: 0 | H29: 0 | I29: 0 | J29: =D29+G29+H29+I29 -> 1 | M29: Nigéria
A30: 44258 | B30: CN | C30: 44259 | D30: 1 | E30: H | F30: 0 | G30: 0 | H30: 0 | I30: 0 | J30: =D30+G30+H30+I30 -> 1 | M30: Kosovo
A31: 44258 | B31: AA | C31: 44271 | D31: 0 | F31: 0 | G31: 0 | H31: 2 | I31: 0 | J31: =D31+G31+H31+I31 -> 2 | K31: 15 - 16 ans | M31: Chine
A32: 44258 | B32: SA | C32: 44259 | D32: 1 | E32: H | F32: 0 | G32: 0 | H32: 0 | I32: 0 | J32: =D32+G32+H32+I32 -> 1 | M32: Afghanistan
A33: 44258 | B33: JP | C33: 44259 | D33: 1 | E33: H | F33: 0 | G33: 0 | H33: 0 | I33: 0 | J33: =D33+G33+H33+I33 -> 1 | M33: Nigéria
A34: 44258 | B34: SR | C34: 44259 | D34: 1 | E34: H | F34: 0 | G34: 0 | H34: 0 | I34: 0 | J34: =D34+G34+H34+I34 -> 1 | M34: Afghanistan
A35: 44258 | B35: BA | C35: 44259 | D35: 1 | E35: H | F35: 0 | G35: 0 | H35: 0 | I35: 0 | J35: =D35+G35+H35+I35 -> 1 | M35: Algérie
A36: 44258 | B36: MB | C36: 44259 | D36: 1 | E36: H | F36: 0 | G36: 0 | H36: 0 | I36: 0 | J36: =D36+G36+H36+I36 -> 1 | M36: Somalie
A37: 44258 | B37: DM | C37: 44259 | D37: 1 | E37: H | F37: 0 | G37: 0 | H37: 0 | I37: 0 | J37: =D37+G37+H37+I37 -> 1 | M37: Afghanistan
A38: 44258 | B38: HE | C38: 44259 | D38: 1 | E38: H | F38: 0 | G38: 0 | H38: 0 | I38: 0 | J38: =D38+G38+H38+I38 -> 1 | M38: Turquie
A39: 44258 | B39: DM | C39: 44260 | D39: 1 | E39: H | F39: 0 | G39: 0 | H39: 0 | I39: 0 | J39: =D39+G39+H39+I39 -> 1 | M39: Russie
A40: 44259 | B40: CN | C40: 44260 | D40: 1 | E40: H | F40: 0 | G40: 0 | H40: 0 | I40: 0 | J40: =D40+G40+H40+I40 -> 1 | M40: Kosovo
A41: 44259 | B41: MA | C41: 44263 | D41: 0 | F41: 1 | G41: 1 | H41: 3 | I41: 0 | J41: =D41+G41+H41+I41 -> 4 | K41: 1 - 7 - 15 ans | M41: Kosovo
A42: 44259 | B42: OS | C42: 44260 | D42: 1 | E42: F | F42: 0 | G42: 0 | H42: 0 | I42: 0 | J42: =D42+G42+H42+I42 -> 1 | M42: Congo RDC
A43: 44259 | B43: GD | C43: 44260 | D43: 1 | E43: H | F43: 0 | G43: 0 | H43: 0 | I43: 0 | J43: =D43+G43+H43+I43 -> 1 | M43: Arménie
A44: 44259 | B44: OK | C44: 44260 | D44: 1 | E44: H | F44: 0 | G44: 0 | H44: 0 | I44: 0 | J44: =D44+G44+H44+I44 -> 1 | M44: Nigéria
A45: 44259 | B45: OJ | C45: 44260 | D45: 0 | F45: 1 | G45: 1 | H45: 1 | I45: 0 | J45: =D45+G45+H45+I45 -> 2 | K45: 2 ans | M45: Nigéria
...

Sheet Avril 2021
A5: Avril 2021
A7: Date D'enregistrement | B7: Noms | C7: Nbre Isolé | D7: Sexe Isolé | E7: Nbre Familles | F7: Adultes Familles | G7: Enfants Familles | H7: Adultes Accomp. Familles | I7: Total Individus | J7: Age enfants | K7: Grossesse | L7: Pays
A8: 44287 | B8: MS | C8: 0 | E8: 0 | F8: 0 | G8: 1 | H8: 0 | I8: =C8+F8+G8+H8 -> 1 | J8: 14 ans | L8: Russie
A9: 44287 | B9: DY | C9: 0 | E9: 0 | F9: 0 | G9: 1 | H9: 0 | I9: =C9+F9+G9+H9 -> 1 | J9: 4 mois | L9: Mauritanie
A10: 44287 | B10: WN | C10: 1 | D10: H | E10: 0 | F10: 0 | G10: 0 | H10: 0 | I10: =C10+F10+G10+H10 -> 1 | L10: Afghanistan
A11: 44287 | B11: MR | C11: 0 | E11: 1 | F11: 2 | G11: 6 | H11: 0 | I11: =C11+F11+G11+H11 -> 8 | J11: 5 - 9 - 11 - 13 - 14 - 16 ans | L11: Russie
A12: 44287 | B12: ZS | C12: 0 | E12: 1 | F12: 1 | G12: 1 | H12: 0 | I12: =C12+F12+G12+H12 -> 2 | J12: 8 mois | L12: Côte d'Ivoire
A13: 44287 | B13: FN | C13: 1 | D13: H | E13: 0 | F13: 0 | G13: 0 | H13: 0 | I13: =C13+F13+G13+H13 -> 1 | L13: Congo RDC
A14: 44287 | B14: MS | C14: 1 | D14: H | E14: 0 | F14: 0 | G14: 0 | H14: 0 | I14: =C14+F14+G14+H14 -> 1 | L14: Somalie
A15: 44292 | B15: MA | C15: 1 | D15: H | E15: 0 | F15: 0 | G15: 0 | H15: 0 | I15: =C15+F15+G15+H15 -> 1 | L15: Somalie
A16: 44292 | B16: OS | C16: 1 | D16: F | E16: 0 | F16: 0 | G16: 0 | H16: 0 | I16: =C16+F16+G16+H16 -> 1 | L16: Nigéria
A17: 44292 | B17: SI | C17: 0 | E17: 1 | F17: 2 | G17: 1 | H17: 0 | I17: =C17+F17+G17+H17 -> 3 | J17: 6 ans | L17: Géorgie
A18: 44292 | B18: HA | C18: 0 | E18: 1 | F18: 2 | G18: 2 | H18: 0 | I18: =C18+F18+G18+H18 -> 4 | J18: 3 - 6 ans | L18: Biélorussie
A19: 44292 | B19: CZ | C19: 1 | D19: H | E19: 0 | F19: 0 | G19: 0 | H19: 0 | I19: =C19+F19+G19+H19 -> 1 | L19: Géorgie
A20: 44292 | B20: BA | C20: 0 | E20: 1 | F20: 2 | G20: 1 | H20: 0 | I20: =C20+F20+G20+H20 -> 3 | J20: 2 ans | L20: Somalie
A21: 44293 | B21: CA | C21: 1 | D21: H | E21: 0 | F21: 0 | G21: 0 | H21: 0 | I21: =C21+F21+G21+H21 -> 1 | L21: Libye
A22: 44293 | B22: AD | C22: 1 | D22: H | E22: 0 | F22: 0 | G22: 0 | H22: 0 | I22: =C22+F22+G22+H22 -> 1 | L22: Somalie
A23: 44293 | B23: AN | C23: 1 | D23: H | E23: 0 | F23: 0 | G23: 0 | H23: 0 | I23: =C23+F23+G23+H23 -> 1 | L23: Érythrée
A24: 44294 | B24: CO | C24: 1 | D24: H | E24: 0 | F24: 0 | G24: 0 | H24: 0 | I24: =C24+F24+G24+H24 -> 1 | L24: Libye
A25: 44293 | B25: AF | C25: 1 | D25: F | E25: 0 | F25: 0 | G25: 0 | H25: 0 | I25: =C25+F25+G25+H25 -> 1 | L25: Somalie
A26: 44293 | B26: SG | C26: 0 | E26: 1 | F26: 2 | G26: 1 | H26: 0 | I26: =C26+F26+G26+H26 -> 3 | J26: 7 ans | L26: Géorgie
A27: 44294 | B27: VB | C27: 0 | E27: 1 | F27: 2 | G27: 0 | H27: 0 | I27: =C27+F27+G27+H27 -> 2 | L27: Géorgie
A28: 44294 | B28: FP | C28: 1 | D28: H | E28: 0 | F28: 0 | G28: 0 | H28: 0 | I28: =C28+F28+G28+H28 -> 1 | L28: Nigéria
A29: 44294 | B29: SA | C29: 1 | D29: H | E29: 0 | F29: 0 | G29: 0 | H29: 0 | I29: 1 | L29: Somalie
A30: 44294 | B30: KN | C30: 1 | D30: H | E30: 0 | F30: 0 | G30: 0 | H30: 0 | I30: =C30+F30+G30+H30 -> 1 | L30: Pakistan
A31: 44294 | B31: AU | C31: 1 | D31: H | E31: 0 | F31: 0 | G31: 0 | H31: 0 | I31: =C31+F31+G31+H31 -> 1 | L31: Somalie
A32: 44294 | B32: HA | C32: 1 | D32: H | E32: 0 | F32: 0 | G32: 0 | H32: 0 | I32: =C32+F32+G32+H32 -> 1 | L32: Somalie
A33: 44295 | B33: MK | C33: 1 | D33: F | E33: 0 | F33: 0 | G33: 0 | H33: 0 | I33: =C33+F33+G33+H33 -> 1 | L33: Arménie
A34: 44295 | B34: KN | C34: 1 | D34: F | E34: 0 | F34: 0 | G34: 0 | H34: 0 | I34: =C34+F34+G34+H34 -> 1 | L34: Géorgie
A35: 44299 | B35: YN | C35: 1 | D35: F | E35: 0 | F35: 0 | G35: 0 | H35: 0 | I35: =C35+F35+G35+H35 -> 1 | L35: Turquie
A36: 44299 | B36: ST | C36: 1 | D36: H | E36: 0 | F36: 0 | G36: 0 | H36: 0 | I36: =C36+F36+G36+H36 -> 1 | L36: Géorgie
A37: 44299 | B37: SK | C37: 1 | D37: H | E37: 0 | F37: 0 | G37: 0 | H37: 0 | I37: =C37+F37+G37+H37 -> 1 | L37: Nigéria
A38: 44299 | B38: SB | C38: 1 | D38: F | E38: 0 | F38: 0 | G38: 0 | H38: 1 | I38: =C38+F38+G38+H38 -> 2 | L38: Afghanistan
A39: 44299 | B39: GH | C39: 1 | D39: H | E39: 0 | F39: 0 | G39: 0 | H39: 0 | I39: =C39+F39+G39+H39 -> 1 | L39: Turquie
A40: 44299 | B40: CY | C40: 1 | D40: F | E40: 0 | F40: 0 | G40: 0 | H40: 0 | I40: =C40+F40+G40+H40 -> 1 | L40: Guinée
A41: 44300 | B41: GD | C41: 1 | D41: H | E41: 0 | F41: 0 | G41: 0 | H41: 0 | I41: =C41+F41+G41+H41 -> 1 | L41: Côte d'Ivoire
A42: 44300 | B42: TA | C42: 0 | E42: 1 | F42: 2 | G42: 1 | H42: 0 | I42: =C42+F42+G42+H42 -> 3 | J42: 4 ans | L42: Côte d'Ivoire
A43: 44300 | B43: AN | C43: 0 | E43: 1 | F43: 1 | G43: 2 | H43: 0 | I43: =C43+F43+G43+H43 -> 3 | J43: 1 - 8 ans | L43: Géorgie
A44: 44300 | B44: CM | C44: 1 | D44: H | E44: 0 | F44: 0 | G44: 0 | H44: 0 | I44: =C44+F44+G44+H44 -> 1 | L44: Géorgie
A45: 44300 | B45: MH | C45: 1 | D45: F | E45: 0 | F45: 0 | G45: 0 | H45: 0 | I45: =C45+F45+G45+H45 -> 1 | L45: Ouganda
...

Sheet Mai 2021
A5: Mai 2021
A7: Date D'enregistrement | B7: Noms | C7: Nbre Isolé | D7: Sexe Isolé | E7: Nbre Familles | F7: Adultes Familles | G7: Enfants Familles | H7: Adultes Accomp. Familles | I7: Total Individus | J7: Age enfants | K7: Grossesse | L7: Pays
A8: 44319 | B8: DG | C8: 1 | D8: F | E8: 0 | F8: 0 | G8: 0 | H8: 0 | I8: =C8+F8+G8+H8 -> 1 | L8: Angola
A9: 44319 | B9: AA | C9: 1 | D9: H | E9: 0 | F9: 0 | G9: 0 | H9: 0 | I9: =C9+F9+G9+H9 -> 1 | L9: Tchad
A10: 44319 | B10: SM | C10: 0 | E10: 1 | F10: 2 | G10: 1 | H10: 0 | I10: =C10+F10+G10+H10 -> 3 | J10: 1 an | L10: Ukraine
A11: 44319 | B11: MZ | C11: 1 | D11: F | E11: 0 | F11: 0 | G11: 0 | H11: 0 | I11: =C11+F11+G11+H11 -> 1 | L11: Afghanistan
A12: 44319 | B12: KA | C12: 1 | D12: H | E12: 0 | F12: 0 | G12: 0 | H12: 0 | I12: =C12+F12+G12+H12 -> 1 | L12: Nigéria
A13: 44319 | B13: AB | C13: 1 | D13: H | E13: 0 | F13: 0 | G13: 0 | H13: 0 | I13: =C13+F13+G13+H13 -> 1 | L13: Géorgie
A14: 44319 | B14: EM | C14: 1 | D14: H | E14: 0 | F14: 0 | G14: 0 | H14: 0 | I14: =C14+F14+G14+H14 -> 1 | L14: Nigéria
A15: 44319 | B15: IY | C15: 1 | D15: H | E15: 0 | F15: 0 | G15: 0 | H15: 0 | I15: =C15+F15+G15+H15 -> 1 | L15: Érythrée
A16: 44319 | B16: BI | C16: 1 | D16: H | E16: 0 | F16: 0 | G16: 0 | H16: 0 | I16: =C16+F16+G16+H16 -> 1 | L16: Géorgie
A17: 44319 | B17: BA | C17: 1 | D17: H | E17: 0 | F17: 0 | G17: 0 | H17: 0 | I17: =C17+F17+G17+H17 -> 1 | L17: Érythrée
A18: 44319 | B18: KA | C18: 1 | D18: H | E18: 0 | F18: 0 | G18: 0 | H18: 0 | I18: =C18+F18+G18+H18 -> 1 | L18: Géorgie
A19: 44319 | B19: NZ | C19: 0 | E19: 1 | F19: 2 | G19: 3 | H19: 0 | I19: =C19+F19+G19+H19 -> 5 | J19: 9 mois -1 - 5 ans | L19: Géorgie
A20: 44319 | B20: GA | C20: 0 | E20: 1 | F20: 2 | G20: 2 | H20: 0 | I20: =C20+F20+G20+H20 -> 4 | J20: 7 - 11 ans | L20: Arménie
A21: 44319 | B21: MG | C21: 0 | E21: 1 | F21: 2 | G21: 0 | H21: 0 | I21: =C21+F21+G21+H21 -> 2 | L21: Géorgie
A22: 44319 | B22: EJ | C22: 1 | D22: H | E22: 0 | F22: 0 | G22: 0 | H22: 0 | I22: =C22+F22+G22+H22 -> 1 | L22: Nigéria
A23: 44320 | B23: AM | C23: 0 | E23: 0 | F23: 0 | G23: 3 | H23: 0 | I23: =C23+F23+G23+H23 -> 3 | J23: 1 - 3 - 16 ans | L23: Afghanistan
A24: 44320 | B24: GK | C24: 0 | E24: 1 | F24: 1 | G24: 2 | H24: 0 | I24: =C24+F24+G24+H24 -> 3 | J24: 10 - 11 ans | L24: Géorgie
A25: 44320 | B25: MM | C25: 1 | D25: H | E25: 0 | F25: 0 | G25: 0 | H25: 0 | I25: =C25+F25+G25+H25 -> 1 | L25: Pakistan
A26: 44320 | B26: JA | C26: 1 | D26: H | E26: 0 | F26: 0 | G26: 0 | H26: 0 | I26: =C26+F26+G26+H26 -> 1 | L26: Somalie
A27: 44320 | B27: KR | C27: 1 | D27: H | E27: 0 | F27: 0 | G27: 0 | H27: 0 | I27: =C27+F27+G27+H27 -> 1 | L27: Géorgie
A28: 44321 | B28: TS | C28: 0 | E28: 1 | F28: 2 | G28: 2 | H28: 0 | I28: =C28+F28+G28+H28 -> 4 | J28: 2 - 7 ans | L28: Géorgie
A29: 44321 | B29: DA | C29: 1 | D29: H | E29: 0 | F29: 0 | G29: 0 | H29: 0 | I29: =C29+F29+G29+H29 -> 1 | L29: Macedoine
A30: 44321 | B30: BY | C30: 1 | D30: H | E30: 0 | F30: 0 | G30: 0 | H30: 0 | I30: =C30+F30+G30+H30 -> 1 | L30: Algérie
A31: 44321 | B31: OA | C31: 1 | D31: H | E31: 0 | F31: 0 | G31: 0 | H31: 0 | I31: =C31+F31+G31+H31 -> 1 | L31: Turquie
A32: 44321 | B32: CF | C32: 1 | D32: H | E32: 0 | F32: 0 | G32: 0 | H32: 0 | I32: =C32+F32+G32+H32 -> 1 | L32: Turquie
A33: 44322 | B33: DM | C33: 1 | D33: H | E33: 0 | F33: 0 | G33: 0 | H33: 0 | I33: =C33+F33+G33+H33 -> 1 | L33: Guinée
A34: 44322 | B34: TS | C34: 1 | D34: F | E34: 0 | F34: 0 | G34: 0 | H34: 0 | I34: =C34+F34+G34+H34 -> 1 | L34: Côte d'Ivoire
A35: 44322 | B35: KK | C35: 1 | D35: H | E35: 0 | F35: 0 | G35: 0 | H35: 0 | I35: =C35+F35+G35+H35 -> 1 | L35: Côte d'ivoire
A36: 44322 | B36: ON | C36: 1 | D36: H | E36: 0 | F36: 0 | G36: 0 | H36: 0 | I36: =C36+F36+G36+H36 -> 1 | L36: Algérie
A37: 44322 | B37: BM | C37: 0 | E37: 1 | F37: 2 | G37: 1 | H37: 0 | I37: =C37+F37+G37+H37 -> 3 | J37: 1 an | L37: Géorgie
A38: 44322 | B38: DM | C38: 0 | E38: 0 | F38: 0 | G38: 1 | H38: 0 | I38: =C38+F38+G38+H38 -> 1 | J38: Né le 04/04/2020 | L38: Portugal
A39: 44322 | B39: KO | C39: 1 | D39: H | E39: 0 | F39: 0 | G39: 0 | H39: 0 | I39: =C39+F39+G39+H39 -> 1 | L39: Ukraine
A40: 44322 | B40: AH | C40: 1 | D40: H | E40: 0 | F40: 0 | G40: 0 | H40: 0 | I40: =C40+F40+G40+H40 -> 1 | L40: Somalie
A41: 44322 | B41: NA | C41: 0 | E41: 1 | F41: 2 | G41: 4 | H41: 1 | I41: =C41+F41+G41+H41 -> 7 | J41: 5 - 13 - 13 - 15 - 17 - 19 ans | L41: Russie
A42: 44322 | B42: SS | C42: 1 | D42: H | E42: 0 | F42: 0 | G42: 0 | H42: 0 | I42: =C42+F42+G42+H42 -> 1 | L42: Érythrée
A43: 44322 | B43: DS | C43: 1 | D43: H | E43: 0 | F43: 0 | G43: 0 | H43: 0 | I43: =C43+F43+G43+H43 -> 1 | L43: Côte d'Ivoire
A44: 44322 | B44: MV | C44: 1 | D44: H | E44: 0 | F44: 0 | G44: 0 | H44: 0 | I44: =C44+F44+G44+H44 -> 1 | L44: Géorgie
A45: 44322 | B45: NS | C45: 0 | E45: 1 | F45: 2 | G45: 3 | H45: 0 | I45: =C45+F45+G45+H45 -> 5 | J45: 1 - 4 - 8 ans | L45: Russie
...

Sheet Juin 2021
A7: Date D'enregistrement | B7: Noms | C7: Nbre Isolé | D7: Sexe Isolé | E7: Nbre Familles | F7: Adultes Familles | G7: Enfants Familles | H7: Adultes Accomp. Familles | I7: Total Individus | J7: Age enfants | K7: Grossesse | L7: Pays
A8: 44348 | B8: MS | C8: 1 | D8: H | E8: 0 | F8: 0 | G8: 0 | H8: 0 | I8: 1 | L8: Kosovo
A9: 44348 | B9: KS | C9: 1 | D9: H | E9: 0 | F9: 0 | G9: 0 | H9: 0 | I9: 1 | L9: Albanie
A10: 44348 | B10: KM | C10: 1 | D10: H | E10: 0 | F10: 0 | G10: 0 | H10: 0 | I10: 1 | L10: Géorgie
A11: 44348 | B11: TD | C11: 0 | E11: 1 | F11: 2 | G11: 2 | H11: 0 | I11: 4 | J11: 2 - 7 ans | L11: Géorgie
A12: 44348 | B12: AS | C12: 1 | D12: H | E12: 0 | F12: 0 | G12: 0 | H12: 0 | I12: 1 | L12: Algérie
A13: 44348 | B13: OJ | C13: 0 | E13: 0 | F13: 0 | G13: 1 | H13: 0 | I13: 1 | J13: Né le 08/03/2021 | L13: Nigéria
A14: 44348 | B14: AJ | C14: 1 | D14: H | E14: 0 | F14: 0 | G14: 0 | H14: 0 | I14: 1 | L14: Nigéria
A15: 44348 | B15: AH | C15: 0 | E15: 1 | F15: 2 | G15: 1 | H15: 0 | I15: 3 | J15: 10 mois | L15: Nigéria
A16: 44349 | B16: DV | C16: 0 | E16: 1 | F16: 1 | G16: 0 | H16: 1 | I16: 2 | L16: Albanie
A17: 44349 | B17: AO | C17: 1 | D17: H | E17: 0 | F17: 0 | G17: 0 | H17: 0 | I17: 1 | L17: Tchad
A18: 44349 | B18: DK | C18: 1 | D18: H | E18: 0 | F18: 0 | G18: 0 | H18: 0 | I18: 1 | L18: Albanie
A19: 44349 | B19: BD | C19: 0 | E19: 0 | F19: 0 | G19: 1 | H19: 0 | I19: 1 | J19: 11 ans | L19: Cameroun
A20: 44349 | B20: KR | C20: 1 | D20: H | E20: 0 | F20: 0 | G20: 0 | H20: 0 | I20: 1 | L20: Bangladesh
A21: 44349 | B21: BM | C21: 1 | D21: H | E21: 0 | F21: 0 | G21: 0 | H21: 0 | I21: 1 | L21: Maroc
A22: 44349 | B22: HA | C22: 1 | D22: H | E22: 0 | F22: 0 | G22: 0 | H22: 0 | I22: 1 | L22: Afghanistan
A23: 44349 | B23: AA | C23: 0 | E23: 1 | F23: 2 | G23: 2 | H23: 0 | I23: 4 | J23: 3 - 6 ans | L23: Syrie
A24: 44349 | B24: BK | C24: 1 | D24: H | E24: 0 | F24: 0 | G24: 0 | H24: 0 | I24: 1 | L24: Tunisie
A25: 44350 | B25: KF | C25: 0 | E25: 1 | F25: 1 | G25: 3 | H25: 0 | I25: 4 | J25: 1 - 7 - 15 ans | L25: Congo RDC
A26: 44350 | B26: BD | C26: 0 | E26: 1 | F26: 1 | G26: 1 | H26: 0 | I26: 2 | L26: Guinée
A27: 44350 | B27: MB | C27: 0 | E27: 0 | F27: 0 | G27: 1 | H27: 0 | I27: 1 | L27: Congo RDC
A28: 44350 | B28: KT | C28: 1 | D28: H | E28: 0 | F28: 0 | G28: 0 | H28: 0 | I28: 1 | L28: Géorgie
A29: 44350 | B29: TK | C29: 1 | D29: H | E29: 0 | F29: 0 | G29: 0 | H29: 0 | I29: 1 | L29: Irak
A30: 44350 | B30: TA | C30: 1 | D30: H | E30: 0 | F30: 0 | G30: 0 | H30: 0 | I30: 1 | L30: Côte d'ivoire
A31: 44350 | B31: GK | C31: 1 | D31: H | E31: 0 | F31: 0 | G31: 0 | H31: 0 | I31: 1 | L31: Côte d'ivoire
A32: 44350 | B32: ND | C32: 1 | D32: F | E32: 0 | F32: 0 | G32: 0 | H32: 0 | I32: 1 | L32: Cameroun
A33: 44351 | B33: AR | C33: 0 | E33: 1 | F33: 1 | G33: 0 | H33: 0 | I33: 1 | L33: Somalie
A34: 44351 | B34: HL | C34: 0 | E34: 1 | F34: 1 | G34: 2 | H34: 0 | I34: 3 | J34: 6 - 15 - 17 ans | L34: Arménie
A35: 44351 | B35: SR | C35: 1 | D35: H | E35: 0 | F35: 0 | G35: 0 | H35: 0 | I35: 1 | L35: Russie
A36: 44351 | B36: AH | C36: 1 | D36: H | E36: 0 | F36: 0 | G36: 0 | H36: 0 | I36: 1 | L36: Nigéria
A37: 44351 | B37: PP | C37: 1 | D37: H | E37: 0 | F37: 0 | G37: 0 | H37: 0 | I37: 1 | L37: Kosovo
A38: 44351 | B38: RD | C38: 1 | D38: H | E38: 0 | F38: 0 | G38: 0 | H38: 0 | I38: 1 | L38: Russie
A39: 44351 | B39: JH | C39: 0 | E39: 0 | F39: 0 | G39: 2 | H39: 0 | I39: 2 | J39: 8 mois - 2 ans | L39: Afghanistan
A40: 44354 | B40: DN | C40: 1 | D40: F | E40: 0 | F40: 0 | G40: 0 | H40: 0 | I40: 1 | L40: Côte d'ivoire
A41: 44354 | B41: TM | C41: 0 | E41: 1 | F41: 2 | G41: 2 | H41: 0 | I41: 4 | J41: 1 - 4 ans | L41: Macédoine
A42: 44354 | B42: HB | C42: 0 | E42: 0 | F42: 0 | G42: 1 | H42: 0 | I42: =C42+F42+G42+H42 -> 1 | L42: Nigéria
A43: 44354 | B43: KA | C43: 0 | E43: 1 | F43: 2 | G43: 1 | H43: 0 | I43: 3 | L43: Afghanistan
A44: 44355 | B44: BV | C44: 1 | D44: H | E44: 0 | F44: 0 | G44: 0 | H44: 0 | I44: =C44+F44+G44+H44 -> 1 | L44: Géorgie
A45: 44355 | B45: MH | C45: 1 | D45: H | E45: 0 | F45: 0 | G45: 0 | H45: 0 | I45: =C45+F45+G45+H45 -> 1 | L45: Cameroun
A46: 44355 | B46: CA | C46: 1 | D46: H | E46: 0 | F46: 0 | G46: 0 | H46: 0 | I46: =C46+F46+G46+H46 -> 1 | L46: Cote d'Ivoire
...

Sheet Total
B3: Isolés | E3: Familles | I3: 2021 | J3: 2020 | K3: 2019
B4: Nombres | C4: Hommes | D4: Femmes | E4: Nombres | F4: Adultes | G4: Enfants | H4: Adultes Accom.
A5: Janvier | B5: =+'Janvier 2021'!E134 -> 94 | C5: =COUNTIF('Janvier 2021'!F8:F133,"H") -> 83 | D5: =COUNTIF('Janvier 2021'!F8:F133,"F") -> 15 | E5: ='Janvier 2021'!G134 -> 22 | F5: ='Janvier 2021'!H134 -> 33 | G5: ='Janvier 2021'!I134 -> 61 | H5: ='Janvier 2021'!J134 -> 5 | I5: =B5+F5+G5+H5 -> 193 | J5: 289 | K5: 322
A6: Février | B6: ='Février 2021'!E116 -> 86 | C6: =COUNTIF('Février 2021'!F8:F115,"H") -> 73 | D6: =COUNTIF('Février 2021'!F8:F115,"F") -> 13 | E6: ='Février 2021'!G116 -> 16 | F6: ='Février 2021'!H116 -> 25 | G6: ='Février 2021'!I116 -> 25 | H6: ='Février 2021'!J116 -> 4 | I6: =B6+F6+G6+H6 -> 140 | J6: 274 | K6: 323
A7: Mars | B7: =+'Mars 2021'!D155 -> 118 | C7: =COUNTIF(Tableau123245623[Sexe Isolé],"H") -> 101 | D7: =COUNTIF(Tableau123245623[Sexe Isolé],"F") -> 17 | E7: ='Mars 2021'!F155 -> 21 | F7: ='Mars 2021'!G155 -> 31 | G7: ='Mars 2021'!H155 -> 39 | H7: ='Mars 2021'!I155 -> 6 | I7: =B7+F7+G7+H7 -> 194 | J7: 156 | K7: 355
A8: Avril | B8: ='Avril 2021'!C122 -> 85 | C8: =COUNTIF('Avril 2021'!D8:D121,"H") -> 68 | D8: =COUNTIF('Avril 2021'!D8:D121,"F") -> 17 | E8: ='Avril 2021'!E122 -> 25 | F8: ='Avril 2021'!F122 -> 41 | G8: ='Avril 2021'!G122 -> 44 | H8: ='Avril 2021'!H122 -> 12 | I8: =B8+F8+G8+H8 -> 182 | J8: 21 | K8: 366
A9: Mai | B9: ='Mai 2021'!C161 -> 107 | C9: =COUNTIF('Mai 2021'!D9:D161,"H") -> 88 | D9: =COUNTIF('Mai 2021'!D9:D161,"F") -> 18 | E9: ='Mai 2021'!E161 -> 39 | F9: ='Mai 2021'!F161 -> 69 | G9: ='Mai 2021'!G161 -> 61 | H9: ='Mai 2021'!H161 -> 9 | I9: =B9+F9+G9+H9 -> 246 | J9: 52 | K9: 392
A10: Juin (21) | B10: ='Juin 2021'!C104 -> 66 | C10: =COUNTIF(Tableau123245623457[Sexe Isolé],"H") -> 60 | D10: =COUNTIF(Tableau123245623457[Sexe Isolé],"F") -> 6 | E10: ='Juin 2021'!E104 -> 19 | F10: ='Juin 2021'!F104 -> 32 | G10: ='Juin 2021'!G104 -> 43 | H10: ='Juin 2021'!H104 -> 1 | I10: =B10+F10+G10+H10 -> 142 | J10: 101 | K10: 285
A11: Juillet | I11: =B11+F11+G11+H11 -> 0 | J11: 246 | K11: 423
A12: Août | I12: =B12+F12+G12+H12 -> 0 | J12: 269 | K12: 361
A13: Septembre | I13: =B13+F13+G13+H13 -> 0 | J13: 247 | K13: 383
A14: Octobre | I14: =B14+F14+G14+H14 -> 0 | J14: 234 | K14: 412
A15: Novembre | I15: =B15+F15+G15+H15 -> 0 | J15: 190 | K15: 293
A16: Décembre | I16: =B16+F16+G16+H16 -> 0 | J16: 206 | K16: 298
A17: Total | B17: =SUM(B5:B16) -> 556 | C17: =SUM(C5:C16) -> 473 | D17: =SUM(D5:D16) -> 86 | E17: =SUM(E5:E16) -> 142 | F17: =SUM(F5:F16) -> 231 | G17: =SUM(G5:G16) -> 273 | H17: =SUM(H5:H16) -> 37 | I17: =SUM(I5:I16) -> 1097 | J17: =SUM(J5:J16) -> 2285 | K17: 4213
K22: =I17-K17 -> -3116
