Workbook

Sheet total Scrap
A1: Month | B1: Team Leader | C1: Name | D1: FNC / SMR | E1: Part Number | F1: Part Name | G1: Qty | H1: Part cost € | I1: Handling cost € | J1: TOTAL Amount € | K1: Comments | L1: 1.1355
A2: 04/2020 | B2: 72999 | C2: =VLOOKUP(B2,'[1]Base Chef déquipe'!$A$1:$B$33,2,FALSE) -> B. Metreau | D2: 95402 | E2: 57110F118271 | F2: METER ASSY, COMBINATION | G2: 1 | H2: =39.26/L1 -> 34.575077 | I2: =IF(H2="","",13.72) -> 13.72 | J2: =IF(H2="","",SUM(H2:I2)) -> 48.295077 | K2: PIÈCE TOMBÉE LORS DU MONTAGE SUR CHAINE (PIECE CASSÉE)
A3: 04/2020 | B3: 72007 | C3: =VLOOKUP(B3,'[1]Base Chef déquipe'!$A$1:$B$33,2,FALSE) -> JP Dupas | D3: 95403 | E3: 57413F231071 | F3: BOX ASSY, KEYPAD, LOG-ON | G3: 1 | H3: 38.46 | I3: =IF(H3="","",13.72) -> 13.72 | J3: =IF(H3="","",SUM(H3:I3)) -> 52.18 | K3: MQ PIÈCE POUR VISSER LE DIJICODE (DÉMONTÉ PAR LA DES)
A4: 04/2020 | B4: 72999 | C4: =VLOOKUP(B4,'[1]Base Chef déquipe'!$A$1:$B$33,2,FALSE) -> B. Metreau | D4: 95504 | E4: 56232F231171 | F4: WIRE | G4: 1 | H4: 10.93 | I4: =IF(H4="","",13.72) -> 13.72 | J4: =IF(H4="","",SUM(H4:I4)) -> 24.65 | K4: PRISE ARRACHÉE DÉFAUT NOTÉ SUR LA CHECKLIST ASSEMBLAGE
A5: 05/2020 | B5: 72007 | C5: =VLOOKUP(B5,'[1]Base Chef déquipe'!$A$1:$B$33,2,FALSE) -> JP Dupas | D5: 95054 | E5: 52212FS2LC71 | F5: CARPET BOX AIR COOLER | G5: 1 | H5: 138 | I5: =IF(H5="","",13.72) -> 13.72 | J5: =IF(H5="","",SUM(H5:I5)) -> 151.72 | K5: HABILLAGE ABIMÉ EN ACTIONNANT LE SIÈGE
A6: 05/2020 | B6: 72999 | C6: =VLOOKUP(B6,'[1]Base Chef déquipe'!$A$1:$B$33,2,FALSE) -> B. Metreau | D6: 95703 | E6: 56031F222671 | F6: WIRE, SIDE LH | G6: 2 | H6: 67.92 | I6: =IF(H6="","",13.72) -> 13.72 | J6: =IF(H6="","",SUM(H6:I6)) -> 81.64 | K6: PRISE BLANCHE ALIM MINI-LEVER HS
A7: 05/2020 | B7: 73082 | C7: =VLOOKUP(B7,'[1]Base Chef déquipe'!$A$1:$B$33,2,FALSE) -> C. Poli Marchetti | D7: 95709 | E7: 56062F221271 | F7: WIRE, HOOD SUB NO.1 | G7: 1 | H7: 46.85 | I7: =IF(H7="","",13.72) -> 13.72 | J7: =IF(H7="","",SUM(H7:I7)) -> 60.57 | K7: CONNECTEUR ALIM DU SIÈGE HS
A8: 05/2020 | B8: 72062 | C8: =VLOOKUP(B8,'[1]Base Chef déquipe'!$A$1:$B$33,2,FALSE) -> P. Sauvaget | D8: 95708 | E8: 56021F219471 | F8: WIRE, ENGINE | G8: 1 | H8: 46.77 | I8: =IF(H8="","",13.72) -> 13.72 | J8: =IF(H8="","",SUM(H8:I8)) -> 60.49 | K8: SUPPORT FUSIBLES HS
A9: 05/2020 | B9: 72062 | C9: =VLOOKUP(B9,'[1]Base Chef déquipe'!$A$1:$B$33,2,FALSE) -> P. Sauvaget | D9: 95707 | E9: 56021F220271 | F9: WIRE, ENGINE | G9: 1 | H9: 24.82 | I9: =IF(H9="","",13.72) -> 13.72 | J9: =IF(H9="","",SUM(H9:I9)) -> 38.54 | K9: VIS DE FIXATION FAISCEAU SUR FUSIBLE HS
A10: 05/2020 | B10: 73082 | C10: =VLOOKUP(B10,'[1]Base Chef déquipe'!$A$1:$B$33,2,FALSE) -> C. Poli Marchetti | D10: 95763 | E10: 55537F318471 | F10: COVER, INNER, DOOR, RH, UPR | G10: 1 | H10: 13.87 | I10: =IF(H10="","",13.72) -> 13.72 | J10: =IF(H10="","",SUM(H10:I10)) -> 27.59 | K10: CAPITONNAGE COUPÉ
A11: 05/2020 | B11: 72999 | C11: =VLOOKUP(B11,'[1]Base Chef déquipe'!$A$1:$B$33,2,FALSE) -> B. Metreau | D11: 95705 | E11: 56062FSU1U71 | F11: WIRE HOOD (56062-F2212-71) | G11: 1 | H11: 13.5 | I11: =IF(H11="","",13.72) -> 13.72 | J11: =IF(H11="","",SUM(H11:I11)) -> 27.22 | K11: FIL COUPÉ SUR CHAINE
A12: 06/2020 | B12: 72999 | C12: =VLOOKUP(B12,'[1]Base Chef déquipe'!$A$1:$B$33,2,FALSE) -> B. Metreau | D12: 95952 | E12: 175702660371 | F12: MUFFLER ASSY, CATALYTIC | G12: 1 | H12: 179.91 | I12: =IF(H12="","",13.72) -> 13.72 | J12: =IF(H12="","",SUM(H12:I12)) -> 193.63 | K12: FILETAGE HS LORS DU SERRAGE 078 225897
A13: 06/2020 | B13: 73082 | C13: =VLOOKUP(B13,'[1]Base Chef déquipe'!$A$1:$B$33,2,FALSE) -> C. Poli Marchetti | D13: 95619 | E13: 16420F221171 | F13: RADIATOR ASSY | G13: 1 | H13: 71.35 | I13: =IF(H13="","",13.72) -> 13.72 | J13: =IF(H13="","",SUM(H13:I13)) -> 85.07 | K13: COUPS SUR RADIATEUR
A14: 06/2020 | B14: 73082 | C14: =VLOOKUP(B14,'[1]Base Chef déquipe'!$A$1:$B$33,2,FALSE) -> C. Poli Marchetti | D14: 95704 | E14: 169202661071 | F14: COOLER ASSY, HYD OIL | G14: 1 | H14: 45.29 | I14: =IF(H14="","",13.72) -> 13.72 | J14: =IF(H14="","",SUM(H14:I14)) -> 59.01 | K14: AILETTES SUR RADIATEUR HS 817 224942
... A297: 03/2021 | B297: 72999 | C297: =VLOOKUP(B297,'[1]Base Chef déquipe'!$A$1:$B$33,2,FALSE) -> B. Metreau | D297: 96555 | E297: 111802665171 | F297: ENGINE ASSY 1ZS | G297: 1 | H297: 159.92 | I297: =IF(H297="","",13.72) -> 13.72 | J297: =IF(H297="","",SUM(H297:I297)) -> 173.64 | K297: INJECTEUR HS
A298: 03/2021 | B298: 72886 | C298: =VLOOKUP(B298,'[1]Base Chef déquipe'!$A$1:$B$33,2,FALSE) -> K. Julien | D298: 97137 | E298: 1B03095 | F298: SHAFT | G298: 25 | H298: =G298*5.75 -> 143.75 | I298: =IF(H298="","",13.72) -> 13.72 | J298: =IF(H298="","",SUM(H298:I298)) -> 157.47 | K298: TARAUDAGE DE M16X2 AU LIEU DE M16X1,5
A299: 03/2021 | B299: 73082 | C299: =VLOOKUP(B299,'[1]Base Chef déquipe'!$A$1:$B$33,2,FALSE) -> C. Poli Marchetti | D299: 95668 | E299: 455103664071 | F299: VALVE ASSY, POWER STEERING | G299: 1 | H299: 132.18 | I299: =IF(H299="","",13.72) -> 13.72 | J299: =IF(H299="","",SUM(H299:I299)) -> 145.9 | K299: FIL COUPÉ
A300: 03/2021 | B300: 73069 | C300: =VLOOKUP(B300,'[1]Base Chef déquipe'!$A$1:$B$33,2,FALSE) -> T. Boudard | D300: 96683 | E300: 2A28008 | F300: FRONT SLIDING GLASS LH | G300: 1 | H300: 129.49 | I300: =IF(H300="","",13.72) -> 13.72 | J300: =IF(H300="","",SUM(H300:I300)) -> 143.21 | K300: EN RETIRANT LA BAIE COLLÉE SUR LA PORTE ELLE S'EST CASSÉE
A301: 03/2021 | B301: 72999 | C301: =VLOOKUP(B301,'[1]Base Chef déquipe'!$A$1:$B$33,2,FALSE) -> B. Metreau | D301: 96619 | E301: 56210F225071 | F301: WIRE, ENGINE | G301: 1 | H301: 128.42 | I301: =IF(H301="","",13.72) -> 13.72 | J301: =IF(H301="","",SUM(H301:I301)) -> 142.14 | K301: PRISE HS
A302: 03/2021 | B302: 73082 | C302: =VLOOKUP(B302,'[1]Base Chef déquipe'!$A$1:$B$33,2,FALSE) -> C. Poli Marchetti | D302: 96617 | E302: 56210F225071 | F302: WIRE, ENGINE | G302: 1 | H302: 127.96 | I302: =IF(H302="","",13.72) -> 13.72 | J302: =IF(H302="","",SUM(H302:I302)) -> 141.68 | K302: CODE ERREUR OC-2
A303: 03/2021 | B303: 73082 | C303: =VLOOKUP(B303,'[1]Base Chef déquipe'!$A$1:$B$33,2,FALSE) -> C. Poli Marchetti | D303: 96567 | E303: 537302670571 | F303: SEAT ASSY | G303: 1 | H303: 117.18 | I303: =IF(H303="","",13.72) -> 13.72 | J303: =IF(H303="","",SUM(H303:I303)) -> 130.9 | K303: OUVERTURE BOITE DOCS HS
A304: 03/2021 | B304: 72999 | C304: =VLOOKUP(B304,'[1]Base Chef déquipe'!$A$1:$B$33,2,FALSE) -> B. Metreau | D304: 97812 | E304: 565302660071 | F304: LAMP ASSY, COMBINATION HEAD, LED | G304: 1 | H304: 97.19 | I304: =IF(H304="","",13.72) -> 13.72 | J304: =IF(H304="","",SUM(H304:I304)) -> 110.91 | K304: PRISE ARRACHÉE
A305: 03/2021 | B305: 73082 | C305: =VLOOKUP(B305,'[1]Base Chef déquipe'!$A$1:$B$33,2,FALSE) -> C. Poli Marchetti | D305: 97224 | E305: 281002665171 | F305: STARTER ASSY | G305: 1 | H305: 94.69 | I305: =IF(H305="","",13.72) -> 13.72 | J305: =IF(H305="","",SUM(H305:I305)) -> 108.41 | K305: PRISE SUR DEMARREUR HS
A306: 03/2021 | B306: 73082 | C306: =VLOOKUP(B306,'[1]Base Chef déquipe'!$A$1:$B$33,2,FALSE) -> C. Poli Marchetti | D306: 95562 | E306: 470303661171 | F306: BRAKE ASSY, RH | G306: 1 | H306: 88.54 | I306: =IF(H306="","",13.72) -> 13.72 | J306: =IF(H306="","",SUM(H306:I306)) -> 102.26 | K306: CABLE DE FREIN HS
A307: 03/2021 | B307: 72999 | C307: =VLOOKUP(B307,'[1]Base Chef déquipe'!$A$1:$B$33,2,FALSE) -> B. Metreau | D307: 95666 | E307: 56210F219071 | F307: WIRE, ENGINE | G307: 1 | H307: 80.57 | I307: =IF(H307="","",13.72) -> 13.72 | J307: =IF(H307="","",SUM(H307:I307)) -> 94.29 | K307: PRISE CASSÉE SUR FAISCEAU MOTEUR
A308: 03/2021 | B308: 72999 | C308: =VLOOKUP(B308,'[1]Base Chef déquipe'!$A$1:$B$33,2,FALSE) -> B. Metreau | D308: 96563 | E308: 56210F219071 | F308: WIRE, ENGINE | G308: 1 | H308: 80.57 | I308: =IF(H308="","",13.72) -> 13.72 | J308: =IF(H308="","",SUM(H308:I308)) -> 94.29 | K308: PRISE HS
A309: 03/2021 | B309: 72999 | C309: =VLOOKUP(B309,'[1]Base Chef déquipe'!$A$1:$B$33,2,FALSE) -> B. Metreau | D309: 96747 | E309: 56210F219071 | F309: WIRE, ENGINE | G309: 1 | H309: 80.31 | I309: =IF(H309="","",13.72) -> 13.72 | J309: =IF(H309="","",SUM(H309:I309)) -> 94.03 | K309: PRISE HS
A310: 03/2021 | B310: 72999 | C310: =VLOOKUP(B310,'[1]Base Chef déquipe'!$A$1:$B$33,2,FALSE) -> B. Metreau | D310: 96750 | E310: 56210F219071 | F310: WIRE, ENGINE | G310: 1 | H310: 80.31 | I310: =IF(H310="","",13.72) -> 13.72 | J310: =IF(H310="","",SUM(H310:I310)) -> 94.03 | K310: PRISE HS
... A341: 03/2021 | B341: 72999 | C341: =VLOOKUP(B341,'[1]Base Chef déquipe'!$A$1:$B$33,2,FALSE) -> B. Metreau | D341: 97809 | E341: 688022654071 | F341: PULLEY SUB-ASSY, HOSE GUIDE | G341: 1 | H341: 4.1 | I341: =IF(H341="","",13.72) -> 13.72 | J341: =IF(H341="","",SUM(H341:I341)) -> 17.82 | K341: POULIE CASSÉE LORS DU MONTAGE
A342: 04/2021 | B342: 73069 | C342: =VLOOKUP(B342,'[2]Base Chef déquipe'!$A$1:$B$33,2,FALSE) -> T. Boudard | D342: 96684 | E342: 676303655071 | F342: VALVE ASSY, OIL CONTROL | G342: 1 | H342: 435.29 | I342: =IF(H342="","",13.72) -> 13.72 | J342: =IF(H342="","",SUM(H342:I342)) -> 449.01 | K342: FIL ALIM DU SOLÉNOÏDE HS
A343: 04/2021 | B343: 72999 | C343: =VLOOKUP(B343,'[2]Base Chef déquipe'!$A$1:$B$33,2,FALSE) -> B. Metreau | D343: 98058 | E343: 425102667071 | F343: AXLE ASSY, DIFF | G343: 1 | H343: 100.94 | I343: =IF(H343="","",13.72) -> 13.72 | J343: =IF(H343="","",SUM(H343:I343)) -> 114.66 | K343: FLASQUE AV DU PONT ABIMÉE AU MONTAGE 02 508 233351
A344: 04/2021 | B344: 72999 | C344: =VLOOKUP(B344,'[2]Base Chef déquipe'!$A$1:$B$33,2,FALSE) -> B. Metreau | D344: 96623 | E344: 565302660071 | F344: LAMP ASSY, COMBINATION HEAD, LED | G344: 1 | H344: 97.19 | I344: =IF(H344="","",13.72) -> 13.72 | J344: =IF(H344="","",SUM(H344:I344)) -> 110.91 | K344: FILS ARRACHÉS SUR CHAINE
A345: 04/2021 | B345: 72999 | C345: =VLOOKUP(B345,'[2]Base Chef déquipe'!$A$1:$B$33,2,FALSE) -> B. Metreau | D345: 97820 | E345: 565302660071 | F345: LAMP ASSY, COMBINATION HEAD, LED | G345: 1 | H345: 97.19 | I345: =IF(H345="","",13.72) -> 13.72 | J345: =IF(H345="","",SUM(H345:I345)) -> 110.91 | K345: PHARE CASSÉ APRÈS UNE CHUTE
A346: 04/2021 | B346: 72238 | C346: =VLOOKUP(B346,'[2]Base Chef déquipe'!$A$1:$B$33,2,FALSE) -> D. Rouez | D346: 97818 | E346: 8987125010 | F346: CONTROLLER ASSY, FUEL INJECTION | G346: 1 | H346: 87.45 | I346: =IF(H346="","",13.72) -> 13.72 | J346: =IF(H346="","",SUM(H346:I346)) -> 101.17 | K346: PATTE DE FIXATION CASSÉE
A347: 04/2021 | B347: 72999 | C347: =VLOOKUP(B347,'[2]Base Chef déquipe'!$A$1:$B$33,2,FALSE) -> B. Metreau | D347: 96570 | E347: 461502661271 | F347: PEDAL ASSY, PARKING BRAKE | G347: 1 | H347: 47.5 | I347: =IF(H347="","",13.72) -> 13.72 | J347: =IF(H347="","",SUM(H347:I347)) -> 61.22 | K347: SUPPORT CABLE HS
A348: 04/2021 | B348: 73069 | C348: =VLOOKUP(B348,'[2]Base Chef déquipe'!$A$1:$B$33,2,FALSE) -> T. Boudard | D348: 97960 | E348: 565903676071 | F348: LAMP ASSY, HEAD | G348: 1 | H348: 43.72 | I348: =IF(H348="","",13.72) -> 13.72 | J348: =IF(H348="","",SUM(H348:I348)) -> 57.44 | K348: PRARE CASSÉ LORS DU DÉBALLAGE (TOMBÉ)
A349: 04/2021 | B349: 72238 | C349: =VLOOKUP(B349,'[2]Base Chef déquipe'!$A$1:$B$33,2,FALSE) -> D. Rouez | D349: 97822 | E349: 566302661071 | F349: LAMP ASSY, COMBINATION RR, LED | G349: 1 | H349: 37.34 | I349: =IF(H349="","",13.72) -> 13.72 | J349: =IF(H349="","",SUM(H349:I349)) -> 51.06 | K349: PRISE HS
A350: 04/2021 | B350: 72999 | C350: =VLOOKUP(B350,'[2]Base Chef déquipe'!$A$1:$B$33,2,FALSE) -> B. Metreau | D350: 96568 | E350: 56062F321071 | F350: WIRE, HOOD SUB NO.1 | G350: 1 | H350: 33.62 | I350: =IF(H350="","",13.72) -> 13.72 | J350: =IF(H350="","",SUM(H350:I350)) -> 47.34 | K350: FILS COUPÉS
A351: 04/2021 | B351: 72999 | C351: =VLOOKUP(B351,'[2]Base Chef déquipe'!$A$1:$B$33,2,FALSE) -> B. Metreau | D351: 97663 | E351: 68402F220071 | F351: PIPE SUB-ASSY, INNER | G351: 1 | H351: 33.53 | I351: =IF(H351="","",13.72) -> 13.72 | J351: =IF(H351="","",SUM(H351:I351)) -> 47.25 | K351: FILETAGE CONNECTEUR HS
A352: 04/2021 | B352: 72238 | C352: =VLOOKUP(B352,'[2]Base Chef déquipe'!$A$1:$B$33,2,FALSE) -> D. Rouez | D352: 96576 | E352: 56310F125071 | F352: WIRE SIDE LH | G352: 1 | H352: 22.48 | I352: =IF(H352="","",13.72) -> 13.72 | J352: =IF(H352="","",SUM(H352:I352)) -> 36.2 | K352: PRISE OPS CASSÉE
A353: 04/2021 | B353: 72238 | C353: =VLOOKUP(B353,'[2]Base Chef déquipe'!$A$1:$B$33,2,FALSE) -> D. Rouez | D353: 96578 | E353: 23507FPA2171 | F353: WIRE, SENSOR DOPPLER (23510FPA2071 | G353: 1 | H353: 19.06 | I353: =IF(H353="","",13.72) -> 13.72 | J353: =IF(H353="","",SUM(H353:I353)) -> 32.78 | K353: DOPLER NE FONCTIONNE PAS
... A390: 05/2021 | B390: 72999 | C390: =VLOOKUP(B390,'[2]Base Chef déquipe'!$A$1:$B$33,2,FALSE) -> B. Metreau | D390: 97828 | E390: 56023F218071 | F390: WIRE, BATTERY EARTH | G390: 1 | H390: 1.88 | I390: =IF(H390="","",13.72) -> 13.72 | J390: =IF(H390="","",SUM(H390:I390)) -> 15.6 | K390: BRANCHÉ EN COURT CIRCUIT GAINE FONDUE
A391: 06/2021 | B391: 72999 | C391: =VLOOKUP(B391,'[2]Base Chef déquipe'!$A$1:$B$35,2,FALSE) -> B. Metreau | D391: 97666 | E391: 111802665171 | F391: ENGINE ASSY 1ZS | G391: 1 | H391: 545.94 | I391: =IF(H391="","",13.72) -> 13.72 | J391: =IF(H391="","",SUM(H391:I391)) -> 559.66 | K391: PRISE ALTERNATEUR HS
A392: 06/2021 | B392: 72238 | C392: =VLOOKUP(B392,'[2]Base Chef déquipe'!$A$1:$B$35,2,FALSE) -> D. Rouez | D392: 98024 | E392: 18450UM020 | F392: CONVERTER ASSY, MONOLITHI | G392: 1 | H392: 345.77 | I392: =IF(H392="","",13.72) -> 13.72 | J392: =IF(H392="","",SUM(H392:I392)) -> 359.49 | K392: VIS CASSÉE EN LA SERRANT
A393: 06/2021 | B393: 72238 | C393: =VLOOKUP(B393,'[2]Base Chef déquipe'!$A$1:$B$35,2,FALSE) -> D. Rouez | D393: 97701 | E393: 56190F220071 | F393: WIRE, BODY MAIN | G393: 1 | H393: 169.4 | I393: =IF(H393="","",13.72) -> 13.72 | J393: =IF(H393="","",SUM(H393:I393)) -> 183.12 | K393: BOITIER FUSIBLE CASSÉ
A394: 06/2021 | B394: 73072 | C394: =VLOOKUP(B394,'[2]Base Chef déquipe'!$A$1:$B$35,2,FALSE) -> S. Zinutti | D394: 95573 | E394: 56190F220071 | F394: WIRE, BODY MAIN | G394: 1 | H394: 169.4 | I394: =IF(H394="","",13.72) -> 13.72 | J394: =IF(H394="","",SUM(H394:I394)) -> 183.12 | K394: BOITIER FUSIBLE HS ET RECUP D'UNE PRISE POUR RÉPARER UN CHARIOT
A395: 06/2021 | B395: 73072 | C395: =VLOOKUP(B395,'[2]Base Chef déquipe'!$A$1:$B$35,2,FALSE) -> S. Zinutti | D395: 96595 | E395: 56190F220071 | F395: WIRE, BODY MAIN | G395: 1 | H395: 169.4 | I395: =IF(H395="","",13.72) -> 13.72 | J395: =IF(H395="","",SUM(H395:I395)) -> 183.12 | K395: BOITIER FUSIBLE HS
A396: 06/2021 | B396: 72999 | C396: =VLOOKUP(B396,'[2]Base Chef déquipe'!$A$1:$B$35,2,FALSE) -> B. Metreau | D396: 96591 | E396: 56190F127071 | F396: WIRE, BODY MAIN | G396: 1 | H396: 168.78 | I396: =IF(H396="","",13.72) -> 13.72 | J396: =IF(H396="","",SUM(H396:I396)) -> 182.5 | K396: PRISE HS
A397: 06/2021 | B397: 72238 | C397: =VLOOKUP(B397,'[2]Base Chef déquipe'!$A$1:$B$35,2,FALSE) -> D. Rouez | D397: 97442 | E397: 56110F218071 | F397: WIRE, BODY MAIN | G397: 1 | H397: 167.68 | I397: =IF(H397="","",13.72) -> 13.72 | J397: =IF(H397="","",SUM(H397:I397)) -> 181.4 | K397: COSSE HS DANS LE BOITIER RELAIS
A398: 06/2021 | B398: 72003 | C398: =VLOOKUP(B398,'[2]Base Chef déquipe'!$A$1:$B$35,2,FALSE) -> E. Baudouin | D398: 96697 | E398: 38120F332171 | F398: PUMP, COUPLING | G398: 1 | H398: 161 | I398: =IF(H398="","",13.72) -> 13.72 | J398: =IF(H398="","",SUM(H398:I398)) -> 174.72 | K398: DÉFORMATION FAITE AU MONTAGE
A399: 06/2021 | B399: 72003 | C399: =VLOOKUP(B399,'[2]Base Chef déquipe'!$A$1:$B$35,2,FALSE) -> E. Baudouin | D399: 98059 | E399: 55231F231071 | F399: GLASS, ROOF | G399: 1 | H399: 99.9 | I399: =IF(H399="","",13.72) -> 13.72 | J399: =IF(H399="","",SUM(H399:I399)) -> 113.62 | K399: VITRE HS
A400: 06/2021 | B400: 72999 | C400: =VLOOKUP(B400,'[2]Base Chef déquipe'!$A$1:$B$35,2,FALSE) -> B. Metreau | D400: 97834 | E400: 565302660071 | F400: LAMP ASSY, COMBINATION HEAD, LED | G400: 1 | H400: 97.19 | I400: =IF(H400="","",13.72) -> 13.72 | J400: =IF(H400="","",SUM(H400:I400)) -> 110.91 | K400: HS
A401: 06/2021 | B401: 72999 | C401: =VLOOKUP(B401,'[2]Base Chef déquipe'!$A$1:$B$35,2,FALSE) -> B. Metreau | D401: 97752 | E401: 8987125010 | F401: CONTROLLER ASSY, FUEL INJECTION | G401: 1 | H401: 87.45 | I401: =IF(H401="","",13.72) -> 13.72 | J401: =IF(H401="","",SUM(H401:I401)) -> 101.17 | K401: PIÈCE TOMBÉE ET DONC HS
A402: 06/2021 | B402: 72999 | C402: =VLOOKUP(B402,'[2]Base Chef déquipe'!$A$1:$B$35,2,FALSE) -> B. Metreau | D402: 96590 | E402: 56210F219071 | F402: WIRE, ENGINE | G402: 1 | H402: 80.0224 | I402: =IF(H402="","",13.72) -> 13.72 | J402: =IF(H402="","",SUM(H402:I402)) -> 93.7424 | K402: CAPUCHON ALTERNATEUR DÉCHIRÉ
... A437: 06/2021 | B437: 72238 | C437: =VLOOKUP(B437,'[2]Base Chef déquipe'!$A$1:$B$35,2,FALSE) -> D. Rouez | D437: 96596 | E437: 58741F231071 | F437: COVER PILAR LH | G437: 1 | H437: 2.1 | I437: =IF(H437="","",13.72) -> 13.72 | J437: =IF(H437="","",SUM(H437:I437)) -> 15.82 | K437: TRACES SUR LE CARTER

Sheet récurrence
A1: Month | B1: FNC / SMR | C1: Part Number | D1: Nombres de jours moyens entre deux occurrences | E1: facteur associé | F1: Références | G1: Nombre | H1: Références ponctuelles | I1: Nombre | J1: références avec occurrence >1 | K1: Nombre | L1: Nombre d'occurrences | M1: OCCURENCE1 | N1: OCCURENCE2 | O1: OCCURENCE3 | P1: OCCURENCE4 | Q1: OCCURENCE5 | R1: OCCURENCE6 | S1: OCCURENCE7 | T1: OCCURENCE8 | U1: OCCURENCE9 | V1: OCCURENCE10 | W1: OCCURENCE11 | X1: OCCURENCE12 | Y1: OCCURENCE13 | Z1: OCCURENCE14 | AA1: OCCURENCE15 | AB1: OCCURENCE16 | AC1: OCCURENCE17 | AD1: OCCURENCE18 | AE1: OCCURENCE19 | AF1: OCCURENCE20 | AG1: OCCURENCE21 | AH1: OCCURENCE22 | AI1: OCCURENCE23 | AJ1: OCCURENCE24 | AK1: OCCURENCE25 | AL1: OCCURENCE26 | AM1: OCCURENCE27 | AN1: OCCURENCE28 | AO1: OCCURENCE29 | AP1: OCCURENCE30 | AQ1: OCCURENCE31 | AR1: OCCURENCE32 | AS1: OCCURENCE33 | AT1: OCCURENCE34 | AU1: OCCURENCE35 | AV1: OCCURENCE36 | AW1: OCCURENCE37 | AX1: OCCURENCE38 | AY1: OCCURENCE39 | AZ1: OCCURENCE40 | BA1: OCCURENCE41 | BB1: OCCURENCE42 | BC1: OCCURENCE43 | BD1: OCCURENCE44 | BE1: OCCURENCE45 | BF1: OCCURENCE46 | BG1: OCCURENCE47 | BH1: OCCURENCE48 | BI1: OCCURENCE49 | BJ1: OCCURENCE50 | BK1: Colonne1
A2: ='total Scrap'!A2 -> 04/2020 | B2: ='total Scrap'!D2 -> 95402 | C2: ='total Scrap'!E2 -> 57110F118271 | D2: {=IF(COUNTIF(_xlfn.ANCHORARRAY($J$2),Tableau7[[#This Row],[Part Number]]),IFERROR(SUM(_xlfn._xlws.FILTER((N2:BJ2)-(M2:BI2),(N2:BJ2)-(M2:BI2)>0))/(L2-1),0),0)} -> 0 | E2: =_xlfn.IFS(Tableau7[[#This Row],[Nombres de jours moyens entre deux occurrences]]<=45,4,Tableau7[[#This Row],[Nombres de jours moyens entre deux occurrences]]<=90,3,Tableau7[[#This Row],[Nombres de jours moyens entre deux occurrences]]<=135,2,Tableau7[[#This Row],[Nombres de jours moyens entre deux occurrences]]>135,1) -> 4 | F2: {=_xlfn.UNIQUE(Total_scrap[Part Number])} -> 57110F118271 | G2: =COUNTIFS(_xlfn.ANCHORARRAY(F2),"<>") -> 252 | H2: {=_xlfn.UNIQUE(Total_scrap[Part Number],FALSE,TRUE)} -> 57110F118271 | I2: =COUNTIFS(_xlfn.ANCHORARRAY(H2),"<>") -> 174 | J2: {=_xlfn._xlws.FILTER(_xlfn.ANCHORARRAY(F2),COUNTIF(_xlfn.ANCHORARRAY(H2),_xlfn.ANCHORARRAY(F2))=0)} -> 57413F231071 | K2: =COUNTIFS(_xlfn.ANCHORARRAY(J2),"<>") -> 78 | L2: {=COUNTIF(Total_scrap[Part Number],_xlfn.ANCHORARRAY(J2))} -> 2 | M2: {=TRANSPOSE(_xlfn._xlws.FILTER(Total_scrap[Month],(Total_scrap[Part Number]=J2)))} -> 04/2020 | N2: 06/2021 | BK2: {=IFERROR(SUM(_xlfn._xlws.FILTER((N2:BJ2)-(M2:BI2),(N2:BJ2)-(M2:BI2)>0))/(L2-1),0)} -> 426
A3: ='total Scrap'!A3 -> 04/2020 | B3: ='total Scrap'!D3 -> 95403 | C3: ='total Scrap'!E3 -> 57413F231071 | D3: {=IF(COUNTIF(_xlfn.ANCHORARRAY($J$2),Tableau7[[#This Row],[Part Number]]),IFERROR(SUM(_xlfn._xlws.FILTER((N3:BJ3)-(M3:BI3),(N3:BJ3)-(M3:BI3)>0))/(L3-1),0),0)} -> 153 | E3: =_xlfn.IFS(Tableau7[[#This Row],[Nombres de jours moyens entre deux occurrences]]<=45,4,Tableau7[[#This Row],[Nombres de jours moyens entre deux occurrences]]<=90,3,Tableau7[[#This Row],[Nombres de jours moyens entre deux occurrences]]<=135,2,Tableau7[[#This Row],[Nombres de jours moyens entre deux occurrences]]>135,1) -> 1 | F3: 57413F231071 | H3: 56232F231171 | J3: 52212FS2LC71 | L3: 2 | M3: {=TRANSPOSE(_xlfn._xlws.FILTER(Total_scrap[Month],(Total_scrap[Part Number]=J3)))} -> 05/2020 | N3: 10/2020 | BK3: {=IFERROR(SUM(_xlfn._xlws.FILTER((N3:BJ3)-(M3:BI3),(N3:BJ3)-(M3:BI3)>0))/(L3-1),0)} -> 153
A4: ='total Scrap'!A4 -> 04/2020 | B4: ='total Scrap'!D4 -> 95504 | C4: ='total Scrap'!E4 -> 56232F231171 | D4: {=IF(COUNTIF(_xlfn.ANCHORARRAY($J$2),Tableau7[[#This Row],[Part Number]]),IFERROR(SUM(_xlfn._xlws.FILTER((N4:BJ4)-(M4:BI4),(N4:BJ4)-(M4:BI4)>0))/(L4-1),0),0)} -> 0 | E4: =_xlfn.IFS(Tableau7[[#This Row],[Nombres de jours moyens entre deux occurrences]]<=45,4,Tableau7[[#This Row],[Nombres de jours moyens entre deux occurrences]]<=90,3,Tableau7[[#This Row],[Nombres de jours moyens entre deux occurrences]]<=135,2,Tableau7[[#This Row],[Nombres de jours moyens entre deux occurrences]]>135,1) -> 4 | F4: 56232F231171 | H4: 56031F222671 | J4: 56021F219471 | L4: 2 | M4: {=TRANSPOSE(_xlfn._xlws.FILTER(Total_scrap[Month],(Total_scrap[Part Number]=J4)))} -> 05/2020 | N4: 03/2021 | BK4: {=IFERROR(SUM(_xlfn._xlws.FILTER((N4:BJ4)-(M4:BI4),(N4:BJ4)-(M4:BI4)>0))/(L4-1),0)} -> 304
A5: ='total Scrap'!A5 -> 05/2020 | B5: ='total Scrap'!D5 -> 95054 | C5: ='total Scrap'!E5 -> 52212FS2LC71 | D5: {=IF(COUNTIF(_xlfn.ANCHORARRAY($J$2),Tableau7[[#This Row],[Part Number]]),IFERROR(SUM(_xlfn._xlws.FILTER((N5:BJ5)-(M5:BI5),(N5:BJ5)-(M5:BI5)>0))/(L5-1),0),0)} -> 31 | E5: =_xlfn.IFS(Tableau7[[#This Row],[Nombres de jours moyens entre deux occurrences]]<=45,4,Tableau7[[#This Row],[Nombres de jours moyens entre deux occurrences]]<=90,3,Tableau7[[#This Row],[Nombres de jours moyens entre deux occurrences]]<=135,2,Tableau7[[#This Row],[Nombres de jours moyens entre deux occurrences]]>135,1) -> 4 | F5: 52212FS2LC71 | H5: 56062F221271 | J5: 56021F220271 | L5: 2 | M5: {=TRANSPOSE(_xlfn._xlws.FILTER(Total_scrap[Month],(Total_scrap[Part Number]=J5)))} -> 05/2020 | N5: 06/2020 | BK5: {=IFERROR(SUM(_xlfn._xlws.FILTER((N5:BJ5)-(M5:BI5),(N5:BJ5)-(M5:BI5)>0))/(L5-1),0)} -> 31
A6: ='total Scrap'!A6 -> 05/2020 | B6: ='total Scrap'!D6 -> 95703 | C6: ='total Scrap'!E6 -> 56031F222671 | D6: {=IF(COUNTIF(_xlfn.ANCHORARRAY($J$2),Tableau7[[#This Row],[Part Number]]),IFERROR(SUM(_xlfn._xlws.FILTER((N6:BJ6)-(M6:BI6),(N6:BJ6)-(M6:BI6)>0))/(L6-1),0),0)} -> 0 | E6: =_xlfn.IFS(Tableau7[[#This Row],[Nombres de jours moyens entre deux occurrences]]<=45,4,Tableau7[[#This Row],[Nombres de jours moyens entre deux occurrences]]<=90,3,Tableau7[[#This Row],[Nombres de jours moyens entre deux occurrences]]<=135,2,Tableau7[[#This Row],[Nombres de jours moyens entre deux occurrences]]>135,1) -> 4 | F6: 56031F222671 | H6: 56062FSU1U71 | J6: 55537F318471 | L6: 2 | M6: {=TRANSPOSE(_xlfn._xlws.FILTER(Total_scrap[Month],(Total_scrap[Part Number]=J6)))} -> 05/2020 | N6: 01/2021 | BK6: {=IFERROR(SUM(_xlfn._xlws.FILTER((N6:BJ6)-(M6:BI6),(N6:BJ6)-(M6:BI6)>0))/(L6-1),0)} -> 245
A7: ='total Scrap'!A7 -> 05/2020 | B7: ='total Scrap'!D7 -> 95709 | C7: ='total Scrap'!E7 -> 56062F221271 | D7: {=IF(COUNTIF(_xlfn.ANCHORARRAY($J$2),Tableau7[[#This Row],[Part Number]]),IFERROR(SUM(_xlfn._xlws.FILTER((N7:BJ7)-(M7:BI7),(N7:BJ7)-(M7:BI7)>0))/(L7-1),0),0)} -> 0 | E7: =_xlfn.IFS(Tableau7[[#This Row],[Nombres de jours moyens entre deux occurrences]]<=45,4,Tableau7[[#This Row],[Nombres de jours moyens entre deux occurrences]]<=90,3,Tableau7[[#This Row],[Nombres de jours moyens entre deux occurrences]]<=135,2,Tableau7[[#This Row],[Nombres de jours moyens entre deux occurrences]]>135,1) -> 4 | F7: 56062F221271 | H7: 175702660371 | J7: 55227F218271 | L7: 2 | M7: {=TRANSPOSE(_xlfn._xlws.FILTER(Total_scrap[Month],(Total_scrap[Part Number]=J7)))} -> 06/2020 | N7: 10/2020 | BK7: {=IFERROR(SUM(_xlfn._xlws.FILTER((N7:BJ7)-(M7:BI7),(N7:BJ7)-(M7:BI7)>0))/(L7-1),0)} -> 122
A8: ='total Scrap'!A8 -> 05/2020 | B8: ='total Scrap'!D8 -> 95708 | C8: ='total Scrap'!E8 -> 56021F219471 | D8: {=IF(COUNTIF(_xlfn.ANCHORARRAY($J$2),Tableau7[[#This Row],[Part Number]]),IFERROR(SUM(_xlfn._xlws.FILTER((N8:BJ8)-(M8:BI8),(N8:BJ8)-(M8:BI8)>0))/(L8-1),0),0)} -> 0 | E8: =_xlfn.IFS(Tableau7[[#This Row],[Nombres de jours moyens entre deux occurrences]]<=45,4,Tableau7[[#This Row],[Nombres de jours moyens entre deux occurrences]]<=90,3,Tableau7[[#This Row],[Nombres de jours moyens entre deux occurrences]]<=135,2,Tableau7[[#This Row],[Nombres de jours moyens entre deux occurrences]]>135,1) -> 4 | F8: 56021F219471 | H8: 16420F221171 | J8: 68607F319071 | L8: 2 | M8: {=TRANSPOSE(_xlfn._xlws.FILTER(Total_scrap[Month],(Total_scrap[Part Number]=J8)))} -> 06/2020 | N8: 06/2020 | BK8: {=IFERROR(SUM(_xlfn._xlws.FILTER((N8:BJ8)-(M8:BI8),(N8:BJ8)-(M8:BI8)>0))/(L8-1),0)} -> 0
A9: ='total Scrap'!A9 -> 05/2020 | B9: ='total Scrap'!D9 -> 95707 | C9: ='total Scrap'!E9 -> 56021F220271 | D9: {=IF(COUNTIF(_xlfn.ANCHORARRAY($J$2),Tableau7[[#This Row],[Part Number]]),IFERROR(SUM(_xlfn._xlws.FILTER((N9:BJ9)-(M9:BI9),(N9:BJ9)-(M9:BI9)>0))/(L9-1),0),0)} -> 40.555556 | E9: =_xlfn.IFS(Tableau7[[#This Row],[Nombres de jours moyens entre deux occurrences]]<=45,4,Tableau7[[#This Row],[Nombres de jours moyens entre deux occurrences]]<=90,3,Tableau7[[#This Row],[Nombres de jours moyens entre deux occurrences]]<=135,2,Tableau7[[#This Row],[Nombres de jours moyens entre deux occurrences]]>135,1) -> 4 | F9: 56021F220271 | H9: 169202661071 | J9: 163612660071 | L9: 10 | M9: {=TRANSPOSE(_xlfn._xlws.FILTER(Total_scrap[Month],(Total_scrap[Part Number]=J9)))} -> 06/2020 | N9: 07/2020 | O9: 07/2020 | P9: 11/2020 | Q9: 12/2020 | R9: 02/2021 | S9: 02/2021 | T9: 02/2021 | U9: 03/2021 | V9: 06/2021 | BK9: {=IFERROR(SUM(_xlfn._xlws.FILTER((N9:BJ9)-(M9:BI9),(N9:BJ9)-(M9:BI9)>0))/(L9-1),0)} -> 40.555556
A10: ='total Scrap'!A10 -> 05/2020 | B10: ='total Scrap'!D10 -> 95763 | C10: ='total Scrap'!E10 -> 55537F318471 | D10: {=IF(COUNTIF(_xlfn.ANCHORARRAY($J$2),Tableau7[[#This Row],[Part Number]]),IFERROR(SUM(_xlfn._xlws.FILTER((N10:BJ10)-(M10:BI10),(N10:BJ10)-(M10:BI10)>0))/(L10-1),0),0)} -> 91.25 | E10: =_xlfn.IFS(Tableau7[[#This Row],[Nombres de jours moyens entre deux occurrences]]<=45,4,Tableau7[[#This Row],[Nombres de jours moyens entre deux occurrences]]<=90,3,Tableau7[[#This Row],[Nombres de jours moyens entre deux occurrences]]<=135,2,Tableau7[[#This Row],[Nombres de jours moyens entre deux occurrences]]>135,1) -> 2 | F10: 55537F318471 | H10: 28850F205071 | J10: 53220F219071 | L10: 5 | M10: {=TRANSPOSE(_xlfn._xlws.FILTER(Total_scrap[Month],(Total_scrap[Part Number]=J10)))} -> 06/2020 | N10: 07/2020 | O10: 10/2020 | P10: 04/2021 | Q10: 06/2021 | BK10: {=IFERROR(SUM(_xlfn._xlws.FILTER((N10:BJ10)-(M10:BI10),(N10:BJ10)-(M10:BI10)>0))/(L10-1),0)} -> 91.25
A11: ='total Scrap'!A11 -> 05/2020 | B11: ='total Scrap'!D11 -> 95705 | C11: ='total Scrap'!E11 -> 56062FSU1U71 | D11: {=IF(COUNTIF(_xlfn.ANCHORARRAY($J$2),Tableau7[[#This Row],[Part Number]]),IFERROR(SUM(_xlfn._xlws.FILTER((N11:BJ11)-(M11:BI11),(N11:BJ11)-(M11:BI11)>0))/(L11-1),0),0)} -> 0 | E11: =_xlfn.IFS(Tableau7[[#This Row],[Nombres de jours moyens entre deux occurrences]]<=45,4,Tableau7[[#This Row],[Nombres de jours moyens entre deux occurrences]]<=90,3,Tableau7[[#This Row],[Nombres de jours moyens entre deux occurrences]]<=135,2,Tableau7[[#This Row],[Nombres de jours moyens entre deux occurrences]]>135,1) -> 4 | F11: 56062FSU1U71 | H11: 574501247071 | J11: 451101247271 | L11: 3 | M11: {=TRANSPOSE(_xlfn._xlws.FILTER(Total_scrap[Month],(Total_scrap[Part Number]=J11)))} -> 06/2020 | N11: 07/2020 | O11: 09/2020 | BK11: {=IFERROR(SUM(_xlfn._xlws.FILTER((N11:BJ11)-(M11:BI11),(N11:BJ11)-(M11:BI11)>0))/(L11-1),0)} -> 46
A12: ='total Scrap'!A12 -> 06/2020 | B12: ='total Scrap'!D12 -> 95952 | C12: ='total Scrap'!E12 -> 175702660371 | D12: {=IF(COUNTIF(_xlfn.ANCHORARRAY($J$2),Tableau7[[#This Row],[Part Number]]),IFERROR(SUM(_xlfn._xlws.FILTER((N12:BJ12)-(M12:BI12),(N12:BJ12)-(M12:BI12)>0))/(L12-1),0),0)} -> 0 | E12: =_xlfn.IFS(Tableau7[[#This Row],[Nombres de jours moyens entre deux occurrences]]<=45,4,Tableau7[[#This Row],[Nombres de jours moyens entre deux occurrences]]<=90,3,Tableau7[[#This Row],[Nombres de jours moyens entre deux occurrences]]<=135,2,Tableau7[[#This Row],[Nombres de jours moyens entre deux occurrences]]>135,1) -> 4 | F12: 175702660371 | H12: 68608F319071 | J12: 565702665071 | L12: 3 | M12: {=TRANSPOSE(_xlfn._xlws.FILTER(Total_scrap[Month],(Total_scrap[Part Number]=J12)))} -> 06/2020 | N12: 06/2020 | O12: 07/2020 | BK12: {=IFERROR(SUM(_xlfn._xlws.FILTER((N12:BJ12)-(M12:BI12),(N12:BJ12)-(M12:BI12)>0))/(L12-1),0)} -> 15
A13: ='total Scrap'!A13 -> 06/2020 | B13: ='total Scrap'!D13 -> 95619 | C13: ='total Scrap'!E13 -> 16420F221171 | D13: {=IF(COUNTIF(_xlfn.ANCHORARRAY($J$2),Tableau7[[#This Row],[Part Number]]),IFERROR(SUM(_xlfn._xlws.FILTER((N13:BJ13)-(M13:BI13),(N13:BJ13)-(M13:BI13)>0))/(L13-1),0),0)} -> 0 | E13: =_xlfn.IFS(Tableau7[[#This Row],[Nombres de jours moyens entre deux occurrences]]<=45,4,Tableau7[[#This Row],[Nombres de jours moyens entre deux occurrences]]<=90,3,Tableau7[[#This Row],[Nombres de jours moyens entre deux occurrences]]<=135,2,Tableau7[[#This Row],[Nombres de jours moyens entre deux occurrences]]>135,1) -> 4 | F13: 16420F221171 | H13: 43251F210071 | J13: 2A14497G3 | L13: 3 | M13: {=TRANSPOSE(_xlfn._xlws.FILTER(Total_scrap[Month],(Total_scrap[Part Number]=J13)))} -> 06/2020 | N13: 10/2020 | O13: 06/2021 | BK13: {=IFERROR(SUM(_xlfn._xlws.FILTER((N13:BJ13)-(M13:BI13),(N13:BJ13)-(M13:BI13)>0))/(L13-1),0)} -> 182.5
A14: ='total Scrap'!A14 -> 06/2020 | B14: ='total Scrap'!D14 -> 95704 | C14: ='total Scrap'!E14 -> 169202661071 | D14: {=IF(COUNTIF(_xlfn.ANCHORARRAY($J$2),Tableau7[[#This Row],[Part Number]]),IFERROR(SUM(_xlfn._xlws.FILTER((N14:BJ14)-(M14:BI14),(N14:BJ14)-(M14:BI14)>0))/(L14-1),0),0)} -> 0 | E14: =_xlfn.IFS(Tableau7[[#This Row],[Nombres de jours moyens entre deux occurrences]]<=45,4,Tableau7[[#This Row],[Nombres de jours moyens entre deux occurrences]]<=90,3,Tableau7[[#This Row],[Nombres de jours moyens entre deux occurrences]]<=135,2,Tableau7[[#This Row],[Nombres de jours moyens entre deux occurrences]]>135,1) -> 4 | F14: 169202661071 | H14: 53211F318171 | J14: 17780F218071 | L14: 2 | M14: {=TRANSPOSE(_xlfn._xlws.FILTER(Total_scrap[Month],(Total_scrap[Part Number]=J14)))} -> 06/2020 | N14: 07/2020 | BK14: {=IFERROR(SUM(_xlfn._xlws.FILTER((N14:BJ14)-(M14:BI14),(N14:BJ14)-(M14:BI14)>0))/(L14-1),0)} -> 30
A15: ='total Scrap'!A15 -> 06/2020 | B15: ='total Scrap'!D15 -> 95614 | C15: ='total Scrap'!E15 -> 28850F205071 | D15: {=IF(COUNTIF(_xlfn.ANCHORARRAY($J$2),Tableau7[[#This Row],[Part Number]]),IFERROR(SUM(_xlfn._xlws.FILTER((N15:BJ15)-(M15:BI15),(N15:BJ15)-(M15:BI15)>0))/(L15-1),0),0)} -> 0 | E15: =_xlfn.IFS(Tableau7[[#This Row],[Nombres de jours moyens entre deux occurrences]]<=45,4,Tableau7[[#This Row],[Nombres de jours moyens entre deux occurrences]]<=90,3,Tableau7[[#This Row],[Nombres de jours moyens entre deux occurrences]]<=135,2,Tableau7[[#This Row],[Nombres de jours moyens entre deux occurrences]]>135,1) -> 4 | F15: 28850F205071 | H15: 53211F219171 | J15: 3A14055 | L15: 3 | M15: {=TRANSPOSE(_xlfn._xlws.FILTER(Total_scrap[Month],(Total_scrap[Part Number]=J15)))} -> 07/2020 | N15: 07/2020 | O15: 10/2020 | BK15: {=IFERROR(SUM(_xlfn._xlws.FILTER((N15:BJ15)-(M15:BI15),(N15:BJ15)-(M15:BI15)>0))/(L15-1),0)} -> 46
A16: ='total Scrap'!A16 -> 06/2020 | B16: ='total Scrap'!D16 -> 95762 | C16: ='total Scrap'!E16 -> 55227F218271 | D16: {=IF(COUNTIF(_xlfn.ANCHORARRAY($J$2),Tableau7[[#This Row],[Part Number]]),IFERROR(SUM(_xlfn._xlws.FILTER((N16:BJ16)-(M16:BI16),(N16:BJ16)-(M16:BI16)>0))/(L16-1),0),0)} -> 243 | E16: =_xlfn.IFS(Tableau7[[#This Row],[Nombres de jours moyens entre deux occurrences]]<=45,4,Tableau7[[#This Row],[Nombres de jours moyens entre deux occurrences]]<=90,3,Tableau7[[#This Row],[Nombres de jours moyens entre deux occurrences]]<=135,2,Tableau7[[#This Row],[Nombres de jours moyens entre deux occurrences]]>135,1) -> 1 | F16: 55227F218271 | H16: 57844F210271 | J16: 455103664071 | L16: 2 | M16: {=TRANSPOSE(_xlfn._xlws.FILTER(Total_scrap[Month],(Total_scrap[Part Number]=J16)))} -> 07/2020 | N16: 03/2021 | BK16: {=IFERROR(SUM(_xlfn._xlws.FILTER((N16:BJ16)-(M16:BI16),(N16:BJ16)-(M16:BI16)>0))/(L16-1),0)} -> 243
A17: ='total Scrap'!A17 -> 06/2020 | B17: ='total Scrap'!D17 -> 96501 | C17: ='total Scrap'!E17 -> 56021F220271 | D17: {=IF(COUNTIF(_xlfn.ANCHORARRAY($J$2),Tableau7[[#This Row],[Part Number]]),IFERROR(SUM(_xlfn._xlws.FILTER((N17:BJ17)-(M17:BI17),(N17:BJ17)-(M17:BI17)>0))/(L17-1),0),0)} -> 215 | E17: =_xlfn.IFS(Tableau7[[#This Row],[Nombres de jours moyens entre deux occurrences]]<=45,4,Tableau7[[#This Row],[Nombres de jours moyens entre deux occurrences]]<=90,3,Tableau7[[#This Row],[Nombres de jours moyens entre deux occurrences]]<=135,2,Tableau7[[#This Row],[Nombres de jours moyens entre deux occurrences]]>135,1) -> 1 | F17: 574501247071 | H17: 68730FSJ5U71 | J17: 27060UB060 | L17: 2 | M17: {=TRANSPOSE(_xlfn._xlws.FILTER(Total_scrap[Month],(Total_scrap[Part Number]=J17)))} -> 07/2020 | N17: 02/2021 | BK17: {=IFERROR(SUM(_xlfn._xlws.FILTER((N17:BJ17)-(M17:BI17),(N17:BJ17)-(M17:BI17)>0))/(L17-1),0)} -> 215
A18: ='total Scrap'!A18 -> 06/2020 | B18: ='total Scrap'!D18 -> 95616 | C18: ='total Scrap'!E18 -> 574501247071 | D18: {=IF(COUNTIF(_xlfn.ANCHORARRAY($J$2),Tableau7[[#This Row],[Part Number]]),IFERROR(SUM(_xlfn._xlws.FILTER((N18:BJ18)-(M18:BI18),(N18:BJ18)-(M18:BI18)>0))/(L18-1),0),0)} -> 0 | E18: =_xlfn.IFS(Tableau7[[#This Row],[Nombres de jours moyens entre deux occurrences]]<=45,4,Tableau7[[#This Row],[Nombres de jours moyens entre deux occurrences]]<=90,3,Tableau7[[#This Row],[Nombres de jours moyens entre deux occurrences]]<=135,2,Tableau7[[#This Row],[Nombres de jours moyens entre deux occurrences]]>135,1) -> 4 | F18: 68608F319071 | H18: 56018F220771 | J18: 2A28005 | L18: 5 | M18: {=TRANSPOSE(_xlfn._xlws.FILTER(Total_scrap[Month],(Total_scrap[Part Number]=J18)))} -> 07/2020 | N18: 09/2020 | O18: 10/2020 | P18: 02/2021 | Q18: 03/2021 | BK18: {=IFERROR(SUM(_xlfn._xlws.FILTER((N18:BJ18)-(M18:BI18),(N18:BJ18)-(M18:BI18)>0))/(L18-1),0)} -> 60.75
A19: ='total Scrap'!A19 -> 06/2020 | B19: ='total Scrap'!D19 -> 95903 | C19: ='total Scrap'!E19 -> 68608F319071 | D19: {=IF(COUNTIF(_xlfn.ANCHORARRAY($J$2),Tableau7[[#This Row],[Part Number]]),IFERROR(SUM(_xlfn._xlws.FILTER((N19:BJ19)-(M19:BI19),(N19:BJ19)-(M19:BI19)>0))/(L19-1),0),0)} -> 0 | E19: =_xlfn.IFS(Tableau7[[#This Row],[Nombres de jours moyens entre deux occurrences]]<=45,4,Tableau7[[#This Row],[Nombres de jours moyens entre deux occurrences]]<=90,3,Tableau7[[#This Row],[Nombres de jours moyens entre deux occurrences]]<=135,2,Tableau7[[#This Row],[Nombres de jours moyens entre deux occurrences]]>135,1) -> 4 | F19: 43251F210071 | H19: 58310F218071 | J19: 565903676071 | L19: 6 | M19: {=TRANSPOSE(_xlfn._xlws.FILTER(Total_scrap[Month],(Total_scrap[Part Number]=J19)))} -> 07/2020 | N19: 10/2020 | O19: 10/2020 | P19: 01/2021 | Q19: 03/2021 | R19: 04/2021 | BK19: {=IFERROR(SUM(_xlfn._xlws.FILTER((N19:BJ19)-(M19:BI19),(N19:BJ19)-(M19:BI19)>0))/(L19-1),0)} -> 54.8
A20: ='total Scrap'!A20 -> 06/2020 | B20: ='total Scrap'!D20 -> 95769 | C20: ='total Scrap'!E20 -> 43251F210071 | D20: {=IF(COUNTIF(_xlfn.ANCHORARRAY($J$2),Tableau7[[#This Row],[Part Number]]),IFERROR(SUM(_xlfn._xlws.FILTER((N20:BJ20)-(M20:BI20),(N20:BJ20)-(M20:BI20)>0))/(L20-1),0),0)} -> 0 | E20: =_xlfn.IFS(Tableau7[[#This Row],[Nombres de jours moyens entre deux occurrences]]<=45,4,Tableau7[[#This Row],[Nombres de jours moyens entre deux occurrences]]<=90,3,Tableau7[[#This Row],[Nombres de jours moyens entre deux occurrences]]<=135,2,Tableau7[[#This Row],[Nombres de jours moyens entre deux occurrences]]>135,1) -> 4 | F20: 68607F319071 | H20: 1A18131 | J20: 55213F218171 | L20: 5 | M20: {=TRANSPOSE(_xlfn._xlws.FILTER(Total_scrap[Month],(Total_scrap[Part Number]=J20)))} -> 07/2020 | N20: 07/2020 | O20: 09/2020 | P20: 10/2020 | Q20: 12/2020 | BK20: {=IFERROR(SUM(_xlfn._xlws.FILTER((N20:BJ20)-(M20:BI20),(N20:BJ20)-(M20:BI20)>0))/(L20-1),0)} -> 38.25
A21: ='total Scrap'!A21 -> 06/2020 | B21: ='total Scrap'!D21 -> 95904 | C21: ='total Scrap'!E21 -> 68607F319071 | D21: {=IF(COUNTIF(_xlfn.ANCHORARRAY($J$2),Tableau7[[#This Row],[Part Number]]),IFERROR(SUM(_xlfn._xlws.FILTER((N21:BJ21)-(M21:BI21),(N21:BJ21)-(M21:BI21)>0))/(L21-1),0),0)} -> 62 | E21: =_xlfn.IFS(Tableau7[[#This Row],[Nombres de jours moyens entre deux occurrences]]<=45,4,Tableau7[[#This Row],[Nombres de jours moyens entre deux occurrences]]<=90,3,Tableau7[[#This Row],[Nombres de jours moyens entre deux occurrences]]<=135,2,Tableau7[[#This Row],[Nombres de jours moyens entre deux occurrences]]>135,1) -> 3 | F21: 163612660071 | H21: 1A28083 | J21: 56031F231071 | L21: 2 | M21: {=TRANSPOSE(_xlfn._xlws.FILTER(Total_scrap[Month],(Total_scrap[Part Number]=J21)))} -> 07/2020 | N21: 09/2020 | BK21: {=IFERROR(SUM(_xlfn._xlws.FILTER((N21:BJ21)-(M21:BI21),(N21:BJ21)-(M21:BI21)>0))/(L21-1),0)} -> 62
A22: ='total Scrap'!A22 -> 06/2020 | B22: ='total Scrap'!D22 -> 95656 | C22: ='total Scrap'!E22 -> 68607F319071 | D22: {=IF(COUNTIF(_xlfn.ANCHORARRAY($J$2),Tableau7[[#This Row],[Part Number]]),IFERROR(SUM(_xlfn._xlws.FILTER((N22:BJ22)-(M22:BI22),(N22:BJ22)-(M22:BI22)>0))/(L22-1),0),0)} -> 137 | E22: =_xlfn.IFS(Tableau7[[#This Row],[Nombres de jours moyens entre deux occurrences]]<=45,4,Tableau7[[#This Row],[Nombres de jours moyens entre deux occurrences]]<=90,3,Tableau7[[#This Row],[Nombres de jours moyens entre deux occurrences]]<=135,2,Tableau7[[#This Row],[Nombres de jours moyens entre deux occurrences]]>135,1) -> 1 | F22: 53220F219071 | H22: 55173FSHD771 | J22: 23507FPA2171 | L22: 3 | M22: {=TRANSPOSE(_xlfn._xlws.FILTER(Total_scrap[Month],(Total_scrap[Part Number]=J22)))} -> 07/2020 | N22: 04/2021 | O22: 04/2021 | BK22: {=IFERROR(SUM(_xlfn._xlws.FILTER((N22:BJ22)-(M22:BI22),(N22:BJ22)-(M22:BI22)>0))/(L22-1),0)} -> 137
A23: ='total Scrap'!A23 -> 06/2020 | B23: ='total Scrap'!D23 -> 95764 | C23: ='total Scrap'!E23 -> 163612660071 | D23: {=IF(COUNTIF(_xlfn.ANCHORARRAY($J$2),Tableau7[[#This Row],[Part Number]]),IFERROR(SUM(_xlfn._xlws.FILTER((N23:BJ23)-(M23:BI23),(N23:BJ23)-(M23:BI23)>0))/(L23-1),0),0)} -> 107.5 | E23: =_xlfn.IFS(Tableau7[[#This Row],[Nombres de jours moyens entre deux occurrences]]<=45,4,Tableau7[[#This Row],[Nombres de jours moyens entre deux occurrences]]<=90,3,Tableau7[[#This Row],[Nombres de jours moyens entre deux occurrences]]<=135,2,Tableau7[[#This Row],[Nombres de jours moyens entre deux occurrences]]>135,1) -> 2 | F23: 53211F318171 | H23: 56044FPA2071 | J23: 175102662071 | L23: 3 | M23: {=TRANSPOSE(_xlfn._xlws.FILTER(Total_scrap[Month],(Total_scrap[Part Number]=J23)))} -> 07/2020 | N23: 02/2021 | O23: 02/2021 | BK23: {=IFERROR(SUM(_xlfn._xlws.FILTER((N23:BJ23)-(M23:BI23),(N23:BJ23)-(M23:BI23)>0))/(L23-1),0)} -> 107.5
A24: ='total Scrap'!A24 -> 06/2020 | B24: ='total Scrap'!D24 -> 96511 | C24: ='total Scrap'!E24 -> 53220F219071 | D24: {=IF(COUNTIF(_xlfn.ANCHORARRAY($J$2),Tableau7[[#This Row],[Part Number]]),IFERROR(SUM(_xlfn._xlws.FILTER((N24:BJ24)-(M24:BI24),(N24:BJ24)-(M24:BI24)>0))/(L24-1),0),0)} -> 83.75 | E24: =_xlfn.IFS(Tableau7[[#This Row],[Nombres de jours moyens entre deux occurrences]]<=45,4,Tableau7[[#This Row],[Nombres de jours moyens entre deux occurrences]]<=90,3,Tableau7[[#This Row],[Nombres de jours moyens entre deux occurrences]]<=135,2,Tableau7[[#This Row],[Nombres de jours moyens entre deux occurrences]]>135,1) -> 3 | F24: 53211F219171 | H24: 470401661071 | J24: 68805F226071 | L24: 5 | M24: {=TRANSPOSE(_xlfn._xlws.FILTER(Total_scrap[Month],(Total_scrap[Part Number]=J24)))} -> 07/2020 | N24: 10/2020 | O24: 04/2021 | P24: 06/2021 | Q24: 06/2021 | BK24: {=IFERROR(SUM(_xlfn._xlws.FILTER((N24:BJ24)-(M24:BI24),(N24:BJ24)-(M24:BI24)>0))/(L24-1),0)} -> 83.75
A25: ='total Scrap'!A25 -> 06/2020 | B25: ='total Scrap'!D25 -> 95617 | C25: ='total Scrap'!E25 -> 53211F318171 | D25: {=IF(COUNTIF(_xlfn.ANCHORARRAY($J$2),Tableau7[[#This Row],[Part Number]]),IFERROR(SUM(_xlfn._xlws.FILTER((N25:BJ25)-(M25:BI25),(N25:BJ25)-(M25:BI25)>0))/(L25-1),0),0)} -> 0 | E25: =_xlfn.IFS(Tableau7[[#This Row],[Nombres de jours moyens entre deux occurrences]]<=45,4,Tableau7[[#This Row],[Nombres de jours moyens entre deux occurrences]]<=90,3,Tableau7[[#This Row],[Nombres de jours moyens entre deux occurrences]]<=135,2,Tableau7[[#This Row],[Nombres de jours moyens entre deux occurrences]]>135,1) -> 4 | F25: 451101247271 | H25: 56031FPD2071 | J25: 68804F226071 | L25: 3 | M25: {=TRANSPOSE(_xlfn._xlws.FILTER(Total_scrap[Month],(Total_scrap[Part Number]=J25)))} -> 07/2020 | N25: 12/2020 | O25: 01/2021 | BK25: {=IFERROR(SUM(_xlfn._xlws.FILTER((N25:BJ25)-(M25:BI25),(N25:BJ25)-(M25:BI25)>0))/(L25-1),0)} -> 92
A26: ='total Scrap'!A26 -> 06/2020 | B26: ='total Scrap'!D26 -> 96506 | C26: ='total Scrap'!E26 -> 53211F219171 | D26: {=IF(COUNTIF(_xlfn.ANCHORARRAY($J$2),Tableau7[[#This Row],[Part Number]]),IFERROR(SUM(_xlfn._xlws.FILTER((N26:BJ26)-(M26:BI26),(N26:BJ26)-(M26:BI26)>0))/(L26-1),0),0)} -> 0 | E26: =_xlfn.IFS(Tableau7[[#This Row],[Nombres de jours moyens entre deux occurrences]]<=45,4,Tableau7[[#This Row],[Nombres de jours moyens entre deux occurrences]]<=90,3,Tableau7[[#This Row],[Nombres de jours moyens entre deux occurrences]]<=135,2,Tableau7[[#This Row],[Nombres de jours moyens entre deux occurrences]]>135,1) -> 4 | F26: 565702665071 | H26: 68066F311171 | J26: 96365F509871 | L26: 2 | M26: {=TRANSPOSE(_xlfn._xlws.FILTER(Total_scrap[Month],(Total_scrap[Part Number]=J26)))} -> 07/2020 | N26: 09/2020 | BK26: {=IFERROR(SUM(_xlfn._xlws.FILTER((N26:BJ26)-(M26:BI26),(N26:BJ26)-(M26:BI26)>0))/(L26-1),0)} -> 62
A27: ='total Scrap'!A27 -> 06/2020 | B27: ='total Scrap'!D27 -> 95710 | C27: ='total Scrap'!E27 -> 451101247271 | D27: {=IF(COUNTIF(_xlfn.ANCHORARRAY($J$2),Tableau7[[#This Row],[Part Number]]),IFERROR(SUM(_xlfn._xlws.FILTER((N27:BJ27)-(M27:BI27),(N27:BJ27)-(M27:BI27)>0))/(L27-1),0),0)} -> 38 | E27: =_xlfn.IFS(Tableau7[[#This Row],[Nombres de jours moyens entre deux occurrences]]<=45,4,Tableau7[[#This Row],[Nombres de jours moyens entre deux occurrences]]<=90,3,Tableau7[[#This Row],[Nombres de jours moyens entre deux occurrences]]<=135,2,Tableau7[[#This Row],[Nombres de jours moyens entre deux occurrences]]>135,1) -> 4 | F27: 2A14497G3 | H27: 68606F214171 | J27: 56210F219071 | L27: 9 | M27: {=TRANSPOSE(_xlfn._xlws.FILTER(Total_scrap[Month],(Total_scrap[Part Number]=J27)))} -> 08/2020 | N27: 10/2020 | O27: 10/2020 | P27: 01/2021 | Q27: 03/2021 | R27: 03/2021 | S27: 03/2021 | T27: 03/2021 | U27: 06/2021 | BK27: {=IFERROR(SUM(_xlfn._xlws.FILTER((N27:BJ27)-(M27:BI27),(N27:BJ27)-(M27:BI27)>0))/(L27-1),0)} -> 38
A28: ='total Scrap'!A28 -> 06/2020 | B28: ='total Scrap'!D28 -> 96503 | C28: ='total Scrap'!E28 -> 565702665071 | D28: {=IF(COUNTIF(_xlfn.ANCHORARRAY($J$2),Tableau7[[#This Row],[Part Number]]),IFERROR(SUM(_xlfn._xlws.FILTER((N28:BJ28)-(M28:BI28),(N28:BJ28)-(M28:BI28)>0))/(L28-1),0),0)} -> 273 | E28: =_xlfn.IFS(Tableau7[[#This Row],[Nombres de jours moyens entre deux occurrences]]<=45,4,Tableau7[[#This Row],[Nombres de jours moyens entre deux occurrences]]<=90,3,Tableau7[[#This Row],[Nombres de jours moyens entre deux occurrences]]<=135,2,Tableau7[[#This Row],[Nombres de jours moyens entre deux occurrences]]>135,1) -> 1 | F28: 57844F210271 | H28: 678901132071 | J28: 281003677071 | L28: 2 | M28: {=TRANSPOSE(_xlfn._xlws.FILTER(Total_scrap[Month],(Total_scrap[Part Number]=J28)))} -> 08/2020 | N28: 05/2021 | BK28: {=IFERROR(SUM(_xlfn._xlws.FILTER((N28:BJ28)-(M28:BI28),(N28:BJ28)-(M28:BI28)>0))/(L28-1),0)} -> 273
A29: ='total Scrap'!A29 -> 06/2020 | B29: ='total Scrap'!D29 -> 95404 | C29: ='total Scrap'!E29 -> 565702665071 | D29: {=IF(COUNTIF(_xlfn.ANCHORARRAY($J$2),Tableau7[[#This Row],[Part Number]]),IFERROR(SUM(_xlfn._xlws.FILTER((N29:BJ29)-(M29:BI29),(N29:BJ29)-(M29:BI29)>0))/(L29-1),0),0)} -> 106 | E29: =_xlfn.IFS(Tableau7[[#This Row],[Nombres de jours moyens entre deux occurrences]]<=45,4,Tableau7[[#This Row],[Nombres de jours moyens entre deux occurrences]]<=90,3,Tableau7[[#This Row],[Nombres de jours moyens entre deux occurrences]]<=135,2,Tableau7[[#This Row],[Nombres de jours moyens entre deux occurrences]]>135,1) -> 2 | F29: 17780F218071 | H29: 53220F231071 | J29: 566532661371 | L29: 3 | M29: {=TRANSPOSE(_xlfn._xlws.FILTER(Total_scrap[Month],(Total_scrap[Part Number]=J29)))} -> 08/2020 | N29: 08/2020 | O29: 03/2021 | BK29: {=IFERROR(SUM(_xlfn._xlws.FILTER((N29:BJ29)-(M29:BI29),(N29:BJ29)-(M29:BI29)>0))/(L29-1),0)} -> 106
A30: ='total Scrap'!A30 -> 06/2020 | B30: ='total Scrap'!D30 -> 95768 | C30: ='total Scrap'!E30 -> 2A14497G3 | D30: {=IF(COUNTIF(_xlfn.ANCHORARRAY($J$2),Tableau7[[#This Row],[Part Number]]),IFERROR(SUM(_xlfn._xlws.FILTER((N30:BJ30)-(M30:BI30),(N30:BJ30)-(M30:BI30)>0))/(L30-1),0),0)} -> 136.5 | E30: =_xlfn.IFS(Tableau7[[#This Row],[Nombres de jours moyens entre deux occurrences]]<=45,4,Tableau7[[#This Row],[Nombres de jours moyens entre deux occurrences]]<=90,3,Tableau7[[#This Row],[Nombres de jours moyens entre deux occurrences]]<=135,2,Tableau7[[#This Row],[Nombres de jours moyens entre deux occurrences]]>135,1) -> 1 | F30: 68730FSJ5U71 | H30: 565013691071 | J30: 56110F218071 | L30: 3 | M30: {=TRANSPOSE(_xlfn._xlws.FILTER(Total_scrap[Month],(Total_scrap[Part Number]=J30)))} -> 09/2020 | N30: 01/2021 | O30: 06/2021 | BK30: {=IFERROR(SUM(_xlfn._xlws.FILTER((N30:BJ30)-(M30:BI30),(N30:BJ30)-(M30:BI30)>0))/(L30-1),0)} -> 136.5
A31: ='total Scrap'!A31 -> 06/2020 | B31: ='total Scrap'!D31 -> 95905 | C31: ='total Scrap'!E31 -> 57844F210271 | D31: {=IF(COUNTIF(_xlfn.ANCHORARRAY($J$2),Tableau7[[#This Row],[Part Number]]),IFERROR(SUM(_xlfn._xlws.FILTER((N31:BJ31)-(M31:BI31),(N31:BJ31)-(M31:BI31)>0))/(L31-1),0),0)} -> 0 | E31: =_xlfn.IFS(Tableau7[[#This Row],[Nombres de jours moyens entre deux occurrences]]<=45,4,Tableau7[[#This Row],[Nombres de jours moyens entre deux occurrences]]<=90,3,Tableau7[[#This Row],[Nombres de jours moyens entre deux occurrences]]<=135,2,Tableau7[[#This Row],[Nombres de jours moyens entre deux occurrences]]>135,1) -> 4 | F31: 56018F220771 | H31: 177002660071 | J31: 235102661171 | L31: 2 | M31: {=TRANSPOSE(_xlfn._xlws.FILTER(Total_scrap[Month],(Total_scrap[Part Number]=J31)))} -> 09/2020 | N31: 03/2021 | BK31: {=IFERROR(SUM(_xlfn._xlws.FILTER((N31:BJ31)-(M31:BI31),(N31:BJ31)-(M31:BI31)>0))/(L31-1),0)} -> 181
A32: ='total Scrap'!A32 -> 06/2020 | B32: ='total Scrap'!D32 -> 96502 | C32: ='total Scrap'!E32 -> 17780F218071 | D32: {=IF(COUNTIF(_xlfn.ANCHORARRAY($J$2),Tableau7[[#This Row],[Part Number]]),IFERROR(SUM(_xlfn._xlws.FILTER((N32:BJ32)-(M32:BI32),(N32:BJ32)-(M32:BI32)>0))/(L32-1),0),0)} -> 51 | E32: =_xlfn.IFS(Tableau7[[#This Row],[Nombres de jours moyens entre deux occurrences]]<=45,4,Tableau7[[#This Row],[Nombres de jours moyens entre deux occurrences]]<=90,3,Tableau7[[#This Row],[Nombres de jours moyens entre deux occurrences]]<=135,2,Tableau7[[#This Row],[Nombres de jours moyens entre deux occurrences]]>135,1) -> 3 | F32: 3A14055 | H32: 2A28007G3 | J32: 566512664071 | L32: 4 | M32: {=TRANSPOSE(_xlfn._xlws.FILTER(Total_scrap[Month],(Total_scrap[Part Number]=J32)))} -> 09/2020 | N32: 11/2020 | O32: 12/2020 | P32: 02/2021 | BK32: {=IFERROR(SUM(_xlfn._xlws.FILTER((N32:BJ32)-(M32:BI32),(N32:BJ32)-(M32:BI32)>0))/(L32-1),0)} -> 51
A33: ='total Scrap'!A33 -> 07/2020 | B33: ='total Scrap'!D33 -> 95061 | C33: ='total Scrap'!E33 -> 68730FSJ5U71 | D33: {=IF(COUNTIF(_xlfn.ANCHORARRAY($J$2),Tableau7[[#This Row],[Part Number]]),IFERROR(SUM(_xlfn._xlws.FILTER((N33:BJ33)-(M33:BI33),(N33:BJ33)-(M33:BI33)>0))/(L33-1),0),0)} -> 0 | E33: =_xlfn.IFS(Tableau7[[#This Row],[Nombres de jours moyens entre deux occurrences]]<=45,4,Tableau7[[#This Row],[Nombres de jours moyens entre deux occurrences]]<=90,3,Tableau7[[#This Row],[Nombres de jours moyens entre deux occurrences]]<=135,2,Tableau7[[#This Row],[Nombres de jours moyens entre deux occurrences]]>135,1) -> 4 | F33: 455103664071 | H33: 38717F121071 | J33: 18450UM020 | L33: 4 | M33: {=TRANSPOSE(_xlfn._xlws.FILTER(Total_scrap[Month],(Total_scrap[Part Number]=J33)))} -> 10/2020 | N33: 11/2020 | O33: 03/2021 | P33: 06/2021 | BK33: {=IFERROR(SUM(_xlfn._xlws.FILTER((N33:BJ33)-(M33:BI33),(N33:BJ33)-(M33:BI33)>0))/(L33-1),0)} -> 81
A34: ='total Scrap'!A34 -> 07/2020 | B34: ='total Scrap'!D34 -> 96508 | C34: ='total Scrap'!E34 -> 56018F220771 | D34: {=IF(COUNTIF(_xlfn.ANCHORARRAY($J$2),Tableau7[[#This Row],[Part Number]]),IFERROR(SUM(_xlfn._xlws.FILTER((N34:BJ34)-(M34:BI34),(N34:BJ34)-(M34:BI34)>0))/(L34-1),0),0)} -> 0 | E34: =_xlfn.IFS(Tableau7[[#This Row],[Nombres de jours moyens entre deux occurrences]]<=45,4,Tableau7[[#This Row],[Nombres de jours moyens entre deux occurrences]]<=90,3,Tableau7[[#This Row],[Nombres de jours moyens entre deux occurrences]]<=135,2,Tableau7[[#This Row],[Nombres de jours moyens entre deux occurrences]]>135,1) -> 4 | F34: 27060UB060 | H34: 68143F225071 | J34: 56011F231071 | L34: 2 | M34: {=TRANSPOSE(_xlfn._xlws.FILTER(Total_scrap[Month],(Total_scrap[Part Number]=J34)))} -> 10/2020 | N34: 01/2021 | BK34: {=IFERROR(SUM(_xlfn._xlws.FILTER((N34:BJ34)-(M34:BI34),(N34:BJ34)-(M34:BI34)>0))/(L34-1),0)} -> 92
A35: ='total Scrap'!A35 -> 07/2020 | B35: ='total Scrap'!D35 -> 93607 | C35: ='total Scrap'!E35 -> 3A14055 | D35: {=IF(COUNTIF(_xlfn.ANCHORARRAY($J$2),Tableau7[[#This Row],[Part Number]]),IFERROR(SUM(_xlfn._xlws.FILTER((N35:BJ35)-(M35:BI35),(N35:BJ35)-(M35:BI35)>0))/(L35-1),0),0)} -> 21.571429 | E35: =_xlfn.IFS(Tableau7[[#This Row],[Nombres de jours moyens entre deux occurrences]]<=45,4,Tableau7[[#This Row],[Nombres de jours moyens entre deux occurrences]]<=90,3,Tableau7[[#This Row],[Nombres de jours moyens entre deux occurrences]]<=135,2,Tableau7[[#This Row],[Nombres de jours moyens entre deux occurrences]]>135,1) -> 4 | F35: 58310F218071 | H35: 45682F331071 | J35: 56210F225071 | L35: 8 | M35: {=TRANSPOSE(_xlfn._xlws.FILTER(Total_scrap[Month],(Total_scrap[Part Number]=J35)))} -> 10/2020 | N35: 10/2020 | O35: 12/2020 | P35: 12/2020 | Q35: 02/2021 | R35: 02/2021 | S35: 03/2021 | T35: 03/2021 | BK35: {=IFERROR(SUM(_xlfn._xlws.FILTER((N35:BJ35)-(M35:BI35),(N35:BJ35)-(M35:BI35)>0))/(L35-1),0)} -> 21.571429
A36: ='total Scrap'!A36 -> 07/2020 | B36: ='total Scrap'!D36 -> 96512 | C36: ='total Scrap'!E36 -> 455103664071 | D36: {=IF(COUNTIF(_xlfn.ANCHORARRAY($J$2),Tableau7[[#This Row],[Part Number]]),IFERROR(SUM(_xlfn._xlws.FILTER((N36:BJ36)-(M36:BI36),(N36:BJ36)-(M36:BI36)>0))/(L36-1),0),0)} -> 121.5 | E36: =_xlfn.IFS(Tableau7[[#This Row],[Nombres de jours moyens entre deux occurrences]]<=45,4,Tableau7[[#This Row],[Nombres de jours moyens entre deux occurrences]]<=90,3,Tableau7[[#This Row],[Nombres de jours moyens entre deux occurrences]]<=135,2,Tableau7[[#This Row],[Nombres de jours moyens entre deux occurrences]]>135,1) -> 2 | F36: 1A18131 | H36: 452021660071 | J36: 55231F231071 | L36: 3 | M36: {=TRANSPOSE(_xlfn._xlws.FILTER(Total_scrap[Month],(Total_scrap[Part Number]=J36)))} -> 10/2020 | N36: 03/2021 | O36: 06/2021 | BK36: {=IFERROR(SUM(_xlfn._xlws.FILTER((N36:BJ36)-(M36:BI36),(N36:BJ36)-(M36:BI36)>0))/(L36-1),0)} -> 121.5
A37: ='total Scrap'!A37 -> 07/2020 | B37: ='total Scrap'!D37 -> 95958 | C37: ='total Scrap'!E37 -> 27060UB060 | D37: {=IF(COUNTIF(_xlfn.ANCHORARRAY($J$2),Tableau7[[#This Row],[Part Number]]),IFERROR(SUM(_xlfn._xlws.FILTER((N37:BJ37)-(M37:BI37),(N37:BJ37)-(M37:BI37)>0))/(L37-1),0),0)} -> 40.5 | E37: =_xlfn.IFS(Tableau7[[#This Row],[Nombres de jours moyens entre deux occurrences]]<=45,4,Tableau7[[#This Row],[Nombres de jours moyens entre deux occurrences]]<=90,3,Tableau7[[#This Row],[Nombres de jours moyens entre deux occurrences]]<=135,2,Tableau7[[#This Row],[Nombres de jours moyens entre deux occurrences]]>135,1) -> 4 | F37: 1A28083 | H37: 688052132071 | J37: 565302660071 | L37: 7 | M37: {=TRANSPOSE(_xlfn._xlws.FILTER(Total_scrap[Month],(Total_scrap[Part Number]=J37)))} -> 10/2020 | N37: 01/2021 | O37: 01/2021 | P37: 03/2021 | Q37: 04/2021 | R37: 04/2021 | S37: 06/2021 | BK37: {=IFERROR(SUM(_xlfn._xlws.FILTER((N37:BJ37)-(M37:BI37),(N37:BJ37)-(M37:BI37)>0))/(L37-1),0)} -> 40.5
A38: ='total Scrap'!A38 -> 07/2020 | B38: ='total Scrap'!D38 -> 95632 | C38: ='total Scrap'!E38 -> 58310F218071 | D38: {=IF(COUNTIF(_xlfn.ANCHORARRAY($J$2),Tableau7[[#This Row],[Part Number]]),IFERROR(SUM(_xlfn._xlws.FILTER((N38:BJ38)-(M38:BI38),(N38:BJ38)-(M38:BI38)>0))/(L38-1),0),0)} -> 0 | E38: =_xlfn.IFS(Tableau7[[#This Row],[Nombres de jours moyens entre deux occurrences]]<=45,4,Tableau7[[#This Row],[Nombres de jours moyens entre deux occurrences]]<=90,3,Tableau7[[#This Row],[Nombres de jours moyens entre deux occurrences]]<=135,2,Tableau7[[#This Row],[Nombres de jours moyens entre deux occurrences]]>135,1) -> 4 | F38: 2A28005 | H38: 68131F225071 | J38: 571602660471 | L38: 2 | M38: {=TRANSPOSE(_xlfn._xlws.FILTER(Total_scrap[Month],(Total_scrap[Part Number]=J38)))} -> 10/2020 | N38: 10/2020 | BK38: {=IFERROR(SUM(_xlfn._xlws.FILTER((N38:BJ38)-(M38:BI38),(N38:BJ38)-(M38:BI38)>0))/(L38-1),0)} -> 0
A39: ='total Scrap'!A39 -> 07/2020 | B39: ='total Scrap'!D39 -> 96354 | C39: ='total Scrap'!E39 -> 1A18131 | D39: {=IF(COUNTIF(_xlfn.ANCHORARRAY($J$2),Tableau7[[#This Row],[Part Number]]),IFERROR(SUM(_xlfn._xlws.FILTER((N39:BJ39)-(M39:BI39),(N39:BJ39)-(M39:BI39)>0))/(L39-1),0),0)} -> 0 | E39: =_xlfn.IFS(Tableau7[[#This Row],[Nombres de jours moyens entre deux occurrences]]<=45,4,Tableau7[[#This Row],[Nombres de jours moyens entre deux occurrences]]<=90,3,Tableau7[[#This Row],[Nombres de jours moyens entre deux occurrences]]<=135,2,Tableau7[[#This Row],[Nombres de jours moyens entre deux occurrences]]>135,1) -> 4 | F39: 55173FSHD771 | H39: 1A18134 | J39: 16420F118071 | L39: 5 | M39: {=TRANSPOSE(_xlfn._xlws.FILTER(Total_scrap[Month],(Total_scrap[Part Number]=J39)))} -> 10/2020 | N39: 11/2020 | O39: 11/2020 | P39: 12/2020 | Q39: 06/2021 | BK39: {=IFERROR(SUM(_xlfn._xlws.FILTER((N39:BJ39)-(M39:BI39),(N39:BJ39)-(M39:BI39)>0))/(L39-1),0)} -> 60.75
A40: ='total Scrap'!A40 -> 07/2020 | B40: ='total Scrap'!D40 -> 93609 | C40: ='total Scrap'!E40 -> 3A14055 | D40: {=IF(COUNTIF(_xlfn.ANCHORARRAY($J$2),Tableau7[[#This Row],[Part Number]]),IFERROR(SUM(_xlfn._xlws.FILTER((N40:BJ40)-(M40:BI40),(N40:BJ40)-(M40:BI40)>0))/(L40-1),0),0)} -> 123 | E40: =_xlfn.IFS(Tableau7[[#This Row],[Nombres de jours moyens entre deux occurrences]]<=45,4,Tableau7[[#This Row],[Nombres de jours moyens entre deux occurrences]]<=90,3,Tableau7[[#This Row],[Nombres de jours moyens entre deux occurrences]]<=135,2,Tableau7[[#This Row],[Nombres de jours moyens entre deux occurrences]]>135,1) -> 2 | F40: 56044FPA2071 | H40: 452212660071 | J40: 56210F220071 | L40: 2 | M40: {=TRANSPOSE(_xlfn._xlws.FILTER(Total_scrap[Month],(Total_scrap[Part Number]=J40)))} -> 10/2020 | N40: 02/2021 | BK40: {=IFERROR(SUM(_xlfn._xlws.FILTER((N40:BJ40)-(M40:BI40),(N40:BJ40)-(M40:BI40)>0))/(L40-1),0)} -> 123
A41: ='total Scrap'!A41 -> 07/2020 | B41: ='total Scrap'!D41 -> 93608 | C41: ='total Scrap'!E41 -> 1A28083 | D41: {=IF(COUNTIF(_xlfn.ANCHORARRAY($J$2),Tableau7[[#This Row],[Part Number]]),IFERROR(SUM(_xlfn._xlws.FILTER((N41:BJ41)-(M41:BI41),(N41:BJ41)-(M41:BI41)>0))/(L41-1),0),0)} -> 0 | E41: =_xlfn.IFS(Tableau7[[#This Row],[Nombres de jours moyens entre deux occurrences]]<=45,4,Tableau7[[#This Row],[Nombres de jours moyens entre deux occurrences]]<=90,3,Tableau7[[#This Row],[Nombres de jours moyens entre deux occurrences]]<=135,2,Tableau7[[#This Row],[Nombres de jours moyens entre deux occurrences]]>135,1) -> 4 | F41: 565903676071 | H41: 56051F326071 | J41: 233002665071 | L41: 3 | M41: {=TRANSPOSE(_xlfn._xlws.FILTER(Total_scrap[Month],(Total_scrap[Part Number]=J41)))} -> 10/2020 | N41: 11/2020 | O41: 06/2021 | BK41: {=IFERROR(SUM(_xlfn._xlws.FILTER((N41:BJ41)-(M41:BI41),(N41:BJ41)-(M41:BI41)>0))/(L41-1),0)} -> 121.5
A42: ='total Scrap'!A42 -> 07/2020 | B42: ='total Scrap'!D42 -> 93610 | C42: ='total Scrap'!E42 -> 2A28005 | D42: {=IF(COUNTIF(_xlfn.ANCHORARRAY($J$2),Tableau7[[#This Row],[Part Number]]),IFERROR(SUM(_xlfn._xlws.FILTER((N42:BJ42)-(M42:BI42),(N42:BJ42)-(M42:BI42)>0))/(L42-1),0),0)} -> 92 | E42: =_xlfn.IFS(Tableau7[[#This Row],[Nombres de jours moyens entre deux occurrences]]<=45,4,Tableau7[[#This Row],[Nombres de jours moyens entre deux occurrences]]<=90,3,Tableau7[[#This Row],[Nombres de jours moyens entre deux occurrences]]<=135,2,Tableau7[[#This Row],[Nombres de jours moyens entre deux occurrences]]>135,1) -> 2 | F42: 470401661071 | H42: 587202660071 | J42: 56031F232071 | L42: 2 | M42: {=TRANSPOSE(_xlfn._xlws.FILTER(Total_scrap[Month],(Total_scrap[Part Number]=J42)))} -> 10/2020 | N42: 01/2021 | BK42: {=IFERROR(SUM(_xlfn._xlws.FILTER((N42:BJ42)-(M42:BI42),(N42:BJ42)-(M42:BI42)>0))/(L42-1),0)} -> 92
A43: ='total Scrap'!A43 -> 07/2020 | B43: ='total Scrap'!D43 -> 95055 | C43: ='total Scrap'!E43 -> 55173FSHD771 | D43: {=IF(COUNTIF(_xlfn.ANCHORARRAY($J$2),Tableau7[[#This Row],[Part Number]]),IFERROR(SUM(_xlfn._xlws.FILTER((N43:BJ43)-(M43:BI43),(N43:BJ43)-(M43:BI43)>0))/(L43-1),0),0)} -> 0 | E43: =_xlfn.IFS(Tableau7[[#This Row],[Nombres de jours moyens entre deux occurrences]]<=45,4,Tableau7[[#This Row],[Nombres de jours moyens entre deux occurrences]]<=90,3,Tableau7[[#This Row],[Nombres de jours moyens entre deux occurrences]]<=135,2,Tableau7[[#This Row],[Nombres de jours moyens entre deux occurrences]]>135,1) -> 4 | F43: 56031FPD2071 | H43: 561051653171 | J43: 56052F227071 | L43: 6 | M43: {=TRANSPOSE(_xlfn._xlws.FILTER(Total_scrap[Month],(Total_scrap[Part Number]=J43)))} -> 10/2020 | N43: 10/2020 | O43: 01/2021 | P43: 02/2021 | Q43: 02/2021 | R43: 03/2021 | BK43: {=IFERROR(SUM(_xlfn._xlws.FILTER((N43:BJ43)-(M43:BI43),(N43:BJ43)-(M43:BI43)>0))/(L43-1),0)} -> 30.2
A44: ='total Scrap'!A44 -> 07/2020 | B44: ='total Scrap'!D44 -> 95618 | C44: ='total Scrap'!E44 -> 56044FPA2071 | D44: {=IF(COUNTIF(_xlfn.ANCHORARRAY($J$2),Tableau7[[#This Row],[Part Number]]),IFERROR(SUM(_xlfn._xlws.FILTER((N44:BJ44)-(M44:BI44),(N44:BJ44)-(M44:BI44)>0))/(L44-1),0),0)} -> 0 | E44: =_xlfn.IFS(Tableau7[[#This Row],[Nombres de jours moyens entre deux occurrences]]<=45,4,Tableau7[[#This Row],[Nombres de jours moyens entre deux occurrences]]<=90,3,Tableau7[[#This Row],[Nombres de jours moyens entre deux occurrences]]<=135,2,Tableau7[[#This Row],[Nombres de jours moyens entre deux occurrences]]>135,1) -> 4 | F44: 55213F218171 | H44: 44140F302071 | J44: 56570F210071 | L44: 3 | M44: {=TRANSPOSE(_xlfn._xlws.FILTER(Total_scrap[Month],(Total_scrap[Part Number]=J44)))} -> 10/2020 | N44: 01/2021 | O44: 01/2021 | BK44: {=IFERROR(SUM(_xlfn._xlws.FILTER((N44:BJ44)-(M44:BI44),(N44:BJ44)-(M44:BI44)>0))/(L44-1),0)} -> 46
A45: ='total Scrap'!A45 -> 07/2020 | B45: ='total Scrap'!D45 -> 95716 | C45: ='total Scrap'!E45 -> 565903676071 | D45: {=IF(COUNTIF(_xlfn.ANCHORARRAY($J$2),Tableau7[[#This Row],[Part Number]]),IFERROR(SUM(_xlfn._xlws.FILTER((N45:BJ45)-(M45:BI45),(N45:BJ45)-(M45:BI45)>0))/(L45-1),0),0)} -> 40.5 | E45: =_xlfn.IFS(Tableau7[[#This Row],[Nombres de jours moyens entre deux occurrences]]<=45,4,Tableau7[[#This Row],[Nombres de jours moyens entre deux occurrences]]<=90,3,Tableau7[[#This Row],[Nombres de jours moyens entre deux occurrences]]<=135,2,Tableau7[[#This Row],[Nombres de jours moyens entre deux occurrences]]>135,1) -> 4 | F45: 68066F311171 | H45: 56310F229071 | J45: 17106F225071 | L45: 7 | M45: {=TRANSPOSE(_xlfn._xlws.FILTER(Total_scrap[Month],(Total_scrap[Part Number]=J45)))} -> 10/2020 | N45: 01/2021 | O45: 03/2021 | P45: 04/2021 | Q45: 04/2021 | R45: 06/2021 | S45: 06/2021 | BK45: {=IFERROR(SUM(_xlfn._xlws.FILTER((N45:BJ45)-(M45:BI45),(N45:BJ45)-(M45:BI45)>0))/(L45-1),0)} -> 40.5
A46: ='total Scrap'!A46 -> 07/2020 | B46: ='total Scrap'!D46 -> 95625 | C46: ='total Scrap'!E46 -> 470401661071 | D46: {=IF(COUNTIF(_xlfn.ANCHORARRAY($J$2),Tableau7[[#This Row],[Part Number]]),IFERROR(SUM(_xlfn._xlws.FILTER((N46:BJ46)-(M46:BI46),(N46:BJ46)-(M46:BI46)>0))/(L46-1),0),0)} -> 0 | E46: =_xlfn.IFS(Tableau7[[#This Row],[Nombres de jours moyens entre deux occurrences]]<=45,4,Tableau7[[#This Row],[Nombres de jours moyens entre deux occurrences]]<=90,3,Tableau7[[#This Row],[Nombres de jours moyens entre deux occurrences]]<=135,2,Tableau7[[#This Row],[Nombres de jours moyens entre deux occurrences]]>135,1) -> 4 | F46: 56031F231071 | H46: 96363F322571 | J46: 451101247371 | L46: 4 | M46: {=TRANSPOSE(_xlfn._xlws.FILTER(Total_scrap[Month],(Total_scrap[Part Number]=J46)))} -> 10/2020 | N46: 03/2021 | O46: 05/2021 | P46: 06/2021 | BK46: {=IFERROR(SUM(_xlfn._xlws.FILTER((N46:BJ46)-(M46:BI46),(N46:BJ46)-(M46:BI46)>0))/(L46-1),0)} -> 81
A47: ='total Scrap'!A47 -> 07/2020 | B47: ='total Scrap'!D47 -> 96518 | C47: ='total Scrap'!E47 -> 56031FPD2071 | D47: {=IF(COUNTIF(_xlfn.ANCHORARRAY($J$2),Tableau7[[#This Row],[Part Number]]),IFERROR(SUM(_xlfn._xlws.FILTER((N47:BJ47)-(M47:BI47),(N47:BJ47)-(M47:BI47)>0))/(L47-1),0),0)} -> 0 | E47: =_xlfn.IFS(Tableau7[[#This Row],[Nombres de jours moyens entre deux occurrences]]<=45,4,Tableau7[[#This Row],[Nombres de jours moyens entre deux occurrences]]<=90,3,Tableau7[[#This Row],[Nombres de jours moyens entre deux occurrences]]<=135,2,Tableau7[[#This Row],[Nombres de jours moyens entre deux occurrences]]>135,1) -> 4 | F47: 68606F214171 | H47: 23342F231071 | J47: 58770F218071 | L47: 4 | M47: {=TRANSPOSE(_xlfn._xlws.FILTER(Total_scrap[Month],(Total_scrap[Part Number]=J47)))} -> 10/2020 | N47: 10/2020 | O47: 10/2020 | P47: 06/2021 | BK47: {=IFERROR(SUM(_xlfn._xlws.FILTER((N47:BJ47)-(M47:BI47),(N47:BJ47)-(M47:BI47)>0))/(L47-1),0)} -> 81
A48: ='total Scrap'!A48 -> 07/2020 | B48: ='total Scrap'!D48 -> 95767 | C48: ='total Scrap'!E48 -> 55213F218171 | D48: {=IF(COUNTIF(_xlfn.ANCHORARRAY($J$2),Tableau7[[#This Row],[Part Number]]),IFERROR(SUM(_xlfn._xlws.FILTER((N48:BJ48)-(M48:BI48),(N48:BJ48)-(M48:BI48)>0))/(L48-1),0),0)} -> 75.5 | E48: =_xlfn.IFS(Tableau7[[#This Row],[Nombres de jours moyens entre deux occurrences]]<=45,4,Tableau7[[#This Row],[Nombres de jours moyens entre deux occurrences]]<=90,3,Tableau7[[#This Row],[Nombres de jours moyens entre deux occurrences]]<=135,2,Tableau7[[#This Row],[Nombres de jours moyens entre deux occurrences]]>135,1) -> 3 | F48: 678901132071 | H48: 25750FS2CK71 | J48: 2A14398G3 | L48: 3 | M48: {=TRANSPOSE(_xlfn._xlws.FILTER(Total_scrap[Month],(Total_scrap[Part Number]=J48)))} -> 10/2020 | N48: 02/2021 | O48: 03/2021 | BK48: {=IFERROR(SUM(_xlfn._xlws.FILTER((N48:BJ48)-(M48:BI48),(N48:BJ48)-(M48:BI48)>0))/(L48-1),0)} -> 75.5
A49: ='total Scrap'!A49 -> 07/2020 | B49: ='total Scrap'!D49 -> 95770 | C49: ='total Scrap'!E49 -> 55213F218171 | D49: {=IF(COUNTIF(_xlfn.ANCHORARRAY($J$2),Tableau7[[#This Row],[Part Number]]),IFERROR(SUM(_xlfn._xlws.FILTER((N49:BJ49)-(M49:BI49),(N49:BJ49)-(M49:BI49)>0))/(L49-1),0),0)} -> 212 | E49: =_xlfn.IFS(Tableau7[[#This Row],[Nombres de jours moyens entre deux occurrences]]<=45,4,Tableau7[[#This Row],[Nombres de jours moyens entre deux occurrences]]<=90,3,Tableau7[[#This Row],[Nombres de jours moyens entre deux occurrences]]<=135,2,Tableau7[[#This Row],[Nombres de jours moyens entre deux occurrences]]>135,1) -> 1 | F49: 53220F231071 | H49: 235102661071 | J49: 521823675171 | L49: 2 | M49: {=TRANSPOSE(_xlfn._xlws.FILTER(Total_scrap[Month],(Total_scrap[Part Number]=J49)))} -> 10/2020 | N49: 05/2021 | BK49: {=IFERROR(SUM(_xlfn._xlws.FILTER((N49:BJ49)-(M49:BI49),(N49:BJ49)-(M49:BI49)>0))/(L49-1),0)} -> 212
A50: ='total Scrap'!A50 -> 07/2020 | B50: ='total Scrap'!D50 -> 95623 | C50: ='total Scrap'!E50 -> 68066F311171 | D50: {=IF(COUNTIF(_xlfn.ANCHORARRAY($J$2),Tableau7[[#This Row],[Part Number]]),IFERROR(SUM(_xlfn._xlws.FILTER((N50:BJ50)-(M50:BI50),(N50:BJ50)-(M50:BI50)>0))/(L50-1),0),0)} -> 0 | E50: =_xlfn.IFS(Tableau7[[#This Row],[Nombres de jours moyens entre deux occurrences]]<=45,4,Tableau7[[#This Row],[Nombres de jours moyens entre deux occurrences]]<=90,3,Tableau7[[#This Row],[Nombres de jours moyens entre deux occurrences]]<=135,2,Tableau7[[#This Row],[Nombres de jours moyens entre deux occurrences]]>135,1) -> 4 | F50: 23507FPA2171 | H50: 16420F318071 | J50: 96365F509471 | L50: 3 | M50: {=TRANSPOSE(_xlfn._xlws.FILTER(Total_scrap[Month],(Total_scrap[Part Number]=J50)))} -> 10/2020 | N50: 10/2020 | O50: 12/2020 | BK50: {=IFERROR(SUM(_xlfn._xlws.FILTER((N50:BJ50)-(M50:BI50),(N50:BJ50)-(M50:BI50)>0))/(L50-1),0)} -> 30.5
A51: ='total Scrap'!A51 -> 07/2020 | B51: ='total Scrap'!D51 -> 95624 | C51: ='total Scrap'!E51 -> 56031F231071 | D51: {=IF(COUNTIF(_xlfn.ANCHORARRAY($J$2),Tableau7[[#This Row],[Part Number]]),IFERROR(SUM(_xlfn._xlws.FILTER((N51:BJ51)-(M51:BI51),(N51:BJ51)-(M51:BI51)>0))/(L51-1),0),0)} -> 121.5 | E51: =_xlfn.IFS(Tableau7[[#This Row],[Nombres de jours moyens entre deux occurrences]]<=45,4,Tableau7[[#This Row],[Nombres de jours moyens entre deux occurrences]]<=90,3,Tableau7[[#This Row],[Nombres de jours moyens entre deux occurrences]]<=135,2,Tableau7[[#This Row],[Nombres de jours moyens entre deux occurrences]]>135,1) -> 2 | F51: 565013691071 | H51: 518912675071 | J51: 566512663071 | L51: 3 | M51: {=TRANSPOSE(_xlfn._xlws.FILTER(Total_scrap[Month],(Total_scrap[Part Number]=J51)))} -> 10/2020 | N51: 11/2020 | O51: 06/2021 | BK51: {=IFERROR(SUM(_xlfn._xlws.FILTER((N51:BJ51)-(M51:BI51),(N51:BJ51)-(M51:BI51)>0))/(L51-1),0)} -> 121.5
A52: ='total Scrap'!A52 -> 07/2020 | B52: ='total Scrap'!D52 -> 96532 | C52: ='total Scrap'!E52 -> 68606F214171 | D52: {=IF(COUNTIF(_xlfn.ANCHORARRAY($J$2),Tableau7[[#This Row],[Part Number]]),IFERROR(SUM(_xlfn._xlws.FILTER((N52:BJ52)-(M52:BI52),(N52:BJ52)-(M52:BI52)>0))/(L52-1),0),0)} -> 0 | E52: =_xlfn.IFS(Tableau7[[#This Row],[Nombres de jours moyens entre deux occurrences]]<=45,4,Tableau7[[#This Row],[Nombres de jours moyens entre deux occurrences]]<=90,3,Tableau7[[#This Row],[Nombres de jours moyens entre deux occurrences]]<=135,2,Tableau7[[#This Row],[Nombres de jours moyens entre deux occurrences]]>135,1) -> 4 | F52: 175102662071 | H52: 23349F231071 | J52: 56042F318071 | L52: 4 | M52: {=TRANSPOSE(_xlfn._xlws.FILTER(Total_scrap[Month],(Total_scrap[Part Number]=J52)))} -> 10/2020 | N52: 10/2020 | O52: 01/2021 | P52: 04/2021 | BK52: {=IFERROR(SUM(_xlfn._xlws.FILTER((N52:BJ52)-(M52:BI52),(N52:BJ52)-(M52:BI52)>0))/(L52-1),0)} -> 60.666667
A53: ='total Scrap'!A53 -> 07/2020 | B53: ='total Scrap'!D53 -> 95552 | C53: ='total Scrap'!E53 -> 678901132071 | D53: {=IF(COUNTIF(_xlfn.ANCHORARRAY($J$2),Tableau7[[#This Row],[Part Number]]),IFERROR(SUM(_xlfn._xlws.FILTER((N53:BJ53)-(M53:BI53),(N53:BJ53)-(M53:BI53)>0))/(L53-1),0),0)} -> 0 | E53: =_xlfn.IFS(Tableau7[[#This Row],[Nombres de jours moyens entre deux occurrences]]<=45,4,Tableau7[[#This Row],[Nombres de jours moyens entre deux occurrences]]<=90,3,Tableau7[[#This Row],[Nombres de jours moyens entre deux occurrences]]<=135,2,Tableau7[[#This Row],[Nombres de jours moyens entre deux occurrences]]>135,1) -> 4 | F53: 177002660071 | H53: 23702FP24271 | J53: 566532660371 | L53: 2 | M53: {=TRANSPOSE(_xlfn._xlws.FILTER(Total_scrap[Month],(Total_scrap[Part Number]=J53)))} -> 10/2020 | N53: 06/2021 | BK53: {=IFERROR(SUM(_xlfn._xlws.FILTER((N53:BJ53)-(M53:BI53),(N53:BJ53)-(M53:BI53)>0))/(L53-1),0)} -> 243
A54: ='total Scrap'!A54 -> 07/2020 | B54: ='total Scrap'!D54 -> 95626 | C54: ='total Scrap'!E54 -> 53220F231071 | D54: {=IF(COUNTIF(_xlfn.ANCHORARRAY($J$2),Tableau7[[#This Row],[Part Number]]),IFERROR(SUM(_xlfn._xlws.FILTER((N54:BJ54)-(M54:BI54),(N54:BJ54)-(M54:BI54)>0))/(L54-1),0),0)} -> 0 | E54: =_xlfn.IFS(Tableau7[[#This Row],[Nombres de jours moyens entre deux occurrences]]<=45,4,Tableau7[[#This Row],[Nombres de jours moyens entre deux occurrences]]<=90,3,Tableau7[[#This Row],[Nombres de jours moyens entre deux occurrences]]<=135,2,Tableau7[[#This Row],[Nombres de jours moyens entre deux occurrences]]>135,1) -> 4 | F54: 2A28007G3 | H54: 56013F231071 | J54: 89661UM090 | L54: 4 | M54: {=TRANSPOSE(_xlfn._xlws.FILTER(Total_scrap[Month],(Total_scrap[Part Number]=J54)))} -> 11/2020 | N54: 01/2021 | O54: 03/2021 | P54: 03/2021 | BK54: {=IFERROR(SUM(_xlfn._xlws.FILTER((N54:BJ54)-(M54:BI54),(N54:BJ54)-(M54:BI54)>0))/(L54-1),0)} -> 40
A55: ='total Scrap'!A55 -> 07/2020 | B55: ='total Scrap'!D55 -> 95629 | C55: ='total Scrap'!E55 -> 23507FPA2171 | D55: {=IF(COUNTIF(_xlfn.ANCHORARRAY($J$2),Tableau7[[#This Row],[Part Number]]),IFERROR(SUM(_xlfn._xlws.FILTER((N55:BJ55)-(M55:BI55),(N55:BJ55)-(M55:BI55)>0))/(L55-1),0),0)} -> 30.5 | E55: =_xlfn.IFS(Tableau7[[#This Row],[Nombres de jours moyens entre deux occurrences]]<=45,4,Tableau7[[#This Row],[Nombres de jours moyens entre deux occurrences]]<=90,3,Tableau7[[#This Row],[Nombres de jours moyens entre deux occurrences]]<=135,2,Tableau7[[#This Row],[Nombres de jours moyens entre deux occurrences]]>135,1) -> 4 | F55: 38717F121071 | H55: 56315FSASD71 | J55: 56210F118071 | L55: 3 | M55: {=TRANSPOSE(_xlfn._xlws.FILTER(Total_scrap[Month],(Total_scrap[Part Number]=J55)))} -> 11/2020 | N55: 12/2020 | O55: 01/2021 | BK55: {=IFERROR(SUM(_xlfn._xlws.FILTER((N55:BJ55)-(M55:BI55),(N55:BJ55)-(M55:BI55)>0))/(L55-1),0)} -> 30.5
A56: ='total Scrap'!A56 -> 07/2020 | B56: ='total Scrap'!D56 -> 96517 | C56: ='total Scrap'!E56 -> 565013691071 | D56: {=IF(COUNTIF(_xlfn.ANCHORARRAY($J$2),Tableau7[[#This Row],[Part Number]]),IFERROR(SUM(_xlfn._xlws.FILTER((N56:BJ56)-(M56:BI56),(N56:BJ56)-(M56:BI56)>0))/(L56-1),0),0)} -> 0 | E56: =_xlfn.IFS(Tableau7[[#This Row],[Nombres de jours moyens entre deux occurrences]]<=45,4,Tableau7[[#This Row],[Nombres de jours moyens entre deux occurrences]]<=90,3,Tableau7[[#This Row],[Nombres de jours moyens entre deux occurrences]]<=135,2,Tableau7[[#This Row],[Nombres de jours moyens entre deux occurrences]]>135,1) -> 4 | F56: 68805F226071 | H56: 175202662071 | J56: 8987125010 | L56: 3 | M56: {=TRANSPOSE(_xlfn._xlws.FILTER(Total_scrap[Month],(Total_scrap[Part Number]=J56)))} -> 11/2020 | N56: 04/2021 | O56: 06/2021 | BK56: {=IFERROR(SUM(_xlfn._xlws.FILTER((N56:BJ56)-(M56:BI56),(N56:BJ56)-(M56:BI56)>0))/(L56-1),0)} -> 106
A57: ='total Scrap'!A57 -> 07/2020 | B57: ='total Scrap'!D57 -> 95954 | C57: ='total Scrap'!E57 -> 175102662071 | D57: {=IF(COUNTIF(_xlfn.ANCHORARRAY($J$2),Tableau7[[#This Row],[Part Number]]),IFERROR(SUM(_xlfn._xlws.FILTER((N57:BJ57)-(M57:BI57),(N57:BJ57)-(M57:BI57)>0))/(L57-1),0),0)} -> 106 | E57: =_xlfn.IFS(Tableau7[[#This Row],[Nombres de jours moyens entre deux occurrences]]<=45,4,Tableau7[[#This Row],[Nombres de jours moyens entre deux occurrences]]<=90,3,Tableau7[[#This Row],[Nombres de jours moyens entre deux occurrences]]<=135,2,Tableau7[[#This Row],[Nombres de jours moyens entre deux occurrences]]>135,1) -> 2 | F57: 68804F226071 | H57: 56231F231071 | J57: 27060UB070 | L57: 3 | M57: {=TRANSPOSE(_xlfn._xlws.FILTER(Total_scrap[Month],(Total_scrap[Part Number]=J57)))} -> 11/2020 | N57: 05/2021 | O57: 06/2021 | BK57: {=IFERROR(SUM(_xlfn._xlws.FILTER((N57:BJ57)-(M57:BI57),(N57:BJ57)-(M57:BI57)>0))/(L57-1),0)} -> 106
A58: ='total Scrap'!A58 -> 07/2020 | B58: ='total Scrap'!D58 -> 95962 | C58: ='total Scrap'!E58 -> 163612660071 | D58: {=IF(COUNTIF(_xlfn.ANCHORARRAY($J$2),Tableau7[[#This Row],[Part Number]]),IFERROR(SUM(_xlfn._xlws.FILTER((N58:BJ58)-(M58:BI58),(N58:BJ58)-(M58:BI58)>0))/(L58-1),0),0)} -> 61 | E58: =_xlfn.IFS(Tableau7[[#This Row],[Nombres de jours moyens entre deux occurrences]]<=45,4,Tableau7[[#This Row],[Nombres de jours moyens entre deux occurrences]]<=90,3,Tableau7[[#This Row],[Nombres de jours moyens entre deux occurrences]]<=135,2,Tableau7[[#This Row],[Nombres de jours moyens entre deux occurrences]]>135,1) -> 3 | F58: 68143F225071 | H58: 65600FSL4C71 | J58: 56044FPA2271 | L58: 2 | M58: {=TRANSPOSE(_xlfn._xlws.FILTER(Total_scrap[Month],(Total_scrap[Part Number]=J58)))} -> 11/2020 | N58: 01/2021 | BK58: {=IFERROR(SUM(_xlfn._xlws.FILTER((N58:BJ58)-(M58:BI58),(N58:BJ58)-(M58:BI58)>0))/(L58-1),0)} -> 61
A59: ='total Scrap'!A59 -> 07/2020 | B59: ='total Scrap'!D59 -> 95960 | C59: ='total Scrap'!E59 -> 163612660071 | D59: {=IF(COUNTIF(_xlfn.ANCHORARRAY($J$2),Tableau7[[#This Row],[Part Number]]),IFERROR(SUM(_xlfn._xlws.FILTER((N59:BJ59)-(M59:BI59),(N59:BJ59)-(M59:BI59)>0))/(L59-1),0),0)} -> 75.5 | E59: =_xlfn.IFS(Tableau7[[#This Row],[Nombres de jours moyens entre deux occurrences]]<=45,4,Tableau7[[#This Row],[Nombres de jours moyens entre deux occurrences]]<=90,3,Tableau7[[#This Row],[Nombres de jours moyens entre deux occurrences]]<=135,2,Tableau7[[#This Row],[Nombres de jours moyens entre deux occurrences]]>135,1) -> 3 | F59: 45682F331071 | H59: 55240F218171 | J59: 566302661071 | L59: 3 | M59: {=TRANSPOSE(_xlfn._xlws.FILTER(Total_scrap[Month],(Total_scrap[Part Number]=J59)))} -> 11/2020 | N59: 03/2021 | O59: 04/2021 | BK59: {=IFERROR(SUM(_xlfn._xlws.FILTER((N59:BJ59)-(M59:BI59),(N59:BJ59)-(M59:BI59)>0))/(L59-1),0)} -> 75.5
A60: ='total Scrap'!A60 -> 07/2020 | B60: ='total Scrap'!D60 -> 96504 | C60: ='total Scrap'!E60 -> 177002660071 | D60: {=IF(COUNTIF(_xlfn.ANCHORARRAY($J$2),Tableau7[[#This Row],[Part Number]]),IFERROR(SUM(_xlfn._xlws.FILTER((N60:BJ60)-(M60:BI60),(N60:BJ60)-(M60:BI60)>0))/(L60-1),0),0)} -> 0 | E60: =_xlfn.IFS(Tableau7[[#This Row],[Nombres de jours moyens entre deux occurrences]]<=45,4,Tableau7[[#This Row],[Nombres de jours moyens entre deux occurrences]]<=90,3,Tableau7[[#This Row],[Nombres de jours moyens entre deux occurrences]]<=135,2,Tableau7[[#This Row],[Nombres de jours moyens entre deux occurrences]]>135,1) -> 4 | F60: 452021660071 | H60: 16420F218071 | J60: 38711F331171 | L60: 2 | M60: {=TRANSPOSE(_xlfn._xlws.FILTER(Total_scrap[Month],(Total_scrap[Part Number]=J60)))} -> 11/2020 | N60: 04/2021 | BK60: {=IFERROR(SUM(_xlfn._xlws.FILTER((N60:BJ60)-(M60:BI60),(N60:BJ60)-(M60:BI60)>0))/(L60-1),0)} -> 151
A61: ='total Scrap'!A61 -> 07/2020 | B61: ='total Scrap'!D61 -> 95630 | C61: ='total Scrap'!E61 -> 53220F219071 | D61: {=IF(COUNTIF(_xlfn.ANCHORARRAY($J$2),Tableau7[[#This Row],[Part Number]]),IFERROR(SUM(_xlfn._xlws.FILTER((N61:BJ61)-(M61:BI61),(N61:BJ61)-(M61:BI61)>0))/(L61-1),0),0)} -> 30.666667 | E61: =_xlfn.IFS(Tableau7[[#This Row],[Nombres de jours moyens entre deux occurrences]]<=45,4,Tableau7[[#This Row],[Nombres de jours moyens entre deux occurrences]]<=90,3,Tableau7[[#This Row],[Nombres de jours moyens entre deux occurrences]]<=135,2,Tableau7[[#This Row],[Nombres de jours moyens entre deux occurrences]]>135,1) -> 4 | F61: 688052132071 | H61: 58510F318271 | J61: 53402F218171 | L61: 4 | M61: {=TRANSPOSE(_xlfn._xlws.FILTER(Total_scrap[Month],(Total_scrap[Part Number]=J61)))} -> 11/2020 | N61: 11/2020 | O61: 12/2020 | P61: 02/2021 | BK61: {=IFERROR(SUM(_xlfn._xlws.FILTER((N61:BJ61)-(M61:BI61),(N61:BJ61)-(M61:BI61)>0))/(L61-1),0)} -> 30.666667
A62: ='total Scrap'!A62 -> 07/2020 | B62: ='total Scrap'!D62 -> 93611 | C62: ='total Scrap'!E62 -> 2A28007G3 | D62: {=IF(COUNTIF(_xlfn.ANCHORARRAY($J$2),Tableau7[[#This Row],[Part Number]]),IFERROR(SUM(_xlfn._xlws.FILTER((N62:BJ62)-(M62:BI62),(N62:BJ62)-(M62:BI62)>0))/(L62-1),0),0)} -> 0 | E62: =_xlfn.IFS(Tableau7[[#This Row],[Nombres de jours moyens entre deux occurrences]]<=45,4,Tableau7[[#This Row],[Nombres de jours moyens entre deux occurrences]]<=90,3,Tableau7[[#This Row],[Nombres de jours moyens entre deux occurrences]]<=135,2,Tableau7[[#This Row],[Nombres de jours moyens entre deux occurrences]]>135,1) -> 4 | F62: 96365F509871 | H62: 56310F226071 | J62: 167202665171 | L62: 2 | M62: {=TRANSPOSE(_xlfn._xlws.FILTER(Total_scrap[Month],(Total_scrap[Part Number]=J62)))} -> 11/2020 | N62: 06/2021 | BK62: {=IFERROR(SUM(_xlfn._xlws.FILTER((N62:BJ62)-(M62:BI62),(N62:BJ62)-(M62:BI62)>0))/(L62-1),0)} -> 212
A63: ='total Scrap'!A63 -> 07/2020 | B63: ='total Scrap'!D63 -> 96529 | C63: ='total Scrap'!E63 -> 38717F121071 | D63: {=IF(COUNTIF(_xlfn.ANCHORARRAY($J$2),Tableau7[[#This Row],[Part Number]]),IFERROR(SUM(_xlfn._xlws.FILTER((N63:BJ63)-(M63:BI63),(N63:BJ63)-(M63:BI63)>0))/(L63-1),0),0)} -> 0 | E63: =_xlfn.IFS(Tableau7[[#This Row],[Nombres de jours moyens entre deux occurrences]]<=45,4,Tableau7[[#This Row],[Nombres de jours moyens entre deux occurrences]]<=90,3,Tableau7[[#This Row],[Nombres de jours moyens entre deux occurrences]]<=135,2,Tableau7[[#This Row],[Nombres de jours moyens entre deux occurrences]]>135,1) -> 4 | F63: 68131F225071 | H63: 53226F231071 | J63: 53401F218171 | L63: 2 | M63: {=TRANSPOSE(_xlfn._xlws.FILTER(Total_scrap[Month],(Total_scrap[Part Number]=J63)))} -> 11/2020 | N63: 01/2021 | BK63: {=IFERROR(SUM(_xlfn._xlws.FILTER((N63:BJ63)-(M63:BI63),(N63:BJ63)-(M63:BI63)>0))/(L63-1),0)} -> 61
A64: ='total Scrap'!A64 -> 07/2020 | B64: ='total Scrap'!D64 -> 96524 | C64: ='total Scrap'!E64 -> 68805F226071 | D64: {=IF(COUNTIF(_xlfn.ANCHORARRAY($J$2),Tableau7[[#This Row],[Part Number]]),IFERROR(SUM(_xlfn._xlws.FILTER((N64:BJ64)-(M64:BI64),(N64:BJ64)-(M64:BI64)>0))/(L64-1),0),0)} -> 106 | E64: =_xlfn.IFS(Tableau7[[#This Row],[Nombres de jours moyens entre deux occurrences]]<=45,4,Tableau7[[#This Row],[Nombres de jours moyens entre deux occurrences]]<=90,3,Tableau7[[#This Row],[Nombres de jours moyens entre deux occurrences]]<=135,2,Tableau7[[#This Row],[Nombres de jours moyens entre deux occurrences]]>135,1) -> 2 | F64: 1A18134 | H64: 56580FPD2171 | J64: 178022665071 | L64: 3 | M64: {=TRANSPOSE(_xlfn._xlws.FILTER(Total_scrap[Month],(Total_scrap[Part Number]=J64)))} -> 11/2020 | N64: 05/2021 | O64: 06/2021 | BK64: {=IFERROR(SUM(_xlfn._xlws.FILTER((N64:BJ64)-(M64:BI64),(N64:BJ64)-(M64:BI64)>0))/(L64-1),0)} -> 106
A65: ='total Scrap'!A65 -> 07/2020 | B65: ='total Scrap'!D65 -> 95621 | C65: ='total Scrap'!E65 -> 68804F226071 | D65: {=IF(COUNTIF(_xlfn.ANCHORARRAY($J$2),Tableau7[[#This Row],[Part Number]]),IFERROR(SUM(_xlfn._xlws.FILTER((N65:BJ65)-(M65:BI65),(N65:BJ65)-(M65:BI65)>0))/(L65-1),0),0)} -> 61 | E65: =_xlfn.IFS(Tableau7[[#This Row],[Nombres de jours moyens entre deux occurrences]]<=45,4,Tableau7[[#This Row],[Nombres de jours moyens entre deux occurrences]]<=90,3,Tableau7[[#This Row],[Nombres de jours moyens entre deux occurrences]]<=135,2,Tableau7[[#This Row],[Nombres de jours moyens entre deux occurrences]]>135,1) -> 3 | F65: 452212660071 | H65: 53211F331071 | J65: 56051F225071 | L65: 2 | M65: {=TRANSPOSE(_xlfn._xlws.FILTER(Total_scrap[Month],(Total_scrap[Part Number]=J65)))} -> 11/2020 | N65: 01/2021 | BK65: {=IFERROR(SUM(_xlfn._xlws.FILTER((N65:BJ65)-(M65:BI65),(N65:BJ65)-(M65:BI65)>0))/(L65-1),0)} -> 61
A66: ='total Scrap'!A66 -> 07/2020 | B66: ='total Scrap'!D66 -> 96507 | C66: ='total Scrap'!E66 -> 451101247271 | D66: {=IF(COUNTIF(_xlfn.ANCHORARRAY($J$2),Tableau7[[#This Row],[Part Number]]),IFERROR(SUM(_xlfn._xlws.FILTER((N66:BJ66)-(M66:BI66),(N66:BJ66)-(M66:BI66)>0))/(L66-1),0),0)} -> 53 | E66: =_xlfn.IFS(Tableau7[[#This Row],[Nombres de jours moyens entre deux occurrences]]<=45,4,Tableau7[[#This Row],[Nombres de jours moyens entre deux occurrences]]<=90,3,Tableau7[[#This Row],[Nombres de jours moyens entre deux occurrences]]<=135,2,Tableau7[[#This Row],[Nombres de jours moyens entre deux occurrences]]>135,1) -> 3 | F66: 56051F326071 | H66: 56052F226071 | J66: 238062665071 | L66: 5 | M66: {=TRANSPOSE(_xlfn._xlws.FILTER(Total_scrap[Month],(Total_scrap[Part Number]=J66)))} -> 11/2020 | N66: 04/2021 | O66: 04/2021 | P66: 04/2021 | Q66: 06/2021 | BK66: {=IFERROR(SUM(_xlfn._xlws.FILTER((N66:BJ66)-(M66:BI66),(N66:BJ66)-(M66:BI66)>0))/(L66-1),0)} -> 53
A67: ='total Scrap'!A67 -> 07/2020 | B67: ='total Scrap'!D67 -> 96516 | C67: ='total Scrap'!E67 -> 565702665071 | D67: {=IF(COUNTIF(_xlfn.ANCHORARRAY($J$2),Tableau7[[#This Row],[Part Number]]),IFERROR(SUM(_xlfn._xlws.FILTER((N67:BJ67)-(M67:BI67),(N67:BJ67)-(M67:BI67)>0))/(L67-1),0),0)} -> 21.571429 | E67: =_xlfn.IFS(Tableau7[[#This Row],[Nombres de jours moyens entre deux occurrences]]<=45,4,Tableau7[[#This Row],[Nombres de jours moyens entre deux occurrences]]<=90,3,Tableau7[[#This Row],[Nombres de jours moyens entre deux occurrences]]<=135,2,Tableau7[[#This Row],[Nombres de jours moyens entre deux occurrences]]>135,1) -> 4 | F67: 587202660071 | H67: 56014F118071 | J67: 532801370071 | L67: 8 | M67: {=TRANSPOSE(_xlfn._xlws.FILTER(Total_scrap[Month],(Total_scrap[Part Number]=J67)))} -> 11/2020 | N67: 02/2021 | O67: 02/2021 | P67: 03/2021 | Q67: 04/2021 | R67: 04/2021 | S67: 04/2021 | T67: 04/2021 | BK67: {=IFERROR(SUM(_xlfn._xlws.FILTER((N67:BJ67)-(M67:BI67),(N67:BJ67)-(M67:BI67)>0))/(L67-1),0)} -> 21.571429
A68: ='total Scrap'!A68 -> 07/2020 | B68: ='total Scrap'!D68 -> 95282 | C68: ='total Scrap'!E68 -> 17780F218071 | D68: {=IF(COUNTIF(_xlfn.ANCHORARRAY($J$2),Tableau7[[#This Row],[Part Number]]),IFERROR(SUM(_xlfn._xlws.FILTER((N68:BJ68)-(M68:BI68),(N68:BJ68)-(M68:BI68)>0))/(L68-1),0),0)} -> 0 | E68: =_xlfn.IFS(Tableau7[[#This Row],[Nombres de jours moyens entre deux occurrences]]<=45,4,Tableau7[[#This Row],[Nombres de jours moyens entre deux occurrences]]<=90,3,Tableau7[[#This Row],[Nombres de jours moyens entre deux occurrences]]<=135,2,Tableau7[[#This Row],[Nombres de jours moyens entre deux occurrences]]>135,1) -> 4 | F68: 561051653171 | H68: 175072660271 | J68: 440701074171 | L68: 2 | M68: {=TRANSPOSE(_xlfn._xlws.FILTER(Total_scrap[Month],(Total_scrap[Part Number]=J68)))} -> 11/2020 | N68: 11/2020 | BK68: {=IFERROR(SUM(_xlfn._xlws.FILTER((N68:BJ68)-(M68:BI68),(N68:BJ68)-(M68:BI68)>0))/(L68-1),0)} -> 0
A69: ='total Scrap'!A69 -> 07/2020 | B69: ='total Scrap'!D69 -> 96523 | C69: ='total Scrap'!E69 -> 68143F225071 | D69: {=IF(COUNTIF(_xlfn.ANCHORARRAY($J$2),Tableau7[[#This Row],[Part Number]]),IFERROR(SUM(_xlfn._xlws.FILTER((N69:BJ69)-(M69:BI69),(N69:BJ69)-(M69:BI69)>0))/(L69-1),0),0)} -> 0 | E69: =_xlfn.IFS(Tableau7[[#This Row],[Nombres de jours moyens entre deux occurrences]]<=45,4,Tableau7[[#This Row],[Nombres de jours moyens entre deux occurrences]]<=90,3,Tableau7[[#This Row],[Nombres de jours moyens entre deux occurrences]]<=135,2,Tableau7[[#This Row],[Nombres de jours moyens entre deux occurrences]]>135,1) -> 4 | F69: 44140F302071 | H69: 3A14124G3 | J69: 111203660171 | L69: 2 | M69: {=TRANSPOSE(_xlfn._xlws.FILTER(Total_scrap[Month],(Total_scrap[Part Number]=J69)))} -> 12/2020 | N69: 01/2021 | BK69: {=IFERROR(SUM(_xlfn._xlws.FILTER((N69:BJ69)-(M69:BI69),(N69:BJ69)-(M69:BI69)>0))/(L69-1),0)} -> 31
A70: ='total Scrap'!A70 -> 07/2020 | B70: ='total Scrap'!D70 -> 95961 | C70: ='total Scrap'!E70 -> 45682F331071 | D70: {=IF(COUNTIF(_xlfn.ANCHORARRAY($J$2),Tableau7[[#This Row],[Part Number]]),IFERROR(SUM(_xlfn._xlws.FILTER((N70:BJ70)-(M70:BI70),(N70:BJ70)-(M70:BI70)>0))/(L70-1),0),0)} -> 0 | E70: =_xlfn.IFS(Tableau7[[#This Row],[Nombres de jours moyens entre deux occurrences]]<=45,4,Tableau7[[#This Row],[Nombres de jours moyens entre deux occurrences]]<=90,3,Tableau7[[#This Row],[Nombres de jours moyens entre deux occurrences]]<=135,2,Tableau7[[#This Row],[Nombres de jours moyens entre deux occurrences]]>135,1) -> 4 | F70: 56210F219071 | H70: 52240F218071 | J70: 53724F222071 | L70: 5 | M70: {=TRANSPOSE(_xlfn._xlws.FILTER(Total_scrap[Month],(Total_scrap[Part Number]=J70)))} -> 12/2020 | N70: 12/2020 | O70: 02/2021 | P70: 05/2021 | Q70: 05/2021 | BK70: {=IFERROR(SUM(_xlfn._xlws.FILTER((N70:BJ70)-(M70:BI70),(N70:BJ70)-(M70:BI70)>0))/(L70-1),0)} -> 37.75
A71: ='total Scrap'!A71 -> 07/2020 | B71: ='total Scrap'!D71 -> 96521 | C71: ='total Scrap'!E71 -> 452021660071 | D71: {=IF(COUNTIF(_xlfn.ANCHORARRAY($J$2),Tableau7[[#This Row],[Part Number]]),IFERROR(SUM(_xlfn._xlws.FILTER((N71:BJ71)-(M71:BI71),(N71:BJ71)-(M71:BI71)>0))/(L71-1),0),0)} -> 0 | E71: =_xlfn.IFS(Tableau7[[#This Row],[Nombres de jours moyens entre deux occurrences]]<=45,4,Tableau7[[#This Row],[Nombres de jours moyens entre deux occurrences]]<=90,3,Tableau7[[#This Row],[Nombres de jours moyens entre deux occurrences]]<=135,2,Tableau7[[#This Row],[Nombres de jours moyens entre deux occurrences]]>135,1) -> 4 | F71: 281003677071 | H71: 167151663071 | J71: 532212665071 | L71: 2 | M71: {=TRANSPOSE(_xlfn._xlws.FILTER(Total_scrap[Month],(Total_scrap[Part Number]=J71)))} -> 12/2020 | N71: 02/2021 | BK71: {=IFERROR(SUM(_xlfn._xlws.FILTER((N71:BJ71)-(M71:BI71),(N71:BJ71)-(M71:BI71)>0))/(L71-1),0)} -> 62
A72: ='total Scrap'!A72 -> 07/2020 | B72: ='total Scrap'!D72 -> 95963 | C72: ='total Scrap'!E72 -> 688052132071 | D72: {=IF(COUNTIF(_xlfn.ANCHORARRAY($J$2),Tableau7[[#This Row],[Part Number]]),IFERROR(SUM(_xlfn._xlws.FILTER((N72:BJ72)-(M72:BI72),(N72:BJ72)-(M72:BI72)>0))/(L72-1),0),0)} -> 0 | E72: =_xlfn.IFS(Tableau7[[#This Row],[Nombres de jours moyens entre deux occurrences]]<=45,4,Tableau7[[#This Row],[Nombres de jours moyens entre deux occurrences]]<=90,3,Tableau7[[#This Row],[Nombres de jours moyens entre deux occurrences]]<=135,2,Tableau7[[#This Row],[Nombres de jours moyens entre deux occurrences]]>135,1) -> 4 | F72: 56310F229071 | H72: 58723F318271 | J72: 56190F220071 | L72: 4 | M72: {=TRANSPOSE(_xlfn._xlws.FILTER(Total_scrap[Month],(Total_scrap[Part Number]=J72)))} -> 01/2021 | N72: 06/2021 | O72: 06/2021 | P72: 06/2021 | BK72: {=IFERROR(SUM(_xlfn._xlws.FILTER((N72:BJ72)-(M72:BI72),(N72:BJ72)-(M72:BI72)>0))/(L72-1),0)} -> 50.333333
A73: ='total Scrap'!A73 -> 07/2020 | B73: ='total Scrap'!D73 -> 96515 | C73: ='total Scrap'!E73 -> 96365F509871 | D73: {=IF(COUNTIF(_xlfn.ANCHORARRAY($J$2),Tableau7[[#This Row],[Part Number]]),IFERROR(SUM(_xlfn._xlws.FILTER((N73:BJ73)-(M73:BI73),(N73:BJ73)-(M73:BI73)>0))/(L73-1),0),0)} -> 30.2 | E73: =_xlfn.IFS(Tableau7[[#This Row],[Nombres de jours moyens entre deux occurrences]]<=45,4,Tableau7[[#This Row],[Nombres de jours moyens entre deux occurrences]]<=90,3,Tableau7[[#This Row],[Nombres de jours moyens entre deux occurrences]]<=135,2,Tableau7[[#This Row],[Nombres de jours moyens entre deux occurrences]]>135,1) -> 4 | F73: 96363F322571 | H73: 68147F218071 | J73: 461502661271 | L73: 6 | M73: {=TRANSPOSE(_xlfn._xlws.FILTER(Total_scrap[Month],(Total_scrap[Part Number]=J73)))} -> 01/2021 | N73: 03/2021 | O73: 03/2021 | P73: 04/2021 | Q73: 06/2021 | R73: 06/2021 | BK73: {=IFERROR(SUM(_xlfn._xlws.FILTER((N73:BJ73)-(M73:BI73),(N73:BJ73)-(M73:BI73)>0))/(L73-1),0)} -> 30.2
A74: ='total Scrap'!A74 -> 07/2020 | B74: ='total Scrap'!D74 -> 95622 | C74: ='total Scrap'!E74 -> 68131F225071 | D74: {=IF(COUNTIF(_xlfn.ANCHORARRAY($J$2),Tableau7[[#This Row],[Part Number]]),IFERROR(SUM(_xlfn._xlws.FILTER((N74:BJ74)-(M74:BI74),(N74:BJ74)-(M74:BI74)>0))/(L74-1),0),0)} -> 0 | E74: =_xlfn.IFS(Tableau7[[#This Row],[Nombres de jours moyens entre deux occurrences]]<=45,4,Tableau7[[#This Row],[Nombres de jours moyens entre deux occurrences]]<=90,3,Tableau7[[#This Row],[Nombres de jours moyens entre deux occurrences]]<=135,2,Tableau7[[#This Row],[Nombres de jours moyens entre deux occurrences]]>135,1) -> 4 | F74: 566532661371 | H74: 678811132171 | J74: 56031FPD2271 | L74: 2 | M74: {=TRANSPOSE(_xlfn._xlws.FILTER(Total_scrap[Month],(Total_scrap[Part Number]=J74)))} -> 01/2021 | N74: 05/2021 | BK74: {=IFERROR(SUM(_xlfn._xlws.FILTER((N74:BJ74)-(M74:BI74),(N74:BJ74)-(M74:BI74)>0))/(L74-1),0)} -> 120
A75: ='total Scrap'!A75 -> 07/2020 | B75: ='total Scrap'!D75 -> 93606 | C75: ='total Scrap'!E75 -> 1A18134 | D75: {=IF(COUNTIF(_xlfn.ANCHORARRAY($J$2),Tableau7[[#This Row],[Part Number]]),IFERROR(SUM(_xlfn._xlws.FILTER((N75:BJ75)-(M75:BI75),(N75:BJ75)-(M75:BI75)>0))/(L75-1),0),0)} -> 0 | E75: =_xlfn.IFS(Tableau7[[#This Row],[Nombres de jours moyens entre deux occurrences]]<=45,4,Tableau7[[#This Row],[Nombres de jours moyens entre deux occurrences]]<=90,3,Tableau7[[#This Row],[Nombres de jours moyens entre deux occurrences]]<=135,2,Tableau7[[#This Row],[Nombres de jours moyens entre deux occurrences]]>135,1) -> 4 | F75: 23342F231071 | H75: 566512660071 | J75: 574502663171 | L75: 2 | M75: {=TRANSPOSE(_xlfn._xlws.FILTER(Total_scrap[Month],(Total_scrap[Part Number]=J75)))} -> 02/2021 | N75: 03/2021 | BK75: {=IFERROR(SUM(_xlfn._xlws.FILTER((N75:BJ75)-(M75:BI75),(N75:BJ75)-(M75:BI75)>0))/(L75-1),0)} -> 28
A76: ='total Scrap'!A76 -> 07/2020 | B76: ='total Scrap'!D76 -> 96520 | C76: ='total Scrap'!E76 -> 452212660071 | D76: {=IF(COUNTIF(_xlfn.ANCHORARRAY($J$2),Tableau7[[#This Row],[Part Number]]),IFERROR(SUM(_xlfn._xlws.FILTER((N76:BJ76)-(M76:BI76),(N76:BJ76)-(M76:BI76)>0))/(L76-1),0),0)} -> 0 | E76: =_xlfn.IFS(Tableau7[[#This Row],[Nombres de jours moyens entre deux occurrences]]<=45,4,Tableau7[[#This Row],[Nombres de jours moyens entre deux occurrences]]<=90,3,Tableau7[[#This Row],[Nombres de jours moyens entre deux occurrences]]<=135,2,Tableau7[[#This Row],[Nombres de jours moyens entre deux occurrences]]>135,1) -> 4 | F76: 56110F218071 | H76: 537462665171 | J76: 281002665171 | L76: 2 | M76: {=TRANSPOSE(_xlfn._xlws.FILTER(Total_scrap[Month],(Total_scrap[Part Number]=J76)))} -> 03/2021 | N76: 03/2021 | BK76: {=IFERROR(SUM(_xlfn._xlws.FILTER((N76:BJ76)-(M76:BI76),(N76:BJ76)-(M76:BI76)>0))/(L76-1),0)} -> 0
A77: ='total Scrap'!A77 -> 07/2020 | B77: ='total Scrap'!D77 -> 95964 | C77: ='total Scrap'!E77 -> 56051F326071 | D77: {=IF(COUNTIF(_xlfn.ANCHORARRAY($J$2),Tableau7[[#This Row],[Part Number]]),IFERROR(SUM(_xlfn._xlws.FILTER((N77:BJ77)-(M77:BI77),(N77:BJ77)-(M77:BI77)>0))/(L77-1),0),0)} -> 0 | E77: =_xlfn.IFS(Tableau7[[#This Row],[Nombres de jours moyens entre deux occurrences]]<=45,4,Tableau7[[#This Row],[Nombres de jours moyens entre deux occurrences]]<=90,3,Tableau7[[#This Row],[Nombres de jours moyens entre deux occurrences]]<=135,2,Tableau7[[#This Row],[Nombres de jours moyens entre deux occurrences]]>135,1) -> 4 | F77: 25750FS2CK71 | H77: 90407F210771 | J77: 111802665171 | L77: 2 | M77: {=TRANSPOSE(_xlfn._xlws.FILTER(Total_scrap[Month],(Total_scrap[Part Number]=J77)))} -> 03/2021 | N77: 06/2021 | BK77: {=IFERROR(SUM(_xlfn._xlws.FILTER((N77:BJ77)-(M77:BI77),(N77:BJ77)-(M77:BI77)>0))/(L77-1),0)} -> 92
A78: ='total Scrap'!A78 -> 07/2020 | B78: ='total Scrap'!D78 -> 96528 | C78: ='total Scrap'!E78 -> 587202660071 | D78: {=IF(COUNTIF(_xlfn.ANCHORARRAY($J$2),Tableau7[[#This Row],[Part Number]]),IFERROR(SUM(_xlfn._xlws.FILTER((N78:BJ78)-(M78:BI78),(N78:BJ78)-(M78:BI78)>0))/(L78-1),0),0)} -> 0 | E78: =_xlfn.IFS(Tableau7[[#This Row],[Nombres de jours moyens entre deux occurrences]]<=45,4,Tableau7[[#This Row],[Nombres de jours moyens entre deux occurrences]]<=90,3,Tableau7[[#This Row],[Nombres de jours moyens entre deux occurrences]]<=135,2,Tableau7[[#This Row],[Nombres de jours moyens entre deux occurrences]]>135,1) -> 4 | F78: 235102661071 | H78: 38330F231271 | J78: 163612386071 | L78: 2 | M78: {=TRANSPOSE(_xlfn._xlws.FILTER(Total_scrap[Month],(Total_scrap[Part Number]=J78)))} -> 05/2021 | N78: 06/2021 | BK78: {=IFERROR(SUM(_xlfn._xlws.FILTER((N78:BJ78)-(M78:BI78),(N78:BJ78)-(M78:BI78)>0))/(L78-1),0)} -> 31
A79: ='total Scrap'!A79 -> 07/2020 | B79: ='total Scrap'!D79 -> 96519 | C79: ='total Scrap'!E79 -> 561051653171 | D79: {=IF(COUNTIF(_xlfn.ANCHORARRAY($J$2),Tableau7[[#This Row],[Part Number]]),IFERROR(SUM(_xlfn._xlws.FILTER((N79:BJ79)-(M79:BI79),(N79:BJ79)-(M79:BI79)>0))/(L79-1),0),0)} -> 0 | E79: =_xlfn.IFS(Tableau7[[#This Row],[Nombres de jours moyens entre deux occurrences]]<=45,4,Tableau7[[#This Row],[Nombres de jours moyens entre deux occurrences]]<=90,3,Tableau7[[#This Row],[Nombres de jours moyens entre deux occurrences]]<=135,2,Tableau7[[#This Row],[Nombres de jours moyens entre deux occurrences]]>135,1) -> 4 | F79: 235102661171 | H79: 17460UM010 | J79: 56680F218101 | L79: 2 | M79: {=TRANSPOSE(_xlfn._xlws.FILTER(Total_scrap[Month],(Total_scrap[Part Number]=J79)))} -> 06/2021 | N79: 06/2021 | BK79: {=IFERROR(SUM(_xlfn._xlws.FILTER((N79:BJ79)-(M79:BI79),(N79:BJ79)-(M79:BI79)>0))/(L79-1),0)} -> 0
A80: ='total Scrap'!A80 -> 08/2020 | B80: ='total Scrap'!D80 -> 96458 | C80: ='total Scrap'!E80 -> 44140F302071 | D80: {=IF(COUNTIF(_xlfn.ANCHORARRAY($J$2),Tableau7[[#This Row],[Part Number]]),IFERROR(SUM(_xlfn._xlws.FILTER((N80:BJ80)-(M80:BI80),(N80:BJ80)-(M80:BI80)>0))/(L80-1),0),0)} -> 0 | E80: =_xlfn.IFS(Tableau7[[#This Row],[Nombres de jours moyens entre deux occurrences]]<=45,4,Tableau7[[#This Row],[Nombres de jours moyens entre deux occurrences]]<=90,3,Tableau7[[#This Row],[Nombres de jours moyens entre deux occurrences]]<=135,2,Tableau7[[#This Row],[Nombres de jours moyens entre deux occurrences]]>135,1) -> 4 | F80: 16420F318071 | H80: 38746F231171 | M80: {=TRANSPOSE(_xlfn._xlws.FILTER(Total_scrap[Month],(Total_scrap[Part Number]=J80)))} -> #VALUE! | BK80: {=IFERROR(SUM(_xlfn._xlws.FILTER((N80:BJ80)-(M80:BI80),(N80:BJ80)-(M80:BI80)>0))/(L80-1),0)} -> 0
A81: ='total Scrap'!A81 -> 08/2020 | B81: ='total Scrap'!D81 -> 95781 | C81: ='total Scrap'!E81 -> 56210F219071 | D81: {=IF(COUNTIF(_xlfn.ANCHORARRAY($J$2),Tableau7[[#This Row],[Part Number]]),IFERROR(SUM(_xlfn._xlws.FILTER((N81:BJ81)-(M81:BI81),(N81:BJ81)-(M81:BI81)>0))/(L81-1),0),0)} -> 0 | E81: =_xlfn.IFS(Tableau7[[#This Row],[Nombres de jours moyens entre deux occurrences]]<=45,4,Tableau7[[#This Row],[Nombres de jours moyens entre deux occurrences]]<=90,3,Tableau7[[#This Row],[Nombres de jours moyens entre deux occurrences]]<=135,2,Tableau7[[#This Row],[Nombres de jours moyens entre deux occurrences]]>135,1) -> 4 | F81: 566512664071 | H81: 53233FPA2171 | M81: {=TRANSPOSE(_xlfn._xlws.FILTER(Total_scrap[Month],(Total_scrap[Part Number]=J81)))} -> #VALUE! | BK81: {=IFERROR(SUM(_xlfn._xlws.FILTER((N81:BJ81)-(M81:BI81),(N81:BJ81)-(M81:BI81)>0))/(L81-1),0)} -> 0
A82: ='total Scrap'!A82 -> 08/2020 | B82: ='total Scrap'!D82 -> 95782 | C82: ='total Scrap'!E82 -> 281003677071 | D82: {=IF(COUNTIF(_xlfn.ANCHORARRAY($J$2),Tableau7[[#This Row],[Part Number]]),IFERROR(SUM(_xlfn._xlws.FILTER((N82:BJ82)-(M82:BI82),(N82:BJ82)-(M82:BI82)>0))/(L82-1),0),0)} -> 0 | E82: =_xlfn.IFS(Tableau7[[#This Row],[Nombres de jours moyens entre deux occurrences]]<=45,4,Tableau7[[#This Row],[Nombres de jours moyens entre deux occurrences]]<=90,3,Tableau7[[#This Row],[Nombres de jours moyens entre deux occurrences]]<=135,2,Tableau7[[#This Row],[Nombres de jours moyens entre deux occurrences]]>135,1) -> 4 | F82: 518912675071 | H82: 17103F218071 | M82: {=TRANSPOSE(_xlfn._xlws.FILTER(Total_scrap[Month],(Total_scrap[Part Number]=J82)))} -> #VALUE! | BK82: {=IFERROR(SUM(_xlfn._xlws.FILTER((N82:BJ82)-(M82:BI82),(N82:BJ82)-(M82:BI82)>0))/(L82-1),0)} -> 0
A83: ='total Scrap'!A83 -> 08/2020 | B83: ='total Scrap'!D83 -> 96533 | C83: ='total Scrap'!E83 -> 56310F229071 | D83: {=IF(COUNTIF(_xlfn.ANCHORARRAY($J$2),Tableau7[[#This Row],[Part Number]]),IFERROR(SUM(_xlfn._xlws.FILTER((N83:BJ83)-(M83:BI83),(N83:BJ83)-(M83:BI83)>0))/(L83-1),0),0)} -> 0 | E83: =_xlfn.IFS(Tableau7[[#This Row],[Nombres de jours moyens entre deux occurrences]]<=45,4,Tableau7[[#This Row],[Nombres de jours moyens entre deux occurrences]]<=90,3,Tableau7[[#This Row],[Nombres de jours moyens entre deux occurrences]]<=135,2,Tableau7[[#This Row],[Nombres de jours moyens entre deux occurrences]]>135,1) -> 4 | F83: 23349F231071 | H83: 53220F218071 | M83: {=TRANSPOSE(_xlfn._xlws.FILTER(Total_scrap[Month],(Total_scrap[Part Number]=J83)))} -> #VALUE! | BK83: {=IFERROR(SUM(_xlfn._xlws.FILTER((N83:BJ83)-(M83:BI83),(N83:BJ83)-(M83:BI83)>0))/(L83-1),0)} -> 0
A84: ='total Scrap'!A84 -> 08/2020 | B84: ='total Scrap'!D84 -> 95298 | C84: ='total Scrap'!E84 -> 96363F322571 | D84: {=IF(COUNTIF(_xlfn.ANCHORARRAY($J$2),Tableau7[[#This Row],[Part Number]]),IFERROR(SUM(_xlfn._xlws.FILTER((N84:BJ84)-(M84:BI84),(N84:BJ84)-(M84:BI84)>0))/(L84-1),0),0)} -> 0 | E84: =_xlfn.IFS(Tableau7[[#This Row],[Nombres de jours moyens entre deux occurrences]]<=45,4,Tableau7[[#This Row],[Nombres de jours moyens entre deux occurrences]]<=90,3,Tableau7[[#This Row],[Nombres de jours moyens entre deux occurrences]]<=135,2,Tableau7[[#This Row],[Nombres de jours moyens entre deux occurrences]]>135,1) -> 4 | F84: 18450UM020 | H84: 58508F318071 | M84: {=TRANSPOSE(_xlfn._xlws.FILTER(Total_scrap[Month],(Total_scrap[Part Number]=J84)))} -> #VALUE! | BK84: {=IFERROR(SUM(_xlfn._xlws.FILTER((N84:BJ84)-(M84:BI84),(N84:BJ84)-(M84:BI84)>0))/(L84-1),0)} -> 0
A85: ='total Scrap'!A85 -> 08/2020 | B85: ='total Scrap'!D85 -> 95636 | C85: ='total Scrap'!E85 -> 566532661371 | D85: {=IF(COUNTIF(_xlfn.ANCHORARRAY($J$2),Tableau7[[#This Row],[Part Number]]),IFERROR(SUM(_xlfn._xlws.FILTER((N85:BJ85)-(M85:BI85),(N85:BJ85)-(M85:BI85)>0))/(L85-1),0),0)} -> 0 | E85: =_xlfn.IFS(Tableau7[[#This Row],[Nombres de jours moyens entre deux occurrences]]<=45,4,Tableau7[[#This Row],[Nombres de jours moyens entre deux occurrences]]<=90,3,Tableau7[[#This Row],[Nombres de jours moyens entre deux occurrences]]<=135,2,Tableau7[[#This Row],[Nombres de jours moyens entre deux occurrences]]>135,1) -> 4 | F85: 23702FP24271 | H85: 678202664171 | M85: {=TRANSPOSE(_xlfn._xlws.FILTER(Total_scrap[Month],(Total_scrap[Part Number]=J85)))} -> #VALUE! | BK85: {=IFERROR(SUM(_xlfn._xlws.FILTER((N85:BJ85)-(M85:BI85),(N85:BJ85)-(M85:BI85)>0))/(L85-1),0)} -> 0
A86: ='total Scrap'!A86 -> 08/2020 | B86: ='total Scrap'!D86 -> 96536 | C86: ='total Scrap'!E86 -> 566532661371 | D86: {=IF(COUNTIF(_xlfn.ANCHORARRAY($J$2),Tableau7[[#This Row],[Part Number]]),IFERROR(SUM(_xlfn._xlws.FILTER((N86:BJ86)-(M86:BI86),(N86:BJ86)-(M86:BI86)>0))/(L86-1),0),0)} -> 0 | E86: =_xlfn.IFS(Tableau7[[#This Row],[Nombres de jours moyens entre deux occurrences]]<=45,4,Tableau7[[#This Row],[Nombres de jours moyens entre deux occurrences]]<=90,3,Tableau7[[#This Row],[Nombres de jours moyens entre deux occurrences]]<=135,2,Tableau7[[#This Row],[Nombres de jours moyens entre deux occurrences]]>135,1) -> 4 | F86: 56013F231071 | H86: 566302660171 | M86: {=TRANSPOSE(_xlfn._xlws.FILTER(Total_scrap[Month],(Total_scrap[Part Number]=J86)))} -> #VALUE! | BK86: {=IFERROR(SUM(_xlfn._xlws.FILTER((N86:BJ86)-(M86:BI86),(N86:BJ86)-(M86:BI86)>0))/(L86-1),0)} -> 0
A87: ='total Scrap'!A87 -> 08/2020 | B87: ='total Scrap'!D87 -> 96535 | C87: ='total Scrap'!E87 -> 23342F231071 | D87: {=IF(COUNTIF(_xlfn.ANCHORARRAY($J$2),Tableau7[[#This Row],[Part Number]]),IFERROR(SUM(_xlfn._xlws.FILTER((N87:BJ87)-(M87:BI87),(N87:BJ87)-(M87:BI87)>0))/(L87-1),0),0)} -> 0 | E87: =_xlfn.IFS(Tableau7[[#This Row],[Nombres de jours moyens entre deux occurrences]]<=45,4,Tableau7[[#This Row],[Nombres de jours moyens entre deux occurrences]]<=90,3,Tableau7[[#This Row],[Nombres de jours moyens entre deux occurrences]]<=135,2,Tableau7[[#This Row],[Nombres de jours moyens entre deux occurrences]]>135,1) -> 4 | F87: 56011F231071 | H87: 45672F331071 | M87: {=TRANSPOSE(_xlfn._xlws.FILTER(Total_scrap[Month],(Total_scrap[Part Number]=J87)))} -> #VALUE! | BK87: {=IFERROR(SUM(_xlfn._xlws.FILTER((N87:BJ87)-(M87:BI87),(N87:BJ87)-(M87:BI87)>0))/(L87-1),0)} -> 0
A88: ='total Scrap'!A88 -> 09/2020 | B88: ='total Scrap'!D88 -> 95635 | C88: ='total Scrap'!E88 -> 56110F218071 | D88: {=IF(COUNTIF(_xlfn.ANCHORARRAY($J$2),Tableau7[[#This Row],[Part Number]]),IFERROR(SUM(_xlfn._xlws.FILTER((N88:BJ88)-(M88:BI88),(N88:BJ88)-(M88:BI88)>0))/(L88-1),0),0)} -> 0 | E88: =_xlfn.IFS(Tableau7[[#This Row],[Nombres de jours moyens entre deux occurrences]]<=45,4,Tableau7[[#This Row],[Nombres de jours moyens entre deux occurrences]]<=90,3,Tableau7[[#This Row],[Nombres de jours moyens entre deux occurrences]]<=135,2,Tableau7[[#This Row],[Nombres de jours moyens entre deux occurrences]]>135,1) -> 4 | F88: 56315FSASD71 | H88: 1A28085 | M88: {=TRANSPOSE(_xlfn._xlws.FILTER(Total_scrap[Month],(Total_scrap[Part Number]=J88)))} -> #VALUE! | BK88: {=IFERROR(SUM(_xlfn._xlws.FILTER((N88:BJ88)-(M88:BI88),(N88:BJ88)-(M88:BI88)>0))/(L88-1),0)} -> 0
A89: ='total Scrap'!A89 -> 09/2020 | B89: ='total Scrap'!D89 -> 95068 | C89: ='total Scrap'!E89 -> 25750FS2CK71 | D89: {=IF(COUNTIF(_xlfn.ANCHORARRAY($J$2),Tableau7[[#This Row],[Part Number]]),IFERROR(SUM(_xlfn._xlws.FILTER((N89:BJ89)-(M89:BI89),(N89:BJ89)-(M89:BI89)>0))/(L89-1),0),0)} -> 0 | E89: =_xlfn.IFS(Tableau7[[#This Row],[Nombres de jours moyens entre deux occurrences]]<=45,4,Tableau7[[#This Row],[Nombres de jours moyens entre deux occurrences]]<=90,3,Tableau7[[#This Row],[Nombres de jours moyens entre deux occurrences]]<=135,2,Tableau7[[#This Row],[Nombres de jours moyens entre deux occurrences]]>135,1) -> 4 | F89: 175202662071 | H89: 288013665071 | M89: {=TRANSPOSE(_xlfn._xlws.FILTER(Total_scrap[Month],(Total_scrap[Part Number]=J89)))} -> #VALUE! | BK89: {=IFERROR(SUM(_xlfn._xlws.FILTER((N89:BJ89)-(M89:BI89),(N89:BJ89)-(M89:BI89)>0))/(L89-1),0)} -> 0
A90: ='total Scrap'!A90 -> 09/2020 | B90: ='total Scrap'!D90 -> 95160 | C90: ='total Scrap'!E90 -> 55213F218171 | D90: {=IF(COUNTIF(_xlfn.ANCHORARRAY($J$2),Tableau7[[#This Row],[Part Number]]),IFERROR(SUM(_xlfn._xlws.FILTER((N90:BJ90)-(M90:BI90),(N90:BJ90)-(M90:BI90)>0))/(L90-1),0),0)} -> 0 | E90: =_xlfn.IFS(Tableau7[[#This Row],[Nombres de jours moyens entre deux occurrences]]<=45,4,Tableau7[[#This Row],[Nombres de jours moyens entre deux occurrences]]<=90,3,Tableau7[[#This Row],[Nombres de jours moyens entre deux occurrences]]<=135,2,Tableau7[[#This Row],[Nombres de jours moyens entre deux occurrences]]>135,1) -> 4 | F90: 56210F225071 | H90: 563063665071 | M90: {=TRANSPOSE(_xlfn._xlws.FILTER(Total_scrap[Month],(Total_scrap[Part Number]=J90)))} -> #VALUE! | BK90: {=IFERROR(SUM(_xlfn._xlws.FILTER((N90:BJ90)-(M90:BI90),(N90:BJ90)-(M90:BI90)>0))/(L90-1),0)} -> 0
A91: ='total Scrap'!A91 -> 09/2020 | B91: ='total Scrap'!D91 -> 96539 | C91: ='total Scrap'!E91 -> 235102661071 | D91: {=IF(COUNTIF(_xlfn.ANCHORARRAY($J$2),Tableau7[[#This Row],[Part Number]]),IFERROR(SUM(_xlfn._xlws.FILTER((N91:BJ91)-(M91:BI91),(N91:BJ91)-(M91:BI91)>0))/(L91-1),0),0)} -> 0 | E91: =_xlfn.IFS(Tableau7[[#This Row],[Nombres de jours moyens entre deux occurrences]]<=45,4,Tableau7[[#This Row],[Nombres de jours moyens entre deux occurrences]]<=90,3,Tableau7[[#This Row],[Nombres de jours moyens entre deux occurrences]]<=135,2,Tableau7[[#This Row],[Nombres de jours moyens entre deux occurrences]]>135,1) -> 4 | F91: 56231F231071 | H91: 56606F218171 | M91: {=TRANSPOSE(_xlfn._xlws.FILTER(Total_scrap[Month],(Total_scrap[Part Number]=J91)))} -> #VALUE! | BK91: {=IFERROR(SUM(_xlfn._xlws.FILTER((N91:BJ91)-(M91:BI91),(N91:BJ91)-(M91:BI91)>0))/(L91-1),0)} -> 0
... A160: ='total Scrap'!A160 -> 10/2020 | B160: ='total Scrap'!D160 -> 96705 | C160: ='total Scrap'!E160 -> 68147F218071 | D160: {=IF(COUNTIF(_xlfn.ANCHORARRAY($J$2),Tableau7[[#This Row],[Part Number]]),IFERROR(SUM(_xlfn._xlws.FILTER((N160:BJ160)-(M160:BI160),(N160:BJ160)-(M160:BI160)>0))/(L160-1),0),0)} -> 0 | E160: =_xlfn.IFS(Tableau7[[#This Row],[Nombres de jours moyens entre deux occurrences]]<=45,4,Tableau7[[#This Row],[Nombres de jours moyens entre deux occurrences]]<=90,3,Tableau7[[#This Row],[Nombres de jours moyens entre deux occurrences]]<=135,2,Tableau7[[#This Row],[Nombres de jours moyens entre deux occurrences]]>135,1) -> 4 | F160: 236202660171 | H160: 904071303071 | M160: {=TRANSPOSE(_xlfn._xlws.FILTER(Total_scrap[Month],(Total_scrap[Part Number]=J160)))} -> #VALUE! | BK160: {=IFERROR(SUM(_xlfn._xlws.FILTER((N160:BJ160)-(M160:BI160),(N160:BJ160)-(M160:BI160)>0))/(L160-1),0)} -> 0
A161: ='total Scrap'!A161 -> 10/2020 | B161: ='total Scrap'!D161 -> 95724 | C161: ='total Scrap'!E161 -> 566532660371 | D161: {=IF(COUNTIF(_xlfn.ANCHORARRAY($J$2),Tableau7[[#This Row],[Part Number]]),IFERROR(SUM(_xlfn._xlws.FILTER((N161:BJ161)-(M161:BI161),(N161:BJ161)-(M161:BI161)>0))/(L161-1),0),0)} -> 0 | E161: =_xlfn.IFS(Tableau7[[#This Row],[Nombres de jours moyens entre deux occurrences]]<=45,4,Tableau7[[#This Row],[Nombres de jours moyens entre deux occurrences]]<=90,3,Tableau7[[#This Row],[Nombres de jours moyens entre deux occurrences]]<=135,2,Tableau7[[#This Row],[Nombres de jours moyens entre deux occurrences]]>135,1) -> 4 | F161: 571102662171 | H161: 56023F218071 | BK161: {=IFERROR(SUM(_xlfn._xlws.FILTER((N161:BJ161)-(M161:BI161),(N161:BJ161)-(M161:BI161)>0))/(L161-1),0)} -> 0
A162: ='total Scrap'!A162 -> 10/2020 | B162: ='total Scrap'!D162 -> 96542 | C162: ='total Scrap'!E162 -> 678811132171 | D162: {=IF(COUNTIF(_xlfn.ANCHORARRAY($J$2),Tableau7[[#This Row],[Part Number]]),IFERROR(SUM(_xlfn._xlws.FILTER((N162:BJ162)-(M162:BI162),(N162:BJ162)-(M162:BI162)>0))/(L162-1),0),0)} -> 0 | E162: =_xlfn.IFS(Tableau7[[#This Row],[Nombres de jours moyens entre deux occurrences]]<=45,4,Tableau7[[#This Row],[Nombres de jours moyens entre deux occurrences]]<=90,3,Tableau7[[#This Row],[Nombres de jours moyens entre deux occurrences]]<=135,2,Tableau7[[#This Row],[Nombres de jours moyens entre deux occurrences]]>135,1) -> 4 | F162: 111203660171 | H162: 56190F127071 | BK162: {=IFERROR(SUM(_xlfn._xlws.FILTER((N162:BJ162)-(M162:BI162),(N162:BJ162)-(M162:BI162)>0))/(L162-1),0)} -> 0
A163: ='total Scrap'!A163 -> 10/2020 | B163: ='total Scrap'!D163 -> 95723 | C163: ='total Scrap'!E163 -> 566512660071 | D163: {=IF(COUNTIF(_xlfn.ANCHORARRAY($J$2),Tableau7[[#This Row],[Part Number]]),IFERROR(SUM(_xlfn._xlws.FILTER((N163:BJ163)-(M163:BI163),(N163:BJ163)-(M163:BI163)>0))/(L163-1),0),0)} -> 0 | E163: =_xlfn.IFS(Tableau7[[#This Row],[Nombres de jours moyens entre deux occurrences]]<=45,4,Tableau7[[#This Row],[Nombres de jours moyens entre deux occurrences]]<=90,3,Tableau7[[#This Row],[Nombres de jours moyens entre deux occurrences]]<=135,2,Tableau7[[#This Row],[Nombres de jours moyens entre deux occurrences]]>135,1) -> 4 | F163: 266022660271 | H163: 38120F332171 | BK163: {=IFERROR(SUM(_xlfn._xlws.FILTER((N163:BJ163)-(M163:BI163),(N163:BJ163)-(M163:BI163)>0))/(L163-1),0)} -> 0
A164: ='total Scrap'!A164 -> 10/2020 | B164: ='total Scrap'!D164 -> 95722 | C164: ='total Scrap'!E164 -> 537462665171 | D164: {=IF(COUNTIF(_xlfn.ANCHORARRAY($J$2),Tableau7[[#This Row],[Part Number]]),IFERROR(SUM(_xlfn._xlws.FILTER((N164:BJ164)-(M164:BI164),(N164:BJ164)-(M164:BI164)>0))/(L164-1),0),0)} -> 0 | E164: =_xlfn.IFS(Tableau7[[#This Row],[Nombres de jours moyens entre deux occurrences]]<=45,4,Tableau7[[#This Row],[Nombres de jours moyens entre deux occurrences]]<=90,3,Tableau7[[#This Row],[Nombres de jours moyens entre deux occurrences]]<=135,2,Tableau7[[#This Row],[Nombres de jours moyens entre deux occurrences]]>135,1) -> 4 | F164: 111802665071 | H164: 55545F318171 | BK164: {=IFERROR(SUM(_xlfn._xlws.FILTER((N164:BJ164)-(M164:BI164),(N164:BJ164)-(M164:BI164)>0))/(L164-1),0)} -> 0
A165: ='total Scrap'!A165 -> 11/2020 | B165: ='total Scrap'!D165 -> 97558 | C165: ='total Scrap'!E165 -> 90407F210771 | D165: {=IF(COUNTIF(_xlfn.ANCHORARRAY($J$2),Tableau7[[#This Row],[Part Number]]),IFERROR(SUM(_xlfn._xlws.FILTER((N165:BJ165)-(M165:BI165),(N165:BJ165)-(M165:BI165)>0))/(L165-1),0),0)} -> 0 | E165: =_xlfn.IFS(Tableau7[[#This Row],[Nombres de jours moyens entre deux occurrences]]<=45,4,Tableau7[[#This Row],[Nombres de jours moyens entre deux occurrences]]<=90,3,Tableau7[[#This Row],[Nombres de jours moyens entre deux occurrences]]<=135,2,Tableau7[[#This Row],[Nombres de jours moyens entre deux occurrences]]>135,1) -> 4 | F165: 53724F222071 | H165: 28820F221071 | BK165: {=IFERROR(SUM(_xlfn._xlws.FILTER((N165:BJ165)-(M165:BI165),(N165:BJ165)-(M165:BI165)>0))/(L165-1),0)} -> 0
A166: ='total Scrap'!A166 -> 11/2020 | B166: ='total Scrap'!D166 -> 95661 | C166: ='total Scrap'!E166 -> 38330F231271 | D166: {=IF(COUNTIF(_xlfn.ANCHORARRAY($J$2),Tableau7[[#This Row],[Part Number]]),IFERROR(SUM(_xlfn._xlws.FILTER((N166:BJ166)-(M166:BI166),(N166:BJ166)-(M166:BI166)>0))/(L166-1),0),0)} -> 0 | E166: =_xlfn.IFS(Tableau7[[#This Row],[Nombres de jours moyens entre deux occurrences]]<=45,4,Tableau7[[#This Row],[Nombres de jours moyens entre deux occurrences]]<=90,3,Tableau7[[#This Row],[Nombres de jours moyens entre deux occurrences]]<=135,2,Tableau7[[#This Row],[Nombres de jours moyens entre deux occurrences]]>135,1) -> 4 | F166: 532212665071 | H166: 56310F319071 | BK166: {=IFERROR(SUM(_xlfn._xlws.FILTER((N166:BJ166)-(M166:BI166),(N166:BJ166)-(M166:BI166)>0))/(L166-1),0)} -> 0
A167: ='total Scrap'!A167 -> 11/2020 | B167: ='total Scrap'!D167 -> 96924 | C167: ='total Scrap'!E167 -> 18450UM020 | D167: {=IF(COUNTIF(_xlfn.ANCHORARRAY($J$2),Tableau7[[#This Row],[Part Number]]),IFERROR(SUM(_xlfn._xlws.FILTER((N167:BJ167)-(M167:BI167),(N167:BJ167)-(M167:BI167)>0))/(L167-1),0),0)} -> 0 | E167: =_xlfn.IFS(Tableau7[[#This Row],[Nombres de jours moyens entre deux occurrences]]<=45,4,Tableau7[[#This Row],[Nombres de jours moyens entre deux occurrences]]<=90,3,Tableau7[[#This Row],[Nombres de jours moyens entre deux occurrences]]<=135,2,Tableau7[[#This Row],[Nombres de jours moyens entre deux occurrences]]>135,1) -> 4 | F167: 96363F330071 | H167: 177502665071 | BK167: {=IFERROR(SUM(_xlfn._xlws.FILTER((N167:BJ167)-(M167:BI167),(N167:BJ167)-(M167:BI167)>0))/(L167-1),0)} -> 0
A168: ='total Scrap'!A168 -> 11/2020 | B168: ='total Scrap'!D168 -> 95985 | C168: ='total Scrap'!E168 -> 17460UM010 | D168: {=IF(COUNTIF(_xlfn.ANCHORARRAY($J$2),Tableau7[[#This Row],[Part Number]]),IFERROR(SUM(_xlfn._xlws.FILTER((N168:BJ168)-(M168:BI168),(N168:BJ168)-(M168:BI168)>0))/(L168-1),0),0)} -> 0 | E168: =_xlfn.IFS(Tableau7[[#This Row],[Nombres de jours moyens entre deux occurrences]]<=45,4,Tableau7[[#This Row],[Nombres de jours moyens entre deux occurrences]]<=90,3,Tableau7[[#This Row],[Nombres de jours moyens entre deux occurrences]]<=135,2,Tableau7[[#This Row],[Nombres de jours moyens entre deux occurrences]]>135,1) -> 4 | F168: 68161F225071 | H168: 56052F322071 | BK168: {=IFERROR(SUM(_xlfn._xlws.FILTER((N168:BJ168)-(M168:BI168),(N168:BJ168)-(M168:BI168)>0))/(L168-1),0)} -> 0
...

Sheet SYNTHESE
A1: Month | B1: Team Leader | C1: Name | D1: FNC / SMR | E1: Part Number | F1: Part Name | G1: Qty | H1: Part cost € | I1: Handling cost € | J1: TOTAL Amount € | K1: Comments | L1: facteur récurrence | M1: CRITICITE | N1: Criticité | O1: Date prise de contre-mesure | P1: contre-mesures prises | Q1: Date 6 mois après contre-mesures | T1: =TODAY() -> 44397
A2: ='total Scrap'!A2 -> 04/2020 | B2: ='total Scrap'!B2 -> 72999 | C2: ='total Scrap'!C2 -> B. Metreau | D2: ='total Scrap'!D2 -> 95402 | E2: ='total Scrap'!E2 -> 57110F118271 | F2: ='total Scrap'!F2 -> METER ASSY, COMBINATION | G2: ='total Scrap'!G2 -> 1 | H2: ='total Scrap'!H2 -> 34.575077 | ... K2: ='total Scrap'!K2 -> PIÈCE TOMBÉE LORS DU MONTAGE SUR CHAINE (PIECE CASSÉE) | L2: =Tableau7[[#This Row],[facteur associé]] -> 4 | M2: =Tableau6[[#This Row],[facteur récurrence]] -> 4 | N2: =_xlfn.IFS(M2>32,"CRITIQUE",M2<=8,"RAS",M2<=16,"ATTENTION",M2<=32,"DANGER") -> RAS | Q2: =O2+6*30+3 -> 183
A3: ='total Scrap'!A3 -> 04/2020 | B3: ='total Scrap'!B3 -> 72007 | C3: ='total Scrap'!C3 -> JP Dupas | D3: ='total Scrap'!D3 -> 95403 | E3: ='total Scrap'!E3 -> 57413F231071 | F3: ='total Scrap'!F3 -> BOX ASSY, KEYPAD, LOG-ON | G3: ='total Scrap'!G3 -> 1 | H3: ='total Scrap'!H3 -> 38.46 | ... K3: ='total Scrap'!K3 -> MQ PIÈCE POUR VISSER LE DIJICODE (DÉMONTÉ PAR LA DES) | L3: =Tableau7[[#This Row],[facteur associé]] -> 1 | M3: =Tableau6[[#This Row],[facteur récurrence]] -> 1 | N3: =_xlfn.IFS(M3>32,"CRITIQUE",M3<=8,"RAS",M3<=16,"ATTENTION",M3<=32,"DANGER") -> RAS | Q3: =O3+6*30+3 -> 183
A4: ='total Scrap'!A4 -> 04/2020 | B4: ='total Scrap'!B4 -> 72999 | C4: ='total Scrap'!C4 -> B. Metreau | D4: ='total Scrap'!D4 -> 95504 | E4: ='total Scrap'!E4 -> 56232F231171 | F4: ='total Scrap'!F4 -> WIRE | G4: ='total Scrap'!G4 -> 1 | H4: ='total Scrap'!H4 -> 10.93 | ... K4: ='total Scrap'!K4 -> PRISE ARRACHÉE DÉFAUT NOTÉ SUR LA CHECKLIST ASSEMBLAGE | L4: =Tableau7[[#This Row],[facteur associé]] -> 4 | M4: =Tableau6[[#This Row],[facteur récurrence]] -> 4 | N4: =_xlfn.IFS(M4>32,"CRITIQUE",M4<=8,"RAS",M4<=16,"ATTENTION",M4<=32,"DANGER") -> RAS | Q4: =O4+6*30+3 -> 183
A5: ='total Scrap'!A5 -> 05/2020 | B5: ='total Scrap'!B5 -> 72007 | C5: ='total Scrap'!C5 -> JP Dupas | D5: ='total Scrap'!D5 -> 95054 | E5: ='total Scrap'!E5 -> 52212FS2LC71 | F5: ='total Scrap'!F5 -> CARPET BOX AIR COOLER | G5: ='total Scrap'!G5 -> 1 | H5: ='total Scrap'!H5 -> 138 | ... K5: ='total Scrap'!K5 -> HABILLAGE ABIMÉ EN ACTIONNANT LE SIÈGE | L5: =Tableau7[[#This Row],[facteur associé]] -> 4 | M5: =Tableau6[[#This Row],[facteur récurrence]] -> 4 | N5: =_xlfn.IFS(M5>32,"CRITIQUE",M5<=8,"RAS",M5<=16,"ATTENTION",M5<=32,"DANGER") -> RAS | Q5: =O5+6*30+3 -> 183
A6: ='total Scrap'!A6 -> 05/2020 | B6: ='total Scrap'!B6 -> 72999 | C6: ='total Scrap'!C6 -> B. Metreau | D6: ='total Scrap'!D6 -> 95703 | E6: ='total Scrap'!E6 -> 56031F222671 | F6: ='total Scrap'!F6 -> WIRE, SIDE LH | G6: ='total Scrap'!G6 -> 2 | H6: ='total Scrap'!H6 -> 67.92 | ... K6: ='total Scrap'!K6 -> PRISE BLANCHE ALIM MINI-LEVER HS | L6: =Tableau7[[#This Row],[facteur associé]] -> 4 | M6: =Tableau6[[#This Row],[facteur récurrence]] -> 4 | N6: =_xlfn.IFS(M6>32,"CRITIQUE",M6<=8,"RAS",M6<=16,"ATTENTION",M6<=32,"DANGER") -> RAS | Q6: =O6+6*30+3 -> 183
A7: ='total Scrap'!A7 -> 05/2020 | B7: ='total Scrap'!B7 -> 73082 | C7: ='total Scrap'!C7 -> C. Poli Marchetti | D7: ='total Scrap'!D7 -> 95709 | E7: ='total Scrap'!E7 -> 56062F221271 | F7: ='total Scrap'!F7 -> WIRE, HOOD SUB NO.1 | G7: ='total Scrap'!G7 -> 1 | H7: ='total Scrap'!H7 -> 46.85 | ... K7: ='total Scrap'!K7 -> CONNECTEUR ALIM DU SIÈGE HS | L7: =Tableau7[[#This Row],[facteur associé]] -> 4 | M7: =Tableau6[[#This Row],[facteur récurrence]] -> 4 | N7: =_xlfn.IFS(M7>32,"CRITIQUE",M7<=8,"RAS",M7<=16,"ATTENTION",M7<=32,"DANGER") -> RAS | Q7: =O7+6*30+3 -> 183
A8: ='total Scrap'!A8 -> 05/2020 | B8: ='total Scrap'!B8 -> 72062 | C8: ='total Scrap'!C8 -> P. Sauvaget | D8: ='total Scrap'!D8 -> 95708 | E8: ='total Scrap'!E8 -> 56021F219471 | F8: ='total Scrap'!F8 -> WIRE, ENGINE | G8: ='total Scrap'!G8 -> 1 | H8: ='total Scrap'!H8 -> 46.77 | ... K8: ='total Scrap'!K8 -> SUPPORT FUSIBLES HS | L8: =Tableau7[[#This Row],[facteur associé]] -> 4 | M8: =Tableau6[[#This Row],[facteur récurrence]] -> 4 | N8: =_xlfn.IFS(M8>32,"CRITIQUE",M8<=8,"RAS",M8<=16,"ATTENTION",M8<=32,"DANGER") -> RAS | Q8: =O8+6*30+3 -> 183
A9: ='total Scrap'!A9 -> 05/2020 | B9: ='total Scrap'!B9 -> 72062 | C9: ='total Scrap'!C9 -> P. Sauvaget | D9: ='total Scrap'!D9 -> 95707 | E9: ='total Scrap'!E9 -> 56021F220271 | F9: ='total Scrap'!F9 -> WIRE, ENGINE | G9: ='total Scrap'!G9 -> 1 | H9: ='total Scrap'!H9 -> 24.82 | ... K9: ='total Scrap'!K9 -> VIS DE FIXATION FAISCEAU SUR FUSIBLE HS | L9: =Tableau7[[#This Row],[facteur associé]] -> 4 | M9: =Tableau6[[#This Row],[facteur récurrence]] -> 4 | N9: =_xlfn.IFS(M9>32,"CRITIQUE",M9<=8,"RAS",M9<=16,"ATTENTION",M9<=32,"DANGER") -> RAS | Q9: =O9+6*30+3 -> 183
A10: ='total Scrap'!A10 -> 05/2020 | B10: ='total Scrap'!B10 -> 73082 | C10: ='total Scrap'!C10 -> C. Poli Marchetti | D10: ='total Scrap'!D10 -> 95763 | E10: ='total Scrap'!E10 -> 55537F318471 | F10: ='total Scrap'!F10 -> COVER, INNER, DOOR, RH, UPR | G10: ='total Scrap'!G10 -> 1 | H10: ='total Scrap'!H10 -> 13.87 | ... K10: ='total Scrap'!K10 -> CAPITONNAGE COUPÉ | L10: =Tableau7[[#This Row],[facteur associé]] -> 2 | M10: =Tableau6[[#This Row],[facteur récurrence]] -> 2 | N10: =_xlfn.IFS(M10>32,"CRITIQUE",M10<=8,"RAS",M10<=16,"ATTENTION",M10<=32,"DANGER") -> RAS | Q10: =O10+6*30+3 -> 183
A11: ='total Scrap'!A11 -> 05/2020 | B11: ='total Scrap'!B11 -> 72999 | C11: ='total Scrap'!C11 -> B. Metreau | D11: ='total Scrap'!D11 -> 95705 | E11: ='total Scrap'!E11 -> 56062FSU1U71 | F11: ='total Scrap'!F11 -> WIRE HOOD (56062-F2212-71) | G11: ='total Scrap'!G11 -> 1 | H11: ='total Scrap'!H11 -> 13.5 | ... K11: ='total Scrap'!K11 -> FIL COUPÉ SUR CHAINE | L11: =Tableau7[[#This Row],[facteur associé]] -> 4 | M11: =Tableau6[[#This Row],[facteur récurrence]] -> 4 | N11: =_xlfn.IFS(M11>32,"CRITIQUE",M11<=8,"RAS",M11<=16,"ATTENTION",M11<=32,"DANGER") -> RAS | Q11: =O11+6*30+3 -> 183
A12: ='total Scrap'!A12 -> 06/2020 | B12: ='total Scrap'!B12 -> 72999 | C12: ='total Scrap'!C12 -> B. Metreau | D12: ='total Scrap'!D12 -> 95952 | E12: ='total Scrap'!E12 -> 175702660371 | F12: ='total Scrap'!F12 -> MUFFLER ASSY, CATALYTIC | G12: ='total Scrap'!G12 -> 1 | H12: ='total Scrap'!H12 -> 179.91 | ... K12: ='total Scrap'!K12 -> FILETAGE HS LORS DU SERRAGE 078 225897 | L12: =Tableau7[[#This Row],[facteur associé]] -> 4 | M12: =Tableau6[[#This Row],[facteur récurrence]] -> 4 | N12: =_xlfn.IFS(M12>32,"CRITIQUE",M12<=8,"RAS",M12<=16,"ATTENTION",M12<=32,"DANGER") -> RAS | Q12: =O12+6*30+3 -> 183
A13: ='total Scrap'!A13 -> 06/2020 | B13: ='total Scrap'!B13 -> 73082 | C13: ='total Scrap'!C13 -> C. Poli Marchetti | D13: ='total Scrap'!D13 -> 95619 | E13: ='total Scrap'!E13 -> 16420F221171 | F13: ='total Scrap'!F13 -> RADIATOR ASSY | G13: ='total Scrap'!G13 -> 1 | H13: ='total Scrap'!H13 -> 71.35 | ... K13: ='total Scrap'!K13 -> COUPS SUR RADIATEUR | L13: =Tableau7[[#This Row],[facteur associé]] -> 4 | M13: =Tableau6[[#This Row],[facteur récurrence]] -> 4 | N13: =_xlfn.IFS(M13>32,"CRITIQUE",M13<=8,"RAS",M13<=16,"ATTENTION",M13<=32,"DANGER") -> RAS | Q13: =O13+6*30+3 -> 183
... A47: ='total Scrap'!A47 -> 07/2020 | B47: ='total Scrap'!B47 -> 73082 | C47: ='total Scrap'!C47 -> C. Poli Marchetti | D47: ='total Scrap'!D47 -> 96518 | E47: ='total Scrap'!E47 -> 56031FPD2071 | F47: ='total Scrap'!F47 -> WIRE, INTERFACE | G47: ='total Scrap'!G47 -> 1 | H47: ='total Scrap'!H47 -> 33.23 | ... K47: ='total Scrap'!K47 -> PRISE CASSÉE | L47: =Tableau7[[#This Row],[facteur associé]] -> 4 | M47: =Tableau6[[#This Row],[facteur récurrence]] -> 4 | N47: =_xlfn.IFS(M47>32,"CRITIQUE",M47<=8,"RAS",M47<=16,"ATTENTION",M47<=32,"DANGER") -> RAS | Q47: =O47+6*30+3 -> 183
A48: ='total Scrap'!A58 -> 07/2020 | B48: ='total Scrap'!B58 -> 72999 | C48: ='total Scrap'!C58 -> B. Metreau | D48: ='total Scrap'!D58 -> 95962 | E48: ='total Scrap'!E58 -> 163612660071 | F48: ='total Scrap'!F58 -> FAN | G48: ='total Scrap'!G58 -> 1 | H48: ='total Scrap'!H58 -> 16.41 | ... K48: ='total Scrap'!K58 -> HÉLICE DE VENTILATEUR CASSÉE LORS DE LA POSE DU CHASSIS | L48: =Tableau7[[#This Row],[facteur associé]] -> 3 | M48: =Tableau6[[#This Row],[facteur récurrence]] -> 3 | N48: =_xlfn.IFS(M48>32,"CRITIQUE",M48<=8,"RAS",M48<=16,"ATTENTION",M48<=32,"DANGER") -> RAS | Q48: =O48+6*30+3 -> 183
A49: ='total Scrap'!A59 -> 07/2020 | B49: ='total Scrap'!B59 -> 72999 | C49: ='total Scrap'!C59 -> B. Metreau | D49: ='total Scrap'!D59 -> 95960 | E49: ='total Scrap'!E59 -> 163612660071 | F49: ='total Scrap'!F59 -> FAN | G49: ='total Scrap'!G59 -> 1 | H49: ='total Scrap'!H59 -> 16.41 | ... K49: ='total Scrap'!K59 -> 647 225365 | L49: =Tableau7[[#This Row],[facteur associé]] -> 1 | M49: =Tableau6[[#This Row],[facteur récurrence]] -> 1 | N49: =_xlfn.IFS(M49>32,"CRITIQUE",M49<=8,"RAS",M49<=16,"ATTENTION",M49<=32,"DANGER") -> RAS | Q49: =O49+6*30+3 -> 183
A50: ='total Scrap'!A50 -> 07/2020 | B50: ='total Scrap'!B50 -> 72999 | C50: ='total Scrap'!C50 -> B. Metreau | D50: ='total Scrap'!D50 -> 95623 | E50: ='total Scrap'!E50 -> 68066F311171 | F50: ='total Scrap'!F50 -> PIPE SUB-ASSY, INNER MAST | G50: ='total Scrap'!G50 -> 1 | H50: ='total Scrap'!H50 -> 31.42 | ... K50: ='total Scrap'!K50 -> FLEXIBLE SERRÉ DE TRAVERS FILETAGE HS | L50: =Tableau7[[#This Row],[facteur associé]] -> 4 | M50: =Tableau6[[#This Row],[facteur récurrence]] -> 4 | N50: =_xlfn.IFS(M50>32,"CRITIQUE",M50<=8,"RAS",M50<=16,"ATTENTION",M50<=32,"DANGER") -> RAS | Q50: =O50+6*30+3 -> 183
A51: ='total Scrap'!A51 -> 07/2020 | B51: ='total Scrap'!B51 -> 73082 | C51: ='total Scrap'!C51 -> C. Poli Marchetti | D51: ='total Scrap'!D51 -> 95624 | E51: ='total Scrap'!E51 -> 56031F231071 | F51: ='total Scrap'!F51 -> WIRE, SIDE LH | G51: ='total Scrap'!G51 -> 1 | H51: ='total Scrap'!H51 -> 30.3 | ... K51: ='total Scrap'!K51 -> PRISE CASSÉE AINSI QUE LE CLIPS | L51: =Tableau7[[#This Row],[facteur associé]] -> 2 | M51: =Tableau6[[#This Row],[facteur récurrence]] -> 2 | N51: =_xlfn.IFS(M51>32,"CRITIQUE",M51<=8,"RAS",M51<=16,"ATTENTION",M51<=32,"DANGER") -> RAS | Q51: =O51+6*30+3 -> 183
A52: ='total Scrap'!A52 -> 07/2020 | B52: ='total Scrap'!B52 -> 73082 | C52: ='total Scrap'!C52 -> C. Poli Marchetti | D52: ='total Scrap'!D52 -> 96532 | E52: ='total Scrap'!E52 -> 68606F214171 | F52: ='total Scrap'!F52 -> PIPE SUB-ASSY, INNER MAST | G52: ='total Scrap'!G52 -> 1 | H52: ='total Scrap'!H52 -> 29.39 | ... K52: ='total Scrap'!K52 -> IMPURETÉ SUR LE CÔNE (FUITE) | L52: =Tableau7[[#This Row],[facteur associé]] -> 4 | M52: =Tableau6[[#This Row],[facteur récurrence]] -> 4 | N52: =_xlfn.IFS(M52>32,"CRITIQUE",M52<=8,"RAS",M52<=16,"ATTENTION",M52<=32,"DANGER") -> RAS | Q52: =O52+6*30+3 -> 183
A53: ='total Scrap'!A53 -> 07/2020 | B53: ='total Scrap'!B53 -> 73082 | C53: ='total Scrap'!C53 -> C. Poli Marchetti | D53: ='total Scrap'!D53 -> 95552 | E53: ='total Scrap'!E53 -> 678901132071 | F53: ='total Scrap'!F53 -> PAD ASSY, ARM | G53: ='total Scrap'!G53 -> 1 | H53: ='total Scrap'!H53 -> 25.66 | ... K53: ='total Scrap'!K53 -> COUPS 705 225985 | L53: =Tableau7[[#This Row],[facteur associé]] -> 4 | M53: =Tableau6[[#This Row],[facteur récurrence]] -> 4 | N53: =_xlfn.IFS(M53>32,"CRITIQUE",M53<=8,"RAS",M53<=16,"ATTENTION",M53<=32,"DANGER") -> RAS | Q53: =O53+6*30+3 -> 183
A54: ='total Scrap'!A54 -> 07/2020 | B54: ='total Scrap'!B54 -> 73082 | C54: ='total Scrap'!C54 -> C. Poli Marchetti | D54: ='total Scrap'!D54 -> 95626 | E54: ='total Scrap'!E54 -> 53220F231071 | F54: ='total Scrap'!F54 -> PANEL ASSY, INSTRUMENT, LH | G54: ='total Scrap'!G54 -> 1 | H54: ='total Scrap'!H54 -> 21.31 | ... K54: ='total Scrap'!K54 -> RAYÉ | L54: =Tableau7[[#This Row],[facteur associé]] -> 4 | M54: =Tableau6[[#This Row],[facteur récurrence]] -> 4 | N54: =_xlfn.IFS(M54>32,"CRITIQUE",M54<=8,"RAS",M54<=16,"ATTENTION",M54<=32,"DANGER") -> RAS | Q54: =O54+6*30+3 -> 183
A55: ='total Scrap'!A55 -> 07/2020 | B55: ='total Scrap'!B55 -> 72062 | C55: ='total Scrap'!C55 -> P. Sauvaget | D55: ='total Scrap'!D55 -> 95629 | E55: ='total Scrap'!E55 -> 23507FPA2171 | F55: ='total Scrap'!F55 -> WIRE, SENSOR DOPPLER (23510FPA2071 | G55: ='total Scrap'!G55 -> 1 | H55: ='total Scrap'!H55 -> 19.04 | ... K55: ='total Scrap'!K55 -> FILS COUPÉS EN COUPANT LE COLLIER | L55: =Tableau7[[#This Row],[facteur associé]] -> 4 | M55: =Tableau6[[#This Row],[facteur récurrence]] -> 4 | N55: =_xlfn.IFS(M55>32,"CRITIQUE",M55<=8,"RAS",M55<=16,"ATTENTION",M55<=32,"DANGER") -> RAS | Q55: =O55+6*30+3 -> 183
A56: ='total Scrap'!A56 -> 07/2020 | B56: ='total Scrap'!B56 -> 73082 | C56: ='total Scrap'!C56 -> C. Poli Marchetti | D56: ='total Scrap'!D56 -> 96517 | E56: ='total Scrap'!E56 -> 565013691071 | F56: ='total Scrap'!F56 -> BRACKET SUB-ASSY, HEAD LAMP, RH | G56: ='total Scrap'!G56 -> 1 | H56: ='total Scrap'!H56 -> 18.5 | ... K56: ='total Scrap'!K56 -> ABIMÉ 547 225128 | L56: =Tableau7[[#This Row],[facteur associé]] -> 4 | M56: =Tableau6[[#This Row],[facteur récurrence]] -> 4 | N56: =_xlfn.IFS(M56>32,"CRITIQUE",M56<=8,"RAS",M56<=16,"ATTENTION",M56<=32,"DANGER") -> RAS | Q56: =O56+6*30+3 -> 183
A57: ='total Scrap'!A57 -> 07/2020 | B57: ='total Scrap'!B57 -> 72999 | C57: ='total Scrap'!C57 -> B. Metreau | D57: ='total Scrap'!D57 -> 95954 | E57: ='total Scrap'!E57 -> 175102662071 | F57: ='total Scrap'!F57 -> MUFFLER ASSY | G57: ='total Scrap'!G57 -> 1 | H57: ='total Scrap'!H57 -> 17.05 | ... K57: ='total Scrap'!K57 -> FILETAGE HS 352 226060 | L57: =Tableau7[[#This Row],[facteur associé]] -> 2 | M57: =Tableau6[[#This Row],[facteur récurrence]] -> 2 | N57: =_xlfn.IFS(M57>32,"CRITIQUE",M57<=8,"RAS",M57<=16,"ATTENTION",M57<=32,"DANGER") -> RAS | Q57: =O57+6*30+3 -> 183
A58: ='total Scrap'!A180 -> 11/2020 | B58: ='total Scrap'!B180 -> 73082 | C58: ='total Scrap'!C180 -> C. Poli Marchetti | D58: ='total Scrap'!D180 -> 95745 | E58: ='total Scrap'!E180 -> 163612660071 | F58: ='total Scrap'!F180 -> FAN | G58: ='total Scrap'!G180 -> 1 | H58: ='total Scrap'!H180 -> 16.41 | ... K58: ='total Scrap'!K180 -> HÉLICE CASSÉE 642 | L58: =Tableau7[[#This Row],[facteur associé]] -> 3 | M58: =Tableau6[[#This Row],[facteur récurrence]] -> 3 | N58: =_xlfn.IFS(M58>32,"CRITIQUE",M58<=8,"RAS",M58<=16,"ATTENTION",M58<=32,"DANGER") -> RAS | Q58: =O58+6*30+3 -> 183
A59: ='total Scrap'!A215 -> 12/2020 | B59: ='total Scrap'!B215 -> 72999 | C59: ='total Scrap'!C215 -> B. Metreau | D59: ='total Scrap'!D215 -> 95995 | E59: ='total Scrap'!E215 -> 163612660071 | F59: ='total Scrap'!F215 -> FAN | G59: ='total Scrap'!G215 -> 1 | H59: ='total Scrap'!H215 -> 16.41 | ... K59: ='total Scrap'!K215 -> CASSÉE EN METTANT LE CHASSIS 235 | L59: =Tableau7[[#This Row],[facteur associé]] -> 3 | M59: =Tableau6[[#This Row],[facteur récurrence]] -> 3 | N59: =_xlfn.IFS(M59>32,"CRITIQUE",M59<=8,"RAS",M59<=16,"ATTENTION",M59<=32,"DANGER") -> RAS | Q59: =O59+6*30+3 -> 183
A60: ='total Scrap'!A60 -> 07/2020 | B60: ='total Scrap'!B60 -> 73082 | C60: ='total Scrap'!C60 -> C. Poli Marchetti | D60: ='total Scrap'!D60 -> 96504 | E60: ='total Scrap'!E60 -> 177002660071 | F60: ='total Scrap'!F60 -> CLEANER ASSY, AIR W/ELEMENT | G60: ='total Scrap'!G60 -> 1 | H60: ='total Scrap'!H60 -> 16.32 | ... K60: ='total Scrap'!K60 -> RAYÉ 341 226110 | L60: =Tableau7[[#This Row],[facteur associé]] -> 4 | M60: =Tableau6[[#This Row],[facteur récurrence]] -> 4 | N60: =_xlfn.IFS(M60>32,"CRITIQUE",M60<=8,"RAS",M60<=16,"ATTENTION",M60<=32,"DANGER") -> RAS | Q60: =O60+6*30+3 -> 183
A61: ='total Scrap'!A61 -> 07/2020 | B61: ='total Scrap'!B61 -> 73082 | C61: ='total Scrap'!C61 -> C. Poli Marchetti | D61: ='total Scrap'!D61 -> 95630 | E61: ='total Scrap'!E61 -> 53220F219071 | F61: ='total Scrap'!F61 -> PANEL ASSY,INSTRUMENT,LH | G61: ='total Scrap'!G61 -> 1 | H61: ='total Scrap'!H61 -> 15.8966 | ... K61: ='total Scrap'!K61 -> RAYÉ | L61: =Tableau7[[#This Row],[facteur associé]] -> 4 | M61: =Tableau6[[#This Row],[facteur récurrence]] -> 4 | N61: =_xlfn.IFS(M61>32,"CRITIQUE",M61<=8,"RAS",M61<=16,"ATTENTION",M61<=32,"DANGER") -> RAS | Q61: =O61+6*30+3 -> 183
A62: ='total Scrap'!A62 -> 07/2020 | B62: ='total Scrap'!B62 -> 73069 | C62: ='total Scrap'!C62 -> T. Boudard | D62: ='total Scrap'!D62 -> 93611 | E62: ='total Scrap'!E62 -> 2A28007G3 | F62: ='total Scrap'!F62 -> STEP S/A, LH | G62: ='total Scrap'!G62 -> 1 | H62: ='total Scrap'!H62 -> 15.4 | ... K62: ='total Scrap'!K62 -> VIS DE FIXATION CASSÉE LORS DU MONTAGE | L62: =Tableau7[[#This Row],[facteur associé]] -> 4 | M62: =Tableau6[[#This Row],[facteur récurrence]] -> 4 | N62: =_xlfn.IFS(M62>32,"CRITIQUE",M62<=8,"RAS",M62<=16,"ATTENTION",M62<=32,"DANGER") -> RAS | Q62: =O62+6*30+3 -> 183
A63: ='total Scrap'!A63 -> 07/2020 | B63: ='total Scrap'!B63 -> 73082 | C63: ='total Scrap'!C63 -> C. Poli Marchetti | D63: ='total Scrap'!D63 -> 96529 | E63: ='total Scrap'!E63 -> 38717F121071 | F63: ='total Scrap'!F63 -> HOSE | G63: ='total Scrap'!G63 -> 1 | H63: ='total Scrap'!H63 -> 14.93 | ... K63: ='total Scrap'!K63 -> GAINE FLEXIBLE RAPÉE, TRESSE MÉTALLIQUE APPARENTE | L63: =Tableau7[[#This Row],[facteur associé]] -> 4 | M63: =Tableau6[[#This Row],[facteur récurrence]] -> 4 | N63: =_xlfn.IFS(M63>32,"CRITIQUE",M63<=8,"RAS",M63<=16,"ATTENTION",M63<=32,"DANGER") -> RAS | Q63: =O63+6*30+3 -> 183
A64: ='total Scrap'!A64 -> 07/2020 | B64: ='total Scrap'!B64 -> 72999 | C64: ='total Scrap'!C64 -> B. Metreau | D64: ='total Scrap'!D64 -> 96524 | E64: ='total Scrap'!E64 -> 68805F226071 | F64: ='total Scrap'!F64 -> PIPE SUB-ASSY,A45 MID | G64: ='total Scrap'!G64 -> 1 | H64: ='total Scrap'!H64 -> 14.75 | ... K64: ='total Scrap'!K64 -> FILETAGE HS PRIS DE TRAVERS | L64: =Tableau7[[#This Row],[facteur associé]] -> 2 | M64: =Tableau6[[#This Row],[facteur récurrence]] -> 2 | N64: =_xlfn.IFS(M64>32,"CRITIQUE",M64<=8,"RAS",M64<=16,"ATTENTION",M64<=32,"DANGER") -> RAS | Q64: =O64+6*30+3 -> 183
A65: ='total Scrap'!A65 -> 07/2020 | B65: ='total Scrap'!B65 -> 72999 | C65: ='total Scrap'!C65 -> B. Metreau | D65: ='total Scrap'!D65 -> 95621 | E65: ='total Scrap'!E65 -> 68804F226071 | F65: ='total Scrap'!F65 -> PIPE SUB-ASSY,A41 MID | G65: ='total Scrap'!G65 -> 1 | H65: ='total Scrap'!H65 -> 14.63 | ... K65: ='total Scrap'!K65 -> FILETS HS PRIS DE TRAVERS | L65: =Tableau7[[#This Row],[facteur associé]] -> 3 | M65: =Tableau6[[#This Row],[facteur récurrence]] -> 3 | N65: =_xlfn.IFS(M65>32,"CRITIQUE",M65<=8,"RAS",M65<=16,"ATTENTION",M65<=32,"DANGER") -> RAS | Q65: =O65+6*30+3 -> 183
A66: ='total Scrap'!A66 -> 07/2020 | B66: ='total Scrap'!B66 -> 73082 | C66: ='total Scrap'!C66 -> C. Poli Marchetti | D66: ='total Scrap'!D66 -> 96507 | E66: ='total Scrap'!E66 -> 451101247271 | F66: ='total Scrap'!F66 -> WHEEL ASSY, STEERING | G66: ='total Scrap'!G66 -> 1 | H66: ='total Scrap'!H66 -> 12.61 | ... K66: ='total Scrap'!K66 -> VOLANT ABIMÉ | L66: =Tableau7[[#This Row],[facteur associé]] -> 3 | M66: =Tableau6[[#This Row],[facteur récurrence]] -> 3 | N66: =_xlfn.IFS(M66>32,"CRITIQUE",M66<=8,"RAS",M66<=16,"ATTENTION",M66<=32,"DANGER") -> RAS | Q66: =O66+6*30+3 -> 183
A67: ='total Scrap'!A67 -> 07/2020 | B67: ='total Scrap'!B67 -> 73082 | C67: ='total Scrap'!C67 -> C. Poli Marchetti | D67: ='total Scrap'!D67 -> 96516 | E67: ='total Scrap'!E67 -> 565702665071 | F67: ='total Scrap'!F67 -> LAMP ASSY, COMBINATION HEAD, RH | G67: ='total Scrap'!G67 -> 1 | H67: ='total Scrap'!H67 -> 11.22 | ... K67: ='total Scrap'!K67 -> ABIMÉ 547 225128 | L67: =Tableau7[[#This Row],[facteur associé]] -> 4 | M67: =Tableau6[[#This Row],[facteur récurrence]] -> 4 | N67: =_xlfn.IFS(M67>32,"CRITIQUE",M67<=8,"RAS",M67<=16,"ATTENTION",M67<=32,"DANGER") -> RAS | Q67: =O67+6*30+3 -> 183
A68: ='total Scrap'!A68 -> 07/2020 | B68: ='total Scrap'!B68 -> 72139 | C68: ='total Scrap'!C68 -> C. Pichon | D68: ='total Scrap'!D68 -> 95282 | E68: ='total Scrap'!E68 -> 17780F218071 | F68: ='total Scrap'!F68 -> CLEANER ASSY, AIR, PRIMARY | G68: ='total Scrap'!G68 -> 1 | H68: ='total Scrap'!H68 -> 9 | ... K68: ='total Scrap'!K68 -> RAYURES CHARETTE DE TRANSPORT PAS APPROPRIÉE | L68: =Tableau7[[#This Row],[facteur associé]] -> 4 | M68: =Tableau6[[#This Row],[facteur récurrence]] -> 4 | N68: =_xlfn.IFS(M68>32,"CRITIQUE",M68<=8,"RAS",M68<=16,"ATTENTION",M68<=32,"DANGER") -> RAS | Q68: =O68+6*30+3 -> 183
A69: ='total Scrap'!A69 -> 07/2020 | B69: ='total Scrap'!B69 -> 72999 | C69: ='total Scrap'!C69 -> B. Metreau | D69: ='total Scrap'!D69 -> 96523 | E69: ='total Scrap'!E69 -> 68143F225071 | F69: ='total Scrap'!F69 -> HOSE, HIGH PRESSURE | G69: ='total Scrap'!G69 -> 1 | H69: ='total Scrap'!H69 -> 8.92 | ... K69: ='total Scrap'!K69 -> FLEXIBLE PRIS DE TRAVERS | L69: =Tableau7[[#This Row],[facteur associé]] -> 4 | M69: =Tableau6[[#This Row],[facteur récurrence]] -> 4 | N69: =_xlfn.IFS(M69>32,"CRITIQUE",M69<=8,"RAS",M69<=16,"ATTENTION",M69<=32,"DANGER") -> RAS | Q69: =O69+6*30+3 -> 183
A70: ='total Scrap'!A70 -> 07/2020 | B70: ='total Scrap'!B70 -> 72999 | C70: ='total Scrap'!C70 -> B. Metreau | D70: ='total Scrap'!D70 -> 95961 | E70: ='total Scrap'!E70 -> 45682F331071 | F70: ='total Scrap'!F70 -> HOSE, PS CYLINDER, NO.2 | G70: ='total Scrap'!G70 -> 1 | H70: ='total Scrap'!H70 -> 8.27 | ... K70: ='total Scrap'!K70 -> FLEXIBLE + GAINE DE PROTECTION ÉCRASÉS | L70: =Tableau7[[#This Row],[facteur associé]] -> 4 | M70: =Tableau6[[#This Row],[facteur récurrence]] -> 4 | N70: =_xlfn.IFS(M70>32,"CRITIQUE",M70<=8,"RAS",M70<=16,"ATTENTION",M70<=32,"DANGER") -> RAS | Q70: =O70+6*30+3 -> 183
A71: ='total Scrap'!A71 -> 07/2020 | B71: ='total Scrap'!B71 -> 73069 | C71: ='total Scrap'!C71 -> T. Boudard | D71: ='total Scrap'!D71 -> 96521 | E71: ='total Scrap'!E71 -> 452021660071 | F71: ='total Scrap'!F71 -> JACKET SUB-ASSY, MAST | G71: ='total Scrap'!G71 -> 1 | H71: ='total Scrap'!H71 -> 7.38 | ... K71: ='total Scrap'!K71 -> ABIMÉ DÛ AU MONTAGE SUR CHAINE 586 225445 | L71: =Tableau7[[#This Row],[facteur associé]] -> 4 | M71: =Tableau6[[#This Row],[facteur récurrence]] -> 4 | N71: =_xlfn.IFS(M71>32,"CRITIQUE",M71<=8,"RAS",M71<=16,"ATTENTION",M71<=32,"DANGER") -> RAS | Q71: =O71+6*30+3 -> 183
... A89: ='total Scrap'!A89 -> 09/2020 | B89: ='total Scrap'!B89 -> 72217 | C89: ='total Scrap'!C89 -> D. Peigné | D89: ='total Scrap'!D89 -> 95068 | E89: ='total Scrap'!E89 -> 25750FS2CK71 | F89: ='total Scrap'!F89 -> DD12-24 168-RU IP 65, CONVERTER | G89: ='total Scrap'!G89 -> 1 | H89: ='total Scrap'!H89 -> 153.04 | ... K89: ='total Scrap'!K89 -> TRANSFO HS | L89: =Tableau7[[#This Row],[facteur associé]] -> 4 | M89: =Tableau6[[#This Row],[facteur récurrence]] -> 4 | N89: =_xlfn.IFS(M89>32,"CRITIQUE",M89<=8,"RAS",M89<=16,"ATTENTION",M89<=32,"DANGER") -> RAS | Q89: =O89+6*30+3 -> 183
A90: ='total Scrap'!A275 -> 02/2021 | B90: ='total Scrap'!B275 -> 72999 | C90: ='total Scrap'!C275 -> B. Metreau | D90: ='total Scrap'!D275 -> 97807 | E90: ='total Scrap'!E275 -> 163612660071 | F90: ='total Scrap'!F275 -> FAN | G90: ='total Scrap'!G275 -> 1 | H90: ='total Scrap'!H275 -> 16.41 | ... K90: ='total Scrap'!K275 -> HÉLICE ABIMÉE EN POSITIONNANT LE CHASSIS SUR LE MOTEUR | L90: =Tableau7[[#This Row],[facteur associé]] -> 4 | M90: =Tableau6[[#This Row],[facteur récurrence]] -> 4 | N90: =_xlfn.IFS(M90>32,"CRITIQUE",M90<=8,"RAS",M90<=16,"ATTENTION",M90<=32,"DANGER") -> RAS | Q90: =O90+6*30+3 -> 183
A91: ='total Scrap'!A91 -> 09/2020 | B91: ='total Scrap'!B91 -> 73082 | C91: ='total Scrap'!C91 -> C. Poli Marchetti | D91: ='total Scrap'!D91 -> 96539 | E91: ='total Scrap'!E91 -> 235102661071 | F91: ='total Scrap'!F91 -> REGULATOR ASSY, LPG | G91: ='total Scrap'!G91 -> 1 | H91: ='total Scrap'!H91 -> 84.44 | ... K91: ='total Scrap'!K91 -> PRISE HS | L91: =Tableau7[[#This Row],[facteur associé]] -> 4 | M91: =Tableau6[[#This Row],[facteur récurrence]] -> 4 | N91: =_xlfn.IFS(M91>32,"CRITIQUE",M91<=8,"RAS",M91<=16,"ATTENTION",M91<=32,"DANGER") -> RAS | Q91: =O91+6*30+3 -> 183
A92: ='total Scrap'!A92 -> 09/2020 | B92: ='total Scrap'!B92 -> 72999 | C92: ='total Scrap'!C92 -> B. Metreau | D92: ='total Scrap'!D92 -> 95413 | E92: ='total Scrap'!E92 -> 235102661171 | F92: ='total Scrap'!F92 -> REGULATOR ASSY, LPG | G92: ='total Scrap'!G92 -> 1 | H92: ='total Scrap'!H92 -> 78.38 | ... K92: ='total Scrap'!K92 -> FILETAGE RACCORD ENDOMMAGÉ LORS DU MONTAGE | L92: =Tableau7[[#This Row],[facteur associé]] -> 4 | M92: =Tableau6[[#This Row],[facteur récurrence]] -> 4 | N92: =_xlfn.IFS(M92>32,"CRITIQUE",M92<=8,"RAS",M92<=16,"ATTENTION",M92<=32,"DANGER") -> RAS | Q92: =O92+6*30+3 -> 183
A93: ='total Scrap'!A93 -> 09/2020 | B93: ='total Scrap'!B93 -> 72999 | C93: ='total Scrap'!C93 -> B. Metreau | D93: ='total Scrap'!D93 -> 95556 | E93: ='total Scrap'!E93 -> 16420F318071 | F93: ='total Scrap'!F93 -> RADIATOR ASSY | G93: ='total Scrap'!G93 -> 1 | H93: ='total Scrap'!H93 -> 72.12 | ... K93: ='total Scrap'!K93 -> ABIMÉ | L93: =Tableau7[[#This Row],[facteur associé]] -> 4 | M93: =Tableau6[[#This Row],[facteur récurrence]] -> 4 | N93: =_xlfn.IFS(M93>32,"CRITIQUE",M93<=8,"RAS",M93<=16,"ATTENTION",M93<=32,"DANGER") -> RAS | Q93: =O93+6*30+3 -> 183
A94: ='total Scrap'!A94 -> 09/2020 | B94: ='total Scrap'!B94 -> 73082 | C94: ='total Scrap'!C94 -> C. Poli Marchetti | D94: ='total Scrap'!D94 -> 95786 | E94: ='total Scrap'!E94 -> 2A28005 | F94: ='total Scrap'!F94 -> COVER SUB-ASSY, HTR | G94: ='total Scrap'!G94 -> 1 | H94: ='total Scrap'!H94 -> 51.48 | ... K94: ='total Scrap'!K94 -> SUITE A L'ENCOLLAGE DU JOINT CARTER CHAUFFAGE LA COLLE A COULÉE A L'IN | L94: =Tableau7[[#This Row],[facteur associé]] -> 4 | M94: =Tableau6[[#This Row],[facteur récurrence]] -> 4 | N94: =_xlfn.IFS(M94>32,"CRITIQUE",M94<=8,"RAS",M94<=16,"ATTENTION",M94<=32,"DANGER") -> RAS | Q94: =O94+6*30+3 -> 183
A95: ='total Scrap'!A95 -> 09/2020 | B95: ='total Scrap'!B95 -> 72999 | C95: ='total Scrap'!C95 -> B. Metreau | D95: ='total Scrap'!D95 -> 95638 | E95: ='total Scrap'!E95 -> 56031F231071 | F95: ='total Scrap'!F95 -> WIRE, SIDE LH | G95: ='total Scrap'!G95 -> 1 | H95: ='total Scrap'!H95 -> 30.3 | ... K95: ='total Scrap'!K95 -> PRISE HS | L95: =Tableau7[[#This Row],[facteur associé]] -> 4 | M95: =Tableau6[[#This Row],[facteur récurrence]] -> 4 | N95: =_xlfn.IFS(M95>32,"CRITIQUE",M95<=8,"RAS",M95<=16,"ATTENTION",M95<=32,"DANGER") -> RAS | Q95: =O95+6*30+3 -> 183
A96: ='total Scrap'!A96 -> 09/2020 | B96: ='total Scrap'!B96 -> 73082 | C96: ='total Scrap'!C96 -> C. Poli Marchetti | D96: ='total Scrap'!D96 -> 95660 | E96: ='total Scrap'!E96 -> 451101247271 | F96: ='total Scrap'!F96 -> WHEEL ASSY, STEERING | G96: ='total Scrap'!G96 -> 1 | H96: ='total Scrap'!H96 -> 12.61 | ... K96: ='total Scrap'!K96 -> COUPS | L96: =Tableau7[[#This Row],[facteur associé]] -> 4 | M96: =Tableau6[[#This Row],[facteur récurrence]] -> 4 | N96: =_xlfn.IFS(M96>32,"CRITIQUE",M96<=8,"RAS",M96<=16,"ATTENTION",M96<=32,"DANGER") -> RAS | Q96: =O96+6*30+3 -> 183
A97: ='total Scrap'!A97 -> 09/2020 | B97: ='total Scrap'!B97 -> 73082 | C97: ='total Scrap'!C97 -> C. Poli Marchetti | D97: ='total Scrap'!D97 -> 95203 | E97: ='total Scrap'!E97 -> 96365F509871 | F97: ='total Scrap'!F97 -> HOSE, HIGH PRESSURE | G97: ='total Scrap'!G97 -> 1 | H97: ='total Scrap'!H97 -> 6.95 | ... K97: ='total Scrap'!K97 -> FLEXIBLE ABIMÉ | L97: =Tableau7[[#This Row],[facteur associé]] -> 4 | M97: =Tableau6[[#This Row],[facteur récurrence]] -> 4 | N97: =_xlfn.IFS(M97>32,"CRITIQUE",M97<=8,"RAS",M97<=16,"ATTENTION",M97<=32,"DANGER") -> RAS | Q97: =O97+6*30+3 -> 183
A98: ='total Scrap'!A98 -> 09/2020 | B98: ='total Scrap'!B98 -> 73082 | C98: ='total Scrap'!C98 -> C. Poli Marchetti | D98: ='total Scrap'!D98 -> 95783 | E98: ='total Scrap'!E98 -> 566512664071 | F98: ='total Scrap'!F98 -> COVER, LED RR COMBI LAMP | G98: ='total Scrap'!G98 -> 1 | H98: ='total Scrap'!H98 -> 6.42 | ... K98: ='total Scrap'!K98 -> RAYURES | L98: =Tableau7[[#This Row],[facteur associé]] -> 4 | M98: =Tableau6[[#This Row],[facteur récurrence]] -> 4 | N98: =_xlfn.IFS(M98>32,"CRITIQUE",M98<=8,"RAS",M98<=16,"ATTENTION",M98<=32,"DANGER") -> RAS | Q98: =O98+6*30+3 -> 183
A99: ='total Scrap'!A99 -> 09/2020 | B99: ='total Scrap'!B99 -> 73082 | C99: ='total Scrap'!C99 -> C. Poli Marchetti | D99: ='total Scrap'!D99 -> 95551 | E99: ='total Scrap'!E99 -> 518912675071 | F99: ='total Scrap'!F99 -> COVER, RADIATOR | G99: ='total Scrap'!G99 -> 1 | H99: ='total Scrap'!H99 -> 6.12 | ... K99: ='total Scrap'!K99 -> ABIMÉ | L99: =Tableau7[[#This Row],[facteur associé]] -> 4 | M99: =Tableau6[[#This Row],[facteur récurrence]] -> 4 | N99: =_xlfn.IFS(M99>32,"CRITIQUE",M99<=8,"RAS",M99<=16,"ATTENTION",M99<=32,"DANGER") -> RAS | Q99: =O99+6*30+3 -> 183
A100: ='total Scrap'!A100 -> 10/2020 | B100: ='total Scrap'!B100 -> 72999 | C100: ='total Scrap'!C100 -> B. Metreau | D100: ='total Scrap'!D100 -> 96544 | E100: ='total Scrap'!E100 -> 23349F231071 | F100: ='total Scrap'!F100 -> CONTROLLER (KIT 17110-F2310-71) | G100: ='total Scrap'!G100 -> 1 | H100: ='total Scrap'!H100 -> 441.21 | ... K100: ='total Scrap'!K100 -> CONTROLEUR HS A CAUSE D'UN FAISCEAU PINCÉ | L100: =Tableau7[[#This Row],[facteur associé]] -> 4 | M100: =Tableau6[[#This Row],[facteur récurrence]] -> 4 | N100: =_xlfn.IFS(M100>32,"CRITIQUE",M100<=8,"RAS",M100<=16,"ATTENTION",M100<=32,"DANGER") -> RAS | Q100: =O100+6*30+3 -> 183
A101: ='total Scrap'!A101 -> 10/2020 | B101: ='total Scrap'!B101 -> 73082 | C101: ='total Scrap'!C101 -> C. Poli Marchetti | D101: ='total Scrap'!D101 -> 95971 | E101: ='total Scrap'!E101 -> 18450UM020 | F101: ='total Scrap'!F101 -> CONVERTER ASSY, MONOLITHI | G101: ='total Scrap'!G101 -> 1 | H101: ='total Scrap'!H101 -> 345.77 | ... K101: ='total Scrap'!K101 -> VIS CASSÉE | L101: =Tableau7[[#This Row],[facteur associé]] -> 4 | M101: =Tableau6[[#This Row],[facteur récurrence]] -> 4 | N101: =_xlfn.IFS(M101>32,"CRITIQUE",M101<=8,"RAS",M101<=16,"ATTENTION",M101<=32,"DANGER") -> RAS | Q101: =O101+6*30+3 -> 183
A102: ='total Scrap'!A102 -> 10/2020 | B102: ='total Scrap'!B102 -> 73082 | C102: ='total Scrap'!C102 -> C. Poli Marchetti | D102: ='total Scrap'!D102 -> 95727 | E102: ='total Scrap'!E102 -> 23702FP24271 | F102: ='total Scrap'!F102 -> RESERVOIR 55L (ALL,BEL,UK) | G102: ='total Scrap'!G102 -> 1 | H102: ='total Scrap'!H102 -> 305.37 | ... K102: ='total Scrap'!K102 -> ABIMÉ LORS DE LA PRÉPA | L102: =Tableau7[[#This Row],[facteur associé]] -> 4 | M102: =Tableau6[[#This Row],[facteur récurrence]] -> 4 | N102: =_xlfn.IFS(M102>32,"CRITIQUE",M102<=8,"RAS",M102<=16,"ATTENTION",M102<=32,"DANGER") -> RAS | Q102: =O102+6*30+3 -> 183
... A113: ='total Scrap'!A113 -> 10/2020 | B113: ='total Scrap'!B113 -> 72217 | C113: ='total Scrap'!C113 -> D. Peigné | D113: ='total Scrap'!D113 -> 96263 | E113: ='total Scrap'!E113 -> 55231F231071 | F113: ='total Scrap'!F113 -> GLASS, ROOF | G113: ='total Scrap'!G113 -> 1 | H113: ='total Scrap'!H113 -> 99.9 | ... K113: ='total Scrap'!K113 -> VITRE HS EN MANIPULANT LA CAISSE A L'AIDE DU TRANSPALETTE | L113: =Tableau7[[#This Row],[facteur associé]] -> 4 | M113: =Tableau6[[#This Row],[facteur récurrence]] -> 4 | N113: =_xlfn.IFS(M113>32,"CRITIQUE",M113<=8,"RAS",M113<=16,"ATTENTION",M113<=32,"DANGER") -> RAS | Q113: =O113+6*30+3 -> 183
A114: ='total Scrap'!A276 -> 02/2021 | B114: ='total Scrap'!B276 -> 72999 | C114: ='total Scrap'!C276 -> B. Metreau | D114: ='total Scrap'!D276 -> 97810 | E114: ='total Scrap'!E276 -> 163612660071 | F114: ='total Scrap'!F276 -> FAN | G114: ='total Scrap'!G276 -> 1 | H114: ='total Scrap'!H276 -> 16.41 | ... K114: ='total Scrap'!K276 -> HELICE ABIMÉE EN POSITIONNANT LE CHASSIS SUR LE MOTEUR | L114: =Tableau7[[#This Row],[facteur associé]] -> 4 | M114: =Tableau6[[#This Row],[facteur récurrence]] -> 4 | N114: =_xlfn.IFS(M114>32,"CRITIQUE",M114<=8,"RAS",M114<=16,"ATTENTION",M114<=32,"DANGER") -> RAS | Q114: =O114+6*30+3 -> 183
A115: ='total Scrap'!A115 -> 10/2020 | B115: ='total Scrap'!B115 -> 73082 | C115: ='total Scrap'!C115 -> C. Poli Marchetti | D115: ='total Scrap'!D115 -> 95175 | E115: ='total Scrap'!E115 -> 55240F218171 | F115: ='total Scrap'!F115 -> WINDOW ASSY DOOR RH | G115: ='total Scrap'!G115 -> 1 | H115: ='total Scrap'!H115 -> 92.69 | ... K115: ='total Scrap'!K115 -> ABIMÉE AU NIVEAU DE L'ENCADREMENT | L115: =Tableau7[[#This Row],[facteur associé]] -> 4 | M115: =Tableau6[[#This Row],[facteur récurrence]] -> 4 | N115: =_xlfn.IFS(M115>32,"CRITIQUE",M115<=8,"RAS",M115<=16,"ATTENTION",M115<=32,"DANGER") -> RAS | Q115: =O115+6*30+3 -> 183
A116: ='total Scrap'!A116 -> 10/2020 | B116: ='total Scrap'!B116 -> 72999 | C116: ='total Scrap'!C116 -> B. Metreau | D116: ='total Scrap'!D116 -> 95419 | E116: ='total Scrap'!E116 -> 571602660471 | F116: ='total Scrap'!F116 -> DISPLAY ASSY, MULTI-FUNCTION | G116: ='total Scrap'!G116 -> 1 | H116: ='total Scrap'!H116 -> 89.81 | ... K116: ='total Scrap'!K116 -> ÉCRAN CASSÉ | L116: =Tableau7[[#This Row],[facteur associé]] -> 4 | M116: =Tableau6[[#This Row],[facteur récurrence]] -> 4 | N116: =_xlfn.IFS(M116>32,"CRITIQUE",M116<=8,"RAS",M116<=16,"ATTENTION",M116<=32,"DANGER") -> RAS | Q116: =O116+6*30+3 -> 183
A117: ='total Scrap'!A117 -> 10/2020 | B117: ='total Scrap'!B117 -> 73082 | C117: ='total Scrap'!C117 -> C. Poli Marchetti | D117: ='total Scrap'!D117 -> 95650 | E117: ='total Scrap'!E117 -> 571602660471 | F117: ='total Scrap'!F117 -> DISPLAY ASSY, MULTI-FUNCTION | G117: ='total Scrap'!G117 -> 1 | H117: ='total Scrap'!H117 -> 89.81 | ... K117: ='total Scrap'!K117 -> RAYÉ | L117: =Tableau7[[#This Row],[facteur associé]] -> 4 | M117: =Tableau6[[#This Row],[facteur récurrence]] -> 4 | N117: =_xlfn.IFS(M117>32,"CRITIQUE",M117<=8,"RAS",M117<=16,"ATTENTION",M117<=32,"DANGER") -> RAS | Q117: =O117+6*30+3 -> 183
A118: ='total Scrap'!A118 -> 10/2020 | B118: ='total Scrap'!B118 -> 73082 | C118: ='total Scrap'!C118 -> C. Poli Marchetti | D118: ='total Scrap'!D118 -> 95640 | E118: ='total Scrap'!E118 -> 56210F219071 | F118: ='total Scrap'!F118 -> WIRE, ENGINE | G118: ='total Scrap'!G118 -> 1 | H118: ='total Scrap'!H118 -> 80.57 | ... K118: ='total Scrap'!K118 -> PRISE HS | L118: =Tableau7[[#This Row],[facteur associé]] -> 4 | M118: =Tableau6[[#This Row],[facteur récurrence]] -> 4 | N118: =_xlfn.IFS(M118>32,"CRITIQUE",M118<=8,"RAS",M118<=16,"ATTENTION",M118<=32,"DANGER") -> RAS | Q118: =O118+6*30+3 -> 183
A119: ='total Scrap'!A119 -> 10/2020 | B119: ='total Scrap'!B119 -> 72999 | C119: ='total Scrap'!C119 -> B. Metreau | D119: ='total Scrap'!D119 -> 96540 | E119: ='total Scrap'!E119 -> 56210F219071 | F119: ='total Scrap'!F119 -> WIRE, ENGINE | G119: ='total Scrap'!G119 -> 1 | H119: ='total Scrap'!H119 -> 80.57 | ... K119: ='total Scrap'!K119 -> COUPÉ | L119: =Tableau7[[#This Row],[facteur associé]] -> 4 | M119: =Tableau6[[#This Row],[facteur récurrence]] -> 4 | N119: =_xlfn.IFS(M119>32,"CRITIQUE",M119<=8,"RAS",M119<=16,"ATTENTION",M119<=32,"DANGER") -> RAS | Q119: =O119+6*30+3 -> 183
A120: ='total Scrap'!A120 -> 10/2020 | B120: ='total Scrap'!B120 -> 72139 | C120: ='total Scrap'!C120 -> C. Pichon | D120: ='total Scrap'!D120 -> 95163 | E120: ='total Scrap'!E120 -> 16420F218071 | F120: ='total Scrap'!F120 -> RADIATOR ASSY | G120: ='total Scrap'!G120 -> 1 | H120: ='total Scrap'!H120 -> 70.91 | ... K120: ='total Scrap'!K120 -> RADIATEUR ABIMÉ LORS DU TRANSFERT DE LA CHARETTE PRÉPA À LA CHARETTE T | L120: =Tableau7[[#This Row],[facteur associé]] -> 4 | M120: =Tableau6[[#This Row],[facteur récurrence]] -> 4 | N120: =_xlfn.IFS(M120>32,"CRITIQUE",M120<=8,"RAS",M120<=16,"ATTENTION",M120<=32,"DANGER") -> RAS | Q120: =O120+6*30+3 -> 183
A121: ='total Scrap'!A277 -> 02/2021 | B121: ='total Scrap'!B277 -> 72999 | C121: ='total Scrap'!C277 -> B. Metreau | D121: ='total Scrap'!D277 -> 97805 | E121: ='total Scrap'!E277 -> 163612660071 | F121: ='total Scrap'!F277 -> FAN | G121: ='total Scrap'!G277 -> 1 | H121: ='total Scrap'!H277 -> 16.41 | ... K121: ='total Scrap'!K277 -> COUPS SUR LE VENTILATEUR EN METTANT LE CHASSIS SUR LE MOTEUR | L121: =Tableau7[[#This Row],[facteur associé]] -> 4 | M121: =Tableau6[[#This Row],[facteur récurrence]] -> 4 | N121: =_xlfn.IFS(M121>32,"CRITIQUE",M121<=8,"RAS",M121<=16,"ATTENTION",M121<=32,"DANGER") -> RAS | Q121: =O121+6*30+3 -> 183
A122: ='total Scrap'!A122 -> 10/2020 | B122: ='total Scrap'!B122 -> 73082 | C122: ='total Scrap'!C122 -> C. Poli Marchetti | D122: ='total Scrap'!D122 -> 95555 | E122: ='total Scrap'!E122 -> 58510F318271 | F122: ='total Scrap'!F122 -> MOTOR ASSY, WIPER | G122: ='total Scrap'!G122 -> 1 | H122: ='total Scrap'!H122 -> 61.47 | ... K122: ='total Scrap'!K122 -> FILS ARRACHÉS SUR LA PLATINE | L122: =Tableau7[[#This Row],[facteur associé]] -> 4 | M122: =Tableau6[[#This Row],[facteur récurrence]] -> 4 | N122: =_xlfn.IFS(M122>32,"CRITIQUE",M122<=8,"RAS",M122<=16,"ATTENTION",M122<=32,"DANGER") -> RAS | Q122: =O122+6*30+3 -> 183
A123: ='total Scrap'!A123 -> 10/2020 | B123: ='total Scrap'!B123 -> 73082 | C123: ='total Scrap'!C123 -> C. Poli Marchetti | D123: ='total Scrap'!D123 -> 96805 | E123: ='total Scrap'!E123 -> 2A28005 | F123: ='total Scrap'!F123 -> COVER SUB-ASSY, HTR | G123: ='total Scrap'!G123 -> 1 | H123: ='total Scrap'!H123 -> 51.48 | ... K123: ='total Scrap'!K123 -> PIÈCE RAYÉE LORS DU MONTAGE | L123: =Tableau7[[#This Row],[facteur associé]] -> 4 | M123: =Tableau6[[#This Row],[facteur récurrence]] -> 4 | N123: =_xlfn.IFS(M123>32,"CRITIQUE",M123<=8,"RAS",M123<=16,"ATTENTION",M123<=32,"DANGER") -> RAS | Q123: =O123+6*30+3 -> 183
A124: ='total Scrap'!A124 -> 10/2020 | B124: ='total Scrap'!B124 -> 72139 | C124: ='total Scrap'!C124 -> C. Pichon | D124: ='total Scrap'!D124 -> 95417 | E124: ='total Scrap'!E124 -> 565903676071 | F124: ='total Scrap'!F124 -> LAMP ASSY, HEAD | G124: ='total Scrap'!G124 -> 1 | H124: ='total Scrap'!H124 -> 43.72 | ... K124: ='total Scrap'!K124 -> FEU CASSÉ LORS DE LA PRÉPA LOGISTIQUE | L124: =Tableau7[[#This Row],[facteur associé]] -> 4 | M124: =Tableau6[[#This Row],[facteur récurrence]] -> 4 | N124: =_xlfn.IFS(M124>32,"CRITIQUE",M124<=8,"RAS",M124<=16,"ATTENTION",M124<=32,"DANGER") -> RAS | Q124: =O124+6*30+3 -> 183
A125: ='total Scrap'!A125 -> 10/2020 | B125: ='total Scrap'!B125 -> 73082 | C125: ='total Scrap'!C125 -> C. Poli Marchetti | D125: ='total Scrap'!D125 -> 95418 | E125: ='total Scrap'!E125 -> 565903676071 | F125: ='total Scrap'!F125 -> LAMP ASSY, HEAD | G125: ='total Scrap'!G125 -> 1 | H125: ='total Scrap'!H125 -> 43.72 | ... K125: ='total Scrap'!K125 -> VIS CASSÉE À L'INTERIEUR DU FEU A LED | L125: =Tableau7[[#This Row],[facteur associé]] -> 4 | M125: =Tableau6[[#This Row],[facteur récurrence]] -> 4 | N125: =_xlfn.IFS(M125>32,"CRITIQUE",M125<=8,"RAS",M125<=16,"ATTENTION",M125<=32,"DANGER") -> RAS | Q125: =O125+6*30+3 -> 183
A126: ='total Scrap'!A126 -> 10/2020 | B126: ='total Scrap'!B126 -> 73082 | C126: ='total Scrap'!C126 -> C. Poli Marchetti | D126: ='total Scrap'!D126 -> 95415 | E126: ='total Scrap'!E126 -> 56310F226071 | F126: ='total Scrap'!F126 -> WIRE SIDE LH | G126: ='total Scrap'!G126 -> 1 | H126: ='total Scrap'!H126 -> 41.58 | ... K126: ='total Scrap'!K126 -> PRISE BOITIER DE JONCTION CASSÉE | L126: =Tableau7[[#This Row],[facteur associé]] -> 4 | M126: =Tableau6[[#This Row],[facteur récurrence]] -> 4 | N126: =_xlfn.IFS(M126>32,"CRITIQUE",M126<=8,"RAS",M126<=16,"ATTENTION",M126<=32,"DANGER") -> RAS | Q126: =O126+6*30+3 -> 183
A127: ='total Scrap'!A127 -> 10/2020 | B127: ='total Scrap'!B127 -> 72007 | C127: ='total Scrap'!C127 -> JP Dupas | D127: ='total Scrap'!D127 -> 95066 | E127: ='total Scrap'!E127 -> 56210F220071 | F127: ='total Scrap'!F127 -> WIRE, ENGINE | G127: ='total Scrap'!G127 -> 1 | H127: ='total Scrap'!H127 -> 35.5 | ... K127: ='total Scrap'!K127 -> SUPPORT FUSIBLE CASSÉ | L127: =Tableau7[[#This Row],[facteur associé]] -> 4 | M127: =Tableau6[[#This Row],[facteur récurrence]] -> 4 | N127: =_xlfn.IFS(M127>32,"CRITIQUE",M127<=8,"RAS",M127<=16,"ATTENTION",M127<=32,"DANGER") -> RAS | Q127: =O127+6*30+3 -> 183
A128: ='total Scrap'!A328 -> 03/2021 | B128: ='total Scrap'!B328 -> 72999 | C128: ='total Scrap'!C328 -> B. Metreau | D128: ='total Scrap'!D328 -> 97814 | E128: ='total Scrap'!E328 -> 163612660071 | F128: ='total Scrap'!F328 -> FAN | G128: ='total Scrap'!G328 -> 1 | H128: ='total Scrap'!H328 -> 16.41 | ... K128: ='total Scrap'!K328 -> HELICE HS EN ASSEMBLANT LE CHASSIS SUR LE MOTEUR | L128: =Tableau7[[#This Row],[facteur associé]] -> 4 | M128: =Tableau6[[#This Row],[facteur récurrence]] -> 4 | N128: =_xlfn.IFS(M128>32,"CRITIQUE",M128<=8,"RAS",M128<=16,"ATTENTION",M128<=32,"DANGER") -> RAS | Q128: =O128+6*30+3 -> 183
A129: ='total Scrap'!A129 -> 10/2020 | B129: ='total Scrap'!B129 -> 73082 | C129: ='total Scrap'!C129 -> C. Poli Marchetti | D129: ='total Scrap'!D129 -> 95974 | E129: ='total Scrap'!E129 -> 233002665071 | F129: ='total Scrap'!F129 -> FILTER ASSY, FUEL | G129: ='total Scrap'!G129 -> 1 | H129: ='total Scrap'!H129 -> 31.22 | ... K129: ='total Scrap'!K129 -> TOMBÉ DONC PRISE HS | L129: =Tableau7[[#This Row],[facteur associé]] -> 4 | M129: =Tableau6[[#This Row],[facteur récurrence]] -> 4 | N129: =_xlfn.IFS(M129>32,"CRITIQUE",M129<=8,"RAS",M129<=16,"ATTENTION",M129<=32,"DANGER") -> RAS | Q129: =O129+6*30+3 -> 183
A130: ='total Scrap'!A130 -> 10/2020 | B130: ='total Scrap'!B130 -> 72999 | C130: ='total Scrap'!C130 -> B. Metreau | D130: ='total Scrap'!D130 -> 96702 | E130: ='total Scrap'!E130 -> 56031F232071 | F130: ='total Scrap'!F130 -> WIRE, SIDE LH | G130: ='total Scrap'!G130 -> 1 | H130: ='total Scrap'!H130 -> 31.19 | ... K130: ='total Scrap'!K130 -> PINCÉ HS | L130: =Tableau7[[#This Row],[facteur associé]] -> 4 | M130: =Tableau6[[#This Row],[facteur récurrence]] -> 4 | N130: =_xlfn.IFS(M130>32,"CRITIQUE",M130<=8,"RAS",M130<=16,"ATTENTION",M130<=32,"DANGER") -> RAS | Q130: =O130+6*30+3 -> 183
A131: ='total Scrap'!A131 -> 10/2020 | B131: ='total Scrap'!B131 -> 73082 | C131: ='total Scrap'!C131 -> C. Poli Marchetti | D131: ='total Scrap'!D131 -> 96546 | E131: ='total Scrap'!E131 -> 53226F231071 | F131: ='total Scrap'!F131 -> PANEL, INSTRUMENT, RH | G131: ='total Scrap'!G131 -> 1 | H131: ='total Scrap'!H131 -> 21.5 | ... K131: ='total Scrap'!K131 -> FIXATION CARTER HS | L131: =Tableau7[[#This Row],[facteur associé]] -> 4 | M131: =Tableau6[[#This Row],[facteur récurrence]] -> 4 | N131: =_xlfn.IFS(M131>32,"CRITIQUE",M131<=8,"RAS",M131<=16,"ATTENTION",M131<=32,"DANGER") -> RAS | Q131: =O131+6*30+3 -> 183
A132: ='total Scrap'!A132 -> 10/2020 | B132: ='total Scrap'!B132 -> 72062 | C132: ='total Scrap'!C132 -> P. Sauvaget | D132: ='total Scrap'!D132 -> 95421 | E132: ='total Scrap'!E132 -> 56580FPD2171 | F132: ='total Scrap'!F132 -> LAMP ASSY, BEACON | G132: ='total Scrap'!G132 -> 1 | H132: ='total Scrap'!H132 -> 19.7 | ... K132: ='total Scrap'!K132 -> GIRAPHARE HS LORS DU CHARGEMENT DANS LE CAMION | L132: =Tableau7[[#This Row],[facteur associé]] -> 4 | M132: =Tableau6[[#This Row],[facteur récurrence]] -> 4 | N132: =_xlfn.IFS(M132>32,"CRITIQUE",M132<=8,"RAS",M132<=16,"ATTENTION",M132<=32,"DANGER") -> RAS | Q132: =O132+6*30+3 -> 183
A133: ='total Scrap'!A133 -> 10/2020 | B133: ='total Scrap'!B133 -> 73082 | C133: ='total Scrap'!C133 -> C. Poli Marchetti | D133: ='total Scrap'!D133 -> 96923 | E133: ='total Scrap'!E133 -> 55227F218271 | F133: ='total Scrap'!F133 -> GLASS,RR | G133: ='total Scrap'!G133 -> 1 | H133: ='total Scrap'!H133 -> 19.4 | ... K133: ='total Scrap'!K133 -> FISSURE DU HAYON | L133: =Tableau7[[#This Row],[facteur associé]] -> 4 | M133: =Tableau6[[#This Row],[facteur récurrence]] -> 4 | N133: =_xlfn.IFS(M133>32,"CRITIQUE",M133<=8,"RAS",M133<=16,"ATTENTION",M133<=32,"DANGER") -> RAS | Q133: =O133+6*30+3 -> 183
A134: ='total Scrap'!A134 -> 10/2020 | B134: ='total Scrap'!B134 -> 73082 | C134: ='total Scrap'!C134 -> C. Poli Marchetti | D134: ='total Scrap'!D134 -> 96701 | E134: ='total Scrap'!E134 -> 53211F331071 | F134: ='total Scrap'!F134 -> PANEL, INSTRUMENT, RH | G134: ='total Scrap'!G134 -> 1 | H134: ='total Scrap'!H134 -> 19.39 | ... K134: ='total Scrap'!K134 -> FIXATION CARTER HS | L134: =Tableau7[[#This Row],[facteur associé]] -> 4 | M134: =Tableau6[[#This Row],[facteur récurrence]] -> 4 | N134: =_xlfn.IFS(M134>32,"CRITIQUE",M134<=8,"RAS",M134<=16,"ATTENTION",M134<=32,"DANGER") -> RAS | Q134: =O134+6*30+3 -> 183
A135: ='total Scrap'!A135 -> 10/2020 | B135: ='total Scrap'!B135 -> 73082 | C135: ='total Scrap'!C135 -> C. Poli Marchetti | D135: ='total Scrap'!D135 -> 95973 | E135: ='total Scrap'!E135 -> 56052F227071 | F135: ='total Scrap'!F135 -> WIRE RR UPR MAIN | G135: ='total Scrap'!G135 -> 1 | H135: ='total Scrap'!H135 -> 19.29 | ... K135: ='total Scrap'!K135 -> FAISCEAU COINCÉ AU NIVEAU DU CHASSIS 2 PRISES HS | L135: =Tableau7[[#This Row],[facteur associé]] -> 4 | M135: =Tableau6[[#This Row],[facteur récurrence]] -> 4 | N135: =_xlfn.IFS(M135>32,"CRITIQUE",M135<=8,"RAS",M135<=16,"ATTENTION",M135<=32,"DANGER") -> RAS | Q135: =O135+6*30+3 -> 183
A136: ='total Scrap'!A136 -> 10/2020 | B136: ='total Scrap'!B136 -> 73082 | C136: ='total Scrap'!C136 -> C. Poli Marchetti | D136: ='total Scrap'!D136 -> 96706 | E136: ='total Scrap'!E136 -> 56052F227071 | F136: ='total Scrap'!F136 -> WIRE RR UPR MAIN | G136: ='total Scrap'!G136 -> 1 | H136: ='total Scrap'!H136 -> 19.29 | ... K136: ='total Scrap'!K136 -> CONNECTEUR HS | L136: =Tableau7[[#This Row],[facteur associé]] -> 4 | M136: =Tableau6[[#This Row],[facteur récurrence]] -> 4 | N136: =_xlfn.IFS(M136>32,"CRITIQUE",M136<=8,"RAS",M136<=16,"ATTENTION",M136<=32,"DANGER") -> RAS | Q136: =O136+6*30+3 -> 183
A137: ='total Scrap'!A137 -> 10/2020 | B137: ='total Scrap'!B137 -> 72139 | C137: ='total Scrap'!C137 -> C. Pichon | D137: ='total Scrap'!D137 -> 95424 | E137: ='total Scrap'!E137 -> 56570F210071 | F137: ='total Scrap'!F137 -> FEU A ECLAT 89990901 | G137: ='total Scrap'!G137 -> 1 | H137: ='total Scrap'!H137 -> 18.95 | ... K137: ='total Scrap'!K137 -> CASSÉ LORS DE LA PRÉPARATION | L137: =Tableau7[[#This Row],[facteur associé]] -> 4 | M137: =Tableau6[[#This Row],[facteur récurrence]] -> 4 | N137: =_xlfn.IFS(M137>32,"CRITIQUE",M137<=8,"RAS",M137<=16,"ATTENTION",M137<=32,"DANGER") -> RAS | Q137: =O137+6*30+3 -> 183
A138: ='total Scrap'!A138 -> 10/2020 | B138: ='total Scrap'!B138 -> 73082 | C138: ='total Scrap'!C138 -> C. Poli Marchetti | D138: ='total Scrap'!D138 -> 95728 | E138: ='total Scrap'!E138 -> 17106F225071 | F138: ='total Scrap'!F138 -> COVER SUB ASSY,DPF | G138: ='total Scrap'!G138 -> 1 | H138: ='total Scrap'!H138 -> 16.27 | ... K138: ='total Scrap'!K138 -> VIS SUPPORT GRILLE BLOQUÉE | L138: =Tableau7[[#This Row],[facteur associé]] -> 4 | M138: =Tableau6[[#This Row],[facteur récurrence]] -> 4 | N138: =_xlfn.IFS(M138>32,"CRITIQUE",M138<=8,"RAS",M138<=16,"ATTENTION",M138<=32,"DANGER") -> RAS | Q138: =O138+6*30+3 -> 183
A139: ='total Scrap'!A139 -> 10/2020 | B139: ='total Scrap'!B139 -> 72999 | C139: ='total Scrap'!C139 -> B. Metreau | D139: ='total Scrap'!D139 -> 95642 | E139: ='total Scrap'!E139 -> 56052F226071 | F139: ='total Scrap'!F139 -> WIRE RR UPR MAIN | G139: ='total Scrap'!G139 -> 1 | H139: ='total Scrap'!H139 -> 16.04 | ... K139: ='total Scrap'!K139 -> FILS COUPÉS AU MONTAGE | L139: =Tableau7[[#This Row],[facteur associé]] -> 4 | M139: =Tableau6[[#This Row],[facteur récurrence]] -> 4 | N139: =_xlfn.IFS(M139>32,"CRITIQUE",M139<=8,"RAS",M139<=16,"ATTENTION",M139<=32,"DANGER") -> RAS | Q139: =O139+6*30+3 -> 183
A140: ='total Scrap'!A140 -> 10/2020 | B140: ='total Scrap'!B140 -> 73082 | C140: ='total Scrap'!C140 -> C. Poli Marchetti | D140: ='total Scrap'!D140 -> 96707 | E140: ='total Scrap'!E140 -> 53220F219071 | F140: ='total Scrap'!F140 -> PANEL ASSY,INSTRUMENT,LH | G140: ='total Scrap'!G140 -> 1 | H140: ='total Scrap'!H140 -> 15.8966 | ... K140: ='total Scrap'!K140 -> RAYÉ | L140: =Tableau7[[#This Row],[facteur associé]] -> 4 | M140: =Tableau6[[#This Row],[facteur récurrence]] -> 4 | N140: =_xlfn.IFS(M140>32,"CRITIQUE",M140<=8,"RAS",M140<=16,"ATTENTION",M140<=32,"DANGER") -> RAS | Q140: =O140+6*30+3 -> 183
... A169: ='total Scrap'!A169 -> 11/2020 | B169: ='total Scrap'!B169 -> 73082 | C169: ='total Scrap'!C169 -> C. Poli Marchetti | D169: ='total Scrap'!D169 -> 96717 | E169: ='total Scrap'!E169 -> 89661UM090 | F169: ='total Scrap'!F169 -> COMPUTER, ENGINE CONTROL | G169: ='total Scrap'!G169 -> 1 | H169: ='total Scrap'!H169 -> 161.78 | ... K169: ='total Scrap'!K169 -> PLASTIQUE AU NIVEAU DE LA PRISE CASSÉ | L169: =Tableau7[[#This Row],[facteur associé]] -> 4 | M169: =Tableau6[[#This Row],[facteur récurrence]] -> 4 | N169: =_xlfn.IFS(M169>32,"CRITIQUE",M169<=8,"RAS",M169<=16,"ATTENTION",M169<=32,"DANGER") -> RAS | Q169: =O169+6*30+3 -> 183
A170: ='total Scrap'!A48 -> 07/2020 | B170: ='total Scrap'!B48 -> 72007 | C170: ='total Scrap'!C48 -> JP Dupas | D170: ='total Scrap'!D48 -> 95767 | E170: ='total Scrap'!E48 -> 55213F218171 | F170: ='total Scrap'!F48 -> GLASS,FR | G170: ='total Scrap'!G48 -> 1 | H170: ='total Scrap'!H48 -> 32.65 | ... K170: ='total Scrap'!K48 -> PARE BRISE ABIMÉ PAR DES GRAINS DE SOUDURE LORS DE L'INTERVENTION AFF | L170: =Tableau7[[#This Row],[facteur associé]] -> 4 | M170: =Tableau6[[#This Row],[facteur récurrence]] -> 4 | N170: =_xlfn.IFS(M170>32,"CRITIQUE",M170<=8,"RAS",M170<=16,"ATTENTION",M170<=32,"DANGER") -> RAS | Q170: =O170+6*30+3 -> 183
A171: ='total Scrap'!A171 -> 11/2020 | B171: ='total Scrap'!B171 -> 73082 | C171: ='total Scrap'!C171 -> C. Poli Marchetti | D171: ='total Scrap'!D171 -> 95744 | E171: ='total Scrap'!E171 -> 56210F118071 | F171: ='total Scrap'!F171 -> WIRE, ENGINE | G171: ='total Scrap'!G171 -> 1 | H171: ='total Scrap'!H171 -> 87.93 | ... K171: ='total Scrap'!K171 -> PRISE ET CLIPS HS | L171: =Tableau7[[#This Row],[facteur associé]] -> 4 | M171: =Tableau6[[#This Row],[facteur récurrence]] -> 4 | N171: =_xlfn.IFS(M171>32,"CRITIQUE",M171<=8,"RAS",M171<=16,"ATTENTION",M171<=32,"DANGER") -> RAS | Q171: =O171+6*30+3 -> 183
A172: ='total Scrap'!A172 -> 11/2020 | B172: ='total Scrap'!B172 -> 72999 | C172: ='total Scrap'!C172 -> B. Metreau | D172: ='total Scrap'!D172 -> 95991 | E172: ='total Scrap'!E172 -> 8987125010 | F172: ='total Scrap'!F172 -> CONTROLLER ASSY, FUEL INJECTION | G172: ='total Scrap'!G172 -> 1 | H172: ='total Scrap'!H172 -> 87.45 | ... K172: ='total Scrap'!K172 -> FIXATION CASSÉE | L172: =Tableau7[[#This Row],[facteur associé]] -> 4 | M172: =Tableau6[[#This Row],[facteur récurrence]] -> 4 | N172: =_xlfn.IFS(M172>32,"CRITIQUE",M172<=8,"RAS",M172<=16,"ATTENTION",M172<=32,"DANGER") -> RAS | Q172: =O172+6*30+3 -> 183
A173: ='total Scrap'!A49 -> 07/2020 | B173: ='total Scrap'!B49 -> 73069 | C173: ='total Scrap'!C49 -> T. Boudard | D173: ='total Scrap'!D49 -> 95770 | E173: ='total Scrap'!E49 -> 55213F218171 | F173: ='total Scrap'!F49 -> GLASS,FR | G173: ='total Scrap'!G49 -> 1 | H173: ='total Scrap'!H49 -> 32.65 | ... K173: ='total Scrap'!K49 -> RAYÉ | L173: =Tableau7[[#This Row],[facteur associé]] -> 4 | M173: =Tableau6[[#This Row],[facteur récurrence]] -> 4 | N173: =_xlfn.IFS(M173>32,"CRITIQUE",M173<=8,"RAS",M173<=16,"ATTENTION",M173<=32,"DANGER") -> RAS | Q173: =O173+6*30+3 -> 183
A174: ='total Scrap'!A174 -> 11/2020 | B174: ='total Scrap'!B174 -> 73082 | C174: ='total Scrap'!C174 -> C. Poli Marchetti | D174: ='total Scrap'!D174 -> 95738 | E174: ='total Scrap'!E174 -> 27060UB070 | F174: ='total Scrap'!F174 -> ALTERNATOR ASSY, W/REGULATOR | G174: ='total Scrap'!G174 -> 1 | H174: ='total Scrap'!H174 -> 65.82 | ... K174: ='total Scrap'!K174 -> PRISE MOULÉE HS | L174: =Tableau7[[#This Row],[facteur associé]] -> 4 | M174: =Tableau6[[#This Row],[facteur récurrence]] -> 4 | N174: =_xlfn.IFS(M174>32,"CRITIQUE",M174<=8,"RAS",M174<=16,"ATTENTION",M174<=32,"DANGER") -> RAS | Q174: =O174+6*30+3 -> 183
A175: ='total Scrap'!A175 -> 11/2020 | B175: ='total Scrap'!B175 -> 72999 | C175: ='total Scrap'!C175 -> B. Metreau | D175: ='total Scrap'!D175 -> 95984 | E175: ='total Scrap'!E175 -> 56044FPA2271 | F175: ='total Scrap'!F175 -> WIRE, MAIN, I-SITE | G175: ='total Scrap'!G175 -> 1 | H175: ='total Scrap'!H175 -> 40.95 | ... K175: ='total Scrap'!K175 -> CONNECTEUR J19 HS | L175: =Tableau7[[#This Row],[facteur associé]] -> 4 | M175: =Tableau6[[#This Row],[facteur récurrence]] -> 4 | N175: =_xlfn.IFS(M175>32,"CRITIQUE",M175<=8,"RAS",M175<=16,"ATTENTION",M175<=32,"DANGER") -> RAS | Q175: =O175+6*30+3 -> 183
A176: ='total Scrap'!A176 -> 11/2020 | B176: ='total Scrap'!B176 -> 72217 | C176: ='total Scrap'!C176 -> D. Peigné | D176: ='total Scrap'!D176 -> 96316 | E176: ='total Scrap'!E176 -> 566302661071 | F176: ='total Scrap'!F176 -> LAMP ASSY, COMBINATION RR, LED | G176: ='total Scrap'!G176 -> 1 | H176: ='total Scrap'!H176 -> 37.34 | ... K176: ='total Scrap'!K176 -> VIS HS SUR RAMPE DE FEUX IMPOSSIBLE A EXTRAIRE | L176: =Tableau7[[#This Row],[facteur associé]] -> 4 | M176: =Tableau6[[#This Row],[facteur récurrence]] -> 4 | N176: =_xlfn.IFS(M176>32,"CRITIQUE",M176<=8,"RAS",M176<=16,"ATTENTION",M176<=32,"DANGER") -> RAS | Q176: =O176+6*30+3 -> 183
A177: ='total Scrap'!A177 -> 11/2020 | B177: ='total Scrap'!B177 -> 72999 | C177: ='total Scrap'!C177 -> B. Metreau | D177: ='total Scrap'!D177 -> 95981 | E177: ='total Scrap'!E177 -> 233002665071 | F177: ='total Scrap'!F177 -> FILTER ASSY, FUEL | G177: ='total Scrap'!G177 -> 1 | H177: ='total Scrap'!H177 -> 31.22 | ... K177: ='total Scrap'!K177 -> PRISE CASSÉE 481 | L177: =Tableau7[[#This Row],[facteur associé]] -> 4 | M177: =Tableau6[[#This Row],[facteur récurrence]] -> 4 | N177: =_xlfn.IFS(M177>32,"CRITIQUE",M177<=8,"RAS",M177<=16,"ATTENTION",M177<=32,"DANGER") -> RAS | Q177: =O177+6*30+3 -> 183
A178: ='total Scrap'!A178 -> 11/2020 | B178: ='total Scrap'!B178 -> 73082 | C178: ='total Scrap'!C178 -> C. Poli Marchetti | D178: ='total Scrap'!D178 -> 95743 | E178: ='total Scrap'!E178 -> 38746F231171 | F178: ='total Scrap'!F178 -> VALVE | G178: ='total Scrap'!G178 -> 1 | H178: ='total Scrap'!H178 -> 30.91 | ... K178: ='total Scrap'!K178 -> FILETAGE HS | L178: =Tableau7[[#This Row],[facteur associé]] -> 4 | M178: =Tableau6[[#This Row],[facteur récurrence]] -> 4 | N178: =_xlfn.IFS(M178>32,"CRITIQUE",M178<=8,"RAS",M178<=16,"ATTENTION",M178<=32,"DANGER") -> RAS | Q178: =O178+6*30+3 -> 183
A179: ='total Scrap'!A179 -> 11/2020 | B179: ='total Scrap'!B179 -> 72217 | C179: ='total Scrap'!C179 -> D. Peigné | D179: ='total Scrap'!D179 -> 96208 | E179: ='total Scrap'!E179 -> 53233FPA2171 | F179: ='total Scrap'!F179 -> PANEL, INSTRUMENT, RH | G179: ='total Scrap'!G179 -> 1 | H179: ='total Scrap'!H179 -> 17.15 | ... K179: ='total Scrap'!K179 -> RAYÉ EN LE DÉMONTANT | L179: =Tableau7[[#This Row],[facteur associé]] -> 4 | M179: =Tableau6[[#This Row],[facteur récurrence]] -> 4 | N179: =_xlfn.IFS(M179>32,"CRITIQUE",M179<=8,"RAS",M179<=16,"ATTENTION",M179<=32,"DANGER") -> RAS | Q179: =O179+6*30+3 -> 183
A180: ='total Scrap'!A90 -> 09/2020 | B180: ='total Scrap'!B90 -> 72139 | C180: ='total Scrap'!C90 -> C. Pichon | D180: ='total Scrap'!D90 -> 95160 | E180: ='total Scrap'!E90 -> 55213F218171 | F180: ='total Scrap'!F90 -> GLASS,FR | G180: ='total Scrap'!G90 -> 3 | H180: ='total Scrap'!H90 -> 97.95 | ... K180: ='total Scrap'!K90 -> RAYURES | L180: =Tableau7[[#This Row],[facteur associé]] -> 4 | M180: =Tableau6[[#This Row],[facteur récurrence]] -> 4 | N180: =_xlfn.IFS(M180>32,"CRITIQUE",M180<=8,"RAS",M180<=16,"ATTENTION",M180<=32,"DANGER") -> RAS | Q180: =O180+6*30+3 -> 183
A181: ='total Scrap'!A181 -> 11/2020 | B181: ='total Scrap'!B181 -> 73082 | C181: ='total Scrap'!C181 -> C. Poli Marchetti | D181: ='total Scrap'!D181 -> 95733 | E181: ='total Scrap'!E181 -> 38711F331171 | F181: ='total Scrap'!F181 -> PIPE | G181: ='total Scrap'!G181 -> 1 | H181: ='total Scrap'!H181 -> 16.39 | ... K181: ='total Scrap'!K181 -> FILETS FLEXIBLE COTÉ DISTRIBUTEUR HS | L181: =Tableau7[[#This Row],[facteur associé]] -> 4 | M181: =Tableau6[[#This Row],[facteur récurrence]] -> 4 | N181: =_xlfn.IFS(M181>32,"CRITIQUE",M181<=8,"RAS",M181<=16,"ATTENTION",M181<=32,"DANGER") -> RAS | Q181: =O181+6*30+3 -> 183
A182: ='total Scrap'!A182 -> 11/2020 | B182: ='total Scrap'!B182 -> 73082 | C182: ='total Scrap'!C182 -> C. Poli Marchetti | D182: ='total Scrap'!D182 -> 95431 | E182: ='total Scrap'!E182 -> 53402F218171 | F182: ='total Scrap'!F182 -> TOE-BOARD SUB-ASSY, RR | G182: ='total Scrap'!G182 -> 1 | H182: ='total Scrap'!H182 -> 14.342 | ... K182: ='total Scrap'!K182 -> TORDU (COUPS DE FOURCHES) | L182: =Tableau7[[#This Row],[facteur associé]] -> 4 | M182: =Tableau6[[#This Row],[facteur récurrence]] -> 4 | N182: =_xlfn.IFS(M182>32,"CRITIQUE",M182<=8,"RAS",M182<=16,"ATTENTION",M182<=32,"DANGER") -> RAS | Q182: =O182+6*30+3 -> 183
A183: ='total Scrap'!A183 -> 11/2020 | B183: ='total Scrap'!B183 -> 73082 | C183: ='total Scrap'!C183 -> C. Poli Marchetti | D183: ='total Scrap'!D183 -> 96153 | E183: ='total Scrap'!E183 -> 53402F218171 | F183: ='total Scrap'!F183 -> TOE-BOARD SUB-ASSY, RR | G183: ='total Scrap'!G183 -> 1 | H183: ='total Scrap'!H183 -> 14.342 | ... K183: ='total Scrap'!K183 -> PLANCHER ABIMÉ ET DÉFORMÉ | L183: =Tableau7[[#This Row],[facteur associé]] -> 4 | M183: =Tableau6[[#This Row],[facteur récurrence]] -> 4 | N183: =_xlfn.IFS(M183>32,"CRITIQUE",M183<=8,"RAS",M183<=16,"ATTENTION",M183<=32,"DANGER") -> RAS | Q183: =O183+6*30+3 -> 183
A184: ='total Scrap'!A184 -> 11/2020 | B184: ='total Scrap'!B184 -> 73082 | C184: ='total Scrap'!C184 -> C. Poli Marchetti | D184: ='total Scrap'!D184 -> 95427 | E184: ='total Scrap'!E184 -> 17103F218071 | F184: ='total Scrap'!F184 -> GUARD SUB ASSY, MUFFLER | G184: ='total Scrap'!G184 -> 1 | H184: ='total Scrap'!H184 -> 14.04 | ... K184: ='total Scrap'!K184 -> GILLE DESSOUDÉE (COUPS) | L184: =Tableau7[[#This Row],[facteur associé]] -> 4 | M184: =Tableau6[[#This Row],[facteur récurrence]] -> 4 | N184: =_xlfn.IFS(M184>32,"CRITIQUE",M184<=8,"RAS",M184<=16,"ATTENTION",M184<=32,"DANGER") -> RAS | Q184: =O184+6*30+3 -> 183
A185: ='total Scrap'!A185 -> 11/2020 | B185: ='total Scrap'!B185 -> 73082 | C185: ='total Scrap'!C185 -> C. Poli Marchetti | D185: ='total Scrap'!D185 -> 96713 | E185: ='total Scrap'!E185 -> 53220F218071 | F185: ='total Scrap'!F185 -> PANEL ASSY, INSTRUMENT, LH | G185: ='total Scrap'!G185 -> 1 | H185: ='total Scrap'!H185 -> 13.5117 | ... K185: ='total Scrap'!K185 -> RAYURES | L185: =Tableau7[[#This Row],[facteur associé]] -> 4 | M185: =Tableau6[[#This Row],[facteur récurrence]] -> 4 | N185: =_xlfn.IFS(M185>32,"CRITIQUE",M185<=8,"RAS",M185<=16,"ATTENTION",M185<=32,"DANGER") -> RAS | Q185: =O185+6*30+3 -> 183
A186: ='total Scrap'!A186 -> 11/2020 | B186: ='total Scrap'!B186 -> 73069 | C186: ='total Scrap'!C186 -> T. Boudard | D186: ='total Scrap'!D186 -> 96652 | E186: ='total Scrap'!E186 -> 58508F318071 | F186: ='total Scrap'!F186 -> BAC, WASHER | G186: ='total Scrap'!G186 -> 1 | H186: ='total Scrap'!H186 -> 13.21 | ... K186: ='total Scrap'!K186 -> SORTIE PRODUIT LAVE-GLACE CASSÉE | L186: =Tableau7[[#This Row],[facteur associé]] -> 4 | M186: =Tableau6[[#This Row],[facteur récurrence]] -> 4 | N186: =_xlfn.IFS(M186>32,"CRITIQUE",M186<=8,"RAS",M186<=16,"ATTENTION",M186<=32,"DANGER") -> RAS | Q186: =O186+6*30+3 -> 183
A187: ='total Scrap'!A187 -> 11/2020 | B187: ='total Scrap'!B187 -> 72479 | C187: ='total Scrap'!C187 -> A. Albert | D187: ='total Scrap'!D187 -> 95191 | E187: ='total Scrap'!E187 -> 167202665171 | F187: ='total Scrap'!F187 -> SHROUD ASSY, FAN | G187: ='total Scrap'!G187 -> 1 | H187: ='total Scrap'!H187 -> 12.56 | ... K187: ='total Scrap'!K187 -> L'ÉCROU A CASSÉ SON LOGEMENT LORS DU SERRAGE | L187: =Tableau7[[#This Row],[facteur associé]] -> 4 | M187: =Tableau6[[#This Row],[facteur récurrence]] -> 4 | N187: =_xlfn.IFS(M187>32,"CRITIQUE",M187<=8,"RAS",M187<=16,"ATTENTION",M187<=32,"DANGER") -> RAS | Q187: =O187+6*30+3 -> 183
A188: ='total Scrap'!A188 -> 11/2020 | B188: ='total Scrap'!B188 -> 72999 | C188: ='total Scrap'!C188 -> B. Metreau | D188: ='total Scrap'!D188 -> 96716 | E188: ='total Scrap'!E188 -> 678202664171 | F188: ='total Scrap'!F188 -> LEVER ASSY, TILT, W/SWITCH & KNOB | G188: ='total Scrap'!G188 -> 1 | H188: ='total Scrap'!H188 -> 12.15 | ... K188: ='total Scrap'!K188 -> COUPS | L188: =Tableau7[[#This Row],[facteur associé]] -> 4 | M188: =Tableau6[[#This Row],[facteur récurrence]] -> 4 | N188: =_xlfn.IFS(M188>32,"CRITIQUE",M188<=8,"RAS",M188<=16,"ATTENTION",M188<=32,"DANGER") -> RAS | Q188: =O188+6*30+3 -> 183
...
