Workbook

Sheet total Scrap
A1: Month | B1: Team Leader | C1: Name | D1: FNC / SMR | E1: Part Number | F1: Part Name | G1: Qty | H1: Part cost € | I1: Handling cost € | J1: TOTAL Amount € | K1: Comments | L1: 1.1355
A2: 04/2020 | B2: 72999 | C2: =VLOOKUP(B2,'[1]Base Chef déquipe'!$A$1:$B$33,2,FALSE) -> B. Metreau | D2: 95402 | E2: 57110F118271 | F2: METER ASSY, COMBINATION | G2: 1 | H2: =39.26/L1 -> 34.575077 | I2: =IF(H2="","",13.72) -> 13.72 | J2: =IF(H2="","",SUM(H2:I2)) -> 48.295077 | K2: PIÈCE TOMBÉE LORS DU MONTAGE SUR CHAINE (PIECE CASSÉE)
A3: 04/2020 | B3: 72007 | C3: =VLOOKUP(B3,'[1]Base Chef déquipe'!$A$1:$B$33,2,FALSE) -> JP Dupas | D3: 95403 | E3: 57413F231071 | F3: BOX ASSY, KEYPAD, LOG-ON | G3: 1 | H3: 38.46 | I3: =IF(H3="","",13.72) -> 13.72 | J3: =IF(H3="","",SUM(H3:I3)) -> 52.18 | K3: MQ PIÈCE POUR VISSER LE DIJICODE (DÉMONTÉ PAR LA DES)
A4: 04/2020 | B4: 72999 | C4: =VLOOKUP(B4,'[1]Base Chef déquipe'!$A$1:$B$33,2,FALSE) -> B. Metreau | D4: 95504 | E4: 56232F231171 | F4: WIRE | G4: 1 | H4: 10.93 | I4: =IF(H4="","",13.72) -> 13.72 | J4: =IF(H4="","",SUM(H4:I4)) -> 24.65 | K4: PRISE ARRACHÉE DÉFAUT NOTÉ SUR LA CHECKLIST ASSEMBLAGE
A5: 05/2020 | B5: 72007 | C5: =VLOOKUP(B5,'[1]Base Chef déquipe'!$A$1:$B$33,2,FALSE) -> JP Dupas | D5: 95054 | E5: 52212FS2LC71 | F5: CARPET BOX AIR COOLER | G5: 1 | H5: 138 | I5: =IF(H5="","",13.72) -> 13.72 | J5: =IF(H5="","",SUM(H5:I5)) -> 151.72 | K5: HABILLAGE ABIMÉ EN ACTIONNANT LE SIÈGE
A6: 05/2020 | B6: 72999 | C6: =VLOOKUP(B6,'[1]Base Chef déquipe'!$A$1:$B$33,2,FALSE) -> B. Metreau | D6: 95703 | E6: 56031F222671 | F6: WIRE, SIDE LH | G6: 2 | H6: 67.92 | I6: =IF(H6="","",13.72) -> 13.72 | J6: =IF(H6="","",SUM(H6:I6)) -> 81.64 | K6: PRISE BLANCHE ALIM MINI-LEVER HS
A7: 05/2020 | B7: 73082 | C7: =VLOOKUP(B7,'[1]Base Chef déquipe'!$A$1:$B$33,2,FALSE) -> C. Poli Marchetti | D7: 95709 | E7: 56062F221271 | F7: WIRE, HOOD SUB NO.1 | G7: 1 | H7: 46.85 | I7: =IF(H7="","",13.72) -> 13.72 | J7: =IF(H7="","",SUM(H7:I7)) -> 60.57 | K7: CONNECTEUR ALIM DU SIÈGE HS
A8: 05/2020 | B8: 72062 | C8: =VLOOKUP(B8,'[1]Base Chef déquipe'!$A$1:$B$33,2,FALSE) -> P. Sauvaget | D8: 95708 | E8: 56021F219471 | F8: WIRE, ENGINE | G8: 1 | H8: 46.77 | I8: =IF(H8="","",13.72) -> 13.72 | J8: =IF(H8="","",SUM(H8:I8)) -> 60.49 | K8: SUPPORT FUSIBLES HS
A9: 05/2020 | B9: 72062 | C9: =VLOOKUP(B9,'[1]Base Chef déquipe'!$A$1:$B$33,2,FALSE) -> P. Sauvaget | D9: 95707 | E9: 56021F220271 | F9: WIRE, ENGINE | G9: 1 | H9: 24.82 | I9: =IF(H9="","",13.72) -> 13.72 | J9: =IF(H9="","",SUM(H9:I9)) -> 38.54 | K9: VIS DE FIXATION FAISCEAU SUR FUSIBLE HS
A10: 05/2020 | B10: 73082 | C10: =VLOOKUP(B10,'[1]Base Chef déquipe'!$A$1:$B$33,2,FALSE) -> C. Poli Marchetti | D10: 95763 | E10: 55537F318471 | F10: COVER, INNER, DOOR, RH, UPR | G10: 1 | H10: 13.87 | I10: =IF(H10="","",13.72) -> 13.72 | J10: =IF(H10="","",SUM(H10:I10)) -> 27.59 | K10: CAPITONNAGE COUPÉ
A11: 05/2020 | B11: 72999 | C11: =VLOOKUP(B11,'[1]Base Chef déquipe'!$A$1:$B$33,2,FALSE) -> B. Metreau | D11: 95705 | E11: 56062FSU1U71 | F11: WIRE HOOD (56062-F2212-71) | G11: 1 | H11: 13.5 | I11: =IF(H11="","",13.72) -> 13.72 | J11: =IF(H11="","",SUM(H11:I11)) -> 27.22 | K11: FIL COUPÉ SUR CHAINE
A12: 06/2020 | B12: 72999 | C12: =VLOOKUP(B12,'[1]Base Chef déquipe'!$A$1:$B$33,2,FALSE) -> B. Metreau | D12: 95952 | E12: 175702660371 | F12: MUFFLER ASSY, CATALYTIC | G12: 1 | H12: 179.91 | I12: =IF(H12="","",13.72) -> 13.72 | J12: =IF(H12="","",SUM(H12:I12)) -> 193.63 | K12: FILETAGE HS LORS DU SERRAGE 078 225897
A13: 06/2020 | B13: 73082 | C13: =VLOOKUP(B13,'[1]Base Chef déquipe'!$A$1:$B$33,2,FALSE) -> C. Poli Marchetti | D13: 95619 | E13: 16420F221171 | F13: RADIATOR ASSY | G13: 1 | H13: 71.35 | I13: =IF(H13="","",13.72) -> 13.72 | J13: =IF(H13="","",SUM(H13:I13)) -> 85.07 | K13: COUPS SUR RADIATEUR
A14: 06/2020 | B14: 73082 | C14: =VLOOKUP(B14,'[1]Base Chef déquipe'!$A$1:$B$33,2,FALSE) -> C. Poli Marchetti | D14: 95704 | E14: 169202661071 | F14: COOLER ASSY, HYD OIL | G14: 1 | H14: 45.29 | I14: =IF(H14="","",13.72) -> 13.72 | J14: =IF(H14="","",SUM(H14:I14)) -> 59.01 | K14: AILETTES SUR RADIATEUR HS 817 224942
... A297: 03/2021 | B297: 72999 | C297: =VLOOKUP(B297,'[1]Base Chef déquipe'!$A$1:$B$33,2,FALSE) -> B. Metreau | D297: 96555 | E297: 111802665171 | F297: ENGINE ASSY 1ZS | G297: 1 | H297: 159.92 | I297: =IF(H297="","",13.72) -> 13.72 | J297: =IF(H297="","",SUM(H297:I297)) -> 173.64 | K297: INJECTEUR HS
A298: 03/2021 | B298: 72886 | C298: =VLOOKUP(B298,'[1]Base Chef déquipe'!$A$1:$B$33,2,FALSE) -> K. Julien | D298: 97137 | E298: 1B03095 | F298: SHAFT | G298: 25 | H298: =G298*5.75 -> 143.75 | I298: =IF(H298="","",13.72) -> 13.72 | J298: =IF(H298="","",SUM(H298:I298)) -> 157.47 | K298: TARAUDAGE DE M16X2 AU LIEU DE M16X1,5
A299: 03/2021 | B299: 73082 | C299: =VLOOKUP(B299,'[1]Base Chef déquipe'!$A$1:$B$33,2,FALSE) -> C. Poli Marchetti | D299: 95668 | E299: 455103664071 | F299: VALVE ASSY, POWER STEERING | G299: 1 | H299: 132.18 | I299: =IF(H299="","",13.72) -> 13.72 | J299: =IF(H299="","",SUM(H299:I299)) -> 145.9 | K299: FIL COUPÉ
A300: 03/2021 | B300: 73069 | C300: =VLOOKUP(B300,'[1]Base Chef déquipe'!$A$1:$B$33,2,FALSE) -> T. Boudard | D300: 96683 | E300: 2A28008 | F300: FRONT SLIDING GLASS LH | G300: 1 | H300: 129.49 | I300: =IF(H300="","",13.72) -> 13.72 | J300: =IF(H300="","",SUM(H300:I300)) -> 143.21 | K300: EN RETIRANT LA BAIE COLLÉE SUR LA PORTE ELLE S'EST CASSÉE
A301: 03/2021 | B301: 72999 | C301: =VLOOKUP(B301,'[1]Base Chef déquipe'!$A$1:$B$33,2,FALSE) -> B. Metreau | D301: 96619 | E301: 56210F225071 | F301: WIRE, ENGINE | G301: 1 | H301: 128.42 | I301: =IF(H301="","",13.72) -> 13.72 | J301: =IF(H301="","",SUM(H301:I301)) -> 142.14 | K301: PRISE HS
A302: 03/2021 | B302: 73082 | C302: =VLOOKUP(B302,'[1]Base Chef déquipe'!$A$1:$B$33,2,FALSE) -> C. Poli Marchetti | D302: 96617 | E302: 56210F225071 | F302: WIRE, ENGINE | G302: 1 | H302: 127.96 | I302: =IF(H302="","",13.72) -> 13.72 | J302: =IF(H302="","",SUM(H302:I302)) -> 141.68 | K302: CODE ERREUR OC-2
A303: 03/2021 | B303: 73082 | C303: =VLOOKUP(B303,'[1]Base Chef déquipe'!$A$1:$B$33,2,FALSE) -> C. Poli Marchetti | D303: 96567 | E303: 537302670571 | F303: SEAT ASSY | G303: 1 | H303: 117.18 | I303: =IF(H303="","",13.72) -> 13.72 | J303: =IF(H303="","",SUM(H303:I303)) -> 130.9 | K303: OUVERTURE BOITE DOCS HS
A304: 03/2021 | B304: 72999 | C304: =VLOOKUP(B304,'[1]Base Chef déquipe'!$A$1:$B$33,2,FALSE) -> B. Metreau | D304: 97812 | E304: 565302660071 | F304: LAMP ASSY, COMBINATION HEAD, LED | G304: 1 | H304: 97.19 | I304: =IF(H304="","",13.72) -> 13.72 | J304: =IF(H304="","",SUM(H304:I304)) -> 110.91 | K304: PRISE ARRACHÉE
A305: 03/2021 | B305: 73082 | C305: =VLOOKUP(B305,'[1]Base Chef déquipe'!$A$1:$B$33,2,FALSE) -> C. Poli Marchetti | D305: 97224 | E305: 281002665171 | F305: STARTER ASSY | G305: 1 | H305: 94.69 | I305: =IF(H305="","",13.72) -> 13.72 | J305: =IF(H305="","",SUM(H305:I305)) -> 108.41 | K305: PRISE SUR DEMARREUR HS
A306: 03/2021 | B306: 73082 | C306: =VLOOKUP(B306,'[1]Base Chef déquipe'!$A$1:$B$33,2,FALSE) -> C. Poli Marchetti | D306: 95562 | E306: 470303661171 | F306: BRAKE ASSY, RH | G306: 1 | H306: 88.54 | I306: =IF(H306="","",13.72) -> 13.72 | J306: =IF(H306="","",SUM(H306:I306)) -> 102.26 | K306: CABLE DE FREIN HS
A307: 03/2021 | B307: 72999 | C307: =VLOOKUP(B307,'[1]Base Chef déquipe'!$A$1:$B$33,2,FALSE) -> B. Metreau | D307: 95666 | E307: 56210F219071 | F307: WIRE, ENGINE | G307: 1 | H307: 80.57 | I307: =IF(H307="","",13.72) -> 13.72 | J307: =IF(H307="","",SUM(H307:I307)) -> 94.29 | K307: PRISE CASSÉE SUR FAISCEAU MOTEUR
A308: 03/2021 | B308: 72999 | C308: =VLOOKUP(B308,'[1]Base Chef déquipe'!$A$1:$B$33,2,FALSE) -> B. Metreau | D308: 96563 | E308: 56210F219071 | F308: WIRE, ENGINE | G308: 1 | H308: 80.57 | I308: =IF(H308="","",13.72) -> 13.72 | J308: =IF(H308="","",SUM(H308:I308)) -> 94.29 | K308: PRISE HS
A309: 03/2021 | B309: 72999 | C309: =VLOOKUP(B309,'[1]Base Chef déquipe'!$A$1:$B$33,2,FALSE) -> B. Metreau | D309: 96747 | E309: 56210F219071 | F309: WIRE, ENGINE | G309: 1 | H309: 80.31 | I309: =IF(H309="","",13.72) -> 13.72 | J309: =IF(H309="","",SUM(H309:I309)) -> 94.03 | K309: PRISE HS
A310: 03/2021 | B310: 72999 | C310: =VLOOKUP(B310,'[1]Base Chef déquipe'!$A$1:$B$33,2,FALSE) -> B. Metreau | D310: 96750 | E310: 56210F219071 | F310: WIRE, ENGINE | G310: 1 | H310: 80.31 | I310: =IF(H310="","",13.72) -> 13.72 | J310: =IF(H310="","",SUM(H310:I310)) -> 94.03 | K310: PRISE HS
... A341: 03/2021 | B341: 72999 | C341: =VLOOKUP(B341,'[1]Base Chef déquipe'!$A$1:$B$33,2,FALSE) -> B. Metreau | D341: 97809 | E341: 688022654071 | F341: PULLEY SUB-ASSY, HOSE GUIDE | G341: 1 | H341: 4.1 | I341: =IF(H341="","",13.72) -> 13.72 | J341: =IF(H341="","",SUM(H341:I341)) -> 17.82 | K341: POULIE CASSÉE LORS DU MONTAGE
A342: 04/2021 | B342: 73069 | C342: =VLOOKUP(B342,'[2]Base Chef déquipe'!$A$1:$B$33,2,FALSE) -> T. Boudard | D342: 96684 | E342: 676303655071 | F342: VALVE ASSY, OIL CONTROL | G342: 1 | H342: 435.29 | I342: =IF(H342="","",13.72) -> 13.72 | J342: =IF(H342="","",SUM(H342:I342)) -> 449.01 | K342: FIL ALIM DU SOLÉNOÏDE HS
A343: 04/2021 | B343: 72999 | C343: =VLOOKUP(B343,'[2]Base Chef déquipe'!$A$1:$B$33,2,FALSE) -> B. Metreau | D343: 98058 | E343: 425102667071 | F343: AXLE ASSY, DIFF | G343: 1 | H343: 100.94 | I343: =IF(H343="","",13.72) -> 13.72 | J343: =IF(H343="","",SUM(H343:I343)) -> 114.66 | K343: FLASQUE AV DU PONT ABIMÉE AU MONTAGE 02 508 233351
A344: 04/2021 | B344: 72999 | C344: =VLOOKUP(B344,'[2]Base Chef déquipe'!$A$1:$B$33,2,FALSE) -> B. Metreau | D344: 96623 | E344: 565302660071 | F344: LAMP ASSY, COMBINATION HEAD, LED | G344: 1 | H344: 97.19 | I344: =IF(H344="","",13.72) -> 13.72 | J344: =IF(H344="","",SUM(H344:I344)) -> 110.91 | K344: FILS ARRACHÉS SUR CHAINE
A345: 04/2021 | B345: 72999 | C345: =VLOOKUP(B345,'[2]Base Chef déquipe'!$A$1:$B$33,2,FALSE) -> B. Metreau | D345: 97820 | E345: 565302660071 | F345: LAMP ASSY, COMBINATION HEAD, LED | G345: 1 | H345: 97.19 | I345: =IF(H345="","",13.72) -> 13.72 | J345: =IF(H345="","",SUM(H345:I345)) -> 110.91 | K345: PHARE CASSÉ APRÈS UNE CHUTE
A346: 04/2021 | B346: 72238 | C346: =VLOOKUP(B346,'[2]Base Chef déquipe'!$A$1:$B$33,2,FALSE) -> D. Rouez | D346: 97818 | E346: 8987125010 | F346: CONTROLLER ASSY, FUEL INJECTION | G346: 1 | H346: 87.45 | I346: =IF(H346="","",13.72) -> 13.72 | J346: =IF(H346="","",SUM(H346:I346)) -> 101.17 | K346: PATTE DE FIXATION CASSÉE
A347: 04/2021 | B347: 72999 | C347: =VLOOKUP(B347,'[2]Base Chef déquipe'!$A$1:$B$33,2,FALSE) -> B. Metreau | D347: 96570 | E347: 461502661271 | F347: PEDAL ASSY, PARKING BRAKE | G347: 1 | H347: 47.5 | I347: =IF(H347="","",13.72) -> 13.72 | J347: =IF(H347="","",SUM(H347:I347)) -> 61.22 | K347: SUPPORT CABLE HS
A348: 04/2021 | B348: 73069 | C348: =VLOOKUP(B348,'[2]Base Chef déquipe'!$A$1:$B$33,2,FALSE) -> T. Boudard | D348: 97960 | E348: 565903676071 | F348: LAMP ASSY, HEAD | G348: 1 | H348: 43.72 | I348: =IF(H348="","",13.72) -> 13.72 | J348: =IF(H348="","",SUM(H348:I348)) -> 57.44 | K348: PRARE CASSÉ LORS DU DÉBALLAGE (TOMBÉ)
A349: 04/2021 | B349: 72238 | C349: =VLOOKUP(B349,'[2]Base Chef déquipe'!$A$1:$B$33,2,FALSE) -> D. Rouez | D349: 97822 | E349: 566302661071 | F349: LAMP ASSY, COMBINATION RR, LED | G349: 1 | H349: 37.34 | I349: =IF(H349="","",13.72) -> 13.72 | J349: =IF(H349="","",SUM(H349:I349)) -> 51.06 | K349: PRISE HS
A350: 04/2021 | B350: 72999 | C350: =VLOOKUP(B350,'[2]Base Chef déquipe'!$A$1:$B$33,2,FALSE) -> B. Metreau | D350: 96568 | E350: 56062F321071 | F350: WIRE, HOOD SUB NO.1 | G350: 1 | H350: 33.62 | I350: =IF(H350="","",13.72) -> 13.72 | J350: =IF(H350="","",SUM(H350:I350)) -> 47.34 | K350: FILS COUPÉS
A351: 04/2021 | B351: 72999 | C351: =VLOOKUP(B351,'[2]Base Chef déquipe'!$A$1:$B$33,2,FALSE) -> B. Metreau | D351: 97663 | E351: 68402F220071 | F351: PIPE SUB-ASSY, INNER | G351: 1 | H351: 33.53 | I351: =IF(H351="","",13.72) -> 13.72 | J351: =IF(H351="","",SUM(H351:I351)) -> 47.25 | K351: FILETAGE CONNECTEUR HS
A352: 04/2021 | B352: 72238 | C352: =VLOOKUP(B352,'[2]Base Chef déquipe'!$A$1:$B$33,2,FALSE) -> D. Rouez | D352: 96576 | E352: 56310F125071 | F352: WIRE SIDE LH | G352: 1 | H352: 22.48 | I352: =IF(H352="","",13.72) -> 13.72 | J352: =IF(H352="","",SUM(H352:I352)) -> 36.2 | K352: PRISE OPS CASSÉE
...

Sheet récurrence
A1: Month | B1: FNC / SMR | C1: Part Number | D1: Nombres de jours moyens entre deux occurrences | E1: facteur associé | F1: Références | G1: Nombre | H1: Références ponctuelles | I1: Nombre | J1: références avec occurrence >1 | K1: Nombre | L1: Nombre d'occurrences | M1: OCCURENCE1 | N1: OCCURENCE2 | O1: OCCURENCE3 | P1: OCCURENCE4 | Q1: OCCURENCE5 | R1: OCCURENCE6 | S1: OCCURENCE7 | T1: OCCURENCE8 | U1: OCCURENCE9 | V1: OCCURENCE10 | W1: OCCURENCE11 | X1: OCCURENCE12 | Y1: OCCURENCE13 | Z1: OCCURENCE14 | AA1: OCCURENCE15 | AB1: OCCURENCE16 | AC1: OCCURENCE17 | AD1: OCCURENCE18 | AE1: OCCURENCE19 | AF1: OCCURENCE20 | AG1: OCCURENCE21 | AH1: OCCURENCE22 | AI1: OCCURENCE23 | AJ1: OCCURENCE24 | AK1: OCCURENCE25 | AL1: OCCURENCE26 | AM1: OCCURENCE27 | AN1: OCCURENCE28 | AO1: OCCURENCE29 | AP1: OCCURENCE30 | AQ1: OCCURENCE31 | AR1: OCCURENCE32 | AS1: OCCURENCE33 | AT1: OCCURENCE34 | AU1: OCCURENCE35 | AV1: OCCURENCE36 | AW1: OCCURENCE37 | AX1: OCCURENCE38 | AY1: OCCURENCE39 | AZ1: OCCURENCE40 | BA1: OCCURENCE41 | BB1: OCCURENCE42 | BC1: OCCURENCE43 | BD1: OCCURENCE44 | BE1: OCCURENCE45 | BF1: OCCURENCE46 | BG1: OCCURENCE47 | BH1: OCCURENCE48 | BI1: OCCURENCE49 | BJ1: OCCURENCE50 | BK1: Colonne1
A2: ='total Scrap'!A2 -> 04/2020 | B2: ='total Scrap'!D2 -> 95402 | C2: ='total Scrap'!E2 -> 57110F118271 | D2: {=IF(COUNTIF(_xlfn.ANCHORARRAY($J$2),Tableau7[[#This Row],[Part Number]]),IFERROR(SUM(_xlfn._xlws.FILTER((N2:BJ2)-(M2:BI2),(N2:BJ2)-(M2:BI2)>0))/(L2-1),0),0)} -> 0 | E2: =_xlfn.IFS(Tableau7[[#This Row],[Nombres de jours moyens entre deux occurrences]]<=45,4,Tableau7[[#This Row],[Nombres de jours moyens entre deux occurrences]]<=90,3,Tableau7[[#This Row],[Nombres de jours moyens entre deux occurrences]]<=135,2,Tableau7[[#This Row],[Nombres de jours moyens entre deux occurrences]]>135,1) -> 4 | F2: {=_xlfn.UNIQUE(Total_scrap[Part Number])} -> 57110F118271 | G2: =COUNTIFS(_xlfn.ANCHORARRAY(F2),"<>") -> 252 | H2: {=_xlfn.UNIQUE(Total_scrap[Part Number],FALSE,TRUE)} -> 57110F118271 | I2: =COUNTIFS(_xlfn.ANCHORARRAY(H2),"<>") -> 174 | J2: {=_xlfn._xlws.FILTER(_xlfn.ANCHORARRAY(F2),COUNTIF(_xlfn.ANCHORARRAY(H2),_xlfn.ANCHORARRAY(F2))=0)} -> 57413F231071 | K2: =COUNTIFS(_xlfn.ANCHORARRAY(J2),"<>") -> 78 | L2: {=COUNTIF(Total_scrap[Part Number],_xlfn.ANCHORARRAY(J2))} -> 2 | M2: {=TRANSPOSE(_xlfn._xlws.FILTER(Total_scrap[Month],(Total_scrap[Part Number]=J2)))} -> 04/2020 | N2: 06/2021 | BK2: {=IFERROR(SUM(_xlfn._xlws.FILTER((N2:BJ2)-(M2:BI2),(N2:BJ2)-(M2:BI2)>0))/(L2-1),0)} -> 426
A3: ='total Scrap'!A3 -> 04/2020 | B3: ='total Scrap'!D3 -> 95403 | C3: ='total Scrap'!E3 -> 57413F231071 | D3: {=IF(COUNTIF(_xlfn.ANCHORARRAY($J$2),Tableau7[[#This Row],[Part Number]]),IFERROR(SUM(_xlfn._xlws.FILTER((N3:BJ3)-(M3:BI3),(N3:BJ3)-(M3:BI3)>0))/(L3-1),0),0)} -> 153 | E3: =_xlfn.IFS(Tableau7[[#This Row],[Nombres de jours moyens entre deux occurrences]]<=45,4,Tableau7[[#This Row],[Nombres de jours moyens entre deux occurrences]]<=90,3,Tableau7[[#This Row],[Nombres de jours moyens entre deux occurrences]]<=135,2,Tableau7[[#This Row],[Nombres de jours moyens entre deux occurrences]]>135,1) -> 1 | F3: 57413F231071 | H3: 56232F231171 | J3: 52212FS2LC71 | L3: 2 | M3: {=TRANSPOSE(_xlfn._xlws.FILTER(Total_scrap[Month],(Total_scrap[Part Number]=J3)))} -> 05/2020 | N3: 10/2020 | BK3: {=IFERROR(SUM(_xlfn._xlws.FILTER((N3:BJ3)-(M3:BI3),(N3:BJ3)-(M3:BI3)>0))/(L3-1),0)} -> 153
A4: ='total Scrap'!A4 -> 04/2020 | B4: ='total Scrap'!D4 -> 95504 | C4: ='total Scrap'!E4 -> 56232F231171 | D4: {=IF(COUNTIF(_xlfn.ANCHORARRAY($J$2),Tableau7[[#This Row],[Part Number]]),IFERROR(SUM(_xlfn._xlws.FILTER((N4:BJ4)-(M4:BI4),(N4:BJ4)-(M4:BI4)>0))/(L4-1),0),0)} -> 0 | E4: =_xlfn.IFS(Tableau7[[#This Row],[Nombres de jours moyens entre deux occurrences]]<=45,4,Tableau7[[#This Row],[Nombres de jours moyens entre deux occurrences]]<=90,3,Tableau7[[#This Row],[Nombres de jours moyens entre deux occurrences]]<=135,2,Tableau7[[#This Row],[Nombres de jours moyens entre deux occurrences]]>135,1) -> 4 | F4: 56232F231171 | H4: 56031F222671 | J4: 56021F219471 | L4: 2 | M4: {=TRANSPOSE(_xlfn._xlws.FILTER(Total_scrap[Month],(Total_scrap[Part Number]=J4)))} -> 05/2020 | N4: 03/2021 | BK4: {=IFERROR(SUM(_xlfn._xlws.FILTER((N4:BJ4)-(M4:BI4),(N4:BJ4)-(M4:BI4)>0))/(L4-1),0)} -> 304
A5: ='total Scrap'!A5 -> 05/2020 | B5: ='total Scrap'!D5 -> 95054 | C5: ='total Scrap'!E5 -> 52212FS2LC71 | D5: {=IF(COUNTIF(_xlfn.ANCHORARRAY($J$2),Tableau7[[#This Row],[Part Number]]),IFERROR(SUM(_xlfn._xlws.FILTER((N5:BJ5)-(M5:BI5),(N5:BJ5)-(M5:BI5)>0))/(L5-1),0),0)} -> 31 | E5: =_xlfn.IFS(Tableau7[[#This Row],[Nombres de jours moyens entre deux occurrences]]<=45,4,Tableau7[[#This Row],[Nombres de jours moyens entre deux occurrences]]<=90,3,Tableau7[[#This Row],[Nombres de jours moyens entre deux occurrences]]<=135,2,Tableau7[[#This Row],[Nombres de jours moyens entre deux occurrences]]>135,1) -> 4 | F5: 52212FS2LC71 | H5: 56062F221271 | J5: 56021F220271 | L5: 2 | M5: {=TRANSPOSE(_xlfn._xlws.FILTER(Total_scrap[Month],(Total_scrap[Part Number]=J5)))} -> 05/2020 | N5: 06/2020 | BK5: {=IFERROR(SUM(_xlfn._xlws.FILTER((N5:BJ5)-(M5:BI5),(N5:BJ5)-(M5:BI5)>0))/(L5-1),0)} -> 31
A6: ='total Scrap'!A6 -> 05/2020 | B6: ='total Scrap'!D6 -> 95703 | C6: ='total Scrap'!E6 -> 56031F222671 | D6: {=IF(COUNTIF(_xlfn.ANCHORARRAY($J$2),Tableau7[[#This Row],[Part Number]]),IFERROR(SUM(_xlfn._xlws.FILTER((N6:BJ6)-(M6:BI6),(N6:BJ6)-(M6:BI6)>0))/(L6-1),0),0)} -> 0 | E6: =_xlfn.IFS(Tableau7[[#This Row],[Nombres de jours moyens entre deux occurrences]]<=45,4,Tableau7[[#This Row],[Nombres de jours moyens entre deux occurrences]]<=90,3,Tableau7[[#This Row],[Nombres de jours moyens entre deux occurrences]]<=135,2,Tableau7[[#This Row],[Nombres de jours moyens entre deux occurrences]]>135,1) -> 4 | F6: 56031F222671 | H6: 56062FSU1U71 | J6: 55537F318471 | L6: 2 | M6: {=TRANSPOSE(_xlfn._xlws.FILTER(Total_scrap[Month],(Total_scrap[Part Number]=J6)))} -> 05/2020 | N6: 01/2021 | BK6: {=IFERROR(SUM(_xlfn._xlws.FILTER((N6:BJ6)-(M6:BI6),(N6:BJ6)-(M6:BI6)>0))/(L6-1),0)} -> 245
A7: ='total Scrap'!A7 -> 05/2020 | B7: ='total Scrap'!D7 -> 95709 | C7: ='total Scrap'!E7 -> 56062F221271 | D7: {=IF(COUNTIF(_xlfn.ANCHORARRAY($J$2),Tableau7[[#This Row],[Part Number]]),IFERROR(SUM(_xlfn._xlws.FILTER((N7:BJ7)-(M7:BI7),(N7:BJ7)-(M7:BI7)>0))/(L7-1),0),0)} -> 0 | E7: =_xlfn.IFS(Tableau7[[#This Row],[Nombres de jours moyens entre deux occurrences]]<=45,4,Tableau7[[#This Row],[Nombres de jours moyens entre deux occurrences]]<=90,3,Tableau7[[#This Row],[Nombres de jours moyens entre deux occurrences]]<=135,2,Tableau7[[#This Row],[Nombres de jours moyens entre deux occurrences]]>135,1) -> 4 | F7: 56062F221271 | H7: 175702660371 | J7: 55227F218271 | L7: 2 | M7: {=TRANSPOSE(_xlfn._xlws.FILTER(Total_scrap[Month],(Total_scrap[Part Number]=J7)))} -> 06/2020 | N7: 10/2020 | BK7: {=IFERROR(SUM(_xlfn._xlws.FILTER((N7:BJ7)-(M7:BI7),(N7:BJ7)-(M7:BI7)>0))/(L7-1),0)} -> 122
A8: ='total Scrap'!A8 -> 05/2020 | B8: ='total Scrap'!D8 -> 95708 | C8: ='total Scrap'!E8 -> 56021F219471 | D8: {=IF(COUNTIF(_xlfn.ANCHORARRAY($J$2),Tableau7[[#This Row],[Part Number]]),IFERROR(SUM(_xlfn._xlws.FILTER((N8:BJ8)-(M8:BI8),(N8:BJ8)-(M8:BI8)>0))/(L8-1),0),0)} -> 0 | E8: =_xlfn.IFS(Tableau7[[#This Row],[Nombres de jours moyens entre deux occurrences]]<=45,4,Tableau7[[#This Row],[Nombres de jours moyens entre deux occurrences]]<=90,3,Tableau7[[#This Row],[Nombres de jours moyens entre deux occurrences]]<=135,2,Tableau7[[#This Row],[Nombres de jours moyens entre deux occurrences]]>135,1) -> 4 | F8: 56021F219471 | H8: 16420F221171 | J8: 68607F319071 | L8: 2 | M8: {=TRANSPOSE(_xlfn._xlws.FILTER(Total_scrap[Month],(Total_scrap[Part Number]=J8)))} -> 06/2020 | N8: 06/2020 | BK8: {=IFERROR(SUM(_xlfn._xlws.FILTER((N8:BJ8)-(M8:BI8),(N8:BJ8)-(M8:BI8)>0))/(L8-1),0)} -> 0
A9: ='total Scrap'!A9 -> 05/2020 | B9: ='total Scrap'!D9 -> 95707 | C9: ='total Scrap'!E9 -> 56021F220271 | D9: {=IF(COUNTIF(_xlfn.ANCHORARRAY($J$2),Tableau7[[#This Row],[Part Number]]),IFERROR(SUM(_xlfn._xlws.FILTER((N9:BJ9)-(M9:BI9),(N9:BJ9)-(M9:BI9)>0))/(L9-1),0),0)} -> 40.555556 | E9: =_xlfn.IFS(Tableau7[[#This Row],[Nombres de jours moyens entre deux occurrences]]<=45,4,Tableau7[[#This Row],[Nombres de jours moyens entre deux occurrences]]<=90,3,Tableau7[[#This Row],[Nombres de jours moyens entre deux occurrences]]<=135,2,Tableau7[[#This Row],[Nombres de jours moyens entre deux occurrences]]>135,1) -> 4 | F9: 56021F220271 | H9: 169202661071 | J9: 163612660071 | L9: 10 | M9: {=TRANSPOSE(_xlfn._xlws.FILTER(Total_scrap[Month],(Total_scrap[Part Number]=J9)))} -> 06/2020 | N9: 07/2020 | O9: 07/2020 | P9: 11/2020 | Q9: 12/2020 | R9: 02/2021 | S9: 02/2021 | T9: 02/2021 | U9: 03/2021 | V9: 06/2021 | BK9: {=IFERROR(SUM(_xlfn._xlws.FILTER((N9:BJ9)-(M9:BI9),(N9:BJ9)-(M9:BI9)>0))/(L9-1),0)} -> 40.555556
A10: ='total Scrap'!A10 -> 05/2020 | B10: ='total Scrap'!D10 -> 95763 | C10: ='total Scrap'!E10 -> 55537F318471 | D10: {=IF(COUNTIF(_xlfn.ANCHORARRAY($J$2),Tableau7[[#This Row],[Part Number]]),IFERROR(SUM(_xlfn._xlws.FILTER((N10:BJ10)-(M10:BI10),(N10:BJ10)-(M10:BI10)>0))/(L10-1),0),0)} -> 91.25 | E10: =_xlfn.IFS(Tableau7[[#This Row],[Nombres de jours moyens entre deux occurrences]]<=45,4,Tableau7[[#This Row],[Nombres de jours moyens entre deux occurrences]]<=90,3,Tableau7[[#This Row],[Nombres de jours moyens entre deux occurrences]]<=135,2,Tableau7[[#This Row],[Nombres de jours moyens entre deux occurrences]]>135,1) -> 2 | F10: 55537F318471 | H10: 28850F205071 | J10: 53220F219071 | L10: 5 | M10: {=TRANSPOSE(_xlfn._xlws.FILTER(Total_scrap[Month],(Total_scrap[Part Number]=J10)))} -> 06/2020 | N10: 07/2020 | O10: 10/2020 | P10: 04/2021 | Q10: 06/2021 | BK10: {=IFERROR(SUM(_xlfn._xlws.FILTER((N10:BJ10)-(M10:BI10),(N10:BJ10)-(M10:BI10)>0))/(L10-1),0)} -> 91.25
A11: ='total Scrap'!A11 -> 05/2020 | B11: ='total Scrap'!D11 -> 95705 | C11: ='total Scrap'!E11 -> 56062FSU1U71 | D11: {=IF(COUNTIF(_xlfn.ANCHORARRAY($J$2),Tableau7[[#This Row],[Part Number]]),IFERROR(SUM(_xlfn._xlws.FILTER((N11:BJ11)-(M11:BI11),(N11:BJ11)-(M11:BI11)>0))/(L11-1),0),0)} -> 0 | E11: =_xlfn.IFS(Tableau7[[#This Row],[Nombres de jours moyens entre deux occurrences]]<=45,4,Tableau7[[#This Row],[Nombres de jours moyens entre deux occurrences]]<=90,3,Tableau7[[#This Row],[Nombres de jours moyens entre deux occurrences]]<=135,2,Tableau7[[#This Row],[Nombres de jours moyens entre deux occurrences]]>135,1) -> 4 | F11: 56062FSU1U71 | H11: 574501247071 | J11: 451101247271 | L11: 3 | M11: {=TRANSPOSE(_xlfn._xlws.FILTER(Total_scrap[Month],(Total_scrap[Part Number]=J11)))} -> 06/2020 | N11: 07/2020 | O11: 09/2020 | BK11: {=IFERROR(SUM(_xlfn._xlws.FILTER((N11:BJ11)-(M11:BI11),(N11:BJ11)-(M11:BI11)>0))/(L11-1),0)} -> 46
A12: ='total Scrap'!A12 -> 06/2020 | B12: ='total Scrap'!D12 -> 95952 | C12: ='total Scrap'!E12 -> 175702660371 | D12: {=IF(COUNTIF(_xlfn.ANCHORARRAY($J$2),Tableau7[[#This Row],[Part Number]]),IFERROR(SUM(_xlfn._xlws.FILTER((N12:BJ12)-(M12:BI12),(N12:BJ12)-(M12:BI12)>0))/(L12-1),0),0)} -> 0 | E12: =_xlfn.IFS(Tableau7[[#This Row],[Nombres de jours moyens entre deux occurrences]]<=45,4,Tableau7[[#This Row],[Nombres de jours moyens entre deux occurrences]]<=90,3,Tableau7[[#This Row],[Nombres de jours moyens entre deux occurrences]]<=135,2,Tableau7[[#This Row],[Nombres de jours moyens entre deux occurrences]]>135,1) -> 4 | F12: 175702660371 | H12: 68608F319071 | J12: 565702665071 | L12: 3 | M12: {=TRANSPOSE(_xlfn._xlws.FILTER(Total_scrap[Month],(Total_scrap[Part Number]=J12)))} -> 06/2020 | N12: 06/2020 | O12: 07/2020 | BK12: {=IFERROR(SUM(_xlfn._xlws.FILTER((N12:BJ12)-(M12:BI12),(N12:BJ12)-(M12:BI12)>0))/(L12-1),0)} -> 15
A13: ='total Scrap'!A13 -> 06/2020 | B13: ='total Scrap'!D13 -> 95619 | C13: ='total Scrap'!E13 -> 16420F221171 | D13: {=IF(COUNTIF(_xlfn.ANCHORARRAY($J$2),Tableau7[[#This Row],[Part Number]]),IFERROR(SUM(_xlfn._xlws.FILTER((N13:BJ13)-(M13:BI13),(N13:BJ13)-(M13:BI13)>0))/(L13-1),0),0)} -> 0 | E13: =_xlfn.IFS(Tableau7[[#This Row],[Nombres de jours moyens entre deux occurrences]]<=45,4,Tableau7[[#This Row],[Nombres de jours moyens entre deux occurrences]]<=90,3,Tableau7[[#This Row],[Nombres de jours moyens entre deux occurrences]]<=135,2,Tableau7[[#This Row],[Nombres de jours moyens entre deux occurrences]]>135,1) -> 4 | F13: 16420F221171 | H13: 43251F210071 | J13: 2A14497G3 | L13: 3 | M13: {=TRANSPOSE(_xlfn._xlws.FILTER(Total_scrap[Month],(Total_scrap[Part Number]=J13)))} -> 06/2020 | N13: 10/2020 | O13: 06/2021 | BK13: {=IFERROR(SUM(_xlfn._xlws.FILTER((N13:BJ13)-(M13:BI13),(N13:BJ13)-(M13:BI13)>0))/(L13-1),0)} -> 182.5
A14: ='total Scrap'!A14 -> 06/2020 | B14: ='total Scrap'!D14 -> 95704 | C14: ='total Scrap'!E14 -> 169202661071 | D14: {=IF(COUNTIF(_xlfn.ANCHORARRAY($J$2),Tableau7[[#This Row],[Part Number]]),IFERROR(SUM(_xlfn._xlws.FILTER((N14:BJ14)-(M14:BI14),(N14:BJ14)-(M14:BI14)>0))/(L14-1),0),0)} -> 0 | E14: =_xlfn.IFS(Tableau7[[#This Row],[Nombres de jours moyens entre deux occurrences]]<=45,4,Tableau7[[#This Row],[Nombres de jours moyens entre deux occurrences]]<=90,3,Tableau7[[#This Row],[Nombres de jours moyens entre deux occurrences]]<=135,2,Tableau7[[#This Row],[Nombres de jours moyens entre deux occurrences]]>135,1) -> 4 | F14: 169202661071 | H14: 53211F318171 | J14: 17780F218071 | L14: 2 | M14: {=TRANSPOSE(_xlfn._xlws.FILTER(Total_scrap[Month],(Total_scrap[Part Number]=J14)))} -> 06/2020 | N14: 07/2020 | BK14: {=IFERROR(SUM(_xlfn._xlws.FILTER((N14:BJ14)-(M14:BI14),(N14:BJ14)-(M14:BI14)>0))/(L14-1),0)} -> 30
A15: ='total Scrap'!A15 -> 06/2020 | B15: ='total Scrap'!D15 -> 95614 | C15: ='total Scrap'!E15 -> 28850F205071 | D15: {=IF(COUNTIF(_xlfn.ANCHORARRAY($J$2),Tableau7[[#This Row],[Part Number]]),IFERROR(SUM(_xlfn._xlws.FILTER((N15:BJ15)-(M15:BI15),(N15:BJ15)-(M15:BI15)>0))/(L15-1),0),0)} -> 0 | E15: =_xlfn.IFS(Tableau7[[#This Row],[Nombres de jours moyens entre deux occurrences]]<=45,4,Tableau7[[#This Row],[Nombres de jours moyens entre deux occurrences]]<=90,3,Tableau7[[#This Row],[Nombres de jours moyens entre deux occurrences]]<=135,2,Tableau7[[#This Row],[Nombres de jours moyens entre deux occurrences]]>135,1) -> 4 | F15: 28850F205071 | H15: 53211F219171 | J15: 3A14055 | L15: 3 | M15: {=TRANSPOSE(_xlfn._xlws.FILTER(Total_scrap[Month],(Total_scrap[Part Number]=J15)))} -> 07/2020 | N15: 07/2020 | O15: 10/2020 | BK15: {=IFERROR(SUM(_xlfn._xlws.FILTER((N15:BJ15)-(M15:BI15),(N15:BJ15)-(M15:BI15)>0))/(L15-1),0)} -> 46
A16: ='total Scrap'!A16 -> 06/2020 | B16: ='total Scrap'!D16 -> 95762 | C16: ='total Scrap'!E16 -> 55227F218271 | D16: {=IF(COUNTIF(_xlfn.ANCHORARRAY($J$2),Tableau7[[#This Row],[Part Number]]),IFERROR(SUM(_xlfn._xlws.FILTER((N16:BJ16)-(M16:BI16),(N16:BJ16)-(M16:BI16)>0))/(L16-1),0),0)} -> 243 | E16: =_xlfn.IFS(Tableau7[[#This Row],[Nombres de jours moyens entre deux occurrences]]<=45,4,Tableau7[[#This Row],[Nombres de jours moyens entre deux occurrences]]<=90,3,Tableau7[[#This Row],[Nombres de jours moyens entre deux occurrences]]<=135,2,Tableau7[[#This Row],[Nombres de jours moyens entre deux occurrences]]>135,1) -> 1 | F16: 55227F218271 | H16: 57844F210271 | J16: 455103664071 | L16: 2 | M16: {=TRANSPOSE(_xlfn._xlws.FILTER(Total_scrap[Month],(Total_scrap[Part Number]=J16)))} -> 07/2020 | N16: 03/2021 | BK16: {=IFERROR(SUM(_xlfn._xlws.FILTER((N16:BJ16)-(M16:BI16),(N16:BJ16)-(M16:BI16)>0))/(L16-1),0)} -> 243
A17: ='total Scrap'!A17 -> 06/2020 | B17: ='total Scrap'!D17 -> 96501 | C17: ='total Scrap'!E17 -> 56021F220271 | D17: {=IF(COUNTIF(_xlfn.ANCHORARRAY($J$2),Tableau7[[#This Row],[Part Number]]),IFERROR(SUM(_xlfn._xlws.FILTER((N17:BJ17)-(M17:BI17),(N17:BJ17)-(M17:BI17)>0))/(L17-1),0),0)} -> 215 | E17: =_xlfn.IFS(Tableau7[[#This Row],[Nombres de jours moyens entre deux occurrences]]<=45,4,Tableau7[[#This Row],[Nombres de jours moyens entre deux occurrences]]<=90,3,Tableau7[[#This Row],[Nombres de jours moyens entre deux occurrences]]<=135,2,Tableau7[[#This Row],[Nombres de jours moyens entre deux occurrences]]>135,1) -> 1 | F17: 574501247071 | H17: 68730FSJ5U71 | J17: 27060UB060 | L17: 2 | M17: {=TRANSPOSE(_xlfn._xlws.FILTER(Total_scrap[Month],(Total_scrap[Part Number]=J17)))} -> 07/2020 | N17: 02/2021 | BK17: {=IFERROR(SUM(_xlfn._xlws.FILTER((N17:BJ17)-(M17:BI17),(N17:BJ17)-(M17:BI17)>0))/(L17-1),0)} -> 215
A18: ='total Scrap'!A18 -> 06/2020 | B18: ='total Scrap'!D18 -> 95616 | C18: ='total Scrap'!E18 -> 574501247071 | D18: {=IF(COUNTIF(_xlfn.ANCHORARRAY($J$2),Tableau7[[#This Row],[Part Number]]),IFERROR(SUM(_xlfn._xlws.FILTER((N18:BJ18)-(M18:BI18),(N18:BJ18)-(M18:BI18)>0))/(L18-1),0),0)} -> 0 | E18: =_xlfn.IFS(Tableau7[[#This Row],[Nombres de jours moyens entre deux occurrences]]<=45,4,Tableau7[[#This Row],[Nombres de jours moyens entre deux occurrences]]<=90,3,Tableau7[[#This Row],[Nombres de jours moyens entre deux occurrences]]<=135,2,Tableau7[[#This Row],[Nombres de jours moyens entre deux occurrences]]>135,1) -> 4 | F18: 68608F319071 | H18: 56018F220771 | J18: 2A28005 | L18: 5 | M18: {=TRANSPOSE(_xlfn._xlws.FILTER(Total_scrap[Month],(Total_scrap[Part Number]=J18)))} -> 07/2020 | N18: 09/2020 | O18: 10/2020 | P18: 02/2021 | Q18: 03/2021 | BK18: {=IFERROR(SUM(_xlfn._xlws.FILTER((N18:BJ18)-(M18:BI18),(N18:BJ18)-(M18:BI18)>0))/(L18-1),0)} -> 60.75
A19: ='total Scrap'!A19 -> 06/2020 | B19: ='total Scrap'!D19 -> 95903 | C19: ='total Scrap'!E19 -> 68608F319071 | D19: {=IF(COUNTIF(_xlfn.ANCHORARRAY($J$2),Tableau7[[#This Row],[Part Number]]),IFERROR(SUM(_xlfn._xlws.FILTER((N19:BJ19)-(M19:BI19),(N19:BJ19)-(M19:BI19)>0))/(L19-1),0),0)} -> 0 | E19: =_xlfn.IFS(Tableau7[[#This Row],[Nombres de jours moyens entre deux occurrences]]<=45,4,Tableau7[[#This Row],[Nombres de jours moyens entre deux occurrences]]<=90,3,Tableau7[[#This Row],[Nombres de jours moyens entre deux occurrences]]<=135,2,Tableau7[[#This Row],[Nombres de jours moyens entre deux occurrences]]>135,1) -> 4 | F19: 43251F210071 | H19: 58310F218071 | J19: 565903676071 | L19: 6 | M19: {=TRANSPOSE(_xlfn._xlws.FILTER(Total_scrap[Month],(Total_scrap[Part Number]=J19)))} -> 07/2020 | N19: 10/2020 | O19: 10/2020 | P19: 01/2021 | Q19: 03/2021 | R19: 04/2021 | BK19: {=IFERROR(SUM(_xlfn._xlws.FILTER((N19:BJ19)-(M19:BI19),(N19:BJ19)-(M19:BI19)>0))/(L19-1),0)} -> 54.8
A20: ='total Scrap'!A20 -> 06/2020 | B20: ='total Scrap'!D20 -> 95769 | C20: ='total Scrap'!E20 -> 43251F210071 | D20: {=IF(COUNTIF(_xlfn.ANCHORARRAY($J$2),Tableau7[[#This Row],[Part Number]]),IFERROR(SUM(_xlfn._xlws.FILTER((N20:BJ20)-(M20:BI20),(N20:BJ20)-(M20:BI20)>0))/(L20-1),0),0)} -> 0 | E20: =_xlfn.IFS(Tableau7[[#This Row],[Nombres de jours moyens entre deux occurrences]]<=45,4,Tableau7[[#This Row],[Nombres de jours moyens entre deux occurrences]]<=90,3,Tableau7[[#This Row],[Nombres de jours moyens entre deux occurrences]]<=135,2,Tableau7[[#This Row],[Nombres de jours moyens entre deux occurrences]]>135,1) -> 4 | F20: 68607F319071 | H20: 1A18131 | J20: 55213F218171 | L20: 5 | M20: {=TRANSPOSE(_xlfn._xlws.FILTER(Total_scrap[Month],(Total_scrap[Part Number]=J20)))} -> 07/2020 | N20: 07/2020 | O20: 09/2020 | P20: 10/2020 | Q20: 12/2020 | BK20: {=IFERROR(SUM(_xlfn._xlws.FILTER((N20:BJ20)-(M20:BI20),(N20:BJ20)-(M20:BI20)>0))/(L20-1),0)} -> 38.25
A21: ='total Scrap'!A21 -> 06/2020 | B21: ='total Scrap'!D21 -> 95904 | C21: ='total Scrap'!E21 -> 68607F319071 | D21: {=IF(COUNTIF(_xlfn.ANCHORARRAY($J$2),Tableau7[[#This Row],[Part Number]]),IFERROR(SUM(_xlfn._xlws.FILTER((N21:BJ21)-(M21:BI21),(N21:BJ21)-(M21:BI21)>0))/(L21-1),0),0)} -> 62 | E21: =_xlfn.IFS(Tableau7[[#This Row],[Nombres de jours moyens entre deux occurrences]]<=45,4,Tableau7[[#This Row],[Nombres de jours moyens entre deux occurrences]]<=90,3,Tableau7[[#This Row],[Nombres de jours moyens entre deux occurrences]]<=135,2,Tableau7[[#This Row],[Nombres de jours moyens entre deux occurrences]]>135,1) -> 3 | F21: 163612660071 | H21: 1A28083 | J21: 56031F231071 | L21: 2 | M21: {=TRANSPOSE(_xlfn._xlws.FILTER(Total_scrap[Month],(Total_scrap[Part Number]=J21)))} -> 07/2020 | N21: 09/2020 | BK21: {=IFERROR(SUM(_xlfn._xlws.FILTER((N21:BJ21)-(M21:BI21),(N21:BJ21)-(M21:BI21)>0))/(L21-1),0)} -> 62
A22: ='total Scrap'!A22 -> 06/2020 | B22: ='total Scrap'!D22 -> 95656 | C22: ='total Scrap'!E22 -> 68607F319071 | D22: {=IF(COUNTIF(_xlfn.ANCHORARRAY($J$2),Tableau7[[#This Row],[Part Number]]),IFERROR(SUM(_xlfn._xlws.FILTER((N22:BJ22)-(M22:BI22),(N22:BJ22)-(M22:BI22)>0))/(L22-1),0),0)} -> 137 | E22: =_xlfn.IFS(Tableau7[[#This Row],[Nombres de jours moyens entre deux occurrences]]<=45,4,Tableau7[[#This Row],[Nombres de jours moyens entre deux occurrences]]<=90,3,Tableau7[[#This Row],[Nombres de jours moyens entre deux occurrences]]<=135,2,Tableau7[[#This Row],[Nombres de jours moyens entre deux occurrences]]>135,1) -> 1 | F22: 53220F219071 | H22: 55173FSHD771 | J22: 23507FPA2171 | L22: 3 | M22: {=TRANSPOSE(_xlfn._xlws.FILTER(Total_scrap[Month],(Total_scrap[Part Number]=J22)))} -> 07/2020 | N22: 04/2021 | O22: 04/2021 | BK22: {=IFERROR(SUM(_xlfn._xlws.FILTER((N22:BJ22)-(M22:BI22),(N22:BJ22)-(M22:BI22)>0))/(L22-1),0)} -> 137
A23: ='total Scrap'!A23 -> 06/2020 | B23: ='total Scrap'!D23 -> 95764 | C23: ='total Scrap'!E23 -> 163612660071 | D23: {=IF(COUNTIF(_xlfn.ANCHORARRAY($J$2),Tableau7[[#This Row],[Part Number]]),IFERROR(SUM(_xlfn._xlws.FILTER((N23:BJ23)-(M23:BI23),(N23:BJ23)-(M23:BI23)>0))/(L23-1),0),0)} -> 107.5 | E23: =_xlfn.IFS(Tableau7[[#This Row],[Nombres de jours moyens entre deux occurrences]]<=45,4,Tableau7[[#This Row],[Nombres de jours moyens entre deux occurrences]]<=90,3,Tableau7[[#This Row],[Nombres de jours moyens entre deux occurrences]]<=135,2,Tableau7[[#This Row],[Nombres de jours moyens entre deux occurrences]]>135,1) -> 2 | F23: 53211F318171 | H23: 56044FPA2071 | J23: 175102662071 | L23: 3 | M23: {=TRANSPOSE(_xlfn._xlws.FILTER(Total_scrap[Month],(Total_scrap[Part Number]=J23)))} -> 07/2020 | N23: 02/2021 | O23: 02/2021 | BK23: {=IFERROR(SUM(_xlfn._xlws.FILTER((N23:BJ23)-(M23:BI23),(N23:BJ23)-(M23:BI23)>0))/(L23-1),0)} -> 107.5
A24: ='total Scrap'!A24 -> 06/2020 | B24: ='total Scrap'!D24 -> 96511 | C24: ='total Scrap'!E24 -> 53220F219071 | D24: {=IF(COUNTIF(_xlfn.ANCHORARRAY($J$2),Tableau7[[#This Row],[Part Number]]),IFERROR(SUM(_xlfn._xlws.FILTER((N24:BJ24)-(M24:BI24),(N24:BJ24)-(M24:BI24)>0))/(L24-1),0),0)} -> 83.75 | E24: =_xlfn.IFS(Tableau7[[#This Row],[Nombres de jours moyens entre deux occurrences]]<=45,4,Tableau7[[#This Row],[Nombres de jours moyens entre deux occurrences]]<=90,3,Tableau7[[#This Row],[Nombres de jours moyens entre deux occurrences]]<=135,2,Tableau7[[#This Row],[Nombres de jours moyens entre deux occurrences]]>135,1) -> 3 | F24: 53211F219171 | H24: 470401661071 | J24: 68805F226071 | L24: 5 | M24: {=TRANSPOSE(_xlfn._xlws.FILTER(Total_scrap[Month],(Total_scrap[Part Number]=J24)))} -> 07/2020 | N24: 10/2020 | O24: 04/2021 | P24: 06/2021 | Q24: 06/2021 | BK24: {=IFERROR(SUM(_xlfn._xlws.FILTER((N24:BJ24)-(M24:BI24),(N24:BJ24)-(M24:BI24)>0))/(L24-1),0)} -> 83.75
A25: ='total Scrap'!A25 -> 06/2020 | B25: ='total Scrap'!D25 -> 95617 | C25: ='total Scrap'!E25 -> 53211F318171 | D25: {=IF(COUNTIF(_xlfn.ANCHORARRAY($J$2),Tableau7[[#This Row],[Part Number]]),IFERROR(SUM(_xlfn._xlws.FILTER((N25:BJ25)-(M25:BI25),(N25:BJ25)-(M25:BI25)>0))/(L25-1),0),0)} -> 0 | E25: =_xlfn.IFS(Tableau7[[#This Row],[Nombres de jours moyens entre deux occurrences]]<=45,4,Tableau7[[#This Row],[Nombres de jours moyens entre deux occurrences]]<=90,3,Tableau7[[#This Row],[Nombres de jours moyens entre deux occurrences]]<=135,2,Tableau7[[#This Row],[Nombres de jours moyens entre deux occurrences]]>135,1) -> 4 | F25: 451101247271 | H25: 56031FPD2071 | J25: 68804F226071 | L25: 3 | M25: {=TRANSPOSE(_xlfn._xlws.FILTER(Total_scrap[Month],(Total_scrap[Part Number]=J25)))} -> 07/2020 | N25: 12/2020 | O25: 01/2021 | BK25: {=IFERROR(SUM(_xlfn._xlws.FILTER((N25:BJ25)-(M25:BI25),(N25:BJ25)-(M25:BI25)>0))/(L25-1),0)} -> 92
A26: ='total Scrap'!A26 -> 06/2020 | B26: ='total Scrap'!D26 -> 96506 | C26: ='total Scrap'!E26 -> 53211F219171 | D26: {=IF(COUNTIF(_xlfn.ANCHORARRAY($J$2),Tableau7[[#This Row],[Part Number]]),IFERROR(SUM(_xlfn._xlws.FILTER((N26:BJ26)-(M26:BI26),(N26:BJ26)-(M26:BI26)>0))/(L26-1),0),0)} -> 0 | E26: =_xlfn.IFS(Tableau7[[#This Row],[Nombres de jours moyens entre deux occurrences]]<=45,4,Tableau7[[#This Row],[Nombres de jours moyens entre deux occurrences]]<=90,3,Tableau7[[#This Row],[Nombres de jours moyens entre deux occurrences]]<=135,2,Tableau7[[#This Row],[Nombres de jours moyens entre deux occurrences]]>135,1) -> 4 | F26: 565702665071 | H26: 68066F311171 | J26: 96365F509871 | L26: 2 | M26: {=TRANSPOSE(_xlfn._xlws.FILTER(Total_scrap[Month],(Total_scrap[Part Number]=J26)))} -> 07/2020 | N26: 09/2020 | BK26: {=IFERROR(SUM(_xlfn._xlws.FILTER((N26:BJ26)-(M26:BI26),(N26:BJ26)-(M26:BI26)>0))/(L26-1),0)} -> 62
A27: ='total Scrap'!A27 -> 06/2020 | B27: ='total Scrap'!D27 -> 95710 | C27: ='total Scrap'!E27 -> 451101247271 | D27: {=IF(COUNTIF(_xlfn.ANCHORARRAY($J$2),Tableau7[[#This Row],[Part Number]]),IFERROR(SUM(_xlfn._xlws.FILTER((N27:BJ27)-(M27:BI27),(N27:BJ27)-(M27:BI27)>0))/(L27-1),0),0)} -> 38 | E27: =_xlfn.IFS(Tableau7[[#This Row],[Nombres de jours moyens entre deux occurrences]]<=45,4,Tableau7[[#This Row],[Nombres de jours moyens entre deux occurrences]]<=90,3,Tableau7[[#This Row],[Nombres de jours moyens entre deux occurrences]]<=135,2,Tableau7[[#This Row],[Nombres de jours moyens entre deux occurrences]]>135,1) -> 4 | F27: 2A14497G3 | H27: 68606F214171 | J27: 56210F219071 | L27: 9 | M27: {=TRANSPOSE(_xlfn._xlws.FILTER(Total_scrap[Month],(Total_scrap[Part Number]=J27)))} -> 08/2020 | N27: 10/2020 | O27: 10/2020 | P27: 01/2021 | Q27: 03/2021 | R27: 03/2021 | S27: 03/2021 | T27: 03/2021 | U27: 06/2021 | BK27: {=IFERROR(SUM(_xlfn._xlws.FILTER((N27:BJ27)-(M27:BI27),(N27:BJ27)-(M27:BI27)>0))/(L27-1),0)} -> 38
A28: ='total Scrap'!A28 -> 06/2020 | B28: ='total Scrap'!D28 -> 96503 | C28: ='total Scrap'!E28 -> 565702665071 | D28: {=IF(COUNTIF(_xlfn.ANCHORARRAY($J$2),Tableau7[[#This Row],[Part Number]]),IFERROR(SUM(_xlfn._xlws.FILTER((N28:BJ28)-(M28:BI28),(N28:BJ28)-(M28:BI28)>0))/(L28-1),0),0)} -> 273 | E28: =_xlfn.IFS(Tableau7[[#This Row],[Nombres de jours moyens entre deux occurrences]]<=45,4,Tableau7[[#This Row],[Nombres de jours moyens entre deux occurrences]]<=90,3,Tableau7[[#This Row],[Nombres de jours moyens entre deux occurrences]]<=135,2,Tableau7[[#This Row],[Nombres de jours moyens entre deux occurrences]]>135,1) -> 1 | F28: 57844F210271 | H28: 678901132071 | J28: 281003677071 | L28: 2 | M28: {=TRANSPOSE(_xlfn._xlws.FILTER(Total_scrap[Month],(Total_scrap[Part Number]=J28)))} -> 08/2020 | N28: 05/2021 | BK28: {=IFERROR(SUM(_xlfn._xlws.FILTER((N28:BJ28)-(M28:BI28),(N28:BJ28)-(M28:BI28)>0))/(L28-1),0)} -> 273
A29: ='total Scrap'!A29 -> 06/2020 | B29: ='total Scrap'!D29 -> 95404 | C29: ='total Scrap'!E29 -> 565702665071 | D29: {=IF(COUNTIF(_xlfn.ANCHORARRAY($J$2),Tableau7[[#This Row],[Part Number]]),IFERROR(SUM(_xlfn._xlws.FILTER((N29:BJ29)-(M29:BI29),(N29:BJ29)-(M29:BI29)>0))/(L29-1),0),0)} -> 106 | E29: =_xlfn.IFS(Tableau7[[#This Row],[Nombres de jours moyens entre deux occurrences]]<=45,4,Tableau7[[#This Row],[Nombres de jours moyens entre deux occurrences]]<=90,3,Tableau7[[#This Row],[Nombres de jours moyens entre deux occurrences]]<=135,2,Tableau7[[#This Row],[Nombres de jours moyens entre deux occurrences]]>135,1) -> 2 | F29: 17780F218071 | H29: 53220F231071 | J29: 566532661371 | L29: 3 | M29: {=TRANSPOSE(_xlfn._xlws.FILTER(Total_scrap[Month],(Total_scrap[Part Number]=J29)))} -> 08/2020 | N29: 08/2020 | O29: 03/2021 | BK29: {=IFERROR(SUM(_xlfn._xlws.FILTER((N29:BJ29)-(M29:BI29),(N29:BJ29)-(M29:BI29)>0))/(L29-1),0)} -> 106
A30: ='total Scrap'!A30 -> 06/2020 | B30: ='total Scrap'!D30 -> 95768 | C30: ='total Scrap'!E30 -> 2A14497G3 | D30: {=IF(COUNTIF(_xlfn.ANCHORARRAY($J$2),Tableau7[[#This Row],[Part Number]]),IFERROR(SUM(_xlfn._xlws.FILTER((N30:BJ30)-(M30:BI30),(N30:BJ30)-(M30:BI30)>0))/(L30-1),0),0)} -> 136.5 | E30: =_xlfn.IFS(Tableau7[[#This Row],[Nombres de jours moyens entre deux occurrences]]<=45,4,Tableau7[[#This Row],[Nombres de jours moyens entre deux occurrences]]<=90,3,Tableau7[[#This Row],[Nombres de jours moyens entre deux occurrences]]<=135,2,Tableau7[[#This Row],[Nombres de jours moyens entre deux occurrences]]>135,1) -> 1 | F30: 68730FSJ5U71 | H30: 565013691071 | J30: 56110F218071 | L30: 3 | M30: {=TRANSPOSE(_xlfn._xlws.FILTER(Total_scrap[Month],(Total_scrap[Part Number]=J30)))} -> 09/2020 | N30: 01/2021 | O30: 06/2021 | BK30: {=IFERROR(SUM(_xlfn._xlws.FILTER((N30:BJ30)-(M30:BI30),(N30:BJ30)-(M30:BI30)>0))/(L30-1),0)} -> 136.5
A31: ='total Scrap'!A31 -> 06/2020 | B31: ='total Scrap'!D31 -> 95905 | C31: ='total Scrap'!E31 -> 57844F210271 | D31: {=IF(COUNTIF(_xlfn.ANCHORARRAY($J$2),Tableau7[[#This Row],[Part Number]]),IFERROR(SUM(_xlfn._xlws.FILTER((N31:BJ31)-(M31:BI31),(N31:BJ31)-(M31:BI31)>0))/(L31-1),0),0)} -> 0 | E31: =_xlfn.IFS(Tableau7[[#This Row],[Nombres de jours moyens entre deux occurrences]]<=45,4,Tableau7[[#This Row],[Nombres de jours moyens entre deux occurrences]]<=90,3,Tableau7[[#This Row],[Nombres de jours moyens entre deux occurrences]]<=135,2,Tableau7[[#This Row],[Nombres de jours moyens entre deux occurrences]]>135,1) -> 4 | F31: 56018F220771 | H31: 177002660071 | J31: 235102661171 | L31: 2 | M31: {=TRANSPOSE(_xlfn._xlws.FILTER(Total_scrap[Month],(Total_scrap[Part Number]=J31)))} -> 09/2020 | N31: 03/2021 | BK31: {=IFERROR(SUM(_xlfn._xlws.FILTER((N31:BJ31)-(M31:BI31),(N31:BJ31)-(M31:BI31)>0))/(L31-1),0)} -> 181
A32: ='total Scrap'!A32 -> 06/2020 | B32: ='total Scrap'!D32 -> 96502 | C32: ='total Scrap'!E32 -> 17780F218071 | D32: {=IF(COUNTIF(_xlfn.ANCHORARRAY($J$2),Tableau7[[#This Row],[Part Number]]),IFERROR(SUM(_xlfn._xlws.FILTER((N32:BJ32)-(M32:BI32),(N32:BJ32)-(M32:BI32)>0))/(L32-1),0),0)} -> 51 | E32: =_xlfn.IFS(Tableau7[[#This Row],[Nombres de jours moyens entre deux occurrences]]<=45,4,Tableau7[[#This Row],[Nombres de jours moyens entre deux occurrences]]<=90,3,Tableau7[[#This Row],[Nombres de jours moyens entre deux occurrences]]<=135,2,Tableau7[[#This Row],[Nombres de jours moyens entre deux occurrences]]>135,1) -> 3 | F32: 3A14055 | H32: 2A28007G3 | J32: 566512664071 | L32: 4 | M32: {=TRANSPOSE(_xlfn._xlws.FILTER(Total_scrap[Month],(Total_scrap[Part Number]=J32)))} -> 09/2020 | N32: 11/2020 | O32: 12/2020 | P32: 02/2021 | BK32: {=IFERROR(SUM(_xlfn._xlws.FILTER((N32:BJ32)-(M32:BI32),(N32:BJ32)-(M32:BI32)>0))/(L32-1),0)} -> 51
A33: ='total Scrap'!A33 -> 07/2020 | B33: ='total Scrap'!D33 -> 95061 | C33: ='total Scrap'!E33 -> 68730FSJ5U71 | D33: {=IF(COUNTIF(_xlfn.ANCHORARRAY($J$2),Tableau7[[#This Row],[Part Number]]),IFERROR(SUM(_xlfn._xlws.FILTER((N33:BJ33)-(M33:BI33),(N33:BJ33)-(M33:BI33)>0))/(L33-1),0),0)} -> 0 | E33: =_xlfn.IFS(Tableau7[[#This Row],[Nombres de jours moyens entre deux occurrences]]<=45,4,Tableau7[[#This Row],[Nombres de jours moyens entre deux occurrences]]<=90,3,Tableau7[[#This Row],[Nombres de jours moyens entre deux occurrences]]<=135,2,Tableau7[[#This Row],[Nombres de jours moyens entre deux occurrences]]>135,1) -> 4 | F33: 455103664071 | H33: 38717F121071 | J33: 18450UM020 | L33: 4 | M33: {=TRANSPOSE(_xlfn._xlws.FILTER(Total_scrap[Month],(Total_scrap[Part Number]=J33)))} -> 10/2020 | N33: 11/2020 | O33: 03/2021 | P33: 06/2021 | BK33: {=IFERROR(SUM(_xlfn._xlws.FILTER((N33:BJ33)-(M33:BI33),(N33:BJ33)-(M33:BI33)>0))/(L33-1),0)} -> 81
A34: ='total Scrap'!A34 -> 07/2020 | B34: ='total Scrap'!D34 -> 96508 | C34: ='total Scrap'!E34 -> 56018F220771 | D34: {=IF(COUNTIF(_xlfn.ANCHORARRAY($J$2),Tableau7[[#This Row],[Part Number]]),IFERROR(SUM(_xlfn._xlws.FILTER((N34:BJ34)-(M34:BI34),(N34:BJ34)-(M34:BI34)>0))/(L34-1),0),0)} -> 0 | E34: =_xlfn.IFS(Tableau7[[#This Row],[Nombres de jours moyens entre deux occurrences]]<=45,4,Tableau7[[#This Row],[Nombres de jours moyens entre deux occurrences]]<=90,3,Tableau7[[#This Row],[Nombres de jours moyens entre deux occurrences]]<=135,2,Tableau7[[#This Row],[Nombres de jours moyens entre deux occurrences]]>135,1) -> 4 | F34: 27060UB060 | H34: 68143F225071 | J34: 56011F231071 | L34: 2 | M34: {=TRANSPOSE(_xlfn._xlws.FILTER(Total_scrap[Month],(Total_scrap[Part Number]=J34)))} -> 10/2020 | N34: 01/2021 | BK34: {=IFERROR(SUM(_xlfn._xlws.FILTER((N34:BJ34)-(M34:BI34),(N34:BJ34)-(M34:BI34)>0))/(L34-1),0)} -> 92
A35: ='total Scrap'!A35 -> 07/2020 | B35: ='total Scrap'!D35 -> 93607 | C35: ='total Scrap'!E35 -> 3A14055 | D35: {=IF(COUNTIF(_xlfn.ANCHORARRAY($J$2),Tableau7[[#This Row],[Part Number]]),IFERROR(SUM(_xlfn._xlws.FILTER((N35:BJ35)-(M35:BI35),(N35:BJ35)-(M35:BI35)>0))/(L35-1),0),0)} -> 21.571429 | E35: =_xlfn.IFS(Tableau7[[#This Row],[Nombres de jours moyens entre deux occurrences]]<=45,4,Tableau7[[#This Row],[Nombres de jours moyens entre deux occurrences]]<=90,3,Tableau7[[#This Row],[Nombres de jours moyens entre deux occurrences]]<=135,2,Tableau7[[#This Row],[Nombres de jours moyens entre deux occurrences]]>135,1) -> 4 | F35: 58310F218071 | H35: 45682F331071 | J35: 56210F225071 | L35: 8 | M35: {=TRANSPOSE(_xlfn._xlws.FILTER(Total_scrap[Month],(Total_scrap[Part Number]=J35)))} -> 10/2020 | N35: 10/2020 | O35: 12/2020 | P35: 12/2020 | Q35: 02/2021 | R35: 02/2021 | S35: 03/2021 | T35: 03/2021 | BK35: {=IFERROR(SUM(_xlfn._xlws.FILTER((N35:BJ35)-(M35:BI35),(N35:BJ35)-(M35:BI35)>0))/(L35-1),0)} -> 21.571429
A36: ='total Scrap'!A36 -> 07/2020 | B36: ='total Scrap'!D36 -> 96512 | C36: ='total Scrap'!E36 -> 455103664071 | D36: {=IF(COUNTIF(_xlfn.ANCHORARRAY($J$2),Tableau7[[#This Row],[Part Number]]),IFERROR(SUM(_xlfn._xlws.FILTER((N36:BJ36)-(M36:BI36),(N36:BJ36)-(M36:BI36)>0))/(L36-1),0),0)} -> 121.5 | E36: =_xlfn.IFS(Tableau7[[#This Row],[Nombres de jours moyens entre deux occurrences]]<=45,4,Tableau7[[#This Row],[Nombres de jours moyens entre deux occurrences]]<=90,3,Tableau7[[#This Row],[Nombres de jours moyens entre deux occurrences]]<=135,2,Tableau7[[#This Row],[Nombres de jours moyens entre deux occurrences]]>135,1) -> 2 | F36: 1A18131 | H36: 452021660071 | J36: 55231F231071 | L36: 3 | M36: {=TRANSPOSE(_xlfn._xlws.FILTER(Total_scrap[Month],(Total_scrap[Part Number]=J36)))} -> 10/2020 | N36: 03/2021 | O36: 06/2021 | BK36: {=IFERROR(SUM(_xlfn._xlws.FILTER((N36:BJ36)-(M36:BI36),(N36:BJ36)-(M36:BI36)>0))/(L36-1),0)} -> 121.5
A37: ='total Scrap'!A37 -> 07/2020 | B37: ='total Scrap'!D37 -> 95958 | C37: ='total Scrap'!E37 -> 27060UB060 | D37: {=IF(COUNTIF(_xlfn.ANCHORARRAY($J$2),Tableau7[[#This Row],[Part Number]]),IFERROR(SUM(_xlfn._xlws.FILTER((N37:BJ37)-(M37:BI37),(N37:BJ37)-(M37:BI37)>0))/(L37-1),0),0)} -> 40.5 | E37: =_xlfn.IFS(Tableau7[[#This Row],[Nombres de jours moyens entre deux occurrences]]<=45,4,Tableau7[[#This Row],[Nombres de jours moyens entre deux occurrences]]<=90,3,Tableau7[[#This Row],[Nombres de jours moyens entre deux occurrences]]<=135,2,Tableau7[[#This Row],[Nombres de jours moyens entre deux occurrences]]>135,1) -> 4 | F37: 1A28083 | H37: 688052132071 | J37: 565302660071 | L37: 7 | M37: {=TRANSPOSE(_xlfn._xlws.FILTER(Total_scrap[Month],(Total_scrap[Part Number]=J37)))} -> 10/2020 | N37: 01/2021 | O37: 01/2021 | P37: 03/2021 | Q37: 04/2021 | R37: 04/2021 | S37: 06/2021 | BK37: {=IFERROR(SUM(_xlfn._xlws.FILTER((N37:BJ37)-(M37:BI37),(N37:BJ37)-(M37:BI37)>0))/(L37-1),0)} -> 40.5
A38: ='total Scrap'!A38 -> 07/2020 | B38: ='total Scrap'!D38 -> 95632 | C38: ='total Scrap'!E38 -> 58310F218071 | D38: {=IF(COUNTIF(_xlfn.ANCHORARRAY($J$2),Tableau7[[#This Row],[Part Number]]),IFERROR(SUM(_xlfn._xlws.FILTER((N38:BJ38)-(M38:BI38),(N38:BJ38)-(M38:BI38)>0))/(L38-1),0),0)} -> 0 | E38: =_xlfn.IFS(Tableau7[[#This Row],[Nombres de jours moyens entre deux occurrences]]<=45,4,Tableau7[[#This Row],[Nombres de jours moyens entre deux occurrences]]<=90,3,Tableau7[[#This Row],[Nombres de jours moyens entre deux occurrences]]<=135,2,Tableau7[[#This Row],[Nombres de jours moyens entre deux occurrences]]>135,1) -> 4 | F38: 2A28005 | H38: 68131F225071 | J38: 571602660471 | L38: 2 | M38: {=TRANSPOSE(_xlfn._xlws.FILTER(Total_scrap[Month],(Total_scrap[Part Number]=J38)))} -> 10/2020 | N38: 10/2020 | BK38: {=IFERROR(SUM(_xlfn._xlws.FILTER((N38:BJ38)-(M38:BI38),(N38:BJ38)-(M38:BI38)>0))/(L38-1),0)} -> 0
A39: ='total Scrap'!A39 -> 07/2020 | B39: ='total Scrap'!D39 -> 96354 | C39: ='total Scrap'!E39 -> 1A18131 | D39: {=IF(COUNTIF(_xlfn.ANCHORARRAY($J$2),Tableau7[[#This Row],[Part Number]]),IFERROR(SUM(_xlfn._xlws.FILTER((N39:BJ39)-(M39:BI39),(N39:BJ39)-(M39:BI39)>0))/(L39-1),0),0)} -> 0 | E39: =_xlfn.IFS(Tableau7[[#This Row],[Nombres de jours moyens entre deux occurrences]]<=45,4,Tableau7[[#This Row],[Nombres de jours moyens entre deux occurrences]]<=90,3,Tableau7[[#This Row],[Nombres de jours moyens entre deux occurrences]]<=135,2,Tableau7[[#This Row],[Nombres de jours moyens entre deux occurrences]]>135,1) -> 4 | F39: 55173FSHD771 | H39: 1A18134 | J39: 16420F118071 | L39: 5 | M39: {=TRANSPOSE(_xlfn._xlws.FILTER(Total_scrap[Month],(Total_scrap[Part Number]=J39)))} -> 10/2020 | N39: 11/2020 | O39: 11/2020 | P39: 12/2020 | Q39: 06/2021 | BK39: {=IFERROR(SUM(_xlfn._xlws.FILTER((N39:BJ39)-(M39:BI39),(N39:BJ39)-(M39:BI39)>0))/(L39-1),0)} -> 60.75
A40: ='total Scrap'!A40 -> 07/2020 | B40: ='total Scrap'!D40 -> 93609 | C40: ='total Scrap'!E40 -> 3A14055 | D40: {=IF(COUNTIF(_xlfn.ANCHORARRAY($J$2),Tableau7[[#This Row],[Part Number]]),IFERROR(SUM(_xlfn._xlws.FILTER((N40:BJ40)-(M40:BI40),(N40:BJ40)-(M40:BI40)>0))/(L40-1),0),0)} -> 123 | E40: =_xlfn.IFS(Tableau7[[#This Row],[Nombres de jours moyens entre deux occurrences]]<=45,4,Tableau7[[#This Row],[Nombres de jours moyens entre deux occurrences]]<=90,3,Tableau7[[#This Row],[Nombres de jours moyens entre deux occurrences]]<=135,2,Tableau7[[#This Row],[Nombres de jours moyens entre deux occurrences]]>135,1) -> 2 | F40: 56044FPA2071 | H40: 452212660071 | J40: 56210F220071 | L40: 2 | M40: {=TRANSPOSE(_xlfn._xlws.FILTER(Total_scrap[Month],(Total_scrap[Part Number]=J40)))} -> 10/2020 | N40: 02/2021 | BK40: {=IFERROR(SUM(_xlfn._xlws.FILTER((N40:BJ40)-(M40:BI40),(N40:BJ40)-(M40:BI40)>0))/(L40-1),0)} -> 123
...

Sheet SYNTHESE
A1: Month | B1: Team Leader | C1: Name | D1: FNC / SMR | E1: Part Number | F1: Part Name | G1: Qty | H1: Part cost € | I1: Handling cost € | J1: TOTAL Amount € | K1: Comments | L1: facteur récurrence | M1: CRITICITE | N1: Criticité | O1: Date prise de contre-mesure | P1: contre-mesures prises | Q1: Date 6 mois après contre-mesures | T1: =TODAY() -> 44397
A2: ='total Scrap'!A2 -> 04/2020 | B2: ='total Scrap'!B2 -> 72999 | C2: ='total Scrap'!C2 -> B. Metreau | D2: ='total Scrap'!D2 -> 95402 | E2: ='total Scrap'!E2 -> 57110F118271 | F2: ='total Scrap'!F2 -> METER ASSY, COMBINATION | G2: ='total Scrap'!G2 -> 1 | H2: ='total Scrap'!H2 -> 34.575077 | ... K2: ='total Scrap'!K2 -> PIÈCE TOMBÉE LORS DU MONTAGE SUR CHAINE (PIECE CASSÉE) | L2: =Tableau7[[#This Row],[facteur associé]] -> 4 | M2: =Tableau6[[#This Row],[facteur récurrence]] -> 4 | N2: =_xlfn.IFS(M2>32,"CRITIQUE",M2<=8,"RAS",M2<=16,"ATTENTION",M2<=32,"DANGER") -> RAS | Q2: =O2+6*30+3 -> 183
A3: ='total Scrap'!A3 -> 04/2020 | B3: ='total Scrap'!B3 -> 72007 | C3: ='total Scrap'!C3 -> JP Dupas | D3: ='total Scrap'!D3 -> 95403 | E3: ='total Scrap'!E3 -> 57413F231071 | F3: ='total Scrap'!F3 -> BOX ASSY, KEYPAD, LOG-ON | G3: ='total Scrap'!G3 -> 1 | H3: ='total Scrap'!H3 -> 38.46 | ... K3: ='total Scrap'!K3 -> MQ PIÈCE POUR VISSER LE DIJICODE (DÉMONTÉ PAR LA DES) | L3: =Tableau7[[#This Row],[facteur associé]] -> 1 | M3: =Tableau6[[#This Row],[facteur récurrence]] -> 1 | N3: =_xlfn.IFS(M3>32,"CRITIQUE",M3<=8,"RAS",M3<=16,"ATTENTION",M3<=32,"DANGER") -> RAS | Q3: =O3+6*30+3 -> 183
A4: ='total Scrap'!A4 -> 04/2020 | B4: ='total Scrap'!B4 -> 72999 | C4: ='total Scrap'!C4 -> B. Metreau | D4: ='total Scrap'!D4 -> 95504 | E4: ='total Scrap'!E4 -> 56232F231171 | F4: ='total Scrap'!F4 -> WIRE | G4: ='total Scrap'!G4 -> 1 | H4: ='total Scrap'!H4 -> 10.93 | ... K4: ='total Scrap'!K4 -> PRISE ARRACHÉE DÉFAUT NOTÉ SUR LA CHECKLIST ASSEMBLAGE | L4: =Tableau7[[#This Row],[facteur associé]] -> 4 | M4: =Tableau6[[#This Row],[facteur récurrence]] -> 4 | N4: =_xlfn.IFS(M4>32,"CRITIQUE",M4<=8,"RAS",M4<=16,"ATTENTION",M4<=32,"DANGER") -> RAS | Q4: =O4+6*30+3 -> 183
A5: ='total Scrap'!A5 -> 05/2020 | B5: ='total Scrap'!B5 -> 72007 | C5: ='total Scrap'!C5 -> JP Dupas | D5: ='total Scrap'!D5 -> 95054 | E5: ='total Scrap'!E5 -> 52212FS2LC71 | F5: ='total Scrap'!F5 -> CARPET BOX AIR COOLER | G5: ='total Scrap'!G5 -> 1 | H5: ='total Scrap'!H5 -> 138 | ... K5: ='total Scrap'!K5 -> HABILLAGE ABIMÉ EN ACTIONNANT LE SIÈGE | L5: =Tableau7[[#This Row],[facteur associé]] -> 4 | M5: =Tableau6[[#This Row],[facteur récurrence]] -> 4 | N5: =_xlfn.IFS(M5>32,"CRITIQUE",M5<=8,"RAS",M5<=16,"ATTENTION",M5<=32,"DANGER") -> RAS | Q5: =O5+6*30+3 -> 183
A6: ='total Scrap'!A6 -> 05/2020 | B6: ='total Scrap'!B6 -> 72999 | C6: ='total Scrap'!C6 -> B. Metreau | D6: ='total Scrap'!D6 -> 95703 | E6: ='total Scrap'!E6 -> 56031F222671 | F6: ='total Scrap'!F6 -> WIRE, SIDE LH | G6: ='total Scrap'!G6 -> 2 | H6: ='total Scrap'!H6 -> 67.92 | ... K6: ='total Scrap'!K6 -> PRISE BLANCHE ALIM MINI-LEVER HS | L6: =Tableau7[[#This Row],[facteur associé]] -> 4 | M6: =Tableau6[[#This Row],[facteur récurrence]] -> 4 | N6: =_xlfn.IFS(M6>32,"CRITIQUE",M6<=8,"RAS",M6<=16,"ATTENTION",M6<=32,"DANGER") -> RAS | Q6: =O6+6*30+3 -> 183
A7: ='total Scrap'!A7 -> 05/2020 | B7: ='total Scrap'!B7 -> 73082 | C7: ='total Scrap'!C7 -> C. Poli Marchetti | D7: ='total Scrap'!D7 -> 95709 | E7: ='total Scrap'!E7 -> 56062F221271 | F7: ='total Scrap'!F7 -> WIRE, HOOD SUB NO.1 | G7: ='total Scrap'!G7 -> 1 | H7: ='total Scrap'!H7 -> 46.85 | ... K7: ='total Scrap'!K7 -> CONNECTEUR ALIM DU SIÈGE HS | L7: =Tableau7[[#This Row],[facteur associé]] -> 4 | M7: =Tableau6[[#This Row],[facteur récurrence]] -> 4 | N7: =_xlfn.IFS(M7>32,"CRITIQUE",M7<=8,"RAS",M7<=16,"ATTENTION",M7<=32,"DANGER") -> RAS | Q7: =O7+6*30+3 -> 183
A8: ='total Scrap'!A8 -> 05/2020 | B8: ='total Scrap'!B8 -> 72062 | C8: ='total Scrap'!C8 -> P. Sauvaget | D8: ='total Scrap'!D8 -> 95708 | E8: ='total Scrap'!E8 -> 56021F219471 | F8: ='total Scrap'!F8 -> WIRE, ENGINE | G8: ='total Scrap'!G8 -> 1 | H8: ='total Scrap'!H8 -> 46.77 | ... K8: ='total Scrap'!K8 -> SUPPORT FUSIBLES HS | L8: =Tableau7[[#This Row],[facteur associé]] -> 4 | M8: =Tableau6[[#This Row],[facteur récurrence]] -> 4 | N8: =_xlfn.IFS(M8>32,"CRITIQUE",M8<=8,"RAS",M8<=16,"ATTENTION",M8<=32,"DANGER") -> RAS | Q8: =O8+6*30+3 -> 183
A9: ='total Scrap'!A9 -> 05/2020 | B9: ='total Scrap'!B9 -> 72062 | C9: ='total Scrap'!C9 -> P. Sauvaget | D9: ='total Scrap'!D9 -> 95707 | E9: ='total Scrap'!E9 -> 56021F220271 | F9: ='total Scrap'!F9 -> WIRE, ENGINE | G9: ='total Scrap'!G9 -> 1 | H9: ='total Scrap'!H9 -> 24.82 | ... K9: ='total Scrap'!K9 -> VIS DE FIXATION FAISCEAU SUR FUSIBLE HS | L9: =Tableau7[[#This Row],[facteur associé]] -> 4 | M9: =Tableau6[[#This Row],[facteur récurrence]] -> 4 | N9: =_xlfn.IFS(M9>32,"CRITIQUE",M9<=8,"RAS",M9<=16,"ATTENTION",M9<=32,"DANGER") -> RAS | Q9: =O9+6*30+3 -> 183
A10: ='total Scrap'!A10 -> 05/2020 | B10: ='total Scrap'!B10 -> 73082 | C10: ='total Scrap'!C10 -> C. Poli Marchetti | D10: ='total Scrap'!D10 -> 95763 | E10: ='total Scrap'!E10 -> 55537F318471 | F10: ='total Scrap'!F10 -> COVER, INNER, DOOR, RH, UPR | G10: ='total Scrap'!G10 -> 1 | H10: ='total Scrap'!H10 -> 13.87 | ... K10: ='total Scrap'!K10 -> CAPITONNAGE COUPÉ | L10: =Tableau7[[#This Row],[facteur associé]] -> 2 | M10: =Tableau6[[#This Row],[facteur récurrence]] -> 2 | N10: =_xlfn.IFS(M10>32,"CRITIQUE",M10<=8,"RAS",M10<=16,"ATTENTION",M10<=32,"DANGER") -> RAS | Q10: =O10+6*30+3 -> 183
A11: ='total Scrap'!A11 -> 05/2020 | B11: ='total Scrap'!B11 -> 72999 | C11: ='total Scrap'!C11 -> B. Metreau | D11: ='total Scrap'!D11 -> 95705 | E11: ='total Scrap'!E11 -> 56062FSU1U71 | F11: ='total Scrap'!F11 -> WIRE HOOD (56062-F2212-71) | G11: ='total Scrap'!G11 -> 1 | H11: ='total Scrap'!H11 -> 13.5 | ... K11: ='total Scrap'!K11 -> FIL COUPÉ SUR CHAINE | L11: =Tableau7[[#This Row],[facteur associé]] -> 4 | M11: =Tableau6[[#This Row],[facteur récurrence]] -> 4 | N11: =_xlfn.IFS(M11>32,"CRITIQUE",M11<=8,"RAS",M11<=16,"ATTENTION",M11<=32,"DANGER") -> RAS | Q11: =O11+6*30+3 -> 183
A12: ='total Scrap'!A12 -> 06/2020 | B12: ='total Scrap'!B12 -> 72999 | C12: ='total Scrap'!C12 -> B. Metreau | D12: ='total Scrap'!D12 -> 95952 | E12: ='total Scrap'!E12 -> 175702660371 | F12: ='total Scrap'!F12 -> MUFFLER ASSY, CATALYTIC | G12: ='total Scrap'!G12 -> 1 | H12: ='total Scrap'!H12 -> 179.91 | ... K12: ='total Scrap'!K12 -> FILETAGE HS LORS DU SERRAGE 078 225897 | L12: =Tableau7[[#This Row],[facteur associé]] -> 4 | M12: =Tableau6[[#This Row],[facteur récurrence]] -> 4 | N12: =_xlfn.IFS(M12>32,"CRITIQUE",M12<=8,"RAS",M12<=16,"ATTENTION",M12<=32,"DANGER") -> RAS | Q12: =O12+6*30+3 -> 183
A13: ='total Scrap'!A13 -> 06/2020 | B13: ='total Scrap'!B13 -> 73082 | C13: ='total Scrap'!C13 -> C. Poli Marchetti | D13: ='total Scrap'!D13 -> 95619 | E13: ='total Scrap'!E13 -> 16420F221171 | F13: ='total Scrap'!F13 -> RADIATOR ASSY | G13: ='total Scrap'!G13 -> 1 | H13: ='total Scrap'!H13 -> 71.35 | ... K13: ='total Scrap'!K13 -> COUPS SUR RADIATEUR | L13: =Tableau7[[#This Row],[facteur associé]] -> 4 | M13: =Tableau6[[#This Row],[facteur récurrence]] -> 4 | N13: =_xlfn.IFS(M13>32,"CRITIQUE",M13<=8,"RAS",M13<=16,"ATTENTION",M13<=32,"DANGER") -> RAS | Q13: =O13+6*30+3 -> 183
... A47: ='total Scrap'!A47 -> 07/2020 | B47: ='total Scrap'!B47 -> 73082 | C47: ='total Scrap'!C47 -> C. Poli Marchetti | D47: ='total Scrap'!D47 -> 96518 | E47: ='total Scrap'!E47 -> 56031FPD2071 | F47: ='total Scrap'!F47 -> WIRE, INTERFACE | G47: ='total Scrap'!G47 -> 1 | H47: ='total Scrap'!H47 -> 33.23 | ... K47: ='total Scrap'!K47 -> PRISE CASSÉE | L47: =Tableau7[[#This Row],[facteur associé]] -> 4 | M47: =Tableau6[[#This Row],[facteur récurrence]] -> 4 | N47: =_xlfn.IFS(M47>32,"CRITIQUE",M47<=8,"RAS",M47<=16,"ATTENTION",M47<=32,"DANGER") -> RAS | Q47: =O47+6*30+3 -> 183
A48: ='total Scrap'!A58 -> 07/2020 | B48: ='total Scrap'!B58 -> 72999 | C48: ='total Scrap'!C58 -> B. Metreau | D48: ='total Scrap'!D58 -> 95962 | E48: ='total Scrap'!E58 -> 163612660071 | F48: ='total Scrap'!F58 -> FAN | G48: ='total Scrap'!G58 -> 1 | H48: ='total Scrap'!H58 -> 16.41 | ... K48: ='total Scrap'!K58 -> HÉLICE DE VENTILATEUR CASSÉE LORS DE LA POSE DU CHASSIS | L48: =Tableau7[[#This Row],[facteur associé]] -> 3 | M48: =Tableau6[[#This Row],[facteur récurrence]] -> 3 | N48: =_xlfn.IFS(M48>32,"CRITIQUE",M48<=8,"RAS",M48<=16,"ATTENTION",M48<=32,"DANGER") -> RAS | Q48: =O48+6*30+3 -> 183
A49: ='total Scrap'!A59 -> 07/2020 | B49: ='total Scrap'!B59 -> 72999 | C49: ='total Scrap'!C59 -> B. Metreau | D49: ='total Scrap'!D59 -> 95960 | E49: ='total Scrap'!E59 -> 163612660071 | F49: ='total Scrap'!F59 -> FAN | G49: ='total Scrap'!G59 -> 1 | H49: ='total Scrap'!H59 -> 16.41 | ... K49: ='total Scrap'!K59 -> 647 225365 | L49: =Tableau7[[#This Row],[facteur associé]] -> 1 | M49: =Tableau6[[#This Row],[facteur récurrence]] -> 1 | N49: =_xlfn.IFS(M49>32,"CRITIQUE",M49<=8,"RAS",M49<=16,"ATTENTION",M49<=32,"DANGER") -> RAS | Q49: =O49+6*30+3 -> 183
