Workbook

Sheet total Scrap
A1: Month | B1: Team Leader | C1: Name | D1: FNC / SMR | E1: Part Number | F1: Part Name | G1: Qty | H1: Part cost € | I1: Handling cost € | J1: TOTAL Amount € | K1: Comments | M1: 1.1355
A2: 04/2020 | B2: 72999 | C2: B. Metreau | D2: 95402 | E2: 57110F118271 | F2: METER ASSY, COMBINATION | G2: 1 | H2: =39.26/M1 -> 34.575077 | I2: =IF(H2="","",13.72) -> 13.72 | J2: =IF(H2="","",SUM(H2:I2)) -> 48.295077 | K2: PIÈCE TOMBÉE LORS DU MONTAGE SUR CHAINE (PIECE CASSÉE)
A3: 04/2020 | B3: 72007 | C3: JP Dupas | D3: 95403 | E3: 57413F231071 | F3: BOX ASSY, KEYPAD, LOG-ON | G3: 1 | H3: 38.46 | I3: =IF(H3="","",13.72) -> 13.72 | J3: =IF(H3="","",SUM(H3:I3)) -> 52.18 | K3: MQ PIÈCE POUR VISSER LE DIJICODE (DÉMONTÉ PAR LA DES)
A4: 04/2020 | B4: 72999 | C4: B. Metreau | D4: 95504 | E4: 56232F231171 | F4: WIRE | G4: 1 | H4: 10.93 | I4: =IF(H4="","",13.72) -> 13.72 | J4: =IF(H4="","",SUM(H4:I4)) -> 24.65 | K4: PRISE ARRACHÉE DÉFAUT NOTÉ SUR LA CHECKLIST ASSEMBLAGE
A5: 05/2020 | B5: 72007 | C5: JP Dupas | D5: 95054 | E5: 52212FS2LC71 | F5: CARPET BOX AIR COOLER | G5: 1 | H5: 138 | I5: =IF(H5="","",13.72) -> 13.72 | J5: =IF(H5="","",SUM(H5:I5)) -> 151.72 | K5: HABILLAGE ABIMÉ EN ACTIONNANT LE SIÈGE
A6: 05/2020 | B6: 72999 | C6: B. Metreau | D6: 95703 | E6: 56031F222671 | F6: WIRE, SIDE LH | G6: 2 | H6: 67.92 | I6: =IF(H6="","",13.72) -> 13.72 | J6: =IF(H6="","",SUM(H6:I6)) -> 81.64 | K6: PRISE BLANCHE ALIM MINI-LEVER HS
A7: 05/2020 | B7: 73082 | C7: C. Poli Marchetti | D7: 95709 | E7: 56062F221271 | F7: WIRE, HOOD SUB NO.1 | G7: 1 | H7: 46.85 | I7: =IF(H7="","",13.72) -> 13.72 | J7: =IF(H7="","",SUM(H7:I7)) -> 60.57 | K7: CONNECTEUR ALIM DU SIÈGE HS
A8: 05/2020 | B8: 72062 | C8: P. Sauvaget | D8: 95708 | E8: 56021F219471 | F8: WIRE, ENGINE | G8: 1 | H8: 46.77 | I8: =IF(H8="","",13.72) -> 13.72 | J8: =IF(H8="","",SUM(H8:I8)) -> 60.49 | K8: SUPPORT FUSIBLES HS
A9: 05/2020 | B9: 72062 | C9: P. Sauvaget | D9: 95707 | E9: 56021F220271 | F9: WIRE, ENGINE | G9: 1 | H9: 24.82 | I9: =IF(H9="","",13.72) -> 13.72 | J9: =IF(H9="","",SUM(H9:I9)) -> 38.54 | K9: VIS DE FIXATION FAISCEAU SUR FUSIBLE HS
A10: 05/2020 | B10: 73082 | C10: C. Poli Marchetti | D10: 95763 | E10: 55537F318471 | F10: COVER, INNER, DOOR, RH, UPR | G10: 1 | H10: 13.87 | I10: =IF(H10="","",13.72) -> 13.72 | J10: =IF(H10="","",SUM(H10:I10)) -> 27.59 | K10: CAPITONNAGE COUPÉ
A11: 05/2020 | B11: 72999 | C11: B. Metreau | D11: 95705 | E11: 56062FSU1U71 | F11: WIRE HOOD (56062-F2212-71) | G11: 1 | H11: 13.5 | I11: =IF(H11="","",13.72) -> 13.72 | J11: =IF(H11="","",SUM(H11:I11)) -> 27.22 | K11: FIL COUPÉ SUR CHAINE
A12: 06/2020 | B12: 72999 | C12: B. Metreau | D12: 95952 | E12: 175702660371 | F12: MUFFLER ASSY, CATALYTIC | G12: 1 | H12: 179.91 | I12: =IF(H12="","",13.72) -> 13.72 | J12: =IF(H12="","",SUM(H12:I12)) -> 193.63 | K12: FILETAGE HS LORS DU SERRAGE 078 225897
A13: 06/2020 | B13: 73082 | C13: C. Poli Marchetti | D13: 95619 | E13: 16420F221171 | F13: RADIATOR ASSY | G13: 1 | H13: 71.35 | I13: =IF(H13="","",13.72) -> 13.72 | J13: =IF(H13="","",SUM(H13:I13)) -> 85.07 | K13: COUPS SUR RADIATEUR
A14: 06/2020 | B14: 73082 | C14: C. Poli Marchetti | D14: 95704 | E14: 169202661071 | F14: COOLER ASSY, HYD OIL | G14: 1 | H14: 45.29 | I14: =IF(H14="","",13.72) -> 13.72 | J14: =IF(H14="","",SUM(H14:I14)) -> 59.01 | K14: AILETTES SUR RADIATEUR HS 817 224942
... A297: 03/2021 | B297: 72999 | C297: B. Metreau | D297: 96555 | E297: 111802665171 | F297: ENGINE ASSY 1ZS | G297: 1 | H297: 159.92 | I297: =IF(H297="","",13.72) -> 13.72 | J297: =IF(H297="","",SUM(H297:I297)) -> 173.64 | K297: INJECTEUR HS
A298: 03/2021 | B298: 72886 | C298: K. Julien | D298: 97137 | E298: 1B03095 | F298: SHAFT | G298: 25 | H298: =G298*5.75 -> 143.75 | I298: =IF(H298="","",13.72) -> 13.72 | J298: =IF(H298="","",SUM(H298:I298)) -> 157.47 | K298: TARAUDAGE DE M16X2 AU LIEU DE M16X1,5
A299: 03/2021 | B299: 73082 | C299: C. Poli Marchetti | D299: 95668 | E299: 455103664071 | F299: VALVE ASSY, POWER STEERING | G299: 1 | H299: 132.18 | I299: =IF(H299="","",13.72) -> 13.72 | J299: =IF(H299="","",SUM(H299:I299)) -> 145.9 | K299: FIL COUPÉ
A300: 03/2021 | B300: 73069 | C300: T. Boudard | D300: 96683 | E300: 2A28008 | F300: FRONT SLIDING GLASS LH | G300: 1 | H300: 129.49 | I300: =IF(H300="","",13.72) -> 13.72 | J300: =IF(H300="","",SUM(H300:I300)) -> 143.21 | K300: EN RETIRANT LA BAIE COLLÉE SUR LA PORTE ELLE S'EST CASSÉE
A301: 03/2021 | B301: 72999 | C301: B. Metreau | D301: 96619 | E301: 56210F225071 | F301: WIRE, ENGINE | G301: 1 | H301: 128.42 | I301: =IF(H301="","",13.72) -> 13.72 | J301: =IF(H301="","",SUM(H301:I301)) -> 142.14 | K301: PRISE HS
A302: 03/2021 | B302: 73082 | C302: C. Poli Marchetti | D302: 96617 | E302: 56210F225071 | F302: WIRE, ENGINE | G302: 1 | H302: 127.96 | I302: =IF(H302="","",13.72) -> 13.72 | J302: =IF(H302="","",SUM(H302:I302)) -> 141.68 | K302: CODE ERREUR OC-2
A303: 03/2021 | B303: 73082 | C303: C. Poli Marchetti | D303: 96567 | E303: 537302670571 | F303: SEAT ASSY | G303: 1 | H303: 117.18 | I303: =IF(H303="","",13.72) -> 13.72 | J303: =IF(H303="","",SUM(H303:I303)) -> 130.9 | K303: OUVERTURE BOITE DOCS HS
A304: 03/2021 | B304: 72999 | C304: B. Metreau | D304: 97812 | E304: 565302660071 | F304: LAMP ASSY, COMBINATION HEAD, LED | G304: 1 | H304: 97.19 | I304: =IF(H304="","",13.72) -> 13.72 | J304: =IF(H304="","",SUM(H304:I304)) -> 110.91 | K304: PRISE ARRACHÉE
A305: 03/2021 | B305: 73082 | C305: C. Poli Marchetti | D305: 97224 | E305: 281002665171 | F305: STARTER ASSY | G305: 1 | H305: 94.69 | I305: =IF(H305="","",13.72) -> 13.72 | J305: =IF(H305="","",SUM(H305:I305)) -> 108.41 | K305: PRISE SUR DEMARREUR HS
A306: 03/2021 | B306: 73082 | C306: C. Poli Marchetti | D306: 95562 | E306: 470303661171 | F306: BRAKE ASSY, RH | G306: 1 | H306: 88.54 | I306: =IF(H306="","",13.72) -> 13.72 | J306: =IF(H306="","",SUM(H306:I306)) -> 102.26 | K306: CABLE DE FREIN HS
A307: 03/2021 | B307: 72999 | C307: B. Metreau | D307: 95666 | E307: 56210F219071 | F307: WIRE, ENGINE | G307: 1 | H307: 80.57 | I307: =IF(H307="","",13.72) -> 13.72 | J307: =IF(H307="","",SUM(H307:I307)) -> 94.29 | K307: PRISE CASSÉE SUR FAISCEAU MOTEUR
A308: 03/2021 | B308: 72999 | C308: B. Metreau | D308: 96563 | E308: 56210F219071 | F308: WIRE, ENGINE | G308: 1 | H308: 80.57 | I308: =IF(H308="","",13.72) -> 13.72 | J308: =IF(H308="","",SUM(H308:I308)) -> 94.29 | K308: PRISE HS
A309: 03/2021 | B309: 72999 | C309: B. Metreau | D309: 96747 | E309: 56210F219071 | F309: WIRE, ENGINE | G309: 1 | H309: 80.31 | I309: =IF(H309="","",13.72) -> 13.72 | J309: =IF(H309="","",SUM(H309:I309)) -> 94.03 | K309: PRISE HS
A310: 03/2021 | B310: 72999 | C310: B. Metreau | D310: 96750 | E310: 56210F219071 | F310: WIRE, ENGINE | G310: 1 | H310: 80.31 | I310: =IF(H310="","",13.72) -> 13.72 | J310: =IF(H310="","",SUM(H310:I310)) -> 94.03 | K310: PRISE HS
... A437: 06/2021 | B437: 72238 | C437: D. Rouez | D437: 96596 | E437: 58741F231071 | F437: COVER PILAR LH | G437: 1 | H437: 2.1 | I437: =IF(H437="","",13.72) -> 13.72 | J437: =IF(H437="","",SUM(H437:I437)) -> 15.82 | K437: TRACES SUR LE CARTER
A438: 44713 | E438: 11111111111 | I438: =IF(H438="","",13.72) | J438: =IF(H438="","",SUM(H438:I438))
A439: 06/2023 | E439: 11111111111 | I439: =IF(H439="","",13.72) | J439: =IF(H439="","",SUM(H439:I439))

Sheet récurrence
A1: Month | B1: FNC / SMR | C1: Part Number | D1: Colonne 999 | E1: référence | F1: date réf 1 | G1: date réf 2 | H1: Nb de FNC concernées réf 1 | I1: Nb de FNC concernées réf 2 | J1: date =/ 0 réf 1 | K1: date =/ 0 réf 2 | L1: 0 | M1: 1 | N1: numéro d'occurrence réf 1 | O1: numéro d'occurrence réf 2 | P1: Occurrence | Q1: Nombre de jours depuis le 00/01/1900 réf 1 | R1: Nombre de jours depuis le 00/01/1900 réf 2 | S1: Nombre de jours entre deux occurrences réf 1 | T1: Nombre de jours entre deux occurrences réf 2 | U1: Moyenne entre deux occurrences réf 1 | V1: Moyenne entre deux occurrences réf 2 | W1: Facteur réf 1 | X1: Facteur réf 2
A2: ='total Scrap'!A2 -> 04/2020 | B2: ='total Scrap'!D2 -> 95402 | C2: ='total Scrap'!E2 -> 57110F118271 | D2: =IF(COUNTIFS($C$2:$C$410,C2)>1, C2,0) -> 0 | E2: ='traitement UNIQUE'!A2 -> 57413F231071 | F2: =IF($C2=E$2, $A2,) -> 0 | G2: =IF($C2=$E$3, $A2,) -> 0 | H2: =COUNTIFS(F$2:F$410,"<>",F$2:F$410,"<>0") -> 2 | I2: =COUNTIFS(G$2:G$410,"<>",G$2:G$410,"<>0") -> 2 | J2: =IF(F2<>0, DATE(MID(F2,4,7),MID(F2,1,2),1),) -> 0 | K2: =IF(G2<>0, DATE(MID(G2,4,7),MID(G2,1,2),1),) -> 0 | L2: =IF(F2>0,L1+1,L1) -> 0 | M2: =IF(G2>0,M1+1,M1) -> 1 | N2: 1 | P2: ="Occurrence"&N2 -> Occurrence1 | Q2: =SUMIFS(J$2:J$410,L$2:L$410,N2) -> 43922 | R2: =SUMIFS(K$2:K$410,M$2:M$410,O3) -> 43952 | S2: =IF(Q3>0,Q3-Q2,0) -> 426 | T2: =IF(R3>0,R3-R2,0) -> 153 | U2: =IF(COUNTIFS(S$2:S$410,"<>",S$2:S$410,"<>0")=0,0,SUMIFS(S$2:S$410,S$2:S$410,"<>0")/COUNTIFS(S$2:S$410,"<>",S$2:S$410,"<>0")) -> 426 | V2: =IF(COUNTIFS(T$2:T$410,"<>",T$2:T$410,"<>0")=0,0,SUMIFS(T$2:T$410,T$2:T$410,"<>0")/COUNTIFS(T$2:T$410,"<>",T$2:T$410,"<>0")) -> 153 | W2: =_xlfn.IFS(U$2<=45,4,U$2<=90,3,U$2<=135,2,U$2>135,1) -> 1 | X2: =_xlfn.IFS(V$2<=45,4,V$2<=90,3,V$2<=135,2,V$2>135,1) -> 1
A3: ='total Scrap'!A3 -> 04/2020 | B3: ='total Scrap'!D3 -> 95403 | C3: ='total Scrap'!E3 -> 57413F231071 | D3: =IF(COUNTIFS($C$2:$C$410,C3)>1, C3,0) -> 57413F231071 | E3: ='traitement UNIQUE'!A3 -> 52212FS2LC71 | F3: =IF($C3=E$2, $A3,) -> 04/2020 | G3: =IF($C3=$E$3, $A3,) -> 0 | H3: =COUNTIFS(F$2:F$410,"<>",F$2:F$410,"<>0") -> 2 | I3: =COUNTIFS(G$2:G$410,"<>",G$2:G$410,"<>0") -> 2 | J3: =IF(F3<>0, DATE(MID(F3,4,7),MID(F3,1,2),1),) -> 43922 | K3: =IF(G3<>0, DATE(MID(G3,4,7),MID(G3,1,2),1),) -> 0 | L3: =IF(F3>0,L2+1,L2) -> 1 | M3: =IF(G3>0,M2+1,M2) -> 1 | N3: 2 | O3: 2 | P3: ="Occurrence"&N3 -> Occurrence2 | Q3: =SUMIFS($J$2:$J$410,$L$2:$L$410,N3) -> 44348 | R3: =SUMIFS(K$2:K$410,M$2:M$410,O4) -> 44105 | S3: =IF(Q4>0,Q4-Q3,0) -> 0 | T3: =IF(R4>0,R4-R3,0) -> 0 | U3: =IF(COUNTIFS(S$2:S$410,"<>",S$2:S$410,"<>0")=0,"0",SUMIFS(S$2:S$410,S$2:S$410,"<>0")/COUNTIFS(S$2:S$410,"<>",S$2:S$410,"<>0")) -> 426 | V3: =IF(COUNTIFS(T$2:T$410,"<>",T$2:T$410,"<>0")=0,"0",SUMIFS(T$2:T$410,T$2:T$410,"<>0")/COUNTIFS(T$2:T$410,"<>",T$2:T$410,"<>0")) -> 153 | W3: =_xlfn.IFS(U$2<=45,4,U$2<=90,3,U$2<=135,2,U$2>135,1) -> 1 | X3: =_xlfn.IFS(V$2<=45,4,V$2<=90,3,V$2<=135,2,V$2>135,1) -> 1
A4: ='total Scrap'!A4 -> 04/2020 | B4: ='total Scrap'!D4 -> 95504 | C4: ='total Scrap'!E4 -> 56232F231171 | D4: =IF(COUNTIFS($C$2:$C$410,C4)>1, C4,0) -> 0 | E4: ='traitement UNIQUE'!A4 -> 56021F219471 | F4: =IF($C4=E$2, $A4,) -> 0 | G4: =IF($C4=$E$3, $A4,) -> 0 | H4: =COUNTIFS(F$2:F$410,"<>",F$2:F$410,"<>0") -> 2 | I4: =COUNTIFS(G$2:G$410,"<>",G$2:G$410,"<>0") -> 2 | J4: =IF(F4<>0, DATE(MID(F4,4,7),MID(F4,1,2),1),) -> 0 | K4: =IF(G4<>0, DATE(MID(G4,4,7),MID(G4,1,2),1),) -> 0 | L4: =IF(F4>0,L3+1,L3) -> 1 | M4: =IF(G4>0,M3+1,M3) -> 1 | N4: 3 | O4: 3 | P4: ="Occurrence"&N4 -> Occurrence3 | Q4: =SUMIFS($J$2:$J$410,$L$2:$L$410,N4) -> 0 | R4: =SUMIFS(K$2:K$410,M$2:M$410,O5) -> 0 | S4: =IF(Q5>0,Q5-Q4,0) -> 0 | T4: =IF(R5>0,R5-R4,0) -> 0 | U4: =IF(COUNTIFS(S$2:S$410,"<>",S$2:S$410,"<>0")=0,"0",SUMIFS(S$2:S$410,S$2:S$410,"<>0")/COUNTIFS(S$2:S$410,"<>",S$2:S$410,"<>0")) -> 426 | V4: =IF(COUNTIFS(T$2:T$410,"<>",T$2:T$410,"<>0")=0,"0",SUMIFS(T$2:T$410,T$2:T$410,"<>0")/COUNTIFS(T$2:T$410,"<>",T$2:T$410,"<>0")) -> 153 | W4: =_xlfn.IFS(U$2<=45,4,U$2<=90,3,U$2<=135,2,U$2>135,1) -> 1 | X4: =_xlfn.IFS(V$2<=45,4,V$2<=90,3,V$2<=135,2,V$2>135,1) -> 1
A5: ='total Scrap'!A5 -> 05/2020 | B5: ='total Scrap'!D5 -> 95054 | C5: ='total Scrap'!E5 -> 52212FS2LC71 | D5: =IF(COUNTIFS($C$2:$C$410,C5)>1, C5,0) -> 52212FS2LC71 | E5: ='traitement UNIQUE'!A5 -> 56021F220271 | F5: =IF($C5=E$2, $A5,) -> 0 | G5: =IF($C5=$E$3, $A5,) -> 05/2020 | H5: =COUNTIFS(F$2:F$410,"<>",F$2:F$410,"<>0") -> 2 | I5: =COUNTIFS(G$2:G$410,"<>",G$2:G$410,"<>0") -> 2 | J5: =IF(F5<>0, DATE(MID(F5,4,7),MID(F5,1,2),1),) -> 0 | K5: =IF(G5<>0, DATE(MID(G5,4,7),MID(G5,1,2),1),) -> 43952 | L5: =IF(F5>0,L4+1,L4) -> 1 | M5: =IF(G5>0,M4+1,M4) -> 2 | N5: 4 | O5: 4 | P5: ="Occurrence"&N5 -> Occurrence4 | Q5: =SUMIFS($J$2:$J$410,$L$2:$L$410,N5) -> 0 | R5: =SUMIFS(K$2:K$410,M$2:M$410,O6) -> 0 | S5: =IF(Q6>0,Q6-Q5,0) -> 0 | T5: =IF(R6>0,R6-R5,0) -> 0 | U5: =IF(COUNTIFS(S$2:S$410,"<>",S$2:S$410,"<>0")=0,"0",SUMIFS(S$2:S$410,S$2:S$410,"<>0")/COUNTIFS(S$2:S$410,"<>",S$2:S$410,"<>0")) -> 426 | V5: =IF(COUNTIFS(T$2:T$410,"<>",T$2:T$410,"<>0")=0,"0",SUMIFS(T$2:T$410,T$2:T$410,"<>0")/COUNTIFS(T$2:T$410,"<>",T$2:T$410,"<>0")) -> 153 | W5: =_xlfn.IFS(U$2<=45,4,U$2<=90,3,U$2<=135,2,U$2>135,1) -> 1 | X5: =_xlfn.IFS(V$2<=45,4,V$2<=90,3,V$2<=135,2,V$2>135,1) -> 1
A6: ='total Scrap'!A6 -> 05/2020 | B6: ='total Scrap'!D6 -> 95703 | C6: ='total Scrap'!E6 -> 56031F222671 | D6: =IF(COUNTIFS($C$2:$C$410,C6)>1, C6,0) -> 0 | E6: ='traitement UNIQUE'!A6 -> 55537F318471 | F6: =IF($C6=E$2, $A6,) -> 0 | G6: =IF($C6=$E$3, $A6,) -> 0 | H6: =COUNTIFS(F$2:F$410,"<>",F$2:F$410,"<>0") -> 2 | I6: =COUNTIFS(G$2:G$410,"<>",G$2:G$410,"<>0") -> 2 | J6: =IF(F6<>0, DATE(MID(F6,4,7),MID(F6,1,2),1),) -> 0 | K6: =IF(G6<>0, DATE(MID(G6,4,7),MID(G6,1,2),1),) -> 0 | L6: =IF(F6>0,L5+1,L5) -> 1 | M6: =IF(G6>0,M5+1,M5) -> 2 | N6: 5 | O6: 5 | P6: ="Occurrence"&N6 -> Occurrence5 | Q6: =SUMIFS($J$2:$J$410,$L$2:$L$410,N6) -> 0 | R6: =SUMIFS(K$2:K$410,M$2:M$410,O7) -> 0 | S6: =IF(Q7>0,Q7-Q6,0) -> 0 | T6: =IF(R7>0,R7-R6,0) -> 0 | U6: =IF(COUNTIFS(S$2:S$410,"<>",S$2:S$410,"<>0")=0,"0",SUMIFS(S$2:S$410,S$2:S$410,"<>0")/COUNTIFS(S$2:S$410,"<>",S$2:S$410,"<>0")) -> 426 | V6: =IF(COUNTIFS(T$2:T$410,"<>",T$2:T$410,"<>0")=0,"0",SUMIFS(T$2:T$410,T$2:T$410,"<>0")/COUNTIFS(T$2:T$410,"<>",T$2:T$410,"<>0")) -> 153 | W6: =_xlfn.IFS(U$2<=45,4,U$2<=90,3,U$2<=135,2,U$2>135,1) -> 1 | X6: =_xlfn.IFS(V$2<=45,4,V$2<=90,3,V$2<=135,2,V$2>135,1) -> 1
A7: ='total Scrap'!A7 -> 05/2020 | B7: ='total Scrap'!D7 -> 95709 | C7: ='total Scrap'!E7 -> 56062F221271 | D7: =IF(COUNTIFS($C$2:$C$410,C7)>1, C7,0) -> 0 | E7: ='traitement UNIQUE'!A7 -> 55227F218271 | F7: =IF($C7=E$2, $A7,) -> 0 | G7: =IF($C7=$E$3, $A7,) -> 0 | H7: =COUNTIFS(F$2:F$410,"<>",F$2:F$410,"<>0") -> 2 | I7: =COUNTIFS(G$2:G$410,"<>",G$2:G$410,"<>0") -> 2 | J7: =IF(F7<>0, DATE(MID(F7,4,7),MID(F7,1,2),1),) -> 0 | K7: =IF(G7<>0, DATE(MID(G7,4,7),MID(G7,1,2),1),) -> 0 | L7: =IF(F7>0,L6+1,L6) -> 1 | M7: =IF(G7>0,M6+1,M6) -> 2 | N7: 6 | O7: 6 | P7: ="Occurrence"&N7 -> Occurrence6 | Q7: =SUMIFS($J$2:$J$410,$L$2:$L$410,N7) -> 0 | R7: =SUMIFS(K$2:K$410,M$2:M$410,O8) -> 0 | S7: =IF(Q8>0,Q8-Q7,0) -> 0 | T7: =IF(R8>0,R8-R7,0) -> 0 | U7: =IF(COUNTIFS(S$2:S$410,"<>",S$2:S$410,"<>0")=0,"0",SUMIFS(S$2:S$410,S$2:S$410,"<>0")/COUNTIFS(S$2:S$410,"<>",S$2:S$410,"<>0")) -> 426 | V7: =IF(COUNTIFS(T$2:T$410,"<>",T$2:T$410,"<>0")=0,"0",SUMIFS(T$2:T$410,T$2:T$410,"<>0")/COUNTIFS(T$2:T$410,"<>",T$2:T$410,"<>0")) -> 153 | W7: =_xlfn.IFS(U$2<=45,4,U$2<=90,3,U$2<=135,2,U$2>135,1) -> 1 | X7: =_xlfn.IFS(V$2<=45,4,V$2<=90,3,V$2<=135,2,V$2>135,1) -> 1
A8: ='total Scrap'!A8 -> 05/2020 | B8: ='total Scrap'!D8 -> 95708 | C8: ='total Scrap'!E8 -> 56021F219471 | D8: =IF(COUNTIFS($C$2:$C$410,C8)>1, C8,0) -> 56021F219471 | E8: ='traitement UNIQUE'!A8 -> 68607F319071 | F8: =IF($C8=E$2, $A8,) -> 0 | G8: =IF($C8=$E$3, $A8,) -> 0 | H8: =COUNTIFS(F$2:F$410,"<>",F$2:F$410,"<>0") -> 2 | I8: =COUNTIFS(G$2:G$410,"<>",G$2:G$410,"<>0") -> 2 | J8: =IF(F8<>0, DATE(MID(F8,4,7),MID(F8,1,2),1),) -> 0 | K8: =IF(G8<>0, DATE(MID(G8,4,7),MID(G8,1,2),1),) -> 0 | L8: =IF(F8>0,L7+1,L7) -> 1 | M8: =IF(G8>0,M7+1,M7) -> 2 | N8: 7 | O8: 7 | P8: ="Occurrence"&N8 -> Occurrence7 | Q8: =SUMIFS($J$2:$J$410,$L$2:$L$410,N8) -> 0 | R8: =SUMIFS(K$2:K$410,M$2:M$410,O9) -> 0 | S8: =IF(Q9>0,Q9-Q8,0) -> 0 | T8: =IF(R9>0,R9-R8,0) -> 0 | U8: =IF(COUNTIFS(S$2:S$410,"<>",S$2:S$410,"<>0")=0,"0",SUMIFS(S$2:S$410,S$2:S$410,"<>0")/COUNTIFS(S$2:S$410,"<>",S$2:S$410,"<>0")) -> 426 | V8: =IF(COUNTIFS(T$2:T$410,"<>",T$2:T$410,"<>0")=0,"0",SUMIFS(T$2:T$410,T$2:T$410,"<>0")/COUNTIFS(T$2:T$410,"<>",T$2:T$410,"<>0")) -> 153 | W8: =_xlfn.IFS(U$2<=45,4,U$2<=90,3,U$2<=135,2,U$2>135,1) -> 1 | X8: =_xlfn.IFS(V$2<=45,4,V$2<=90,3,V$2<=135,2,V$2>135,1) -> 1
A9: ='total Scrap'!A9 -> 05/2020 | B9: ='total Scrap'!D9 -> 95707 | C9: ='total Scrap'!E9 -> 56021F220271 | D9: =IF(COUNTIFS($C$2:$C$410,C9)>1, C9,0) -> 56021F220271 | E9: ='traitement UNIQUE'!A9 -> 163612660071 | F9: =IF($C9=E$2, $A9,) -> 0 | G9: =IF($C9=$E$3, $A9,) -> 0 | H9: =COUNTIFS(F$2:F$410,"<>",F$2:F$410,"<>0") -> 2 | I9: =COUNTIFS(G$2:G$410,"<>",G$2:G$410,"<>0") -> 2 | J9: =IF(F9<>0, DATE(MID(F9,4,7),MID(F9,1,2),1),) -> 0 | K9: =IF(G9<>0, DATE(MID(G9,4,7),MID(G9,1,2),1),) -> 0 | L9: =IF(F9>0,L8+1,L8) -> 1 | M9: =IF(G9>0,M8+1,M8) -> 2 | N9: 8 | O9: 8 | P9: ="Occurrence"&N9 -> Occurrence8 | Q9: =SUMIFS($J$2:$J$410,$L$2:$L$410,N9) -> 0 | R9: =SUMIFS(K$2:K$410,M$2:M$410,O10) -> 0 | S9: =IF(Q10>0,Q10-Q9,0) -> 0 | T9: =IF(R10>0,R10-R9,0) -> 0 | U9: =IF(COUNTIFS(S$2:S$410,"<>",S$2:S$410,"<>0")=0,"0",SUMIFS(S$2:S$410,S$2:S$410,"<>0")/COUNTIFS(S$2:S$410,"<>",S$2:S$410,"<>0")) -> 426 | V9: =IF(COUNTIFS(T$2:T$410,"<>",T$2:T$410,"<>0")=0,"0",SUMIFS(T$2:T$410,T$2:T$410,"<>0")/COUNTIFS(T$2:T$410,"<>",T$2:T$410,"<>0")) -> 153 | W9: =_xlfn.IFS(U$2<=45,4,U$2<=90,3,U$2<=135,2,U$2>135,1) -> 1 | X9: =_xlfn.IFS(V$2<=45,4,V$2<=90,3,V$2<=135,2,V$2>135,1) -> 1
A10: ='total Scrap'!A10 -> 05/2020 | B10: ='total Scrap'!D10 -> 95763 | C10: ='total Scrap'!E10 -> 55537F318471 | D10: =IF(COUNTIFS($C$2:$C$410,C10)>1, C10,0) -> 55537F318471 | E10: ='traitement UNIQUE'!A10 -> 53220F219071 | F10: =IF($C10=E$2, $A10,) -> 0 | G10: =IF($C10=$E$3, $A10,) -> 0 | H10: =COUNTIFS(F$2:F$410,"<>",F$2:F$410,"<>0") -> 2 | I10: =COUNTIFS(G$2:G$410,"<>",G$2:G$410,"<>0") -> 2 | J10: =IF(F10<>0, DATE(MID(F10,4,7),MID(F10,1,2),1),) -> 0 | K10: =IF(G10<>0, DATE(MID(G10,4,7),MID(G10,1,2),1),) -> 0 | L10: =IF(F10>0,L9+1,L9) -> 1 | M10: =IF(G10>0,M9+1,M9) -> 2 | N10: 9 | O10: 9 | P10: ="Occurrence"&N10 -> Occurrence9 | Q10: =SUMIFS($J$2:$J$410,$L$2:$L$410,N10) -> 0 | R10: =SUMIFS(K$2:K$410,M$2:M$410,O11) -> 0 | S10: =IF(Q11>0,Q11-Q10,0) -> 0 | T10: =IF(R11>0,R11-R10,0) -> 0 | U10: =IF(COUNTIFS(S$2:S$410,"<>",S$2:S$410,"<>0")=0,"0",SUMIFS(S$2:S$410,S$2:S$410,"<>0")/COUNTIFS(S$2:S$410,"<>",S$2:S$410,"<>0")) -> 426 | V10: =IF(COUNTIFS(T$2:T$410,"<>",T$2:T$410,"<>0")=0,"0",SUMIFS(T$2:T$410,T$2:T$410,"<>0")/COUNTIFS(T$2:T$410,"<>",T$2:T$410,"<>0")) -> 153 | W10: =_xlfn.IFS(U$2<=45,4,U$2<=90,3,U$2<=135,2,U$2>135,1) -> 1 | X10: =_xlfn.IFS(V$2<=45,4,V$2<=90,3,V$2<=135,2,V$2>135,1) -> 1
A11: ='total Scrap'!A11 -> 05/2020 | B11: ='total Scrap'!D11 -> 95705 | C11: ='total Scrap'!E11 -> 56062FSU1U71 | D11: =IF(COUNTIFS($C$2:$C$410,C11)>1, C11,0) -> 0 | E11: ='traitement UNIQUE'!A11 -> 451101247271 | F11: =IF($C11=E$2, $A11,) -> 0 | G11: =IF($C11=$E$3, $A11,) -> 0 | H11: =COUNTIFS(F$2:F$410,"<>",F$2:F$410,"<>0") -> 2 | I11: =COUNTIFS(G$2:G$410,"<>",G$2:G$410,"<>0") -> 2 | J11: =IF(F11<>0, DATE(MID(F11,4,7),MID(F11,1,2),1),) -> 0 | K11: =IF(G11<>0, DATE(MID(G11,4,7),MID(G11,1,2),1),) -> 0 | L11: =IF(F11>0,L10+1,L10) -> 1 | M11: =IF(G11>0,M10+1,M10) -> 2 | N11: 10 | O11: 10 | P11: ="Occurrence"&N11 -> Occurrence10 | Q11: =SUMIFS($J$2:$J$410,$L$2:$L$410,N11) -> 0 | R11: =SUMIFS(K$2:K$410,M$2:M$410,O12) -> 0 | S11: =IF(Q12>0,Q12-Q11,0) -> 0 | T11: =IF(R12>0,R12-R11,0) -> 0 | U11: =IF(COUNTIFS(S$2:S$410,"<>",S$2:S$410,"<>0")=0,"0",SUMIFS(S$2:S$410,S$2:S$410,"<>0")/COUNTIFS(S$2:S$410,"<>",S$2:S$410,"<>0")) -> 426 | V11: =IF(COUNTIFS(T$2:T$410,"<>",T$2:T$410,"<>0")=0,"0",SUMIFS(T$2:T$410,T$2:T$410,"<>0")/COUNTIFS(T$2:T$410,"<>",T$2:T$410,"<>0")) -> 153 | W11: =_xlfn.IFS(U$2<=45,4,U$2<=90,3,U$2<=135,2,U$2>135,1) -> 1 | X11: =_xlfn.IFS(V$2<=45,4,V$2<=90,3,V$2<=135,2,V$2>135,1) -> 1
A12: ='total Scrap'!A12 -> 06/2020 | B12: ='total Scrap'!D12 -> 95952 | C12: ='total Scrap'!E12 -> 175702660371 | D12: =IF(COUNTIFS($C$2:$C$410,C12)>1, C12,0) -> 0 | E12: ='traitement UNIQUE'!A12 -> 565702665071 | F12: =IF($C12=E$2, $A12,) -> 0 | G12: =IF($C12=$E$3, $A12,) -> 0 | H12: =COUNTIFS(F$2:F$410,"<>",F$2:F$410,"<>0") -> 2 | I12: =COUNTIFS(G$2:G$410,"<>",G$2:G$410,"<>0") -> 2 | J12: =IF(F12<>0, DATE(MID(F12,4,7),MID(F12,1,2),1),) -> 0 | K12: =IF(G12<>0, DATE(MID(G12,4,7),MID(G12,1,2),1),) -> 0 | L12: =IF(F12>0,L11+1,L11) -> 1 | M12: =IF(G12>0,M11+1,M11) -> 2 | N12: 11 | O12: 11 | P12: ="Occurrence"&N12 -> Occurrence11 | Q12: =SUMIFS($J$2:$J$410,$L$2:$L$410,N12) -> 0 | R12: =SUMIFS(K$2:K$410,M$2:M$410,O13) -> 0 | S12: =IF(Q13>0,Q13-Q12,0) -> 0 | T12: =IF(R13>0,R13-R12,0) -> 0 | U12: =IF(COUNTIFS(S$2:S$410,"<>",S$2:S$410,"<>0")=0,"0",SUMIFS(S$2:S$410,S$2:S$410,"<>0")/COUNTIFS(S$2:S$410,"<>",S$2:S$410,"<>0")) -> 426 | V12: =IF(COUNTIFS(T$2:T$410,"<>",T$2:T$410,"<>0")=0,"0",SUMIFS(T$2:T$410,T$2:T$410,"<>0")/COUNTIFS(T$2:T$410,"<>",T$2:T$410,"<>0")) -> 153 | W12: =_xlfn.IFS(U$2<=45,4,U$2<=90,3,U$2<=135,2,U$2>135,1) -> 1 | X12: =_xlfn.IFS(V$2<=45,4,V$2<=90,3,V$2<=135,2,V$2>135,1) -> 1
A13: ='total Scrap'!A13 -> 06/2020 | B13: ='total Scrap'!D13 -> 95619 | C13: ='total Scrap'!E13 -> 16420F221171 | D13: =IF(COUNTIFS($C$2:$C$410,C13)>1, C13,0) -> 0 | E13: ='traitement UNIQUE'!A13 -> 2A14497G3 | F13: =IF($C13=E$2, $A13,) -> 0 | G13: =IF($C13=$E$3, $A13,) -> 0 | H13: =COUNTIFS(F$2:F$410,"<>",F$2:F$410,"<>0") -> 2 | I13: =COUNTIFS(G$2:G$410,"<>",G$2:G$410,"<>0") -> 2 | J13: =IF(F13<>0, DATE(MID(F13,4,7),MID(F13,1,2),1),) -> 0 | K13: =IF(G13<>0, DATE(MID(G13,4,7),MID(G13,1,2),1),) -> 0 | L13: =IF(F13>0,L12+1,L12) -> 1 | M13: =IF(G13>0,M12+1,M12) -> 2 | N13: 12 | O13: 12 | P13: ="Occurrence"&N13 -> Occurrence12 | Q13: =SUMIFS($J$2:$J$410,$L$2:$L$410,N13) -> 0 | R13: =SUMIFS(K$2:K$410,M$2:M$410,O14) -> 0 | S13: =IF(Q14>0,Q14-Q13,0) -> 0 | T13: =IF(R14>0,R14-R13,0) -> 0 | U13: =IF(COUNTIFS(S$2:S$410,"<>",S$2:S$410,"<>0")=0,"0",SUMIFS(S$2:S$410,S$2:S$410,"<>0")/COUNTIFS(S$2:S$410,"<>",S$2:S$410,"<>0")) -> 426 | V13: =IF(COUNTIFS(T$2:T$410,"<>",T$2:T$410,"<>0")=0,"0",SUMIFS(T$2:T$410,T$2:T$410,"<>0")/COUNTIFS(T$2:T$410,"<>",T$2:T$410,"<>0")) -> 153 | W13: =_xlfn.IFS(U$2<=45,4,U$2<=90,3,U$2<=135,2,U$2>135,1) -> 1 | X13: =_xlfn.IFS(V$2<=45,4,V$2<=90,3,V$2<=135,2,V$2>135,1) -> 1
A14: ='total Scrap'!A14 -> 06/2020 | B14: ='total Scrap'!D14 -> 95704 | C14: ='total Scrap'!E14 -> 169202661071 | D14: =IF(COUNTIFS($C$2:$C$410,C14)>1, C14,0) -> 0 | E14: ='traitement UNIQUE'!A14 -> 17780F218071 | F14: =IF($C14=E$2, $A14,) -> 0 | G14: =IF($C14=$E$3, $A14,) -> 0 | H14: =COUNTIFS(F$2:F$410,"<>",F$2:F$410,"<>0") -> 2 | I14: =COUNTIFS(G$2:G$410,"<>",G$2:G$410,"<>0") -> 2 | J14: =IF(F14<>0, DATE(MID(F14,4,7),MID(F14,1,2),1),) -> 0 | K14: =IF(G14<>0, DATE(MID(G14,4,7),MID(G14,1,2),1),) -> 0 | L14: =IF(F14>0,L13+1,L13) -> 1 | M14: =IF(G14>0,M13+1,M13) -> 2 | N14: 13 | O14: 13 | P14: ="Occurrence"&N14 -> Occurrence13 | Q14: =SUMIFS($J$2:$J$410,$L$2:$L$410,N14) -> 0 | R14: =SUMIFS(K$2:K$410,M$2:M$410,O15) -> 0 | S14: =IF(Q15>0,Q15-Q14,0) -> 0 | T14: =IF(R15>0,R15-R14,0) -> 0 | U14: =IF(COUNTIFS(S$2:S$410,"<>",S$2:S$410,"<>0")=0,"0",SUMIFS(S$2:S$410,S$2:S$410,"<>0")/COUNTIFS(S$2:S$410,"<>",S$2:S$410,"<>0")) -> 426 | V14: =IF(COUNTIFS(T$2:T$410,"<>",T$2:T$410,"<>0")=0,"0",SUMIFS(T$2:T$410,T$2:T$410,"<>0")/COUNTIFS(T$2:T$410,"<>",T$2:T$410,"<>0")) -> 153 | W14: =_xlfn.IFS(U$2<=45,4,U$2<=90,3,U$2<=135,2,U$2>135,1) -> 1 | X14: =_xlfn.IFS(V$2<=45,4,V$2<=90,3,V$2<=135,2,V$2>135,1) -> 1
... A18: ='total Scrap'!A18 -> 06/2020 | B18: ='total Scrap'!D18 -> 95616 | C18: ='total Scrap'!E18 -> 574501247071 | D18: =IF(COUNTIFS($C$2:$C$410,C18)>1, C18,0) -> 0 | E18: ='traitement UNIQUE'!A18 -> 2A28005 | F18: =IF($C18=E$2, $A18,) -> 0 | G18: =IF($C18=$E$3, $A18,) -> 0 | H18: =COUNTIFS(F$2:F$410,"<>",F$2:F$410,"<>0") -> 2 | I18: =COUNTIFS(G$2:G$410,"<>",G$2:G$410,"<>0") -> 2 | J18: =IF(F18<>0, DATE(MID(F18,4,7),MID(F18,1,2),1),) -> 0 | K18: =IF(G18<>0, DATE(MID(G18,4,7),MID(G18,1,2),1),) -> 0 | L18: =IF(F18>0,L17+1,L17) -> 1 | M18: =IF(G18>0,M17+1,M17) -> 2 | N18: 17 | O18: 17 | P18: ="Occurrence"&N18 -> Occurrence17 | Q18: =SUMIFS($J$2:$J$410,$L$2:$L$410,N18) -> 0 | R18: =SUMIFS(K$2:K$410,M$2:M$410,O19) -> 0 | S18: =IF(Q19>0,Q19-Q18,0) -> 0 | T18: =IF(R19>0,R19-R18,0) -> 0 | U18: =IF(COUNTIFS(S$2:S$410,"<>",S$2:S$410,"<>0")=0,"0",SUMIFS(S$2:S$410,S$2:S$410,"<>0")/COUNTIFS(S$2:S$410,"<>",S$2:S$410,"<>0")) -> 426 | V18: =IF(COUNTIFS(T$2:T$410,"<>",T$2:T$410,"<>0")=0,"0",SUMIFS(T$2:T$410,T$2:T$410,"<>0")/COUNTIFS(T$2:T$410,"<>",T$2:T$410,"<>0")) -> 153 | W18: =_xlfn.IFS(U$2<=45,4,U$2<=90,3,U$2<=135,2,U$2>135,1) -> 1 | X18: =_xlfn.IFS(V$2<=45,4,V$2<=90,3,V$2<=135,2,V$2>135,1) -> 1
A19: ='total Scrap'!A19 -> 06/2020 | B19: ='total Scrap'!D19 -> 95903 | C19: ='total Scrap'!E19 -> 68608F319071 | D19: =IF(COUNTIFS($C$2:$C$410,C19)>1, C19,0) -> 0 | E19: ='traitement UNIQUE'!A19 -> 565903676071 | F19: =IF($C19=E$2, $A19,) -> 0 | G19: =IF($C19=$E$3, $A19,) -> 0 | H19: =COUNTIFS(F$2:F$410,"<>",F$2:F$410,"<>0") -> 2 | I19: =COUNTIFS(G$2:G$410,"<>",G$2:G$410,"<>0") -> 2 | J19: =IF(F19<>0, DATE(MID(F19,4,7),MID(F19,1,2),1),) -> 0 | K19: =IF(G19<>0, DATE(MID(G19,4,7),MID(G19,1,2),1),) -> 0 | L19: =IF(F19>0,L18+1,L18) -> 1 | M19: =IF(G19>0,M18+1,M18) -> 2 | N19: 18 | O19: 18 | P19: ="Occurrence"&N19 -> Occurrence18 | Q19: =SUMIFS($J$2:$J$410,$L$2:$L$410,N19) -> 0 | R19: =SUMIFS(K$2:K$410,M$2:M$410,O19) -> 0 | S19: =IF(Q20>0,Q20-Q19,0) -> 0 | T19: =IF(R20>0,R20-R19,0) -> 0 | U19: =IF(COUNTIFS(S$2:S$410,"<>",S$2:S$410,"<>0")=0,"0",SUMIFS(S$2:S$410,S$2:S$410,"<>0")/COUNTIFS(S$2:S$410,"<>",S$2:S$410,"<>0")) -> 426 | V19: =IF(COUNTIFS(T$2:T$410,"<>",T$2:T$410,"<>0")=0,"0",SUMIFS(T$2:T$410,T$2:T$410,"<>0")/COUNTIFS(T$2:T$410,"<>",T$2:T$410,"<>0")) -> 153 | W19: =_xlfn.IFS(U$2<=45,4,U$2<=90,3,U$2<=135,2,U$2>135,1) -> 1 | X19: =_xlfn.IFS(V$2<=45,4,V$2<=90,3,V$2<=135,2,V$2>135,1) -> 1
A20: ='total Scrap'!A20 -> 06/2020 | B20: ='total Scrap'!D20 -> 95769 | C20: ='total Scrap'!E20 -> 43251F210071 | D20: =IF(COUNTIFS($C$2:$C$410,C20)>1, C20,0) -> 0 | E20: ='traitement UNIQUE'!A20 -> 55213F218171 | F20: =IF($C20=E$2, $A20,) -> 0 | G20: =IF($C20=$E$3, $A20,) -> 0 | H20: =COUNTIFS(F$2:F$410,"<>",F$2:F$410,"<>0") -> 2 | I20: =COUNTIFS(G$2:G$410,"<>",G$2:G$410,"<>0") -> 2 | J20: =IF(F20<>0, DATE(MID(F20,4,7),MID(F20,1,2),1),) -> 0 | K20: =IF(G20<>0, DATE(MID(G20,4,7),MID(G20,1,2),1),) -> 0 | L20: =IF(F20>0,L19+1,L19) -> 1 | M20: =IF(G20>0,M19+1,M19) -> 2 | N20: 19 | O20: 19 | P20: ="Occurrence"&N20 -> Occurrence19 | Q20: =SUMIFS($J$2:$J$410,$L$2:$L$410,N20) -> 0 | R20: =SUMIFS(K$2:K$410,M$2:M$410,O20) -> 0 | S20: =IF(Q21>0,Q21-Q20,0) -> 0 | T20: =IF(R21>0,R21-R20,0) -> 0 | U20: =IF(COUNTIFS(S$2:S$410,"<>",S$2:S$410,"<>0")=0,"0",SUMIFS(S$2:S$410,S$2:S$410,"<>0")/COUNTIFS(S$2:S$410,"<>",S$2:S$410,"<>0")) -> 426 | V20: =IF(COUNTIFS(T$2:T$410,"<>",T$2:T$410,"<>0")=0,"0",SUMIFS(T$2:T$410,T$2:T$410,"<>0")/COUNTIFS(T$2:T$410,"<>",T$2:T$410,"<>0")) -> 153 | W20: =_xlfn.IFS(U$2<=45,4,U$2<=90,3,U$2<=135,2,U$2>135,1) -> 1 | X20: =_xlfn.IFS(V$2<=45,4,V$2<=90,3,V$2<=135,2,V$2>135,1) -> 1
A21: ='total Scrap'!A21 -> 06/2020 | B21: ='total Scrap'!D21 -> 95904 | C21: ='total Scrap'!E21 -> 68607F319071 | D21: =IF(COUNTIFS($C$2:$C$410,C21)>1, C21,0) -> 68607F319071 | E21: ='traitement UNIQUE'!A21 -> 56031F231071 | F21: =IF($C21=E$2, $A21,) -> 0 | G21: =IF($C21=$E$3, $A21,) -> 0 | H21: =COUNTIFS(F$2:F$410,"<>",F$2:F$410,"<>0") -> 2 | I21: =COUNTIFS(G$2:G$410,"<>",G$2:G$410,"<>0") -> 2 | J21: =IF(F21<>0, DATE(MID(F21,4,7),MID(F21,1,2),1),) -> 0 | K21: =IF(G21<>0, DATE(MID(G21,4,7),MID(G21,1,2),1),) -> 0 | L21: =IF(F21>0,L20+1,L20) -> 1 | M21: =IF(G21>0,M20+1,M20) -> 2 | N21: 20 | O21: 20 | P21: ="Occurrence"&N21 -> Occurrence20 | Q21: =SUMIFS($J$2:$J$410,$L$2:$L$410,N21) -> 0 | R21: =SUMIFS(K$2:K$410,M$2:M$410,O21) -> 0 | S21: =IF(Q22>0,Q22-Q21,0) -> 0 | T21: =IF(R22>0,R22-R21,0) -> 0 | U21: =IF(COUNTIFS(S$2:S$410,"<>",S$2:S$410,"<>0")=0,"0",SUMIFS(S$2:S$410,S$2:S$410,"<>0")/COUNTIFS(S$2:S$410,"<>",S$2:S$410,"<>0")) -> 426 | V21: =IF(COUNTIFS(T$2:T$410,"<>",T$2:T$410,"<>0")=0,"0",SUMIFS(T$2:T$410,T$2:T$410,"<>0")/COUNTIFS(T$2:T$410,"<>",T$2:T$410,"<>0")) -> 153 | W21: =_xlfn.IFS(U$2<=45,4,U$2<=90,3,U$2<=135,2,U$2>135,1) -> 1 | X21: =_xlfn.IFS(V$2<=45,4,V$2<=90,3,V$2<=135,2,V$2>135,1) -> 1
A22: ='total Scrap'!A22 -> 06/2020 | B22: ='total Scrap'!D22 -> 95656 | C22: ='total Scrap'!E22 -> 68607F319071 | D22: =IF(COUNTIFS($C$2:$C$410,C22)>1, C22,0) -> 68607F319071 | E22: ='traitement UNIQUE'!A22 -> 23507FPA2171 | F22: =IF($C22=E$2, $A22,) -> 0 | G22: =IF($C22=$E$3, $A22,) -> 0 | H22: =COUNTIFS(F$2:F$410,"<>",F$2:F$410,"<>0") -> 2 | I22: =COUNTIFS(G$2:G$410,"<>",G$2:G$410,"<>0") -> 2 | J22: =IF(F22<>0, DATE(MID(F22,4,7),MID(F22,1,2),1),) -> 0 | K22: =IF(G22<>0, DATE(MID(G22,4,7),MID(G22,1,2),1),) -> 0 | L22: =IF(F22>0,L21+1,L21) -> 1 | M22: =IF(G22>0,M21+1,M21) -> 2 | N22: 21 | O22: 21 | P22: ="Occurrence"&N22 -> Occurrence21 | Q22: =SUMIFS($J$2:$J$410,$L$2:$L$410,N22) -> 0 | R22: =SUMIFS(K$2:K$410,M$2:M$410,O22) -> 0 | S22: =IF(Q23>0,Q23-Q22,0) -> 0 | T22: =IF(R23>0,R23-R22,0) -> 0 | U22: =IF(COUNTIFS(S$2:S$410,"<>",S$2:S$410,"<>0")=0,"0",SUMIFS(S$2:S$410,S$2:S$410,"<>0")/COUNTIFS(S$2:S$410,"<>",S$2:S$410,"<>0")) -> 426 | V22: =IF(COUNTIFS(T$2:T$410,"<>",T$2:T$410,"<>0")=0,"0",SUMIFS(T$2:T$410,T$2:T$410,"<>0")/COUNTIFS(T$2:T$410,"<>",T$2:T$410,"<>0")) -> 153 | W22: =_xlfn.IFS(U$2<=45,4,U$2<=90,3,U$2<=135,2,U$2>135,1) -> 1 | X22: =_xlfn.IFS(V$2<=45,4,V$2<=90,3,V$2<=135,2,V$2>135,1) -> 1
A23: ='total Scrap'!A23 -> 06/2020 | B23: ='total Scrap'!D23 -> 95764 | C23: ='total Scrap'!E23 -> 163612660071 | D23: =IF(COUNTIFS($C$2:$C$410,C23)>1, C23,0) -> 163612660071 | E23: ='traitement UNIQUE'!A23 -> 175102662071 | F23: =IF($C23=E$2, $A23,) -> 0 | G23: =IF($C23=$E$3, $A23,) -> 0 | H23: =COUNTIFS(F$2:F$410,"<>",F$2:F$410,"<>0") -> 2 | I23: =COUNTIFS(G$2:G$410,"<>",G$2:G$410,"<>0") -> 2 | J23: =IF(F23<>0, DATE(MID(F23,4,7),MID(F23,1,2),1),) -> 0 | K23: =IF(G23<>0, DATE(MID(G23,4,7),MID(G23,1,2),1),) -> 0 | L23: =IF(F23>0,L22+1,L22) -> 1 | M23: =IF(G23>0,M22+1,M22) -> 2 | N23: 22 | O23: 22 | P23: ="Occurrence"&N23 -> Occurrence22 | Q23: =SUMIFS($J$2:$J$410,$L$2:$L$410,N23) -> 0 | R23: =SUMIFS(K$2:K$410,M$2:M$410,O23) -> 0 | S23: =IF(Q24>0,Q24-Q23,0) -> 0 | T23: =IF(R24>0,R24-R23,0) -> 0 | U23: =IF(COUNTIFS(S$2:S$410,"<>",S$2:S$410,"<>0")=0,"0",SUMIFS(S$2:S$410,S$2:S$410,"<>0")/COUNTIFS(S$2:S$410,"<>",S$2:S$410,"<>0")) -> 426 | V23: =IF(COUNTIFS(T$2:T$410,"<>",T$2:T$410,"<>0")=0,"0",SUMIFS(T$2:T$410,T$2:T$410,"<>0")/COUNTIFS(T$2:T$410,"<>",T$2:T$410,"<>0")) -> 153 | W23: =_xlfn.IFS(U$2<=45,4,U$2<=90,3,U$2<=135,2,U$2>135,1) -> 1 | X23: =_xlfn.IFS(V$2<=45,4,V$2<=90,3,V$2<=135,2,V$2>135,1) -> 1
A24: ='total Scrap'!A24 -> 06/2020 | B24: ='total Scrap'!D24 -> 96511 | C24: ='total Scrap'!E24 -> 53220F219071 | D24: =IF(COUNTIFS($C$2:$C$410,C24)>1, C24,0) -> 53220F219071 | E24: ='traitement UNIQUE'!A24 -> 68805F226071 | F24: =IF($C24=E$2, $A24,) -> 0 | G24: =IF($C24=$E$3, $A24,) -> 0 | H24: =COUNTIFS(F$2:F$410,"<>",F$2:F$410,"<>0") -> 2 | I24: =COUNTIFS(G$2:G$410,"<>",G$2:G$410,"<>0") -> 2 | J24: =IF(F24<>0, DATE(MID(F24,4,7),MID(F24,1,2),1),) -> 0 | K24: =IF(G24<>0, DATE(MID(G24,4,7),MID(G24,1,2),1),) -> 0 | L24: =IF(F24>0,L23+1,L23) -> 1 | M24: =IF(G24>0,M23+1,M23) -> 2 | N24: 23 | O24: 23 | P24: ="Occurrence"&N24 -> Occurrence23 | Q24: =SUMIFS($J$2:$J$410,$L$2:$L$410,N24) -> 0 | R24: =SUMIFS(K$2:K$410,M$2:M$410,O24) -> 0 | S24: =IF(Q25>0,Q25-Q24,0) -> 0 | T24: =IF(R25>0,R25-R24,0) -> 0 | U24: =IF(COUNTIFS(S$2:S$410,"<>",S$2:S$410,"<>0")=0,"0",SUMIFS(S$2:S$410,S$2:S$410,"<>0")/COUNTIFS(S$2:S$410,"<>",S$2:S$410,"<>0")) -> 426 | V24: =IF(COUNTIFS(T$2:T$410,"<>",T$2:T$410,"<>0")=0,"0",SUMIFS(T$2:T$410,T$2:T$410,"<>0")/COUNTIFS(T$2:T$410,"<>",T$2:T$410,"<>0")) -> 153 | W24: =_xlfn.IFS(U$2<=45,4,U$2<=90,3,U$2<=135,2,U$2>135,1) -> 1 | X24: =_xlfn.IFS(V$2<=45,4,V$2<=90,3,V$2<=135,2,V$2>135,1) -> 1
A25: ='total Scrap'!A25 -> 06/2020 | B25: ='total Scrap'!D25 -> 95617 | C25: ='total Scrap'!E25 -> 53211F318171 | D25: =IF(COUNTIFS($C$2:$C$410,C25)>1, C25,0) -> 0 | E25: ='traitement UNIQUE'!A25 -> 68804F226071 | F25: =IF($C25=E$2, $A25,) -> 0 | G25: =IF($C25=$E$3, $A25,) -> 0 | H25: =COUNTIFS(F$2:F$410,"<>",F$2:F$410,"<>0") -> 2 | I25: =COUNTIFS(G$2:G$410,"<>",G$2:G$410,"<>0") -> 2 | J25: =IF(F25<>0, DATE(MID(F25,4,7),MID(F25,1,2),1),) -> 0 | K25: =IF(G25<>0, DATE(MID(G25,4,7),MID(G25,1,2),1),) -> 0 | L25: =IF(F25>0,L24+1,L24) -> 1 | M25: =IF(G25>0,M24+1,M24) -> 2 | N25: 24 | O25: 24 | P25: ="Occurrence"&N25 -> Occurrence24 | Q25: =SUMIFS($J$2:$J$410,$L$2:$L$410,N25) -> 0 | R25: =SUMIFS(K$2:K$410,M$2:M$410,O25) -> 0 | S25: =IF(Q26>0,Q26-Q25,0) -> 0 | T25: =IF(R26>0,R26-R25,0) -> 0 | U25: =IF(COUNTIFS(S$2:S$410,"<>",S$2:S$410,"<>0")=0,"0",SUMIFS(S$2:S$410,S$2:S$410,"<>0")/COUNTIFS(S$2:S$410,"<>",S$2:S$410,"<>0")) -> 426 | V25: =IF(COUNTIFS(T$2:T$410,"<>",T$2:T$410,"<>0")=0,"0",SUMIFS(T$2:T$410,T$2:T$410,"<>0")/COUNTIFS(T$2:T$410,"<>",T$2:T$410,"<>0")) -> 153 | W25: =_xlfn.IFS(U$2<=45,4,U$2<=90,3,U$2<=135,2,U$2>135,1) -> 1 | X25: =_xlfn.IFS(V$2<=45,4,V$2<=90,3,V$2<=135,2,V$2>135,1) -> 1
A26: ='total Scrap'!A26 -> 06/2020 | B26: ='total Scrap'!D26 -> 96506 | C26: ='total Scrap'!E26 -> 53211F219171 | D26: =IF(COUNTIFS($C$2:$C$410,C26)>1, C26,0) -> 0 | E26: ='traitement UNIQUE'!A26 -> 96365F509871 | F26: =IF($C26=E$2, $A26,) -> 0 | G26: =IF($C26=$E$3, $A26,) -> 0 | H26: =COUNTIFS(F$2:F$410,"<>",F$2:F$410,"<>0") -> 2 | I26: =COUNTIFS(G$2:G$410,"<>",G$2:G$410,"<>0") -> 2 | J26: =IF(F26<>0, DATE(MID(F26,4,7),MID(F26,1,2),1),) -> 0 | K26: =IF(G26<>0, DATE(MID(G26,4,7),MID(G26,1,2),1),) -> 0 | L26: =IF(F26>0,L25+1,L25) -> 1 | M26: =IF(G26>0,M25+1,M25) -> 2 | N26: 25 | O26: 25 | P26: ="Occurrence"&N26 -> Occurrence25 | Q26: =SUMIFS($J$2:$J$410,$L$2:$L$410,N26) -> 0 | R26: =SUMIFS(K$2:K$410,M$2:M$410,O26) -> 0 | S26: =IF(Q27>0,Q27-Q26,0) -> 0 | T26: =IF(R27>0,R27-R26,0) -> 0 | U26: =IF(COUNTIFS(S$2:S$410,"<>",S$2:S$410,"<>0")=0,"0",SUMIFS(S$2:S$410,S$2:S$410,"<>0")/COUNTIFS(S$2:S$410,"<>",S$2:S$410,"<>0")) -> 426 | V26: =IF(COUNTIFS(T$2:T$410,"<>",T$2:T$410,"<>0")=0,"0",SUMIFS(T$2:T$410,T$2:T$410,"<>0")/COUNTIFS(T$2:T$410,"<>",T$2:T$410,"<>0")) -> 153 | W26: =_xlfn.IFS(U$2<=45,4,U$2<=90,3,U$2<=135,2,U$2>135,1) -> 1 | X26: =_xlfn.IFS(V$2<=45,4,V$2<=90,3,V$2<=135,2,V$2>135,1) -> 1
A27: ='total Scrap'!A27 -> 06/2020 | B27: ='total Scrap'!D27 -> 95710 | C27: ='total Scrap'!E27 -> 451101247271 | D27: =IF(COUNTIFS($C$2:$C$410,C27)>1, C27,0) -> 451101247271 | E27: ='traitement UNIQUE'!A27 -> 56210F219071 | F27: =IF($C27=E$2, $A27,) -> 0 | G27: =IF($C27=$E$3, $A27,) -> 0 | H27: =COUNTIFS(F$2:F$410,"<>",F$2:F$410,"<>0") -> 2 | I27: =COUNTIFS(G$2:G$410,"<>",G$2:G$410,"<>0") -> 2 | J27: =IF(F27<>0, DATE(MID(F27,4,7),MID(F27,1,2),1),) -> 0 | K27: =IF(G27<>0, DATE(MID(G27,4,7),MID(G27,1,2),1),) -> 0 | L27: =IF(F27>0,L26+1,L26) -> 1 | M27: =IF(G27>0,M26+1,M26) -> 2 | N27: 26 | O27: 26 | P27: ="Occurrence"&N27 -> Occurrence26 | Q27: =SUMIFS($J$2:$J$410,$L$2:$L$410,N27) -> 0 | R27: =SUMIFS(K$2:K$410,M$2:M$410,O27) -> 0 | S27: =IF(Q28>0,Q28-Q27,0) -> 0 | T27: =IF(R28>0,R28-R27,0) -> 0 | U27: =IF(COUNTIFS(S$2:S$410,"<>",S$2:S$410,"<>0")=0,"0",SUMIFS(S$2:S$410,S$2:S$410,"<>0")/COUNTIFS(S$2:S$410,"<>",S$2:S$410,"<>0")) -> 426 | V27: =IF(COUNTIFS(T$2:T$410,"<>",T$2:T$410,"<>0")=0,"0",SUMIFS(T$2:T$410,T$2:T$410,"<>0")/COUNTIFS(T$2:T$410,"<>",T$2:T$410,"<>0")) -> 153 | W27: =_xlfn.IFS(U$2<=45,4,U$2<=90,3,U$2<=135,2,U$2>135,1) -> 1 | X27: =_xlfn.IFS(V$2<=45,4,V$2<=90,3,V$2<=135,2,V$2>135,1) -> 1
A28: ='total Scrap'!A28 -> 06/2020 | B28: ='total Scrap'!D28 -> 96503 | C28: ='total Scrap'!E28 -> 565702665071 | D28: =IF(COUNTIFS($C$2:$C$410,C28)>1, C28,0) -> 565702665071 | E28: ='traitement UNIQUE'!A28 -> 281003677071 | F28: =IF($C28=E$2, $A28,) -> 0 | G28: =IF($C28=$E$3, $A28,) -> 0 | H28: =COUNTIFS(F$2:F$410,"<>",F$2:F$410,"<>0") -> 2 | I28: =COUNTIFS(G$2:G$410,"<>",G$2:G$410,"<>0") -> 2 | J28: =IF(F28<>0, DATE(MID(F28,4,7),MID(F28,1,2),1),) -> 0 | K28: =IF(G28<>0, DATE(MID(G28,4,7),MID(G28,1,2),1),) -> 0 | L28: =IF(F28>0,L27+1,L27) -> 1 | M28: =IF(G28>0,M27+1,M27) -> 2 | N28: 27 | O28: 27 | P28: ="Occurrence"&N28 -> Occurrence27 | Q28: =SUMIFS($J$2:$J$410,$L$2:$L$410,N28) -> 0 | R28: =SUMIFS(K$2:K$410,M$2:M$410,O28) -> 0 | S28: =IF(Q29>0,Q29-Q28,0) -> 0 | T28: =IF(R29>0,R29-R28,0) -> 0 | U28: =IF(COUNTIFS(S$2:S$410,"<>",S$2:S$410,"<>0")=0,"0",SUMIFS(S$2:S$410,S$2:S$410,"<>0")/COUNTIFS(S$2:S$410,"<>",S$2:S$410,"<>0")) -> 426 | V28: =IF(COUNTIFS(T$2:T$410,"<>",T$2:T$410,"<>0")=0,"0",SUMIFS(T$2:T$410,T$2:T$410,"<>0")/COUNTIFS(T$2:T$410,"<>",T$2:T$410,"<>0")) -> 153 | W28: =_xlfn.IFS(U$2<=45,4,U$2<=90,3,U$2<=135,2,U$2>135,1) -> 1 | X28: =_xlfn.IFS(V$2<=45,4,V$2<=90,3,V$2<=135,2,V$2>135,1) -> 1
A29: ='total Scrap'!A29 -> 06/2020 | B29: ='total Scrap'!D29 -> 95404 | C29: ='total Scrap'!E29 -> 565702665071 | D29: =IF(COUNTIFS($C$2:$C$410,C29)>1, C29,0) -> 565702665071 | E29: ='traitement UNIQUE'!A29 -> 566532661371 | F29: =IF($C29=E$2, $A29,) -> 0 | G29: =IF($C29=$E$3, $A29,) -> 0 | H29: =COUNTIFS(F$2:F$410,"<>",F$2:F$410,"<>0") -> 2 | I29: =COUNTIFS(G$2:G$410,"<>",G$2:G$410,"<>0") -> 2 | J29: =IF(F29<>0, DATE(MID(F29,4,7),MID(F29,1,2),1),) -> 0 | K29: =IF(G29<>0, DATE(MID(G29,4,7),MID(G29,1,2),1),) -> 0 | L29: =IF(F29>0,L28+1,L28) -> 1 | M29: =IF(G29>0,M28+1,M28) -> 2 | N29: 28 | O29: 28 | P29: ="Occurrence"&N29 -> Occurrence28 | Q29: =SUMIFS($J$2:$J$410,$L$2:$L$410,N29) -> 0 | R29: =SUMIFS(K$2:K$410,M$2:M$410,O29) -> 0 | S29: =IF(Q30>0,Q30-Q29,0) -> 0 | T29: =IF(R30>0,R30-R29,0) -> 0 | U29: =IF(COUNTIFS(S$2:S$410,"<>",S$2:S$410,"<>0")=0,"0",SUMIFS(S$2:S$410,S$2:S$410,"<>0")/COUNTIFS(S$2:S$410,"<>",S$2:S$410,"<>0")) -> 426 | V29: =IF(COUNTIFS(T$2:T$410,"<>",T$2:T$410,"<>0")=0,"0",SUMIFS(T$2:T$410,T$2:T$410,"<>0")/COUNTIFS(T$2:T$410,"<>",T$2:T$410,"<>0")) -> 153 | W29: =_xlfn.IFS(U$2<=45,4,U$2<=90,3,U$2<=135,2,U$2>135,1) -> 1 | X29: =_xlfn.IFS(V$2<=45,4,V$2<=90,3,V$2<=135,2,V$2>135,1) -> 1
A30: ='total Scrap'!A30 -> 06/2020 | B30: ='total Scrap'!D30 -> 95768 | C30: ='total Scrap'!E30 -> 2A14497G3 | D30: =IF(COUNTIFS($C$2:$C$410,C30)>1, C30,0) -> 2A14497G3 | E30: ='traitement UNIQUE'!A30 -> 56110F218071 | F30: =IF($C30=E$2, $A30,) -> 0 | G30: =IF($C30=$E$3, $A30,) -> 0 | H30: =COUNTIFS(F$2:F$410,"<>",F$2:F$410,"<>0") -> 2 | I30: =COUNTIFS(G$2:G$410,"<>",G$2:G$410,"<>0") -> 2 | J30: =IF(F30<>0, DATE(MID(F30,4,7),MID(F30,1,2),1),) -> 0 | K30: =IF(G30<>0, DATE(MID(G30,4,7),MID(G30,1,2),1),) -> 0 | L30: =IF(F30>0,L29+1,L29) -> 1 | M30: =IF(G30>0,M29+1,M29) -> 2 | N30: 29 | O30: 29 | P30: ="Occurrence"&N30 -> Occurrence29 | Q30: =SUMIFS($J$2:$J$410,$L$2:$L$410,N30) -> 0 | R30: =SUMIFS(K$2:K$410,M$2:M$410,O30) -> 0 | S30: =IF(Q31>0,Q31-Q30,0) -> 0 | T30: =IF(R31>0,R31-R30,0) -> 0 | U30: =IF(COUNTIFS(S$2:S$410,"<>",S$2:S$410,"<>0")=0,"0",SUMIFS(S$2:S$410,S$2:S$410,"<>0")/COUNTIFS(S$2:S$410,"<>",S$2:S$410,"<>0")) -> 426 | V30: =IF(COUNTIFS(T$2:T$410,"<>",T$2:T$410,"<>0")=0,"0",SUMIFS(T$2:T$410,T$2:T$410,"<>0")/COUNTIFS(T$2:T$410,"<>",T$2:T$410,"<>0")) -> 153 | W30: =_xlfn.IFS(U$2<=45,4,U$2<=90,3,U$2<=135,2,U$2>135,1) -> 1 | X30: =_xlfn.IFS(V$2<=45,4,V$2<=90,3,V$2<=135,2,V$2>135,1) -> 1
... A251: ='total Scrap'!A251 -> 01/2021 | B251: ='total Scrap'!D251 -> 97512 | C251: ='total Scrap'!E251 -> 57510F231071 | D251: =IF(COUNTIFS($C$2:$C$410,C251)>1, C251,0) -> 0 | E251: ='traitement UNIQUE'!A251 -> #N/A | F251: =IF($C251=E$2, $A251,) -> 0 | G251: =IF($C251=$E$3, $A251,) -> 0 | H251: =COUNTIFS(F$2:F$410,"<>",F$2:F$410,"<>0") -> 2 | I251: =COUNTIFS(G$2:G$410,"<>",G$2:G$410,"<>0") -> 2 | J251: =IF(F251<>0, DATE(MID(F251,4,7),MID(F251,1,2),1),) -> 0 | K251: =IF(G251<>0, DATE(MID(G251,4,7),MID(G251,1,2),1),) -> 0 | L251: =IF(F251>0,L250+1,L250) -> 1 | M251: =IF(G251>0,M250+1,M250) -> 3 | N251: 250 | O251: 250 | P251: ="Occurrence"&N251 -> Occurrence250 | Q251: =SUMIFS($J$2:$J$410,$L$2:$L$410,N251) -> 0 | R251: =SUMIFS(K$2:K$410,M$2:M$410,O251) -> 0 | S251: =IF(Q252>0,Q252-Q251,0) -> 0 | T251: =IF(R252>0,R252-R251,0) -> 0 | U251: =IF(COUNTIFS(S$2:S$410,"<>",S$2:S$410,"<>0")=0,"0",SUMIFS(S$2:S$410,S$2:S$410,"<>0")/COUNTIFS(S$2:S$410,"<>",S$2:S$410,"<>0")) -> 426 | V251: =IF(COUNTIFS(T$2:T$410,"<>",T$2:T$410,"<>0")=0,"0",SUMIFS(T$2:T$410,T$2:T$410,"<>0")/COUNTIFS(T$2:T$410,"<>",T$2:T$410,"<>0")) -> 153 | W251: =_xlfn.IFS(U$2<=45,4,U$2<=90,3,U$2<=135,2,U$2>135,1) -> 1 | X251: =_xlfn.IFS(V$2<=45,4,V$2<=90,3,V$2<=135,2,V$2>135,1) -> 1
A252: ='total Scrap'!A252 -> 01/2021 | B252: ='total Scrap'!D252 -> 96013 | C252: ='total Scrap'!E252 -> 17106F225071 | D252: =IF(COUNTIFS($C$2:$C$410,C252)>1, C252,0) -> 17106F225071 | E252: ='traitement UNIQUE'!A252 -> #N/A | F252: =IF($C252=E$2, $A252,) -> 0 | G252: =IF($C252=$E$3, $A252,) -> 0 | H252: =COUNTIFS(F$2:F$410,"<>",F$2:F$410,"<>0") -> 2 | I252: =COUNTIFS(G$2:G$410,"<>",G$2:G$410,"<>0") -> 2 | J252: =IF(F252<>0, DATE(MID(F252,4,7),MID(F252,1,2),1),) -> 0 | K252: =IF(G252<>0, DATE(MID(G252,4,7),MID(G252,1,2),1),) -> 0 | L252: =IF(F252>0,L251+1,L251) -> 1 | M252: =IF(G252>0,M251+1,M251) -> 3 | U252: =IF(COUNTIFS(S$2:S$410,"<>",S$2:S$410,"<>0")=0,"0",SUMIFS(S$2:S$410,S$2:S$410,"<>0")/COUNTIFS(S$2:S$410,"<>",S$2:S$410,"<>0")) -> 426 | V252: =IF(COUNTIFS(T$2:T$410,"<>",T$2:T$410,"<>0")=0,"0",SUMIFS(T$2:T$410,T$2:T$410,"<>0")/COUNTIFS(T$2:T$410,"<>",T$2:T$410,"<>0")) -> 153 | W252: =_xlfn.IFS(U$2<=45,4,U$2<=90,3,U$2<=135,2,U$2>135,1) -> 1 | X252: =_xlfn.IFS(V$2<=45,4,V$2<=90,3,V$2<=135,2,V$2>135,1) -> 1
A253: ='total Scrap'!A253 -> 01/2021 | B253: ='total Scrap'!D253 -> 95213 | C253: ='total Scrap'!E253 -> 68804F226071 | D253: =IF(COUNTIFS($C$2:$C$410,C253)>1, C253,0) -> 68804F226071 | E253: ='traitement UNIQUE'!A253 -> #N/A | F253: =IF($C253=E$2, $A253,) -> 0 | G253: =IF($C253=$E$3, $A253,) -> 0 | H253: =COUNTIFS(F$2:F$410,"<>",F$2:F$410,"<>0") -> 2 | I253: =COUNTIFS(G$2:G$410,"<>",G$2:G$410,"<>0") -> 2 | J253: =IF(F253<>0, DATE(MID(F253,4,7),MID(F253,1,2),1),) -> 0 | K253: =IF(G253<>0, DATE(MID(G253,4,7),MID(G253,1,2),1),) -> 0 | L253: =IF(F253>0,L252+1,L252) -> 1 | M253: =IF(G253>0,M252+1,M252) -> 3 | U253: =IF(COUNTIFS(S$2:S$410,"<>",S$2:S$410,"<>0")=0,"0",SUMIFS(S$2:S$410,S$2:S$410,"<>0")/COUNTIFS(S$2:S$410,"<>",S$2:S$410,"<>0")) -> 426 | V253: =IF(COUNTIFS(T$2:T$410,"<>",T$2:T$410,"<>0")=0,"0",SUMIFS(T$2:T$410,T$2:T$410,"<>0")/COUNTIFS(T$2:T$410,"<>",T$2:T$410,"<>0")) -> 153 | W253: =_xlfn.IFS(U$2<=45,4,U$2<=90,3,U$2<=135,2,U$2>135,1) -> 1 | X253: =_xlfn.IFS(V$2<=45,4,V$2<=90,3,V$2<=135,2,V$2>135,1) -> 1
A254: ='total Scrap'!A254 -> 01/2021 | B254: ='total Scrap'!D254 -> 96663 | C254: ='total Scrap'!E254 -> 55537F318471 | D254: =IF(COUNTIFS($C$2:$C$410,C254)>1, C254,0) -> 55537F318471 | E254: ='traitement UNIQUE'!A254 -> #N/A | F254: =IF($C254=E$2, $A254,) -> 0 | G254: =IF($C254=$E$3, $A254,) -> 0 | H254: =COUNTIFS(F$2:F$410,"<>",F$2:F$410,"<>0") -> 2 | I254: =COUNTIFS(G$2:G$410,"<>",G$2:G$410,"<>0") -> 2 | J254: =IF(F254<>0, DATE(MID(F254,4,7),MID(F254,1,2),1),) -> 0 | K254: =IF(G254<>0, DATE(MID(G254,4,7),MID(G254,1,2),1),) -> 0 | L254: =IF(F254>0,L253+1,L253) -> 1 | M254: =IF(G254>0,M253+1,M253) -> 3 | U254: =IF(COUNTIFS(S$2:S$410,"<>",S$2:S$410,"<>0")=0,"0",SUMIFS(S$2:S$410,S$2:S$410,"<>0")/COUNTIFS(S$2:S$410,"<>",S$2:S$410,"<>0")) -> 426 | V254: =IF(COUNTIFS(T$2:T$410,"<>",T$2:T$410,"<>0")=0,"0",SUMIFS(T$2:T$410,T$2:T$410,"<>0")/COUNTIFS(T$2:T$410,"<>",T$2:T$410,"<>0")) -> 153 | W254: =_xlfn.IFS(U$2<=45,4,U$2<=90,3,U$2<=135,2,U$2>135,1) -> 1 | X254: =_xlfn.IFS(V$2<=45,4,V$2<=90,3,V$2<=135,2,V$2>135,1) -> 1
A255: ='total Scrap'!A255 -> 01/2021 | B255: ='total Scrap'!D255 -> 95442 | C255: ='total Scrap'!E255 -> 53401F218171 | D255: =IF(COUNTIFS($C$2:$C$410,C255)>1, C255,0) -> 53401F218171 | E255: ='traitement UNIQUE'!A255 -> #N/A | F255: =IF($C255=E$2, $A255,) -> 0 | G255: =IF($C255=$E$3, $A255,) -> 0 | H255: =COUNTIFS(F$2:F$410,"<>",F$2:F$410,"<>0") -> 2 | I255: =COUNTIFS(G$2:G$410,"<>",G$2:G$410,"<>0") -> 2 | J255: =IF(F255<>0, DATE(MID(F255,4,7),MID(F255,1,2),1),) -> 0 | K255: =IF(G255<>0, DATE(MID(G255,4,7),MID(G255,1,2),1),) -> 0 | L255: =IF(F255>0,L254+1,L254) -> 1 | M255: =IF(G255>0,M254+1,M254) -> 3 | U255: =IF(COUNTIFS(S$2:S$410,"<>",S$2:S$410,"<>0")=0,"0",SUMIFS(S$2:S$410,S$2:S$410,"<>0")/COUNTIFS(S$2:S$410,"<>",S$2:S$410,"<>0")) -> 426 | V255: =IF(COUNTIFS(T$2:T$410,"<>",T$2:T$410,"<>0")=0,"0",SUMIFS(T$2:T$410,T$2:T$410,"<>0")/COUNTIFS(T$2:T$410,"<>",T$2:T$410,"<>0")) -> 153 | W255: =_xlfn.IFS(U$2<=45,4,U$2<=90,3,U$2<=135,2,U$2>135,1) -> 1 | X255: =_xlfn.IFS(V$2<=45,4,V$2<=90,3,V$2<=135,2,V$2>135,1) -> 1
A256: ='total Scrap'!A256 -> 01/2021 | B256: ='total Scrap'!D256 -> 96664 | C256: ='total Scrap'!E256 -> 55538F318271 | D256: =IF(COUNTIFS($C$2:$C$410,C256)>1, C256,0) -> 0 | E256: ='traitement UNIQUE'!A256 -> #N/A | F256: =IF($C256=E$2, $A256,) -> 0 | G256: =IF($C256=$E$3, $A256,) -> 0 | H256: =COUNTIFS(F$2:F$410,"<>",F$2:F$410,"<>0") -> 2 | I256: =COUNTIFS(G$2:G$410,"<>",G$2:G$410,"<>0") -> 2 | J256: =IF(F256<>0, DATE(MID(F256,4,7),MID(F256,1,2),1),) -> 0 | K256: =IF(G256<>0, DATE(MID(G256,4,7),MID(G256,1,2),1),) -> 0 | L256: =IF(F256>0,L255+1,L255) -> 1 | M256: =IF(G256>0,M255+1,M255) -> 3 | U256: =IF(COUNTIFS(S$2:S$410,"<>",S$2:S$410,"<>0")=0,"0",SUMIFS(S$2:S$410,S$2:S$410,"<>0")/COUNTIFS(S$2:S$410,"<>",S$2:S$410,"<>0")) -> 426 | V256: =IF(COUNTIFS(T$2:T$410,"<>",T$2:T$410,"<>0")=0,"0",SUMIFS(T$2:T$410,T$2:T$410,"<>0")/COUNTIFS(T$2:T$410,"<>",T$2:T$410,"<>0")) -> 153 | W256: =_xlfn.IFS(U$2<=45,4,U$2<=90,3,U$2<=135,2,U$2>135,1) -> 1 | X256: =_xlfn.IFS(V$2<=45,4,V$2<=90,3,V$2<=135,2,V$2>135,1) -> 1
A257: ='total Scrap'!A257 -> 01/2021 | B257: ='total Scrap'!D257 -> 96608 | C257: ='total Scrap'!E257 -> 38758F231171 | D257: =IF(COUNTIFS($C$2:$C$410,C257)>1, C257,0) -> 0 | E257: ='traitement UNIQUE'!A257 -> #N/A | F257: =IF($C257=E$2, $A257,) -> 0 | G257: =IF($C257=$E$3, $A257,) -> 0 | H257: =COUNTIFS(F$2:F$410,"<>",F$2:F$410,"<>0") -> 2 | I257: =COUNTIFS(G$2:G$410,"<>",G$2:G$410,"<>0") -> 2 | J257: =IF(F257<>0, DATE(MID(F257,4,7),MID(F257,1,2),1),) -> 0 | K257: =IF(G257<>0, DATE(MID(G257,4,7),MID(G257,1,2),1),) -> 0 | L257: =IF(F257>0,L256+1,L256) -> 1 | M257: =IF(G257>0,M256+1,M256) -> 3 | U257: =IF(COUNTIFS(S$2:S$410,"<>",S$2:S$410,"<>0")=0,"0",SUMIFS(S$2:S$410,S$2:S$410,"<>0")/COUNTIFS(S$2:S$410,"<>",S$2:S$410,"<>0")) -> 426 | V257: =IF(COUNTIFS(T$2:T$410,"<>",T$2:T$410,"<>0")=0,"0",SUMIFS(T$2:T$410,T$2:T$410,"<>0")/COUNTIFS(T$2:T$410,"<>",T$2:T$410,"<>0")) -> 153 | W257: =_xlfn.IFS(U$2<=45,4,U$2<=90,3,U$2<=135,2,U$2>135,1) -> 1 | X257: =_xlfn.IFS(V$2<=45,4,V$2<=90,3,V$2<=135,2,V$2>135,1) -> 1
A258: ='total Scrap'!A258 -> 01/2021 | B258: ='total Scrap'!D258 -> 96732 | C258: ='total Scrap'!E258 -> 53212F218071 | D258: =IF(COUNTIFS($C$2:$C$410,C258)>1, C258,0) -> 0 | E258: ='traitement UNIQUE'!A258 -> #N/A | F258: =IF($C258=E$2, $A258,) -> 0 | G258: =IF($C258=$E$3, $A258,) -> 0 | H258: =COUNTIFS(F$2:F$410,"<>",F$2:F$410,"<>0") -> 2 | I258: =COUNTIFS(G$2:G$410,"<>",G$2:G$410,"<>0") -> 2 | J258: =IF(F258<>0, DATE(MID(F258,4,7),MID(F258,1,2),1),) -> 0 | K258: =IF(G258<>0, DATE(MID(G258,4,7),MID(G258,1,2),1),) -> 0 | L258: =IF(F258>0,L257+1,L257) -> 1 | M258: =IF(G258>0,M257+1,M257) -> 3 | U258: =IF(COUNTIFS(S$2:S$410,"<>",S$2:S$410,"<>0")=0,"0",SUMIFS(S$2:S$410,S$2:S$410,"<>0")/COUNTIFS(S$2:S$410,"<>",S$2:S$410,"<>0")) -> 426 | V258: =IF(COUNTIFS(T$2:T$410,"<>",T$2:T$410,"<>0")=0,"0",SUMIFS(T$2:T$410,T$2:T$410,"<>0")/COUNTIFS(T$2:T$410,"<>",T$2:T$410,"<>0")) -> 153 | W258: =_xlfn.IFS(U$2<=45,4,U$2<=90,3,U$2<=135,2,U$2>135,1) -> 1 | X258: =_xlfn.IFS(V$2<=45,4,V$2<=90,3,V$2<=135,2,V$2>135,1) -> 1
A259: ='total Scrap'!A259 -> 01/2021 | B259: ='total Scrap'!D259 -> 95214 | C259: ='total Scrap'!E259 -> 68132F225071 | D259: =IF(COUNTIFS($C$2:$C$410,C259)>1, C259,0) -> 0 | E259: ='traitement UNIQUE'!A259 -> #N/A | F259: =IF($C259=E$2, $A259,) -> 0 | G259: =IF($C259=$E$3, $A259,) -> 0 | H259: =COUNTIFS(F$2:F$410,"<>",F$2:F$410,"<>0") -> 2 | I259: =COUNTIFS(G$2:G$410,"<>",G$2:G$410,"<>0") -> 2 | J259: =IF(F259<>0, DATE(MID(F259,4,7),MID(F259,1,2),1),) -> 0 | K259: =IF(G259<>0, DATE(MID(G259,4,7),MID(G259,1,2),1),) -> 0 | L259: =IF(F259>0,L258+1,L258) -> 1 | M259: =IF(G259>0,M258+1,M258) -> 3 | U259: =IF(COUNTIFS(S$2:S$410,"<>",S$2:S$410,"<>0")=0,"0",SUMIFS(S$2:S$410,S$2:S$410,"<>0")/COUNTIFS(S$2:S$410,"<>",S$2:S$410,"<>0")) -> 426 | V259: =IF(COUNTIFS(T$2:T$410,"<>",T$2:T$410,"<>0")=0,"0",SUMIFS(T$2:T$410,T$2:T$410,"<>0")/COUNTIFS(T$2:T$410,"<>",T$2:T$410,"<>0")) -> 153 | W259: =_xlfn.IFS(U$2<=45,4,U$2<=90,3,U$2<=135,2,U$2>135,1) -> 1 | X259: =_xlfn.IFS(V$2<=45,4,V$2<=90,3,V$2<=135,2,V$2>135,1) -> 1
A260: ='total Scrap'!A260 -> 01/2021 | B260: ='total Scrap'!D260 -> 95750 | C260: ='total Scrap'!E260 -> 56042F318071 | D260: =IF(COUNTIFS($C$2:$C$410,C260)>1, C260,0) -> 56042F318071 | E260: ='traitement UNIQUE'!A260 -> #N/A | F260: =IF($C260=E$2, $A260,) -> 0 | G260: =IF($C260=$E$3, $A260,) -> 0 | H260: =COUNTIFS(F$2:F$410,"<>",F$2:F$410,"<>0") -> 2 | I260: =COUNTIFS(G$2:G$410,"<>",G$2:G$410,"<>0") -> 2 | J260: =IF(F260<>0, DATE(MID(F260,4,7),MID(F260,1,2),1),) -> 0 | K260: =IF(G260<>0, DATE(MID(G260,4,7),MID(G260,1,2),1),) -> 0 | L260: =IF(F260>0,L259+1,L259) -> 1 | M260: =IF(G260>0,M259+1,M259) -> 3 | U260: =IF(COUNTIFS(S$2:S$410,"<>",S$2:S$410,"<>0")=0,"0",SUMIFS(S$2:S$410,S$2:S$410,"<>0")/COUNTIFS(S$2:S$410,"<>",S$2:S$410,"<>0")) -> 426 | V260: =IF(COUNTIFS(T$2:T$410,"<>",T$2:T$410,"<>0")=0,"0",SUMIFS(T$2:T$410,T$2:T$410,"<>0")/COUNTIFS(T$2:T$410,"<>",T$2:T$410,"<>0")) -> 153 | W260: =_xlfn.IFS(U$2<=45,4,U$2<=90,3,U$2<=135,2,U$2>135,1) -> 1 | X260: =_xlfn.IFS(V$2<=45,4,V$2<=90,3,V$2<=135,2,V$2>135,1) -> 1
A261: ='total Scrap'!A261 -> 01/2021 | B261: ='total Scrap'!D261 -> 95436 | C261: ='total Scrap'!E261 -> 56051F225071 | D261: =IF(COUNTIFS($C$2:$C$410,C261)>1, C261,0) -> 56051F225071 | E261: ='traitement UNIQUE'!A261 -> #N/A | F261: =IF($C261=E$2, $A261,) -> 0 | G261: =IF($C261=$E$3, $A261,) -> 0 | H261: =COUNTIFS(F$2:F$410,"<>",F$2:F$410,"<>0") -> 2 | I261: =COUNTIFS(G$2:G$410,"<>",G$2:G$410,"<>0") -> 2 | J261: =IF(F261<>0, DATE(MID(F261,4,7),MID(F261,1,2),1),) -> 0 | K261: =IF(G261<>0, DATE(MID(G261,4,7),MID(G261,1,2),1),) -> 0 | L261: =IF(F261>0,L260+1,L260) -> 1 | M261: =IF(G261>0,M260+1,M260) -> 3 | U261: =IF(COUNTIFS(S$2:S$410,"<>",S$2:S$410,"<>0")=0,"0",SUMIFS(S$2:S$410,S$2:S$410,"<>0")/COUNTIFS(S$2:S$410,"<>",S$2:S$410,"<>0")) -> 426 | V261: =IF(COUNTIFS(T$2:T$410,"<>",T$2:T$410,"<>0")=0,"0",SUMIFS(T$2:T$410,T$2:T$410,"<>0")/COUNTIFS(T$2:T$410,"<>",T$2:T$410,"<>0")) -> 153 | W261: =_xlfn.IFS(U$2<=45,4,U$2<=90,3,U$2<=135,2,U$2>135,1) -> 1 | X261: =_xlfn.IFS(V$2<=45,4,V$2<=90,3,V$2<=135,2,V$2>135,1) -> 1
A262: ='total Scrap'!A262 -> 02/2021 | B262: ='total Scrap'!D262 -> 97806 | C262: ='total Scrap'!E262 -> 175102662071 | D262: =IF(COUNTIFS($C$2:$C$410,C262)>1, C262,0) -> 175102662071 | E262: ='traitement UNIQUE'!A262 -> #N/A | F262: =IF($C262=E$2, $A262,) -> 0 | G262: =IF($C262=$E$3, $A262,) -> 0 | H262: =COUNTIFS(F$2:F$410,"<>",F$2:F$410,"<>0") -> 2 | I262: =COUNTIFS(G$2:G$410,"<>",G$2:G$410,"<>0") -> 2 | J262: =IF(F262<>0, DATE(MID(F262,4,7),MID(F262,1,2),1),) -> 0 | K262: =IF(G262<>0, DATE(MID(G262,4,7),MID(G262,1,2),1),) -> 0 | L262: =IF(F262>0,L261+1,L261) -> 1 | M262: =IF(G262>0,M261+1,M261) -> 3 | U262: =IF(COUNTIFS(S$2:S$410,"<>",S$2:S$410,"<>0")=0,"0",SUMIFS(S$2:S$410,S$2:S$410,"<>0")/COUNTIFS(S$2:S$410,"<>",S$2:S$410,"<>0")) -> 426 | V262: =IF(COUNTIFS(T$2:T$410,"<>",T$2:T$410,"<>0")=0,"0",SUMIFS(T$2:T$410,T$2:T$410,"<>0")/COUNTIFS(T$2:T$410,"<>",T$2:T$410,"<>0")) -> 153 | W262: =_xlfn.IFS(U$2<=45,4,U$2<=90,3,U$2<=135,2,U$2>135,1) -> 1 | X262: =_xlfn.IFS(V$2<=45,4,V$2<=90,3,V$2<=135,2,V$2>135,1) -> 1
A263: ='total Scrap'!A263 -> 02/2021 | B263: ='total Scrap'!D263 -> 97050 | C263: ='total Scrap'!E263 -> 26620F231071 | D263: =IF(COUNTIFS($C$2:$C$410,C263)>1, C263,0) -> 0 | E263: ='traitement UNIQUE'!A263 -> #N/A | F263: =IF($C263=E$2, $A263,) -> 0 | G263: =IF($C263=$E$3, $A263,) -> 0 | H263: =COUNTIFS(F$2:F$410,"<>",F$2:F$410,"<>0") -> 2 | I263: =COUNTIFS(G$2:G$410,"<>",G$2:G$410,"<>0") -> 2 | J263: =IF(F263<>0, DATE(MID(F263,4,7),MID(F263,1,2),1),) -> 0 | K263: =IF(G263<>0, DATE(MID(G263,4,7),MID(G263,1,2),1),) -> 0 | L263: =IF(F263>0,L262+1,L262) -> 1 | M263: =IF(G263>0,M262+1,M262) -> 3 | U263: =IF(COUNTIFS(S$2:S$410,"<>",S$2:S$410,"<>0")=0,"0",SUMIFS(S$2:S$410,S$2:S$410,"<>0")/COUNTIFS(S$2:S$410,"<>",S$2:S$410,"<>0")) -> 426 | V263: =IF(COUNTIFS(T$2:T$410,"<>",T$2:T$410,"<>0")=0,"0",SUMIFS(T$2:T$410,T$2:T$410,"<>0")/COUNTIFS(T$2:T$410,"<>",T$2:T$410,"<>0")) -> 153 | W263: =_xlfn.IFS(U$2<=45,4,U$2<=90,3,U$2<=135,2,U$2>135,1) -> 1 | X263: =_xlfn.IFS(V$2<=45,4,V$2<=90,3,V$2<=135,2,V$2>135,1) -> 1
...

Sheet traitement UNIQUE
A1: {=_xlfn.UNIQUE(récurrence!$D$2:$D$410,FALSE,FALSE)} -> 0 | C1: =COUNTA(Total_Scrap[Part Number]) -> 438 | E1: Uniques | G1: Uniques - Occurrence=1 | I1: Uniques - Occurrences>1
A2: 57413F231071 | E2: Part Number | G2: Part Number | I2: Part Number | J2: Nb. Occurrences | K2: Occurrence 1 | L2: Occurrence 2 | M2: Occurrence 3 | N2: Occurrence 4 | O2: Occurrence 5 | P2: Occurrence 6 | Q2: Occurrence 7 | R2: Occurrence 8 | S2: Occurrence 9 | T2: Occurrence 10
A3: 52212FS2LC71 | D3: {=_xlfn.UNIQUE(Total_Scrap[Part Number])} -> 57110F118271 | E3: {=_xlfn.UNIQUE(Total_Scrap[Part Number])} -> 57110F118271 | G3: {=_xlfn.UNIQUE(Total_Scrap[Part Number],FALSE,TRUE)} -> 57110F118271 | I3: {=_xlfn._xlws.FILTER(_xlfn.ANCHORARRAY(E3),COUNTIF(_xlfn.ANCHORARRAY(G3),_xlfn.ANCHORARRAY(E3))=0)} -> 57413F231071 | J3: {=COUNTIF(Total_Scrap[Part Number],_xlfn.ANCHORARRAY('traitement UNIQUE'!I3))} -> 2 | K3: {=TRANSPOSE(_xlfn._xlws.FILTER(Total_Scrap[Month],(Total_Scrap[Part Number]='traitement UNIQUE'!I3)))} -> 04/2020 | L3: 06/2021 | U3: =IF(AND(L3<>"",K3<>""),DATEDIF(K3,L3,"d"),0) -> 426 | V3: =IF(AND(M3<>"",L3<>""),DATEDIF(L3,M3,"d"),0) -> 0 | W3: =IF(AND(N3<>"",M3<>""),DATEDIF(M3,N3,"d"),0) -> 0 | X3: =IF(AND(O3<>"",N3<>""),DATEDIF(N3,O3,"d"),0) -> 0 | Y3: =IF(AND(P3<>"",O3<>""),DATEDIF(O3,P3,"d"),0) -> 0 | Z3: =IF(AND(Q3<>"",P3<>""),DATEDIF(P3,Q3,"d"),0) -> 0 | AA3: =IF(AND(R3<>"",Q3<>""),DATEDIF(Q3,R3,"d"),0) -> 0 | AB3: =IF(AND(S3<>"",R3<>""),DATEDIF(R3,S3,"d"),0) -> 0 | AC3: =IF(AND(T3<>"",S3<>""),DATEDIF(S3,T3,"d"),0) -> 0 | AE3: =SUM(U3:AC3)/(J3-1) -> 426
A4: 56021F219471 | D4: 57413F231071 | E4: 57413F231071 | G4: 56232F231171 | I4: 52212FS2LC71 | J4: 2 | K4: {=TRANSPOSE(_xlfn._xlws.FILTER(Total_Scrap[Month],(Total_Scrap[Part Number]='traitement UNIQUE'!I4)))} -> 05/2020 | L4: 10/2020 | U4: =IF(AND(L4<>"",K4<>""),DATEDIF(K4,L4,"d"),0) -> 153 | V4: =IF(AND(M4<>"",L4<>""),DATEDIF(L4,M4,"d"),0) -> 0 | W4: =IF(AND(N4<>"",M4<>""),DATEDIF(M4,N4,"d"),0) -> 0 | X4: =IF(AND(O4<>"",N4<>""),DATEDIF(N4,O4,"d"),0) -> 0 | Y4: =IF(AND(P4<>"",O4<>""),DATEDIF(O4,P4,"d"),0) -> 0 | Z4: =IF(AND(Q4<>"",P4<>""),DATEDIF(P4,Q4,"d"),0) -> 0 | AA4: =IF(AND(R4<>"",Q4<>""),DATEDIF(Q4,R4,"d"),0) -> 0 | AB4: =IF(AND(S4<>"",R4<>""),DATEDIF(R4,S4,"d"),0) -> 0 | AC4: =IF(AND(T4<>"",S4<>""),DATEDIF(S4,T4,"d"),0) -> 0 | AE4: =SUM(U4:AC4)/(J4-1) -> 153
A5: 56021F220271 | D5: 56232F231171 | E5: 56232F231171 | G5: 56031F222671 | I5: 56021F219471 | J5: 2 | K5: {=TRANSPOSE(_xlfn._xlws.FILTER(Total_Scrap[Month],(Total_Scrap[Part Number]='traitement UNIQUE'!I5)))} -> 05/2020 | L5: 03/2021 | U5: =IF(AND(L5<>"",K5<>""),DATEDIF(K5,L5,"d"),0) -> 304 | V5: =IF(AND(M5<>"",L5<>""),DATEDIF(L5,M5,"d"),0) -> 0 | W5: =IF(AND(N5<>"",M5<>""),DATEDIF(M5,N5,"d"),0) -> 0 | X5: =IF(AND(O5<>"",N5<>""),DATEDIF(N5,O5,"d"),0) -> 0 | Y5: =IF(AND(P5<>"",O5<>""),DATEDIF(O5,P5,"d"),0) -> 0 | Z5: =IF(AND(Q5<>"",P5<>""),DATEDIF(P5,Q5,"d"),0) -> 0 | AA5: =IF(AND(R5<>"",Q5<>""),DATEDIF(Q5,R5,"d"),0) -> 0 | AB5: =IF(AND(S5<>"",R5<>""),DATEDIF(R5,S5,"d"),0) -> 0 | AC5: =IF(AND(T5<>"",S5<>""),DATEDIF(S5,T5,"d"),0) -> 0 | AE5: =SUM(U5:AC5)/(J5-1) -> 304
A6: 55537F318471 | D6: 52212FS2LC71 | E6: 52212FS2LC71 | G6: 56062F221271 | I6: 56021F220271 | J6: 2 | K6: {=TRANSPOSE(_xlfn._xlws.FILTER(Total_Scrap[Month],(Total_Scrap[Part Number]='traitement UNIQUE'!I6)))} -> 05/2020 | L6: 06/2020 | U6: =IF(AND(L6<>"",K6<>""),DATEDIF(K6,L6,"d"),0) -> 31 | V6: =IF(AND(M6<>"",L6<>""),DATEDIF(L6,M6,"d"),0) -> 0 | W6: =IF(AND(N6<>"",M6<>""),DATEDIF(M6,N6,"d"),0) -> 0 | X6: =IF(AND(O6<>"",N6<>""),DATEDIF(N6,O6,"d"),0) -> 0 | Y6: =IF(AND(P6<>"",O6<>""),DATEDIF(O6,P6,"d"),0) -> 0 | Z6: =IF(AND(Q6<>"",P6<>""),DATEDIF(P6,Q6,"d"),0) -> 0 | AA6: =IF(AND(R6<>"",Q6<>""),DATEDIF(Q6,R6,"d"),0) -> 0 | AB6: =IF(AND(S6<>"",R6<>""),DATEDIF(R6,S6,"d"),0) -> 0 | AC6: =IF(AND(T6<>"",S6<>""),DATEDIF(S6,T6,"d"),0) -> 0 | AE6: =SUM(U6:AC6)/(J6-1) -> 31
A7: 55227F218271 | D7: 56031F222671 | E7: 56031F222671 | G7: 56062FSU1U71 | I7: 55537F318471 | J7: 2 | K7: {=TRANSPOSE(_xlfn._xlws.FILTER(Total_Scrap[Month],(Total_Scrap[Part Number]='traitement UNIQUE'!I7)))} -> 05/2020 | L7: 01/2021 | U7: =IF(AND(L7<>"",K7<>""),DATEDIF(K7,L7,"d"),0) -> 245 | V7: =IF(AND(M7<>"",L7<>""),DATEDIF(L7,M7,"d"),0) -> 0 | W7: =IF(AND(N7<>"",M7<>""),DATEDIF(M7,N7,"d"),0) -> 0 | X7: =IF(AND(O7<>"",N7<>""),DATEDIF(N7,O7,"d"),0) -> 0 | Y7: =IF(AND(P7<>"",O7<>""),DATEDIF(O7,P7,"d"),0) -> 0 | Z7: =IF(AND(Q7<>"",P7<>""),DATEDIF(P7,Q7,"d"),0) -> 0 | AA7: =IF(AND(R7<>"",Q7<>""),DATEDIF(Q7,R7,"d"),0) -> 0 | AB7: =IF(AND(S7<>"",R7<>""),DATEDIF(R7,S7,"d"),0) -> 0 | AC7: =IF(AND(T7<>"",S7<>""),DATEDIF(S7,T7,"d"),0) -> 0 | AE7: =SUM(U7:AC7)/(J7-1) -> 245
A8: 68607F319071 | D8: 56062F221271 | E8: 56062F221271 | G8: 175702660371 | I8: 55227F218271 | J8: 2 | K8: {=TRANSPOSE(_xlfn._xlws.FILTER(Total_Scrap[Month],(Total_Scrap[Part Number]='traitement UNIQUE'!I8)))} -> 06/2020 | L8: 10/2020 | U8: =IF(AND(L8<>"",K8<>""),DATEDIF(K8,L8,"d"),0) -> 122 | V8: =IF(AND(M8<>"",L8<>""),DATEDIF(L8,M8,"d"),0) -> 0 | W8: =IF(AND(N8<>"",M8<>""),DATEDIF(M8,N8,"d"),0) -> 0 | X8: =IF(AND(O8<>"",N8<>""),DATEDIF(N8,O8,"d"),0) -> 0 | Y8: =IF(AND(P8<>"",O8<>""),DATEDIF(O8,P8,"d"),0) -> 0 | Z8: =IF(AND(Q8<>"",P8<>""),DATEDIF(P8,Q8,"d"),0) -> 0 | AA8: =IF(AND(R8<>"",Q8<>""),DATEDIF(Q8,R8,"d"),0) -> 0 | AB8: =IF(AND(S8<>"",R8<>""),DATEDIF(R8,S8,"d"),0) -> 0 | AC8: =IF(AND(T8<>"",S8<>""),DATEDIF(S8,T8,"d"),0) -> 0 | AE8: =SUM(U8:AC8)/(J8-1) -> 122
A9: 163612660071 | D9: 56021F219471 | E9: 56021F219471 | G9: 16420F221171 | I9: 68607F319071 | J9: 2 | K9: {=TRANSPOSE(_xlfn._xlws.FILTER(Total_Scrap[Month],(Total_Scrap[Part Number]='traitement UNIQUE'!I9)))} -> 06/2020 | L9: 06/2020 | U9: =IF(AND(L9<>"",K9<>""),DATEDIF(K9,L9,"d"),0) -> 0 | V9: =IF(AND(M9<>"",L9<>""),DATEDIF(L9,M9,"d"),0) -> 0 | W9: =IF(AND(N9<>"",M9<>""),DATEDIF(M9,N9,"d"),0) -> 0 | X9: =IF(AND(O9<>"",N9<>""),DATEDIF(N9,O9,"d"),0) -> 0 | Y9: =IF(AND(P9<>"",O9<>""),DATEDIF(O9,P9,"d"),0) -> 0 | Z9: =IF(AND(Q9<>"",P9<>""),DATEDIF(P9,Q9,"d"),0) -> 0 | AA9: =IF(AND(R9<>"",Q9<>""),DATEDIF(Q9,R9,"d"),0) -> 0 | AB9: =IF(AND(S9<>"",R9<>""),DATEDIF(R9,S9,"d"),0) -> 0 | AC9: =IF(AND(T9<>"",S9<>""),DATEDIF(S9,T9,"d"),0) -> 0 | AE9: =SUM(U9:AC9)/(J9-1) -> 0
A10: 53220F219071 | D10: 56021F220271 | E10: 56021F220271 | G10: 169202661071 | I10: 163612660071 | J10: 10 | K10: {=TRANSPOSE(_xlfn._xlws.FILTER(Total_Scrap[Month],(Total_Scrap[Part Number]='traitement UNIQUE'!I10)))} -> 06/2020 | L10: 07/2020 | M10: 07/2020 | N10: 11/2020 | O10: 12/2020 | P10: 02/2021 | Q10: 02/2021 | R10: 02/2021 | S10: 03/2021 | T10: 06/2021 | U10: =IF(AND(L10<>"",K10<>""),DATEDIF(K10,L10,"d"),0) -> 30 | V10: =IF(AND(M10<>"",L10<>""),DATEDIF(L10,M10,"d"),0) -> 0 | W10: =IF(AND(N10<>"",M10<>""),DATEDIF(M10,N10,"d"),0) -> 123 | X10: =IF(AND(O10<>"",N10<>""),DATEDIF(N10,O10,"d"),0) -> 30 | Y10: =IF(AND(P10<>"",O10<>""),DATEDIF(O10,P10,"d"),0) -> 62 | Z10: =IF(AND(Q10<>"",P10<>""),DATEDIF(P10,Q10,"d"),0) -> 0 | AA10: =IF(AND(R10<>"",Q10<>""),DATEDIF(Q10,R10,"d"),0) -> 0 | AB10: =IF(AND(S10<>"",R10<>""),DATEDIF(R10,S10,"d"),0) -> 28 | AC10: =IF(AND(T10<>"",S10<>""),DATEDIF(S10,T10,"d"),0) -> 92 | AE10: =SUM(U10:AC10)/(J10-1) -> 40.555556
