Workbook

Sheet total Scrap
A1: Month | B1: Team Leader | C1: Name | D1: FNC / SMR | E1: Part Number | F1: Part Name | G1: Qty | H1: Part cost € | I1: Handling cost € | J1: TOTAL Amount € | K1: Comments | M1: 1.1355
A2: 04/2020 | B2: 72999 | C2: B. Metreau | D2: 95402 | E2: 57110F118271 | F2: METER ASSY, COMBINATION | G2: 1 | H2: =39.26/M1 -> 34.575077 | I2: =IF(H2="","",13.72) -> 13.72 | J2: =IF(H2="","",SUM(H2:I2)) -> 48.295077 | K2: PIÈCE TOMBÉE LORS DU MONTAGE SUR CHAINE (PIECE CASSÉE)
A3: 04/2020 | B3: 72007 | C3: JP Dupas | D3: 95403 | E3: 57413F231071 | F3: BOX ASSY, KEYPAD, LOG-ON | G3: 1 | H3: 38.46 | I3: =IF(H3="","",13.72) -> 13.72 | J3: =IF(H3="","",SUM(H3:I3)) -> 52.18 | K3: MQ PIÈCE POUR VISSER LE DIJICODE (DÉMONTÉ PAR LA DES)
A4: 04/2020 | B4: 72999 | C4: B. Metreau | D4: 95504 | E4: 56232F231171 | F4: WIRE | G4: 1 | H4: 10.93 | I4: =IF(H4="","",13.72) -> 13.72 | J4: =IF(H4="","",SUM(H4:I4)) -> 24.65 | K4: PRISE ARRACHÉE DÉFAUT NOTÉ SUR LA CHECKLIST ASSEMBLAGE
A5: 05/2020 | B5: 72007 | C5: JP Dupas | D5: 95054 | E5: 52212FS2LC71 | F5: CARPET BOX AIR COOLER | G5: 1 | H5: 138 | I5: =IF(H5="","",13.72) -> 13.72 | J5: =IF(H5="","",SUM(H5:I5)) -> 151.72 | K5: HABILLAGE ABIMÉ EN ACTIONNANT LE SIÈGE
A6: 05/2020 | B6: 72999 | C6: B. Metreau | D6: 95703 | E6: 56031F222671 | F6: WIRE, SIDE LH | G6: 2 | H6: 67.92 | I6: =IF(H6="","",13.72) -> 13.72 | J6: =IF(H6="","",SUM(H6:I6)) -> 81.64 | K6: PRISE BLANCHE ALIM MINI-LEVER HS
A7: 05/2020 | B7: 73082 | C7: C. Poli Marchetti | D7: 95709 | E7: 56062F221271 | F7: WIRE, HOOD SUB NO.1 | G7: 1 | H7: 46.85 | I7: =IF(H7="","",13.72) -> 13.72 | J7: =IF(H7="","",SUM(H7:I7)) -> 60.57 | K7: CONNECTEUR ALIM DU SIÈGE HS
A8: 05/2020 | B8: 72062 | C8: P. Sauvaget | D8: 95708 | E8: 56021F219471 | F8: WIRE, ENGINE | G8: 1 | H8: 46.77 | I8: =IF(H8="","",13.72) -> 13.72 | J8: =IF(H8="","",SUM(H8:I8)) -> 60.49 | K8: SUPPORT FUSIBLES HS
A9: 05/2020 | B9: 72062 | C9: P. Sauvaget | D9: 95707 | E9: 56021F220271 | F9: WIRE, ENGINE | G9: 1 | H9: 24.82 | I9: =IF(H9="","",13.72) -> 13.72 | J9: =IF(H9="","",SUM(H9:I9)) -> 38.54 | K9: VIS DE FIXATION FAISCEAU SUR FUSIBLE HS
A10: 05/2020 | B10: 73082 | C10: C. Poli Marchetti | D10: 95763 | E10: 55537F318471 | F10: COVER, INNER, DOOR, RH, UPR | G10: 1 | H10: 13.87 | I10: =IF(H10="","",13.72) -> 13.72 | J10: =IF(H10="","",SUM(H10:I10)) -> 27.59 | K10: CAPITONNAGE COUPÉ
A11: 05/2020 | B11: 72999 | C11: B. Metreau | D11: 95705 | E11: 56062FSU1U71 | F11: WIRE HOOD (56062-F2212-71) | G11: 1 | H11: 13.5 | I11: =IF(H11="","",13.72) -> 13.72 | J11: =IF(H11="","",SUM(H11:I11)) -> 27.22 | K11: FIL COUPÉ SUR CHAINE
A12: 06/2020 | B12: 72999 | C12: B. Metreau | D12: 95952 | E12: 175702660371 | F12: MUFFLER ASSY, CATALYTIC | G12: 1 | H12: 179.91 | I12: =IF(H12="","",13.72) -> 13.72 | J12: =IF(H12="","",SUM(H12:I12)) -> 193.63 | K12: FILETAGE HS LORS DU SERRAGE 078 225897
A13: 06/2020 | B13: 73082 | C13: C. Poli Marchetti | D13: 95619 | E13: 16420F221171 | F13: RADIATOR ASSY | G13: 1 | H13: 71.35 | I13: =IF(H13="","",13.72) -> 13.72 | J13: =IF(H13="","",SUM(H13:I13)) -> 85.07 | K13: COUPS SUR RADIATEUR
A14: 06/2020 | B14: 73082 | C14: C. Poli Marchetti | D14: 95704 | E14: 169202661071 | F14: COOLER ASSY, HYD OIL | G14: 1 | H14: 45.29 | I14: =IF(H14="","",13.72) -> 13.72 | J14: =IF(H14="","",SUM(H14:I14)) -> 59.01 | K14: AILETTES SUR RADIATEUR HS 817 224942
... A297: 03/2021 | B297: 72999 | C297: B. Metreau | D297: 96555 | E297: 111802665171 | F297: ENGINE ASSY 1ZS | G297: 1 | H297: 159.92 | I297: =IF(H297="","",13.72) -> 13.72 | J297: =IF(H297="","",SUM(H297:I297)) -> 173.64 | K297: INJECTEUR HS
A298: 03/2021 | B298: 72886 | C298: K. Julien | D298: 97137 | E298: 1B03095 | F298: SHAFT | G298: 25 | H298: =G298*5.75 -> 143.75 | I298: =IF(H298="","",13.72) -> 13.72 | J298: =IF(H298="","",SUM(H298:I298)) -> 157.47 | K298: TARAUDAGE DE M16X2 AU LIEU DE M16X1,5
A299: 03/2021 | B299: 73082 | C299: C. Poli Marchetti | D299: 95668 | E299: 455103664071 | F299: VALVE ASSY, POWER STEERING | G299: 1 | H299: 132.18 | I299: =IF(H299="","",13.72) -> 13.72 | J299: =IF(H299="","",SUM(H299:I299)) -> 145.9 | K299: FIL COUPÉ
A300: 03/2021 | B300: 73069 | C300: T. Boudard | D300: 96683 | E300: 2A28008 | F300: FRONT SLIDING GLASS LH | G300: 1 | H300: 129.49 | I300: =IF(H300="","",13.72) -> 13.72 | J300: =IF(H300="","",SUM(H300:I300)) -> 143.21 | K300: EN RETIRANT LA BAIE COLLÉE SUR LA PORTE ELLE S'EST CASSÉE
A301: 03/2021 | B301: 72999 | C301: B. Metreau | D301: 96619 | E301: 56210F225071 | F301: WIRE, ENGINE | G301: 1 | H301: 128.42 | I301: =IF(H301="","",13.72) -> 13.72 | J301: =IF(H301="","",SUM(H301:I301)) -> 142.14 | K301: PRISE HS
A302: 03/2021 | B302: 73082 | C302: C. Poli Marchetti | D302: 96617 | E302: 56210F225071 | F302: WIRE, ENGINE | G302: 1 | H302: 127.96 | I302: =IF(H302="","",13.72) -> 13.72 | J302: =IF(H302="","",SUM(H302:I302)) -> 141.68 | K302: CODE ERREUR OC-2
A303: 03/2021 | B303: 73082 | C303: C. Poli Marchetti | D303: 96567 | E303: 537302670571 | F303: SEAT ASSY | G303: 1 | H303: 117.18 | I303: =IF(H303="","",13.72) -> 13.72 | J303: =IF(H303="","",SUM(H303:I303)) -> 130.9 | K303: OUVERTURE BOITE DOCS HS
A304: 03/2021 | B304: 72999 | C304: B. Metreau | D304: 97812 | E304: 565302660071 | F304: LAMP ASSY, COMBINATION HEAD, LED | G304: 1 | H304: 97.19 | I304: =IF(H304="","",13.72) -> 13.72 | J304: =IF(H304="","",SUM(H304:I304)) -> 110.91 | K304: PRISE ARRACHÉE
A305: 03/2021 | B305: 73082 | C305: C. Poli Marchetti | D305: 97224 | E305: 281002665171 | F305: STARTER ASSY | G305: 1 | H305: 94.69 | I305: =IF(H305="","",13.72) -> 13.72 | J305: =IF(H305="","",SUM(H305:I305)) -> 108.41 | K305: PRISE SUR DEMARREUR HS
A306: 03/2021 | B306: 73082 | C306: C. Poli Marchetti | D306: 95562 | E306: 470303661171 | F306: BRAKE ASSY, RH | G306: 1 | H306: 88.54 | I306: =IF(H306="","",13.72) -> 13.72 | J306: =IF(H306="","",SUM(H306:I306)) -> 102.26 | K306: CABLE DE FREIN HS
A307: 03/2021 | B307: 72999 | C307: B. Metreau | D307: 95666 | E307: 56210F219071 | F307: WIRE, ENGINE | G307: 1 | H307: 80.57 | I307: =IF(H307="","",13.72) -> 13.72 | J307: =IF(H307="","",SUM(H307:I307)) -> 94.29 | K307: PRISE CASSÉE SUR FAISCEAU MOTEUR
A308: 03/2021 | B308: 72999 | C308: B. Metreau | D308: 96563 | E308: 56210F219071 | F308: WIRE, ENGINE | G308: 1 | H308: 80.57 | I308: =IF(H308="","",13.72) -> 13.72 | J308: =IF(H308="","",SUM(H308:I308)) -> 94.29 | K308: PRISE HS
A309: 03/2021 | B309: 72999 | C309: B. Metreau | D309: 96747 | E309: 56210F219071 | F309: WIRE, ENGINE | G309: 1 | H309: 80.31 | I309: =IF(H309="","",13.72) -> 13.72 | J309: =IF(H309="","",SUM(H309:I309)) -> 94.03 | K309: PRISE HS
A310: 03/2021 | B310: 72999 | C310: B. Metreau | D310: 96750 | E310: 56210F219071 | F310: WIRE, ENGINE | G310: 1 | H310: 80.31 | I310: =IF(H310="","",13.72) -> 13.72 | J310: =IF(H310="","",SUM(H310:I310)) -> 94.03 | K310: PRISE HS
... A437: 06/2021 | B437: 72238 | C437: D. Rouez | D437: 96596 | E437: 58741F231071 | F437: COVER PILAR LH | G437: 1 | H437: 2.1 | I437: =IF(H437="","",13.72) -> 13.72 | J437: =IF(H437="","",SUM(H437:I437)) -> 15.82 | K437: TRACES SUR LE CARTER
A438: 44713 | E438: 11111111111 | I438: =IF(H438="","",13.72) | J438: =IF(H438="","",SUM(H438:I438))
A439: 06/2023 | E439: 11111111111 | I439: =IF(H439="","",13.72) | J439: =IF(H439="","",SUM(H439:I439))

Sheet récurrence
A1: Month | B1: FNC / SMR | C1: Part Number | D1: Colonne 999 | E1: référence | F1: date réf 1 | G1: date réf 2 | H1: Nb de FNC concernées réf 1 | I1: Nb de FNC concernées réf 2 | J1: date =/ 0 réf 1 | K1: date =/ 0 réf 2 | L1: 0 | M1: 1 | N1: numéro d'occurrence réf 1 | O1: numéro d'occurrence réf 2 | P1: Occurrence | Q1: Nombre de jours depuis le 00/01/1900 réf 1 | R1: Nombre de jours depuis le 00/01/1900 réf 2 | S1: Nombre de jours entre deux occurrences réf 1 | T1: Nombre de jours entre deux occurrences réf 2 | U1: Moyenne entre deux occurrences réf 1 | V1: Moyenne entre deux occurrences réf 2 | W1: Facteur réf 1 | X1: Facteur réf 2
A2: ='total Scrap'!A2 -> 04/2020 | B2: ='total Scrap'!D2 -> 95402 | C2: ='total Scrap'!E2 -> 57110F118271 | D2: =IF(COUNTIFS($C$2:$C$410,C2)>1, C2,0) -> 0 | E2: ='traitement UNIQUE'!A2 -> 57413F231071 | F2: =IF($C2=E$2, $A2,) -> 0 | G2: =IF($C2=$E$3, $A2,) -> 0 | H2: =COUNTIFS(F$2:F$410,"<>",F$2:F$410,"<>0") -> 2 | I2: =COUNTIFS(G$2:G$410,"<>",G$2:G$410,"<>0") -> 2 | J2: =IF(F2<>0, DATE(MID(F2,4,7),MID(F2,1,2),1),) -> 0 | K2: =IF(G2<>0, DATE(MID(G2,4,7),MID(G2,1,2),1),) -> 0 | L2: =IF(F2>0,L1+1,L1) -> 0 | M2: =IF(G2>0,M1+1,M1) -> 1 | N2: 1 | P2: ="Occurrence"&N2 -> Occurrence1 | Q2: =SUMIFS(J$2:J$410,L$2:L$410,N2) -> 43922 | R2: =SUMIFS(K$2:K$410,M$2:M$410,O3) -> 43952 | S2: =IF(Q3>0,Q3-Q2,0) -> 426 | T2: =IF(R3>0,R3-R2,0) -> 153 | U2: =IF(COUNTIFS(S$2:S$410,"<>",S$2:S$410,"<>0")=0,0,SUMIFS(S$2:S$410,S$2:S$410,"<>0")/COUNTIFS(S$2:S$410,"<>",S$2:S$410,"<>0")) -> 426 | V2: =IF(COUNTIFS(T$2:T$410,"<>",T$2:T$410,"<>0")=0,0,SUMIFS(T$2:T$410,T$2:T$410,"<>0")/COUNTIFS(T$2:T$410,"<>",T$2:T$410,"<>0")) -> 153 | W2: =_xlfn.IFS(U$2<=45,4,U$2<=90,3,U$2<=135,2,U$2>135,1) -> 1 | X2: =_xlfn.IFS(V$2<=45,4,V$2<=90,3,V$2<=135,2,V$2>135,1) -> 1
A3: ='total Scrap'!A3 -> 04/2020 | B3: ='total Scrap'!D3 -> 95403 | C3: ='total Scrap'!E3 -> 57413F231071 | D3: =IF(COUNTIFS($C$2:$C$410,C3)>1, C3,0) -> 57413F231071 | E3: ='traitement UNIQUE'!A3 -> 52212FS2LC71 | F3: =IF($C3=E$2, $A3,) -> 04/2020 | G3: =IF($C3=$E$3, $A3,) -> 0 | H3: =COUNTIFS(F$2:F$410,"<>",F$2:F$410,"<>0") -> 2 | I3: =COUNTIFS(G$2:G$410,"<>",G$2:G$410,"<>0") -> 2 | J3: =IF(F3<>0, DATE(MID(F3,4,7),MID(F3,1,2),1),) -> 43922 | K3: =IF(G3<>0, DATE(MID(G3,4,7),MID(G3,1,2),1),) -> 0 | L3: =IF(F3>0,L2+1,L2) -> 1 | M3: =IF(G3>0,M2+1,M2) -> 1 | N3: 2 | O3: 2 | P3: ="Occurrence"&N3 -> Occurrence2 | Q3: =SUMIFS($J$2:$J$410,$L$2:$L$410,N3) -> 44348 | R3: =SUMIFS(K$2:K$410,M$2:M$410,O4) -> 44105 | S3: =IF(Q4>0,Q4-Q3,0) -> 0 | T3: =IF(R4>0,R4-R3,0) -> 0 | U3: =IF(COUNTIFS(S$2:S$410,"<>",S$2:S$410,"<>0")=0,"0",SUMIFS(S$2:S$410,S$2:S$410,"<>0")/COUNTIFS(S$2:S$410,"<>",S$2:S$410,"<>0")) -> 426 | V3: =IF(COUNTIFS(T$2:T$410,"<>",T$2:T$410,"<>0")=0,"0",SUMIFS(T$2:T$410,T$2:T$410,"<>0")/COUNTIFS(T$2:T$410,"<>",T$2:T$410,"<>0")) -> 153 | W3: =_xlfn.IFS(U$2<=45,4,U$2<=90,3,U$2<=135,2,U$2>135,1) -> 1 | X3: =_xlfn.IFS(V$2<=45,4,V$2<=90,3,V$2<=135,2,V$2>135,1) -> 1
A4: ='total Scrap'!A4 -> 04/2020 | B4: ='total Scrap'!D4 -> 95504 | C4: ='total Scrap'!E4 -> 56232F231171 | D4: =IF(COUNTIFS($C$2:$C$410,C4)>1, C4,0) -> 0 | E4: ='traitement UNIQUE'!A4 -> 56021F219471 | F4: =IF($C4=E$2, $A4,) -> 0 | G4: =IF($C4=$E$3, $A4,) -> 0 | H4: =COUNTIFS(F$2:F$410,"<>",F$2:F$410,"<>0") -> 2 | I4: =COUNTIFS(G$2:G$410,"<>",G$2:G$410,"<>0") -> 2 | J4: =IF(F4<>0, DATE(MID(F4,4,7),MID(F4,1,2),1),) -> 0 | K4: =IF(G4<>0, DATE(MID(G4,4,7),MID(G4,1,2),1),) -> 0 | L4: =IF(F4>0,L3+1,L3) -> 1 | M4: =IF(G4>0,M3+1,M3) -> 1 | N4: 3 | O4: 3 | P4: ="Occurrence"&N4 -> Occurrence3 | Q4: =SUMIFS($J$2:$J$410,$L$2:$L$410,N4) -> 0 | R4: =SUMIFS(K$2:K$410,M$2:M$410,O5) -> 0 | S4: =IF(Q5>0,Q5-Q4,0) -> 0 | T4: =IF(R5>0,R5-R4,0) -> 0 | U4: =IF(COUNTIFS(S$2:S$410,"<>",S$2:S$410,"<>0")=0,"0",SUMIFS(S$2:S$410,S$2:S$410,"<>0")/COUNTIFS(S$2:S$410,"<>",S$2:S$410,"<>0")) -> 426 | V4: =IF(COUNTIFS(T$2:T$410,"<>",T$2:T$410,"<>0")=0,"0",SUMIFS(T$2:T$410,T$2:T$410,"<>0")/COUNTIFS(T$2:T$410,"<>",T$2:T$410,"<>0")) -> 153 | W4: =_xlfn.IFS(U$2<=45,4,U$2<=90,3,U$2<=135,2,U$2>135,1) -> 1 | X4: =_xlfn.IFS(V$2<=45,4,V$2<=90,3,V$2<=135,2,V$2>135,1) -> 1
A5: ='total Scrap'!A5 -> 05/2020 | B5: ='total Scrap'!D5 -> 95054 | C5: ='total Scrap'!E5 -> 52212FS2LC71 | D5: =IF(COUNTIFS($C$2:$C$410,C5)>1, C5,0) -> 52212FS2LC71 | E5: ='traitement UNIQUE'!A5 -> 56021F220271 | F5: =IF($C5=E$2, $A5,) -> 0 | G5: =IF($C5=$E$3, $A5,) -> 05/2020 | H5: =COUNTIFS(F$2:F$410,"<>",F$2:F$410,"<>0") -> 2 | I5: =COUNTIFS(G$2:G$410,"<>",G$2:G$410,"<>0") -> 2 | J5: =IF(F5<>0, DATE(MID(F5,4,7),MID(F5,1,2),1),) -> 0 | K5: =IF(G5<>0, DATE(MID(G5,4,7),MID(G5,1,2),1),) -> 43952 | L5: =IF(F5>0,L4+1,L4) -> 1 | M5: =IF(G5>0,M4+1,M4) -> 2 | N5: 4 | O5: 4 | P5: ="Occurrence"&N5 -> Occurrence4 | Q5: =SUMIFS($J$2:$J$410,$L$2:$L$410,N5) -> 0 | R5: =SUMIFS(K$2:K$410,M$2:M$410,O6) -> 0 | S5: =IF(Q6>0,Q6-Q5,0) -> 0 | T5: =IF(R6>0,R6-R5,0) -> 0 | U5: =IF(COUNTIFS(S$2:S$410,"<>",S$2:S$410,"<>0")=0,"0",SUMIFS(S$2:S$410,S$2:S$410,"<>0")/COUNTIFS(S$2:S$410,"<>",S$2:S$410,"<>0")) -> 426 | V5: =IF(COUNTIFS(T$2:T$410,"<>",T$2:T$410,"<>0")=0,"0",SUMIFS(T$2:T$410,T$2:T$410,"<>0")/COUNTIFS(T$2:T$410,"<>",T$2:T$410,"<>0")) -> 153 | W5: =_xlfn.IFS(U$2<=45,4,U$2<=90,3,U$2<=135,2,U$2>135,1) -> 1 | X5: =_xlfn.IFS(V$2<=45,4,V$2<=90,3,V$2<=135,2,V$2>135,1) -> 1
A6: ='total Scrap'!A6 -> 05/2020 | B6: ='total Scrap'!D6 -> 95703 | C6: ='total Scrap'!E6 -> 56031F222671 | D6: =IF(COUNTIFS($C$2:$C$410,C6)>1, C6,0) -> 0 | E6: ='traitement UNIQUE'!A6 -> 55537F318471 | F6: =IF($C6=E$2, $A6,) -> 0 | G6: =IF($C6=$E$3, $A6,) -> 0 | H6: =COUNTIFS(F$2:F$410,"<>",F$2:F$410,"<>0") -> 2 | I6: =COUNTIFS(G$2:G$410,"<>",G$2:G$410,"<>0") -> 2 | J6: =IF(F6<>0, DATE(MID(F6,4,7),MID(F6,1,2),1),) -> 0 | K6: =IF(G6<>0, DATE(MID(G6,4,7),MID(G6,1,2),1),) -> 0 | L6: =IF(F6>0,L5+1,L5) -> 1 | M6: =IF(G6>0,M5+1,M5) -> 2 | N6: 5 | O6: 5 | P6: ="Occurrence"&N6 -> Occurrence5 | Q6: =SUMIFS($J$2:$J$410,$L$2:$L$410,N6) -> 0 | R6: =SUMIFS(K$2:K$410,M$2:M$410,O7) -> 0 | S6: =IF(Q7>0,Q7-Q6,0) -> 0 | T6: =IF(R7>0,R7-R6,0) -> 0 | U6: =IF(COUNTIFS(S$2:S$410,"<>",S$2:S$410,"<>0")=0,"0",SUMIFS(S$2:S$410,S$2:S$410,"<>0")/COUNTIFS(S$2:S$410,"<>",S$2:S$410,"<>0")) -> 426 | V6: =IF(COUNTIFS(T$2:T$410,"<>",T$2:T$410,"<>0")=0,"0",SUMIFS(T$2:T$410,T$2:T$410,"<>0")/COUNTIFS(T$2:T$410,"<>",T$2:T$410,"<>0")) -> 153 | W6: =_xlfn.IFS(U$2<=45,4,U$2<=90,3,U$2<=135,2,U$2>135,1) -> 1 | X6: =_xlfn.IFS(V$2<=45,4,V$2<=90,3,V$2<=135,2,V$2>135,1) -> 1
A7: ='total Scrap'!A7 -> 05/2020 | B7: ='total Scrap'!D7 -> 95709 | C7: ='total Scrap'!E7 -> 56062F221271 | D7: =IF(COUNTIFS($C$2:$C$410,C7)>1, C7,0) -> 0 | E7: ='traitement UNIQUE'!A7 -> 55227F218271 | F7: =IF($C7=E$2, $A7,) -> 0 | G7: =IF($C7=$E$3, $A7,) -> 0 | H7: =COUNTIFS(F$2:F$410,"<>",F$2:F$410,"<>0") -> 2 | I7: =COUNTIFS(G$2:G$410,"<>",G$2:G$410,"<>0") -> 2 | J7: =IF(F7<>0, DATE(MID(F7,4,7),MID(F7,1,2),1),) -> 0 | K7: =IF(G7<>0, DATE(MID(G7,4,7),MID(G7,1,2),1),) -> 0 | L7: =IF(F7>0,L6+1,L6) -> 1 | M7: =IF(G7>0,M6+1,M6) -> 2 | N7: 6 | O7: 6 | P7: ="Occurrence"&N7 -> Occurrence6 | Q7: =SUMIFS($J$2:$J$410,$L$2:$L$410,N7) -> 0 | R7: =SUMIFS(K$2:K$410,M$2:M$410,O8) -> 0 | S7: =IF(Q8>0,Q8-Q7,0) -> 0 | T7: =IF(R8>0,R8-R7,0) -> 0 | U7: =IF(COUNTIFS(S$2:S$410,"<>",S$2:S$410,"<>0")=0,"0",SUMIFS(S$2:S$410,S$2:S$410,"<>0")/COUNTIFS(S$2:S$410,"<>",S$2:S$410,"<>0")) -> 426 | V7: =IF(COUNTIFS(T$2:T$410,"<>",T$2:T$410,"<>0")=0,"0",SUMIFS(T$2:T$410,T$2:T$410,"<>0")/COUNTIFS(T$2:T$410,"<>",T$2:T$410,"<>0")) -> 153 | W7: =_xlfn.IFS(U$2<=45,4,U$2<=90,3,U$2<=135,2,U$2>135,1) -> 1 | X7: =_xlfn.IFS(V$2<=45,4,V$2<=90,3,V$2<=135,2,V$2>135,1) -> 1
A8: ='total Scrap'!A8 -> 05/2020 | B8: ='total Scrap'!D8 -> 95708 | C8: ='total Scrap'!E8 -> 56021F219471 | D8: =IF(COUNTIFS($C$2:$C$410,C8)>1, C8,0) -> 56021F219471 | E8: ='traitement UNIQUE'!A8 -> 68607F319071 | F8: =IF($C8=E$2, $A8,) -> 0 | G8: =IF($C8=$E$3, $A8,) -> 0 | H8: =COUNTIFS(F$2:F$410,"<>",F$2:F$410,"<>0") -> 2 | I8: =COUNTIFS(G$2:G$410,"<>",G$2:G$410,"<>0") -> 2 | J8: =IF(F8<>0, DATE(MID(F8,4,7),MID(F8,1,2),1),) -> 0 | K8: =IF(G8<>0, DATE(MID(G8,4,7),MID(G8,1,2),1),) -> 0 | L8: =IF(F8>0,L7+1,L7) -> 1 | M8: =IF(G8>0,M7+1,M7) -> 2 | N8: 7 | O8: 7 | P8: ="Occurrence"&N8 -> Occurrence7 | Q8: =SUMIFS($J$2:$J$410,$L$2:$L$410,N8) -> 0 | R8: =SUMIFS(K$2:K$410,M$2:M$410,O9) -> 0 | S8: =IF(Q9>0,Q9-Q8,0) -> 0 | T8: =IF(R9>0,R9-R8,0) -> 0 | U8: =IF(COUNTIFS(S$2:S$410,"<>",S$2:S$410,"<>0")=0,"0",SUMIFS(S$2:S$410,S$2:S$410,"<>0")/COUNTIFS(S$2:S$410,"<>",S$2:S$410,"<>0")) -> 426 | V8: =IF(COUNTIFS(T$2:T$410,"<>",T$2:T$410,"<>0")=0,"0",SUMIFS(T$2:T$410,T$2:T$410,"<>0")/COUNTIFS(T$2:T$410,"<>",T$2:T$410,"<>0")) -> 153 | W8: =_xlfn.IFS(U$2<=45,4,U$2<=90,3,U$2<=135,2,U$2>135,1) -> 1 | X8: =_xlfn.IFS(V$2<=45,4,V$2<=90,3,V$2<=135,2,V$2>135,1) -> 1
A9: ='total Scrap'!A9 -> 05/2020 | B9: ='total Scrap'!D9 -> 95707 | C9: ='total Scrap'!E9 -> 56021F220271 | D9: =IF(COUNTIFS($C$2:$C$410,C9)>1, C9,0) -> 56021F220271 | E9: ='traitement UNIQUE'!A9 -> 163612660071 | F9: =IF($C9=E$2, $A9,) -> 0 | G9: =IF($C9=$E$3, $A9,) -> 0 | H9: =COUNTIFS(F$2:F$410,"<>",F$2:F$410,"<>0") -> 2 | I9: =COUNTIFS(G$2:G$410,"<>",G$2:G$410,"<>0") -> 2 | J9: =IF(F9<>0, DATE(MID(F9,4,7),MID(F9,1,2),1),) -> 0 | K9: =IF(G9<>0, DATE(MID(G9,4,7),MID(G9,1,2),1),) -> 0 | L9: =IF(F9>0,L8+1,L8) -> 1 | M9: =IF(G9>0,M8+1,M8) -> 2 | N9: 8 | O9: 8 | P9: ="Occurrence"&N9 -> Occurrence8 | Q9: =SUMIFS($J$2:$J$410,$L$2:$L$410,N9) -> 0 | R9: =SUMIFS(K$2:K$410,M$2:M$410,O10) -> 0 | S9: =IF(Q10>0,Q10-Q9,0) -> 0 | T9: =IF(R10>0,R10-R9,0) -> 0 | U9: =IF(COUNTIFS(S$2:S$410,"<>",S$2:S$410,"<>0")=0,"0",SUMIFS(S$2:S$410,S$2:S$410,"<>0")/COUNTIFS(S$2:S$410,"<>",S$2:S$410,"<>0")) -> 426 | V9: =IF(COUNTIFS(T$2:T$410,"<>",T$2:T$410,"<>0")=0,"0",SUMIFS(T$2:T$410,T$2:T$410,"<>0")/COUNTIFS(T$2:T$410,"<>",T$2:T$410,"<>0")) -> 153 | W9: =_xlfn.IFS(U$2<=45,4,U$2<=90,3,U$2<=135,2,U$2>135,1) -> 1 | X9: =_xlfn.IFS(V$2<=45,4,V$2<=90,3,V$2<=135,2,V$2>135,1) -> 1
A10: ='total Scrap'!A10 -> 05/2020 | B10: ='total Scrap'!D10 -> 95763 | C10: ='total Scrap'!E10 -> 55537F318471 | D10: =IF(COUNTIFS($C$2:$C$410,C10)>1, C10,0) -> 55537F318471 | E10: ='traitement UNIQUE'!A10 -> 53220F219071 | F10: =IF($C10=E$2, $A10,) -> 0 | G10: =IF($C10=$E$3, $A10,) -> 0 | H10: =COUNTIFS(F$2:F$410,"<>",F$2:F$410,"<>0") -> 2 | I10: =COUNTIFS(G$2:G$410,"<>",G$2:G$410,"<>0") -> 2 | J10: =IF(F10<>0, DATE(MID(F10,4,7),MID(F10,1,2),1),) -> 0 | K10: =IF(G10<>0, DATE(MID(G10,4,7),MID(G10,1,2),1),) -> 0 | L10: =IF(F10>0,L9+1,L9) -> 1 | M10: =IF(G10>0,M9+1,M9) -> 2 | N10: 9 | O10: 9 | P10: ="Occurrence"&N10 -> Occurrence9 | Q10: =SUMIFS($J$2:$J$410,$L$2:$L$410,N10) -> 0 | R10: =SUMIFS(K$2:K$410,M$2:M$410,O11) -> 0 | S10: =IF(Q11>0,Q11-Q10,0) -> 0 | T10: =IF(R11>0,R11-R10,0) -> 0 | U10: =IF(COUNTIFS(S$2:S$410,"<>",S$2:S$410,"<>0")=0,"0",SUMIFS(S$2:S$410,S$2:S$410,"<>0")/COUNTIFS(S$2:S$410,"<>",S$2:S$410,"<>0")) -> 426 | V10: =IF(COUNTIFS(T$2:T$410,"<>",T$2:T$410,"<>0")=0,"0",SUMIFS(T$2:T$410,T$2:T$410,"<>0")/COUNTIFS(T$2:T$410,"<>",T$2:T$410,"<>0")) -> 153 | W10: =_xlfn.IFS(U$2<=45,4,U$2<=90,3,U$2<=135,2,U$2>135,1) -> 1 | X10: =_xlfn.IFS(V$2<=45,4,V$2<=90,3,V$2<=135,2,V$2>135,1) -> 1
A11: ='total Scrap'!A11 -> 05/2020 | B11: ='total Scrap'!D11 -> 95705 | C11: ='total Scrap'!E11 -> 56062FSU1U71 | D11: =IF(COUNTIFS($C$2:$C$410,C11)>1, C11,0) -> 0 | E11: ='traitement UNIQUE'!A11 -> 451101247271 | F11: =IF($C11=E$2, $A11,) -> 0 | G11: =IF($C11=$E$3, $A11,) -> 0 | H11: =COUNTIFS(F$2:F$410,"<>",F$2:F$410,"<>0") -> 2 | I11: =COUNTIFS(G$2:G$410,"<>",G$2:G$410,"<>0") -> 2 | J11: =IF(F11<>0, DATE(MID(F11,4,7),MID(F11,1,2),1),) -> 0 | K11: =IF(G11<>0, DATE(MID(G11,4,7),MID(G11,1,2),1),) -> 0 | L11: =IF(F11>0,L10+1,L10) -> 1 | M11: =IF(G11>0,M10+1,M10) -> 2 | N11: 10 | O11: 10 | P11: ="Occurrence"&N11 -> Occurrence10 | Q11: =SUMIFS($J$2:$J$410,$L$2:$L$410,N11) -> 0 | R11: =SUMIFS(K$2:K$410,M$2:M$410,O12) -> 0 | S11: =IF(Q12>0,Q12-Q11,0) -> 0 | T11: =IF(R12>0,R12-R11,0) -> 0 | U11: =IF(COUNTIFS(S$2:S$410,"<>",S$2:S$410,"<>0")=0,"0",SUMIFS(S$2:S$410,S$2:S$410,"<>0")/COUNTIFS(S$2:S$410,"<>",S$2:S$410,"<>0")) -> 426 | V11: =IF(COUNTIFS(T$2:T$410,"<>",T$2:T$410,"<>0")=0,"0",SUMIFS(T$2:T$410,T$2:T$410,"<>0")/COUNTIFS(T$2:T$410,"<>",T$2:T$410,"<>0")) -> 153 | W11: =_xlfn.IFS(U$2<=45,4,U$2<=90,3,U$2<=135,2,U$2>135,1) -> 1 | X11: =_xlfn.IFS(V$2<=45,4,V$2<=90,3,V$2<=135,2,V$2>135,1) -> 1
A12: ='total Scrap'!A12 -> 06/2020 | B12: ='total Scrap'!D12 -> 95952 | C12: ='total Scrap'!E12 -> 175702660371 | D12: =IF(COUNTIFS($C$2:$C$410,C12)>1, C12,0) -> 0 | E12: ='traitement UNIQUE'!A12 -> 565702665071 | F12: =IF($C12=E$2, $A12,) -> 0 | G12: =IF($C12=$E$3, $A12,) -> 0 | H12: =COUNTIFS(F$2:F$410,"<>",F$2:F$410,"<>0") -> 2 | I12: =COUNTIFS(G$2:G$410,"<>",G$2:G$410,"<>0") -> 2 | J12: =IF(F12<>0, DATE(MID(F12,4,7),MID(F12,1,2),1),) -> 0 | K12: =IF(G12<>0, DATE(MID(G12,4,7),MID(G12,1,2),1),) -> 0 | L12: =IF(F12>0,L11+1,L11) -> 1 | M12: =IF(G12>0,M11+1,M11) -> 2 | N12: 11 | O12: 11 | P12: ="Occurrence"&N12 -> Occurrence11 | Q12: =SUMIFS($J$2:$J$410,$L$2:$L$410,N12) -> 0 | R12: =SUMIFS(K$2:K$410,M$2:M$410,O13) -> 0 | S12: =IF(Q13>0,Q13-Q12,0) -> 0 | T12: =IF(R13>0,R13-R12,0) -> 0 | U12: =IF(COUNTIFS(S$2:S$410,"<>",S$2:S$410,"<>0")=0,"0",SUMIFS(S$2:S$410,S$2:S$410,"<>0")/COUNTIFS(S$2:S$410,"<>",S$2:S$410,"<>0")) -> 426 | V12: =IF(COUNTIFS(T$2:T$410,"<>",T$2:T$410,"<>0")=0,"0",SUMIFS(T$2:T$410,T$2:T$410,"<>0")/COUNTIFS(T$2:T$410,"<>",T$2:T$410,"<>0")) -> 153 | W12: =_xlfn.IFS(U$2<=45,4,U$2<=90,3,U$2<=135,2,U$2>135,1) -> 1 | X12: =_xlfn.IFS(V$2<=45,4,V$2<=90,3,V$2<=135,2,V$2>135,1) -> 1
A13: ='total Scrap'!A13 -> 06/2020 | B13: ='total Scrap'!D13 -> 95619 | C13: ='total Scrap'!E13 -> 16420F221171 | D13: =IF(COUNTIFS($C$2:$C$410,C13)>1, C13,0) -> 0 | E13: ='traitement UNIQUE'!A13 -> 2A14497G3 | F13: =IF($C13=E$2, $A13,) -> 0 | G13: =IF($C13=$E$3, $A13,) -> 0 | H13: =COUNTIFS(F$2:F$410,"<>",F$2:F$410,"<>0") -> 2 | I13: =COUNTIFS(G$2:G$410,"<>",G$2:G$410,"<>0") -> 2 | J13: =IF(F13<>0, DATE(MID(F13,4,7),MID(F13,1,2),1),) -> 0 | K13: =IF(G13<>0, DATE(MID(G13,4,7),MID(G13,1,2),1),) -> 0 | L13: =IF(F13>0,L12+1,L12) -> 1 | M13: =IF(G13>0,M12+1,M12) -> 2 | N13: 12 | O13: 12 | P13: ="Occurrence"&N13 -> Occurrence12 | Q13: =SUMIFS($J$2:$J$410,$L$2:$L$410,N13) -> 0 | R13: =SUMIFS(K$2:K$410,M$2:M$410,O14) -> 0 | S13: =IF(Q14>0,Q14-Q13,0) -> 0 | T13: =IF(R14>0,R14-R13,0) -> 0 | U13: =IF(COUNTIFS(S$2:S$410,"<>",S$2:S$410,"<>0")=0,"0",SUMIFS(S$2:S$410,S$2:S$410,"<>0")/COUNTIFS(S$2:S$410,"<>",S$2:S$410,"<>0")) -> 426 | V13: =IF(COUNTIFS(T$2:T$410,"<>",T$2:T$410,"<>0")=0,"0",SUMIFS(T$2:T$410,T$2:T$410,"<>0")/COUNTIFS(T$2:T$410,"<>",T$2:T$410,"<>0")) -> 153 | W13: =_xlfn.IFS(U$2<=45,4,U$2<=90,3,U$2<=135,2,U$2>135,1) -> 1 | X13: =_xlfn.IFS(V$2<=45,4,V$2<=90,3,V$2<=135,2,V$2>135,1) -> 1
A14: ='total Scrap'!A14 -> 06/2020 | B14: ='total Scrap'!D14 -> 95704 | C14: ='total Scrap'!E14 -> 169202661071 | D14: =IF(COUNTIFS($C$2:$C$410,C14)>1, C14,0) -> 0 | E14: ='traitement UNIQUE'!A14 -> 17780F218071 | F14: =IF($C14=E$2, $A14,) -> 0 | G14: =IF($C14=$E$3, $A14,) -> 0 | H14: =COUNTIFS(F$2:F$410,"<>",F$2:F$410,"<>0") -> 2 | I14: =COUNTIFS(G$2:G$410,"<>",G$2:G$410,"<>0") -> 2 | J14: =IF(F14<>0, DATE(MID(F14,4,7),MID(F14,1,2),1),) -> 0 | K14: =IF(G14<>0, DATE(MID(G14,4,7),MID(G14,1,2),1),) -> 0 | L14: =IF(F14>0,L13+1,L13) -> 1 | M14: =IF(G14>0,M13+1,M13) -> 2 | N14: 13 | O14: 13 | P14: ="Occurrence"&N14 -> Occurrence13 | Q14: =SUMIFS($J$2:$J$410,$L$2:$L$410,N14) -> 0 | R14: =SUMIFS(K$2:K$410,M$2:M$410,O15) -> 0 | S14: =IF(Q15>0,Q15-Q14,0) -> 0 | T14: =IF(R15>0,R15-R14,0) -> 0 | U14: =IF(COUNTIFS(S$2:S$410,"<>",S$2:S$410,"<>0")=0,"0",SUMIFS(S$2:S$410,S$2:S$410,"<>0")/COUNTIFS(S$2:S$410,"<>",S$2:S$410,"<>0")) -> 426 | V14: =IF(COUNTIFS(T$2:T$410,"<>",T$2:T$410,"<>0")=0,"0",SUMIFS(T$2:T$410,T$2:T$410,"<>0")/COUNTIFS(T$2:T$410,"<>",T$2:T$410,"<>0")) -> 153 | W14: =_xlfn.IFS(U$2<=45,4,U$2<=90,3,U$2<=135,2,U$2>135,1) -> 1 | X14: =_xlfn.IFS(V$2<=45,4,V$2<=90,3,V$2<=135,2,V$2>135,1) -> 1
... A18: ='total Scrap'!A18 -> 06/2020 | B18: ='total Scrap'!D18 -> 95616 | C18: ='total Scrap'!E18 -> 574501247071 | D18: =IF(COUNTIFS($C$2:$C$410,C18)>1, C18,0) -> 0 | E18: ='traitement UNIQUE'!A18 -> 2A28005 | F18: =IF($C18=E$2, $A18,) -> 0 | G18: =IF($C18=$E$3, $A18,) -> 0 | H18: =COUNTIFS(F$2:F$410,"<>",F$2:F$410,"<>0") -> 2 | I18: =COUNTIFS(G$2:G$410,"<>",G$2:G$410,"<>0") -> 2 | J18: =IF(F18<>0, DATE(MID(F18,4,7),MID(F18,1,2),1),) -> 0 | K18: =IF(G18<>0, DATE(MID(G18,4,7),MID(G18,1,2),1),) -> 0 | L18: =IF(F18>0,L17+1,L17) -> 1 | M18: =IF(G18>0,M17+1,M17) -> 2 | N18: 17 | O18: 17 | P18: ="Occurrence"&N18 -> Occurrence17 | Q18: =SUMIFS($J$2:$J$410,$L$2:$L$410,N18) -> 0 | R18: =SUMIFS(K$2:K$410,M$2:M$410,O19) -> 0 | S18: =IF(Q19>0,Q19-Q18,0) -> 0 | T18: =IF(R19>0,R19-R18,0) -> 0 | U18: =IF(COUNTIFS(S$2:S$410,"<>",S$2:S$410,"<>0")=0,"0",SUMIFS(S$2:S$410,S$2:S$410,"<>0")/COUNTIFS(S$2:S$410,"<>",S$2:S$410,"<>0")) -> 426 | V18: =IF(COUNTIFS(T$2:T$410,"<>",T$2:T$410,"<>0")=0,"0",SUMIFS(T$2:T$410,T$2:T$410,"<>0")/COUNTIFS(T$2:T$410,"<>",T$2:T$410,"<>0")) -> 153 | W18: =_xlfn.IFS(U$2<=45,4,U$2<=90,3,U$2<=135,2,U$2>135,1) -> 1 | X18: =_xlfn.IFS(V$2<=45,4,V$2<=90,3,V$2<=135,2,V$2>135,1) -> 1
A19: ='total Scrap'!A19 -> 06/2020 | B19: ='total Scrap'!D19 -> 95903 | C19: ='total Scrap'!E19 -> 68608F319071 | D19: =IF(COUNTIFS($C$2:$C$410,C19)>1, C19,0) -> 0 | E19: ='traitement UNIQUE'!A19 -> 565903676071 | F19: =IF($C19=E$2, $A19,) -> 0 | G19: =IF($C19=$E$3, $A19,) -> 0 | H19: =COUNTIFS(F$2:F$410,"<>",F$2:F$410,"<>0") -> 2 | I19: =COUNTIFS(G$2:G$410,"<>",G$2:G$410,"<>0") -> 2 | J19: =IF(F19<>0, DATE(MID(F19,4,7),MID(F19,1,2),1),) -> 0 | K19: =IF(G19<>0, DATE(MID(G19,4,7),MID(G19,1,2),1),) -> 0 | L19: =IF(F19>0,L18+1,L18) -> 1 | M19: =IF(G19>0,M18+1,M18) -> 2 | N19: 18 | O19: 18 | P19: ="Occurrence"&N19 -> Occurrence18 | Q19: =SUMIFS($J$2:$J$410,$L$2:$L$410,N19) -> 0 | R19: =SUMIFS(K$2:K$410,M$2:M$410,O19) -> 0 | S19: =IF(Q20>0,Q20-Q19,0) -> 0 | T19: =IF(R20>0,R20-R19,0) -> 0 | U19: =IF(COUNTIFS(S$2:S$410,"<>",S$2:S$410,"<>0")=0,"0",SUMIFS(S$2:S$410,S$2:S$410,"<>0")/COUNTIFS(S$2:S$410,"<>",S$2:S$410,"<>0")) -> 426 | V19: =IF(COUNTIFS(T$2:T$410,"<>",T$2:T$410,"<>0")=0,"0",SUMIFS(T$2:T$410,T$2:T$410,"<>0")/COUNTIFS(T$2:T$410,"<>",T$2:T$410,"<>0")) -> 153 | W19: =_xlfn.IFS(U$2<=45,4,U$2<=90,3,U$2<=135,2,U$2>135,1) -> 1 | X19: =_xlfn.IFS(V$2<=45,4,V$2<=90,3,V$2<=135,2,V$2>135,1) -> 1
A20: ='total Scrap'!A20 -> 06/2020 | B20: ='total Scrap'!D20 -> 95769 | C20: ='total Scrap'!E20 -> 43251F210071 | D20: =IF(COUNTIFS($C$2:$C$410,C20)>1, C20,0) -> 0 | E20: ='traitement UNIQUE'!A20 -> 55213F218171 | F20: =IF($C20=E$2, $A20,) -> 0 | G20: =IF($C20=$E$3, $A20,) -> 0 | H20: =COUNTIFS(F$2:F$410,"<>",F$2:F$410,"<>0") -> 2 | I20: =COUNTIFS(G$2:G$410,"<>",G$2:G$410,"<>0") -> 2 | J20: =IF(F20<>0, DATE(MID(F20,4,7),MID(F20,1,2),1),) -> 0 | K20: =IF(G20<>0, DATE(MID(G20,4,7),MID(G20,1,2),1),) -> 0 | L20: =IF(F20>0,L19+1,L19) -> 1 | M20: =IF(G20>0,M19+1,M19) -> 2 | N20: 19 | O20: 19 | P20: ="Occurrence"&N20 -> Occurrence19 | Q20: =SUMIFS($J$2:$J$410,$L$2:$L$410,N20) -> 0 | R20: =SUMIFS(K$2:K$410,M$2:M$410,O20) -> 0 | S20: =IF(Q21>0,Q21-Q20,0) -> 0 | T20: =IF(R21>0,R21-R20,0) -> 0 | U20: =IF(COUNTIFS(S$2:S$410,"<>",S$2:S$410,"<>0")=0,"0",SUMIFS(S$2:S$410,S$2:S$410,"<>0")/COUNTIFS(S$2:S$410,"<>",S$2:S$410,"<>0")) -> 426 | V20: =IF(COUNTIFS(T$2:T$410,"<>",T$2:T$410,"<>0")=0,"0",SUMIFS(T$2:T$410,T$2:T$410,"<>0")/COUNTIFS(T$2:T$410,"<>",T$2:T$410,"<>0")) -> 153 | W20: =_xlfn.IFS(U$2<=45,4,U$2<=90,3,U$2<=135,2,U$2>135,1) -> 1 | X20: =_xlfn.IFS(V$2<=45,4,V$2<=90,3,V$2<=135,2,V$2>135,1) -> 1
A21: ='total Scrap'!A21 -> 06/2020 | B21: ='total Scrap'!D21 -> 95904 | C21: ='total Scrap'!E21 -> 68607F319071 | D21: =IF(COUNTIFS($C$2:$C$410,C21)>1, C21,0) -> 68607F319071 | E21: ='traitement UNIQUE'!A21 -> 56031F231071 | F21: =IF($C21=E$2, $A21,) -> 0 | G21: =IF($C21=$E$3, $A21,) -> 0 | H21: =COUNTIFS(F$2:F$410,"<>",F$2:F$410,"<>0") -> 2 | I21: =COUNTIFS(G$2:G$410,"<>",G$2:G$410,"<>0") -> 2 | J21: =IF(F21<>0, DATE(MID(F21,4,7),MID(F21,1,2),1),) -> 0 | K21: =IF(G21<>0, DATE(MID(G21,4,7),MID(G21,1,2),1),) -> 0 | L21: =IF(F21>0,L20+1,L20) -> 1 | M21: =IF(G21>0,M20+1,M20) -> 2 | N21: 20 | O21: 20 | P21: ="Occurrence"&N21 -> Occurrence20 | Q21: =SUMIFS($J$2:$J$410,$L$2:$L$410,N21) -> 0 | R21: =SUMIFS(K$2:K$410,M$2:M$410,O21) -> 0 | S21: =IF(Q22>0,Q22-Q21,0) -> 0 | T21: =IF(R22>0,R22-R21,0) -> 0 | U21: =IF(COUNTIFS(S$2:S$410,"<>",S$2:S$410,"<>0")=0,"0",SUMIFS(S$2:S$410,S$2:S$410,"<>0")/COUNTIFS(S$2:S$410,"<>",S$2:S$410,"<>0")) -> 426 | V21: =IF(COUNTIFS(T$2:T$410,"<>",T$2:T$410,"<>0")=0,"0",SUMIFS(T$2:T$410,T$2:T$410,"<>0")/COUNTIFS(T$2:T$410,"<>",T$2:T$410,"<>0")) -> 153 | W21: =_xlfn.IFS(U$2<=45,4,U$2<=90,3,U$2<=135,2,U$2>135,1) -> 1 | X21: =_xlfn.IFS(V$2<=45,4,V$2<=90,3,V$2<=135,2,V$2>135,1) -> 1
A22: ='total Scrap'!A22 -> 06/2020 | B22: ='total Scrap'!D22 -> 95656 | C22: ='total Scrap'!E22 -> 68607F319071 | D22: =IF(COUNTIFS($C$2:$C$410,C22)>1, C22,0) -> 68607F319071 | E22: ='traitement UNIQUE'!A22 -> 23507FPA2171 | F22: =IF($C22=E$2, $A22,) -> 0 | G22: =IF($C22=$E$3, $A22,) -> 0 | H22: =COUNTIFS(F$2:F$410,"<>",F$2:F$410,"<>0") -> 2 | I22: =COUNTIFS(G$2:G$410,"<>",G$2:G$410,"<>0") -> 2 | J22: =IF(F22<>0, DATE(MID(F22,4,7),MID(F22,1,2),1),) -> 0 | K22: =IF(G22<>0, DATE(MID(G22,4,7),MID(G22,1,2),1),) -> 0 | L22: =IF(F22>0,L21+1,L21) -> 1 | M22: =IF(G22>0,M21+1,M21) -> 2 | N22: 21 | O22: 21 | P22: ="Occurrence"&N22 -> Occurrence21 | Q22: =SUMIFS($J$2:$J$410,$L$2:$L$410,N22) -> 0 | R22: =SUMIFS(K$2:K$410,M$2:M$410,O22) -> 0 | S22: =IF(Q23>0,Q23-Q22,0) -> 0 | T22: =IF(R23>0,R23-R22,0) -> 0 | U22: =IF(COUNTIFS(S$2:S$410,"<>",S$2:S$410,"<>0")=0,"0",SUMIFS(S$2:S$410,S$2:S$410,"<>0")/COUNTIFS(S$2:S$410,"<>",S$2:S$410,"<>0")) -> 426 | V22: =IF(COUNTIFS(T$2:T$410,"<>",T$2:T$410,"<>0")=0,"0",SUMIFS(T$2:T$410,T$2:T$410,"<>0")/COUNTIFS(T$2:T$410,"<>",T$2:T$410,"<>0")) -> 153 | W22: =_xlfn.IFS(U$2<=45,4,U$2<=90,3,U$2<=135,2,U$2>135,1) -> 1 | X22: =_xlfn.IFS(V$2<=45,4,V$2<=90,3,V$2<=135,2,V$2>135,1) -> 1
A23: ='total Scrap'!A23 -> 06/2020 | B23: ='total Scrap'!D23 -> 95764 | C23: ='total Scrap'!E23 -> 163612660071 | D23: =IF(COUNTIFS($C$2:$C$410,C23)>1, C23,0) -> 163612660071 | E23: ='traitement UNIQUE'!A23 -> 175102662071 | F23: =IF($C23=E$2, $A23,) -> 0 | G23: =IF($C23=$E$3, $A23,) -> 0 | H23: =COUNTIFS(F$2:F$410,"<>",F$2:F$410,"<>0") -> 2 | I23: =COUNTIFS(G$2:G$410,"<>",G$2:G$410,"<>0") -> 2 | J23: =IF(F23<>0, DATE(MID(F23,4,7),MID(F23,1,2),1),) -> 0 | K23: =IF(G23<>0, DATE(MID(G23,4,7),MID(G23,1,2),1),) -> 0 | L23: =IF(F23>0,L22+1,L22) -> 1 | M23: =IF(G23>0,M22+1,M22) -> 2 | N23: 22 | O23: 22 | P23: ="Occurrence"&N23 -> Occurrence22 | Q23: =SUMIFS($J$2:$J$410,$L$2:$L$410,N23) -> 0 | R23: =SUMIFS(K$2:K$410,M$2:M$410,O23) -> 0 | S23: =IF(Q24>0,Q24-Q23,0) -> 0 | T23: =IF(R24>0,R24-R23,0) -> 0 | U23: =IF(COUNTIFS(S$2:S$410,"<>",S$2:S$410,"<>0")=0,"0",SUMIFS(S$2:S$410,S$2:S$410,"<>0")/COUNTIFS(S$2:S$410,"<>",S$2:S$410,"<>0")) -> 426 | V23: =IF(COUNTIFS(T$2:T$410,"<>",T$2:T$410,"<>0")=0,"0",SUMIFS(T$2:T$410,T$2:T$410,"<>0")/COUNTIFS(T$2:T$410,"<>",T$2:T$410,"<>0")) -> 153 | W23: =_xlfn.IFS(U$2<=45,4,U$2<=90,3,U$2<=135,2,U$2>135,1) -> 1 | X23: =_xlfn.IFS(V$2<=45,4,V$2<=90,3,V$2<=135,2,V$2>135,1) -> 1
A24: ='total Scrap'!A24 -> 06/2020 | B24: ='total Scrap'!D24 -> 96511 | C24: ='total Scrap'!E24 -> 53220F219071 | D24: =IF(COUNTIFS($C$2:$C$410,C24)>1, C24,0) -> 53220F219071 | E24: ='traitement UNIQUE'!A24 -> 68805F226071 | F24: =IF($C24=E$2, $A24,) -> 0 | G24: =IF($C24=$E$3, $A24,) -> 0 | H24: =COUNTIFS(F$2:F$410,"<>",F$2:F$410,"<>0") -> 2 | I24: =COUNTIFS(G$2:G$410,"<>",G$2:G$410,"<>0") -> 2 | J24: =IF(F24<>0, DATE(MID(F24,4,7),MID(F24,1,2),1),) -> 0 | K24: =IF(G24<>0, DATE(MID(G24,4,7),MID(G24,1,2),1),) -> 0 | L24: =IF(F24>0,L23+1,L23) -> 1 | M24: =IF(G24>0,M23+1,M23) -> 2 | N24: 23 | O24: 23 | P24: ="Occurrence"&N24 -> Occurrence23 | Q24: =SUMIFS($J$2:$J$410,$L$2:$L$410,N24) -> 0 | R24: =SUMIFS(K$2:K$410,M$2:M$410,O24) -> 0 | S24: =IF(Q25>0,Q25-Q24,0) -> 0 | T24: =IF(R25>0,R25-R24,0) -> 0 | U24: =IF(COUNTIFS(S$2:S$410,"<>",S$2:S$410,"<>0")=0,"0",SUMIFS(S$2:S$410,S$2:S$410,"<>0")/COUNTIFS(S$2:S$410,"<>",S$2:S$410,"<>0")) -> 426 | V24: =IF(COUNTIFS(T$2:T$410,"<>",T$2:T$410,"<>0")=0,"0",SUMIFS(T$2:T$410,T$2:T$410,"<>0")/COUNTIFS(T$2:T$410,"<>",T$2:T$410,"<>0")) -> 153 | W24: =_xlfn.IFS(U$2<=45,4,U$2<=90,3,U$2<=135,2,U$2>135,1) -> 1 | X24: =_xlfn.IFS(V$2<=45,4,V$2<=90,3,V$2<=135,2,V$2>135,1) -> 1
A25: ='total Scrap'!A25 -> 06/2020 | B25: ='total Scrap'!D25 -> 95617 | C25: ='total Scrap'!E25 -> 53211F318171 | D25: =IF(COUNTIFS($C$2:$C$410,C25)>1, C25,0) -> 0 | E25: ='traitement UNIQUE'!A25 -> 68804F226071 | F25: =IF($C25=E$2, $A25,) -> 0 | G25: =IF($C25=$E$3, $A25,) -> 0 | H25: =COUNTIFS(F$2:F$410,"<>",F$2:F$410,"<>0") -> 2 | I25: =COUNTIFS(G$2:G$410,"<>",G$2:G$410,"<>0") -> 2 | J25: =IF(F25<>0, DATE(MID(F25,4,7),MID(F25,1,2),1),) -> 0 | K25: =IF(G25<>0, DATE(MID(G25,4,7),MID(G25,1,2),1),) -> 0 | L25: =IF(F25>0,L24+1,L24) -> 1 | M25: =IF(G25>0,M24+1,M24) -> 2 | N25: 24 | O25: 24 | P25: ="Occurrence"&N25 -> Occurrence24 | Q25: =SUMIFS($J$2:$J$410,$L$2:$L$410,N25) -> 0 | R25: =SUMIFS(K$2:K$410,M$2:M$410,O25) -> 0 | S25: =IF(Q26>0,Q26-Q25,0) -> 0 | T25: =IF(R26>0,R26-R25,0) -> 0 | U25: =IF(COUNTIFS(S$2:S$410,"<>",S$2:S$410,"<>0")=0,"0",SUMIFS(S$2:S$410,S$2:S$410,"<>0")/COUNTIFS(S$2:S$410,"<>",S$2:S$410,"<>0")) -> 426 | V25: =IF(COUNTIFS(T$2:T$410,"<>",T$2:T$410,"<>0")=0,"0",SUMIFS(T$2:T$410,T$2:T$410,"<>0")/COUNTIFS(T$2:T$410,"<>",T$2:T$410,"<>0")) -> 153 | W25: =_xlfn.IFS(U$2<=45,4,U$2<=90,3,U$2<=135,2,U$2>135,1) -> 1 | X25: =_xlfn.IFS(V$2<=45,4,V$2<=90,3,V$2<=135,2,V$2>135,1) -> 1
A26: ='total Scrap'!A26 -> 06/2020 | B26: ='total Scrap'!D26 -> 96506 | C26: ='total Scrap'!E26 -> 53211F219171 | D26: =IF(COUNTIFS($C$2:$C$410,C26)>1, C26,0) -> 0 | E26: ='traitement UNIQUE'!A26 -> 96365F509871 | F26: =IF($C26=E$2, $A26,) -> 0 | G26: =IF($C26=$E$3, $A26,) -> 0 | H26: =COUNTIFS(F$2:F$410,"<>",F$2:F$410,"<>0") -> 2 | I26: =COUNTIFS(G$2:G$410,"<>",G$2:G$410,"<>0") -> 2 | J26: =IF(F26<>0, DATE(MID(F26,4,7),MID(F26,1,2),1),) -> 0 | K26: =IF(G26<>0, DATE(MID(G26,4,7),MID(G26,1,2),1),) -> 0 | L26: =IF(F26>0,L25+1,L25) -> 1 | M26: =IF(G26>0,M25+1,M25) -> 2 | N26: 25 | O26: 25 | P26: ="Occurrence"&N26 -> Occurrence25 | Q26: =SUMIFS($J$2:$J$410,$L$2:$L$410,N26) -> 0 | R26: =SUMIFS(K$2:K$410,M$2:M$410,O26) -> 0 | S26: =IF(Q27>0,Q27-Q26,0) -> 0 | T26: =IF(R27>0,R27-R26,0) -> 0 | U26: =IF(COUNTIFS(S$2:S$410,"<>",S$2:S$410,"<>0")=0,"0",SUMIFS(S$2:S$410,S$2:S$410,"<>0")/COUNTIFS(S$2:S$410,"<>",S$2:S$410,"<>0")) -> 426 | V26: =IF(COUNTIFS(T$2:T$410,"<>",T$2:T$410,"<>0")=0,"0",SUMIFS(T$2:T$410,T$2:T$410,"<>0")/COUNTIFS(T$2:T$410,"<>",T$2:T$410,"<>0")) -> 153 | W26: =_xlfn.IFS(U$2<=45,4,U$2<=90,3,U$2<=135,2,U$2>135,1) -> 1 | X26: =_xlfn.IFS(V$2<=45,4,V$2<=90,3,V$2<=135,2,V$2>135,1) -> 1
A27: ='total Scrap'!A27 -> 06/2020 | B27: ='total Scrap'!D27 -> 95710 | C27: ='total Scrap'!E27 -> 451101247271 | D27: =IF(COUNTIFS($C$2:$C$410,C27)>1, C27,0) -> 451101247271 | E27: ='traitement UNIQUE'!A27 -> 56210F219071 | F27: =IF($C27=E$2, $A27,) -> 0 | G27: =IF($C27=$E$3, $A27,) -> 0 | H27: =COUNTIFS(F$2:F$410,"<>",F$2:F$410,"<>0") -> 2 | I27: =COUNTIFS(G$2:G$410,"<>",G$2:G$410,"<>0") -> 2 | J27: =IF(F27<>0, DATE(MID(F27,4,7),MID(F27,1,2),1),) -> 0 | K27: =IF(G27<>0, DATE(MID(G27,4,7),MID(G27,1,2),1),) -> 0 | L27: =IF(F27>0,L26+1,L26) -> 1 | M27: =IF(G27>0,M26+1,M26) -> 2 | N27: 26 | O27: 26 | P27: ="Occurrence"&N27 -> Occurrence26 | Q27: =SUMIFS($J$2:$J$410,$L$2:$L$410,N27) -> 0 | R27: =SUMIFS(K$2:K$410,M$2:M$410,O27) -> 0 | S27: =IF(Q28>0,Q28-Q27,0) -> 0 | T27: =IF(R28>0,R28-R27,0) -> 0 | U27: =IF(COUNTIFS(S$2:S$410,"<>",S$2:S$410,"<>0")=0,"0",SUMIFS(S$2:S$410,S$2:S$410,"<>0")/COUNTIFS(S$2:S$410,"<>",S$2:S$410,"<>0")) -> 426 | V27: =IF(COUNTIFS(T$2:T$410,"<>",T$2:T$410,"<>0")=0,"0",SUMIFS(T$2:T$410,T$2:T$410,"<>0")/COUNTIFS(T$2:T$410,"<>",T$2:T$410,"<>0")) -> 153 | W27: =_xlfn.IFS(U$2<=45,4,U$2<=90,3,U$2<=135,2,U$2>135,1) -> 1 | X27: =_xlfn.IFS(V$2<=45,4,V$2<=90,3,V$2<=135,2,V$2>135,1) -> 1
A28: ='total Scrap'!A28 -> 06/2020 | B28: ='total Scrap'!D28 -> 96503 | C28: ='total Scrap'!E28 -> 565702665071 | D28: =IF(COUNTIFS($C$2:$C$410,C28)>1, C28,0) -> 565702665071 | E28: ='traitement UNIQUE'!A28 -> 281003677071 | F28: =IF($C28=E$2, $A28,) -> 0 | G28: =IF($C28=$E$3, $A28,) -> 0 | H28: =COUNTIFS(F$2:F$410,"<>",F$2:F$410,"<>0") -> 2 | I28: =COUNTIFS(G$2:G$410,"<>",G$2:G$410,"<>0") -> 2 | J28: =IF(F28<>0, DATE(MID(F28,4,7),MID(F28,1,2),1),) -> 0 | K28: =IF(G28<>0, DATE(MID(G28,4,7),MID(G28,1,2),1),) -> 0 | L28: =IF(F28>0,L27+1,L27) -> 1 | M28: =IF(G28>0,M27+1,M27) -> 2 | N28: 27 | O28: 27 | P28: ="Occurrence"&N28 -> Occurrence27 | Q28: =SUMIFS($J$2:$J$410,$L$2:$L$410,N28) -> 0 | R28: =SUMIFS(K$2:K$410,M$2:M$410,O28) -> 0 | S28: =IF(Q29>0,Q29-Q28,0) -> 0 | T28: =IF(R29>0,R29-R28,0) -> 0 | U28: =IF(COUNTIFS(S$2:S$410,"<>",S$2:S$410,"<>0")=0,"0",SUMIFS(S$2:S$410,S$2:S$410,"<>0")/COUNTIFS(S$2:S$410,"<>",S$2:S$410,"<>0")) -> 426 | V28: =IF(COUNTIFS(T$2:T$410,"<>",T$2:T$410,"<>0")=0,"0",SUMIFS(T$2:T$410,T$2:T$410,"<>0")/COUNTIFS(T$2:T$410,"<>",T$2:T$410,"<>0")) -> 153 | W28: =_xlfn.IFS(U$2<=45,4,U$2<=90,3,U$2<=135,2,U$2>135,1) -> 1 | X28: =_xlfn.IFS(V$2<=45,4,V$2<=90,3,V$2<=135,2,V$2>135,1) -> 1
A29: ='total Scrap'!A29 -> 06/2020 | B29: ='total Scrap'!D29 -> 95404 | C29: ='total Scrap'!E29 -> 565702665071 | D29: =IF(COUNTIFS($C$2:$C$410,C29)>1, C29,0) -> 565702665071 | E29: ='traitement UNIQUE'!A29 -> 566532661371 | F29: =IF($C29=E$2, $A29,) -> 0 | G29: =IF($C29=$E$3, $A29,) -> 0 | H29: =COUNTIFS(F$2:F$410,"<>",F$2:F$410,"<>0") -> 2 | I29: =COUNTIFS(G$2:G$410,"<>",G$2:G$410,"<>0") -> 2 | J29: =IF(F29<>0, DATE(MID(F29,4,7),MID(F29,1,2),1),) -> 0 | K29: =IF(G29<>0, DATE(MID(G29,4,7),MID(G29,1,2),1),) -> 0 | L29: =IF(F29>0,L28+1,L28) -> 1 | M29: =IF(G29>0,M28+1,M28) -> 2 | N29: 28 | O29: 28 | P29: ="Occurrence"&N29 -> Occurrence28 | Q29: =SUMIFS($J$2:$J$410,$L$2:$L$410,N29) -> 0 | R29: =SUMIFS(K$2:K$410,M$2:M$410,O29) -> 0 | S29: =IF(Q30>0,Q30-Q29,0) -> 0 | T29: =IF(R30>0,R30-R29,0) -> 0 | U29: =IF(COUNTIFS(S$2:S$410,"<>",S$2:S$410,"<>0")=0,"0",SUMIFS(S$2:S$410,S$2:S$410,"<>0")/COUNTIFS(S$2:S$410,"<>",S$2:S$410,"<>0")) -> 426 | V29: =IF(COUNTIFS(T$2:T$410,"<>",T$2:T$410,"<>0")=0,"0",SUMIFS(T$2:T$410,T$2:T$410,"<>0")/COUNTIFS(T$2:T$410,"<>",T$2:T$410,"<>0")) -> 153 | W29: =_xlfn.IFS(U$2<=45,4,U$2<=90,3,U$2<=135,2,U$2>135,1) -> 1 | X29: =_xlfn.IFS(V$2<=45,4,V$2<=90,3,V$2<=135,2,V$2>135,1) -> 1
A30: ='total Scrap'!A30 -> 06/2020 | B30: ='total Scrap'!D30 -> 95768 | C30: ='total Scrap'!E30 -> 2A14497G3 | D30: =IF(COUNTIFS($C$2:$C$410,C30)>1, C30,0) -> 2A14497G3 | E30: ='traitement UNIQUE'!A30 -> 56110F218071 | F30: =IF($C30=E$2, $A30,) -> 0 | G30: =IF($C30=$E$3, $A30,) -> 0 | H30: =COUNTIFS(F$2:F$410,"<>",F$2:F$410,"<>0") -> 2 | I30: =COUNTIFS(G$2:G$410,"<>",G$2:G$410,"<>0") -> 2 | J30: =IF(F30<>0, DATE(MID(F30,4,7),MID(F30,1,2),1),) -> 0 | K30: =IF(G30<>0, DATE(MID(G30,4,7),MID(G30,1,2),1),) -> 0 | L30: =IF(F30>0,L29+1,L29) -> 1 | M30: =IF(G30>0,M29+1,M29) -> 2 | N30: 29 | O30: 29 | P30: ="Occurrence"&N30 -> Occurrence29 | Q30: =SUMIFS($J$2:$J$410,$L$2:$L$410,N30) -> 0 | R30: =SUMIFS(K$2:K$410,M$2:M$410,O30) -> 0 | S30: =IF(Q31>0,Q31-Q30,0) -> 0 | T30: =IF(R31>0,R31-R30,0) -> 0 | U30: =IF(COUNTIFS(S$2:S$410,"<>",S$2:S$410,"<>0")=0,"0",SUMIFS(S$2:S$410,S$2:S$410,"<>0")/COUNTIFS(S$2:S$410,"<>",S$2:S$410,"<>0")) -> 426 | V30: =IF(COUNTIFS(T$2:T$410,"<>",T$2:T$410,"<>0")=0,"0",SUMIFS(T$2:T$410,T$2:T$410,"<>0")/COUNTIFS(T$2:T$410,"<>",T$2:T$410,"<>0")) -> 153 | W30: =_xlfn.IFS(U$2<=45,4,U$2<=90,3,U$2<=135,2,U$2>135,1) -> 1 | X30: =_xlfn.IFS(V$2<=45,4,V$2<=90,3,V$2<=135,2,V$2>135,1) -> 1
... A251: ='total Scrap'!A251 -> 01/2021 | B251: ='total Scrap'!D251 -> 97512 | C251: ='total Scrap'!E251 -> 57510F231071 | D251: =IF(COUNTIFS($C$2:$C$410,C251)>1, C251,0) -> 0 | E251: ='traitement UNIQUE'!A251 -> #N/A | F251: =IF($C251=E$2, $A251,) -> 0 | G251: =IF($C251=$E$3, $A251,) -> 0 | H251: =COUNTIFS(F$2:F$410,"<>",F$2:F$410,"<>0") -> 2 | I251: =COUNTIFS(G$2:G$410,"<>",G$2:G$410,"<>0") -> 2 | J251: =IF(F251<>0, DATE(MID(F251,4,7),MID(F251,1,2),1),) -> 0 | K251: =IF(G251<>0, DATE(MID(G251,4,7),MID(G251,1,2),1),) -> 0 | L251: =IF(F251>0,L250+1,L250) -> 1 | M251: =IF(G251>0,M250+1,M250) -> 3 | N251: 250 | O251: 250 | P251: ="Occurrence"&N251 -> Occurrence250 | Q251: =SUMIFS($J$2:$J$410,$L$2:$L$410,N251) -> 0 | R251: =SUMIFS(K$2:K$410,M$2:M$410,O251) -> 0 | S251: =IF(Q252>0,Q252-Q251,0) -> 0 | T251: =IF(R252>0,R252-R251,0) -> 0 | U251: =IF(COUNTIFS(S$2:S$410,"<>",S$2:S$410,"<>0")=0,"0",SUMIFS(S$2:S$410,S$2:S$410,"<>0")/COUNTIFS(S$2:S$410,"<>",S$2:S$410,"<>0")) -> 426 | V251: =IF(COUNTIFS(T$2:T$410,"<>",T$2:T$410,"<>0")=0,"0",SUMIFS(T$2:T$410,T$2:T$410,"<>0")/COUNTIFS(T$2:T$410,"<>",T$2:T$410,"<>0")) -> 153 | W251: =_xlfn.IFS(U$2<=45,4,U$2<=90,3,U$2<=135,2,U$2>135,1) -> 1 | X251: =_xlfn.IFS(V$2<=45,4,V$2<=90,3,V$2<=135,2,V$2>135,1) -> 1
A252: ='total Scrap'!A252 -> 01/2021 | B252: ='total Scrap'!D252 -> 96013 | C252: ='total Scrap'!E252 -> 17106F225071 | D252: =IF(COUNTIFS($C$2:$C$410,C252)>1, C252,0) -> 17106F225071 | E252: ='traitement UNIQUE'!A252 -> #N/A | F252: =IF($C252=E$2, $A252,) -> 0 | G252: =IF($C252=$E$3, $A252,) -> 0 | H252: =COUNTIFS(F$2:F$410,"<>",F$2:F$410,"<>0") -> 2 | I252: =COUNTIFS(G$2:G$410,"<>",G$2:G$410,"<>0") -> 2 | J252: =IF(F252<>0, DATE(MID(F252,4,7),MID(F252,1,2),1),) -> 0 | K252: =IF(G252<>0, DATE(MID(G252,4,7),MID(G252,1,2),1),) -> 0 | L252: =IF(F252>0,L251+1,L251) -> 1 | M252: =IF(G252>0,M251+1,M251) -> 3 | U252: =IF(COUNTIFS(S$2:S$410,"<>",S$2:S$410,"<>0")=0,"0",SUMIFS(S$2:S$410,S$2:S$410,"<>0")/COUNTIFS(S$2:S$410,"<>",S$2:S$410,"<>0")) -> 426 | V252: =IF(COUNTIFS(T$2:T$410,"<>",T$2:T$410,"<>0")=0,"0",SUMIFS(T$2:T$410,T$2:T$410,"<>0")/COUNTIFS(T$2:T$410,"<>",T$2:T$410,"<>0")) -> 153 | W252: =_xlfn.IFS(U$2<=45,4,U$2<=90,3,U$2<=135,2,U$2>135,1) -> 1 | X252: =_xlfn.IFS(V$2<=45,4,V$2<=90,3,V$2<=135,2,V$2>135,1) -> 1
A253: ='total Scrap'!A253 -> 01/2021 | B253: ='total Scrap'!D253 -> 95213 | C253: ='total Scrap'!E253 -> 68804F226071 | D253: =IF(COUNTIFS($C$2:$C$410,C253)>1, C253,0) -> 68804F226071 | E253: ='traitement UNIQUE'!A253 -> #N/A | F253: =IF($C253=E$2, $A253,) -> 0 | G253: =IF($C253=$E$3, $A253,) -> 0 | H253: =COUNTIFS(F$2:F$410,"<>",F$2:F$410,"<>0") -> 2 | I253: =COUNTIFS(G$2:G$410,"<>",G$2:G$410,"<>0") -> 2 | J253: =IF(F253<>0, DATE(MID(F253,4,7),MID(F253,1,2),1),) -> 0 | K253: =IF(G253<>0, DATE(MID(G253,4,7),MID(G253,1,2),1),) -> 0 | L253: =IF(F253>0,L252+1,L252) -> 1 | M253: =IF(G253>0,M252+1,M252) -> 3 | U253: =IF(COUNTIFS(S$2:S$410,"<>",S$2:S$410,"<>0")=0,"0",SUMIFS(S$2:S$410,S$2:S$410,"<>0")/COUNTIFS(S$2:S$410,"<>",S$2:S$410,"<>0")) -> 426 | V253: =IF(COUNTIFS(T$2:T$410,"<>",T$2:T$410,"<>0")=0,"0",SUMIFS(T$2:T$410,T$2:T$410,"<>0")/COUNTIFS(T$2:T$410,"<>",T$2:T$410,"<>0")) -> 153 | W253: =_xlfn.IFS(U$2<=45,4,U$2<=90,3,U$2<=135,2,U$2>135,1) -> 1 | X253: =_xlfn.IFS(V$2<=45,4,V$2<=90,3,V$2<=135,2,V$2>135,1) -> 1
A254: ='total Scrap'!A254 -> 01/2021 | B254: ='total Scrap'!D254 -> 96663 | C254: ='total Scrap'!E254 -> 55537F318471 | D254: =IF(COUNTIFS($C$2:$C$410,C254)>1, C254,0) -> 55537F318471 | E254: ='traitement UNIQUE'!A254 -> #N/A | F254: =IF($C254=E$2, $A254,) -> 0 | G254: =IF($C254=$E$3, $A254,) -> 0 | H254: =COUNTIFS(F$2:F$410,"<>",F$2:F$410,"<>0") -> 2 | I254: =COUNTIFS(G$2:G$410,"<>",G$2:G$410,"<>0") -> 2 | J254: =IF(F254<>0, DATE(MID(F254,4,7),MID(F254,1,2),1),) -> 0 | K254: =IF(G254<>0, DATE(MID(G254,4,7),MID(G254,1,2),1),) -> 0 | L254: =IF(F254>0,L253+1,L253) -> 1 | M254: =IF(G254>0,M253+1,M253) -> 3 | U254: =IF(COUNTIFS(S$2:S$410,"<>",S$2:S$410,"<>0")=0,"0",SUMIFS(S$2:S$410,S$2:S$410,"<>0")/COUNTIFS(S$2:S$410,"<>",S$2:S$410,"<>0")) -> 426 | V254: =IF(COUNTIFS(T$2:T$410,"<>",T$2:T$410,"<>0")=0,"0",SUMIFS(T$2:T$410,T$2:T$410,"<>0")/COUNTIFS(T$2:T$410,"<>",T$2:T$410,"<>0")) -> 153 | W254: =_xlfn.IFS(U$2<=45,4,U$2<=90,3,U$2<=135,2,U$2>135,1) -> 1 | X254: =_xlfn.IFS(V$2<=45,4,V$2<=90,3,V$2<=135,2,V$2>135,1) -> 1
A255: ='total Scrap'!A255 -> 01/2021 | B255: ='total Scrap'!D255 -> 95442 | C255: ='total Scrap'!E255 -> 53401F218171 | D255: =IF(COUNTIFS($C$2:$C$410,C255)>1, C255,0) -> 53401F218171 | E255: ='traitement UNIQUE'!A255 -> #N/A | F255: =IF($C255=E$2, $A255,) -> 0 | G255: =IF($C255=$E$3, $A255,) -> 0 | H255: =COUNTIFS(F$2:F$410,"<>",F$2:F$410,"<>0") -> 2 | I255: =COUNTIFS(G$2:G$410,"<>",G$2:G$410,"<>0") -> 2 | J255: =IF(F255<>0, DATE(MID(F255,4,7),MID(F255,1,2),1),) -> 0 | K255: =IF(G255<>0, DATE(MID(G255,4,7),MID(G255,1,2),1),) -> 0 | L255: =IF(F255>0,L254+1,L254) -> 1 | M255: =IF(G255>0,M254+1,M254) -> 3 | U255: =IF(COUNTIFS(S$2:S$410,"<>",S$2:S$410,"<>0")=0,"0",SUMIFS(S$2:S$410,S$2:S$410,"<>0")/COUNTIFS(S$2:S$410,"<>",S$2:S$410,"<>0")) -> 426 | V255: =IF(COUNTIFS(T$2:T$410,"<>",T$2:T$410,"<>0")=0,"0",SUMIFS(T$2:T$410,T$2:T$410,"<>0")/COUNTIFS(T$2:T$410,"<>",T$2:T$410,"<>0")) -> 153 | W255: =_xlfn.IFS(U$2<=45,4,U$2<=90,3,U$2<=135,2,U$2>135,1) -> 1 | X255: =_xlfn.IFS(V$2<=45,4,V$2<=90,3,V$2<=135,2,V$2>135,1) -> 1
A256: ='total Scrap'!A256 -> 01/2021 | B256: ='total Scrap'!D256 -> 96664 | C256: ='total Scrap'!E256 -> 55538F318271 | D256: =IF(COUNTIFS($C$2:$C$410,C256)>1, C256,0) -> 0 | E256: ='traitement UNIQUE'!A256 -> #N/A | F256: =IF($C256=E$2, $A256,) -> 0 | G256: =IF($C256=$E$3, $A256,) -> 0 | H256: =COUNTIFS(F$2:F$410,"<>",F$2:F$410,"<>0") -> 2 | I256: =COUNTIFS(G$2:G$410,"<>",G$2:G$410,"<>0") -> 2 | J256: =IF(F256<>0, DATE(MID(F256,4,7),MID(F256,1,2),1),) -> 0 | K256: =IF(G256<>0, DATE(MID(G256,4,7),MID(G256,1,2),1),) -> 0 | L256: =IF(F256>0,L255+1,L255) -> 1 | M256: =IF(G256>0,M255+1,M255) -> 3 | U256: =IF(COUNTIFS(S$2:S$410,"<>",S$2:S$410,"<>0")=0,"0",SUMIFS(S$2:S$410,S$2:S$410,"<>0")/COUNTIFS(S$2:S$410,"<>",S$2:S$410,"<>0")) -> 426 | V256: =IF(COUNTIFS(T$2:T$410,"<>",T$2:T$410,"<>0")=0,"0",SUMIFS(T$2:T$410,T$2:T$410,"<>0")/COUNTIFS(T$2:T$410,"<>",T$2:T$410,"<>0")) -> 153 | W256: =_xlfn.IFS(U$2<=45,4,U$2<=90,3,U$2<=135,2,U$2>135,1) -> 1 | X256: =_xlfn.IFS(V$2<=45,4,V$2<=90,3,V$2<=135,2,V$2>135,1) -> 1
A257: ='total Scrap'!A257 -> 01/2021 | B257: ='total Scrap'!D257 -> 96608 | C257: ='total Scrap'!E257 -> 38758F231171 | D257: =IF(COUNTIFS($C$2:$C$410,C257)>1, C257,0) -> 0 | E257: ='traitement UNIQUE'!A257 -> #N/A | F257: =IF($C257=E$2, $A257,) -> 0 | G257: =IF($C257=$E$3, $A257,) -> 0 | H257: =COUNTIFS(F$2:F$410,"<>",F$2:F$410,"<>0") -> 2 | I257: =COUNTIFS(G$2:G$410,"<>",G$2:G$410,"<>0") -> 2 | J257: =IF(F257<>0, DATE(MID(F257,4,7),MID(F257,1,2),1),) -> 0 | K257: =IF(G257<>0, DATE(MID(G257,4,7),MID(G257,1,2),1),) -> 0 | L257: =IF(F257>0,L256+1,L256) -> 1 | M257: =IF(G257>0,M256+1,M256) -> 3 | U257: =IF(COUNTIFS(S$2:S$410,"<>",S$2:S$410,"<>0")=0,"0",SUMIFS(S$2:S$410,S$2:S$410,"<>0")/COUNTIFS(S$2:S$410,"<>",S$2:S$410,"<>0")) -> 426 | V257: =IF(COUNTIFS(T$2:T$410,"<>",T$2:T$410,"<>0")=0,"0",SUMIFS(T$2:T$410,T$2:T$410,"<>0")/COUNTIFS(T$2:T$410,"<>",T$2:T$410,"<>0")) -> 153 | W257: =_xlfn.IFS(U$2<=45,4,U$2<=90,3,U$2<=135,2,U$2>135,1) -> 1 | X257: =_xlfn.IFS(V$2<=45,4,V$2<=90,3,V$2<=135,2,V$2>135,1) -> 1
A258: ='total Scrap'!A258 -> 01/2021 | B258: ='total Scrap'!D258 -> 96732 | C258: ='total Scrap'!E258 -> 53212F218071 | D258: =IF(COUNTIFS($C$2:$C$410,C258)>1, C258,0) -> 0 | E258: ='traitement UNIQUE'!A258 -> #N/A | F258: =IF($C258=E$2, $A258,) -> 0 | G258: =IF($C258=$E$3, $A258,) -> 0 | H258: =COUNTIFS(F$2:F$410,"<>",F$2:F$410,"<>0") -> 2 | I258: =COUNTIFS(G$2:G$410,"<>",G$2:G$410,"<>0") -> 2 | J258: =IF(F258<>0, DATE(MID(F258,4,7),MID(F258,1,2),1),) -> 0 | K258: =IF(G258<>0, DATE(MID(G258,4,7),MID(G258,1,2),1),) -> 0 | L258: =IF(F258>0,L257+1,L257) -> 1 | M258: =IF(G258>0,M257+1,M257) -> 3 | U258: =IF(COUNTIFS(S$2:S$410,"<>",S$2:S$410,"<>0")=0,"0",SUMIFS(S$2:S$410,S$2:S$410,"<>0")/COUNTIFS(S$2:S$410,"<>",S$2:S$410,"<>0")) -> 426 | V258: =IF(COUNTIFS(T$2:T$410,"<>",T$2:T$410,"<>0")=0,"0",SUMIFS(T$2:T$410,T$2:T$410,"<>0")/COUNTIFS(T$2:T$410,"<>",T$2:T$410,"<>0")) -> 153 | W258: =_xlfn.IFS(U$2<=45,4,U$2<=90,3,U$2<=135,2,U$2>135,1) -> 1 | X258: =_xlfn.IFS(V$2<=45,4,V$2<=90,3,V$2<=135,2,V$2>135,1) -> 1
A259: ='total Scrap'!A259 -> 01/2021 | B259: ='total Scrap'!D259 -> 95214 | C259: ='total Scrap'!E259 -> 68132F225071 | D259: =IF(COUNTIFS($C$2:$C$410,C259)>1, C259,0) -> 0 | E259: ='traitement UNIQUE'!A259 -> #N/A | F259: =IF($C259=E$2, $A259,) -> 0 | G259: =IF($C259=$E$3, $A259,) -> 0 | H259: =COUNTIFS(F$2:F$410,"<>",F$2:F$410,"<>0") -> 2 | I259: =COUNTIFS(G$2:G$410,"<>",G$2:G$410,"<>0") -> 2 | J259: =IF(F259<>0, DATE(MID(F259,4,7),MID(F259,1,2),1),) -> 0 | K259: =IF(G259<>0, DATE(MID(G259,4,7),MID(G259,1,2),1),) -> 0 | L259: =IF(F259>0,L258+1,L258) -> 1 | M259: =IF(G259>0,M258+1,M258) -> 3 | U259: =IF(COUNTIFS(S$2:S$410,"<>",S$2:S$410,"<>0")=0,"0",SUMIFS(S$2:S$410,S$2:S$410,"<>0")/COUNTIFS(S$2:S$410,"<>",S$2:S$410,"<>0")) -> 426 | V259: =IF(COUNTIFS(T$2:T$410,"<>",T$2:T$410,"<>0")=0,"0",SUMIFS(T$2:T$410,T$2:T$410,"<>0")/COUNTIFS(T$2:T$410,"<>",T$2:T$410,"<>0")) -> 153 | W259: =_xlfn.IFS(U$2<=45,4,U$2<=90,3,U$2<=135,2,U$2>135,1) -> 1 | X259: =_xlfn.IFS(V$2<=45,4,V$2<=90,3,V$2<=135,2,V$2>135,1) -> 1
A260: ='total Scrap'!A260 -> 01/2021 | B260: ='total Scrap'!D260 -> 95750 | C260: ='total Scrap'!E260 -> 56042F318071 | D260: =IF(COUNTIFS($C$2:$C$410,C260)>1, C260,0) -> 56042F318071 | E260: ='traitement UNIQUE'!A260 -> #N/A | F260: =IF($C260=E$2, $A260,) -> 0 | G260: =IF($C260=$E$3, $A260,) -> 0 | H260: =COUNTIFS(F$2:F$410,"<>",F$2:F$410,"<>0") -> 2 | I260: =COUNTIFS(G$2:G$410,"<>",G$2:G$410,"<>0") -> 2 | J260: =IF(F260<>0, DATE(MID(F260,4,7),MID(F260,1,2),1),) -> 0 | K260: =IF(G260<>0, DATE(MID(G260,4,7),MID(G260,1,2),1),) -> 0 | L260: =IF(F260>0,L259+1,L259) -> 1 | M260: =IF(G260>0,M259+1,M259) -> 3 | U260: =IF(COUNTIFS(S$2:S$410,"<>",S$2:S$410,"<>0")=0,"0",SUMIFS(S$2:S$410,S$2:S$410,"<>0")/COUNTIFS(S$2:S$410,"<>",S$2:S$410,"<>0")) -> 426 | V260: =IF(COUNTIFS(T$2:T$410,"<>",T$2:T$410,"<>0")=0,"0",SUMIFS(T$2:T$410,T$2:T$410,"<>0")/COUNTIFS(T$2:T$410,"<>",T$2:T$410,"<>0")) -> 153 | W260: =_xlfn.IFS(U$2<=45,4,U$2<=90,3,U$2<=135,2,U$2>135,1) -> 1 | X260: =_xlfn.IFS(V$2<=45,4,V$2<=90,3,V$2<=135,2,V$2>135,1) -> 1
A261: ='total Scrap'!A261 -> 01/2021 | B261: ='total Scrap'!D261 -> 95436 | C261: ='total Scrap'!E261 -> 56051F225071 | D261: =IF(COUNTIFS($C$2:$C$410,C261)>1, C261,0) -> 56051F225071 | E261: ='traitement UNIQUE'!A261 -> #N/A | F261: =IF($C261=E$2, $A261,) -> 0 | G261: =IF($C261=$E$3, $A261,) -> 0 | H261: =COUNTIFS(F$2:F$410,"<>",F$2:F$410,"<>0") -> 2 | I261: =COUNTIFS(G$2:G$410,"<>",G$2:G$410,"<>0") -> 2 | J261: =IF(F261<>0, DATE(MID(F261,4,7),MID(F261,1,2),1),) -> 0 | K261: =IF(G261<>0, DATE(MID(G261,4,7),MID(G261,1,2),1),) -> 0 | L261: =IF(F261>0,L260+1,L260) -> 1 | M261: =IF(G261>0,M260+1,M260) -> 3 | U261: =IF(COUNTIFS(S$2:S$410,"<>",S$2:S$410,"<>0")=0,"0",SUMIFS(S$2:S$410,S$2:S$410,"<>0")/COUNTIFS(S$2:S$410,"<>",S$2:S$410,"<>0")) -> 426 | V261: =IF(COUNTIFS(T$2:T$410,"<>",T$2:T$410,"<>0")=0,"0",SUMIFS(T$2:T$410,T$2:T$410,"<>0")/COUNTIFS(T$2:T$410,"<>",T$2:T$410,"<>0")) -> 153 | W261: =_xlfn.IFS(U$2<=45,4,U$2<=90,3,U$2<=135,2,U$2>135,1) -> 1 | X261: =_xlfn.IFS(V$2<=45,4,V$2<=90,3,V$2<=135,2,V$2>135,1) -> 1
A262: ='total Scrap'!A262 -> 02/2021 | B262: ='total Scrap'!D262 -> 97806 | C262: ='total Scrap'!E262 -> 175102662071 | D262: =IF(COUNTIFS($C$2:$C$410,C262)>1, C262,0) -> 175102662071 | E262: ='traitement UNIQUE'!A262 -> #N/A | F262: =IF($C262=E$2, $A262,) -> 0 | G262: =IF($C262=$E$3, $A262,) -> 0 | H262: =COUNTIFS(F$2:F$410,"<>",F$2:F$410,"<>0") -> 2 | I262: =COUNTIFS(G$2:G$410,"<>",G$2:G$410,"<>0") -> 2 | J262: =IF(F262<>0, DATE(MID(F262,4,7),MID(F262,1,2),1),) -> 0 | K262: =IF(G262<>0, DATE(MID(G262,4,7),MID(G262,1,2),1),) -> 0 | L262: =IF(F262>0,L261+1,L261) -> 1 | M262: =IF(G262>0,M261+1,M261) -> 3 | U262: =IF(COUNTIFS(S$2:S$410,"<>",S$2:S$410,"<>0")=0,"0",SUMIFS(S$2:S$410,S$2:S$410,"<>0")/COUNTIFS(S$2:S$410,"<>",S$2:S$410,"<>0")) -> 426 | V262: =IF(COUNTIFS(T$2:T$410,"<>",T$2:T$410,"<>0")=0,"0",SUMIFS(T$2:T$410,T$2:T$410,"<>0")/COUNTIFS(T$2:T$410,"<>",T$2:T$410,"<>0")) -> 153 | W262: =_xlfn.IFS(U$2<=45,4,U$2<=90,3,U$2<=135,2,U$2>135,1) -> 1 | X262: =_xlfn.IFS(V$2<=45,4,V$2<=90,3,V$2<=135,2,V$2>135,1) -> 1
A263: ='total Scrap'!A263 -> 02/2021 | B263: ='total Scrap'!D263 -> 97050 | C263: ='total Scrap'!E263 -> 26620F231071 | D263: =IF(COUNTIFS($C$2:$C$410,C263)>1, C263,0) -> 0 | E263: ='traitement UNIQUE'!A263 -> #N/A | F263: =IF($C263=E$2, $A263,) -> 0 | G263: =IF($C263=$E$3, $A263,) -> 0 | H263: =COUNTIFS(F$2:F$410,"<>",F$2:F$410,"<>0") -> 2 | I263: =COUNTIFS(G$2:G$410,"<>",G$2:G$410,"<>0") -> 2 | J263: =IF(F263<>0, DATE(MID(F263,4,7),MID(F263,1,2),1),) -> 0 | K263: =IF(G263<>0, DATE(MID(G263,4,7),MID(G263,1,2),1),) -> 0 | L263: =IF(F263>0,L262+1,L262) -> 1 | M263: =IF(G263>0,M262+1,M262) -> 3 | U263: =IF(COUNTIFS(S$2:S$410,"<>",S$2:S$410,"<>0")=0,"0",SUMIFS(S$2:S$410,S$2:S$410,"<>0")/COUNTIFS(S$2:S$410,"<>",S$2:S$410,"<>0")) -> 426 | V263: =IF(COUNTIFS(T$2:T$410,"<>",T$2:T$410,"<>0")=0,"0",SUMIFS(T$2:T$410,T$2:T$410,"<>0")/COUNTIFS(T$2:T$410,"<>",T$2:T$410,"<>0")) -> 153 | W263: =_xlfn.IFS(U$2<=45,4,U$2<=90,3,U$2<=135,2,U$2>135,1) -> 1 | X263: =_xlfn.IFS(V$2<=45,4,V$2<=90,3,V$2<=135,2,V$2>135,1) -> 1
... A410: ='total Scrap'!A410 -> 06/2021 | B410: ='total Scrap'!D410 -> 95577 | C410: ='total Scrap'!E410 -> 57413F231071 | D410: =IF(COUNTIFS($C$2:$C$410,C410)>1, C410,0) -> 57413F231071 | E410: ='traitement UNIQUE'!A410 -> #N/A | F410: =IF($C410=E$2, $A410,) -> 06/2021 | G410: =IF($C410=$E$3, $A410,) -> 0 | H410: =COUNTIFS(F$2:F$410,"<>",F$2:F$410,"<>0") -> 2 | I410: =COUNTIFS(G$2:G$410,"<>",G$2:G$410,"<>0") -> 2 | J410: =IF(F410<>0, DATE(MID(F410,4,7),MID(F410,1,2),1),) -> 44348 | K410: =IF(G410<>0, DATE(MID(G410,4,7),MID(G410,1,2),1),) -> 0 | L410: =IF(F410>0,L409+1,L409) -> 2 | M410: =IF(G410>0,M409+1,M409) -> 3 | U410: =IF(COUNTIFS(S$2:S$410,"<>",S$2:S$410,"<>0")=0,"0",SUMIFS(S$2:S$410,S$2:S$410,"<>0")/COUNTIFS(S$2:S$410,"<>",S$2:S$410,"<>0")) -> 426 | V410: =IF(COUNTIFS(T$2:T$410,"<>",T$2:T$410,"<>0")=0,"0",SUMIFS(T$2:T$410,T$2:T$410,"<>0")/COUNTIFS(T$2:T$410,"<>",T$2:T$410,"<>0")) -> 153 | W410: =_xlfn.IFS(U$2<=45,4,U$2<=90,3,U$2<=135,2,U$2>135,1) -> 1 | X410: =_xlfn.IFS(V$2<=45,4,V$2<=90,3,V$2<=135,2,V$2>135,1) -> 1

Sheet traitement UNIQUE
A1: {=_xlfn.UNIQUE(récurrence!$D$2:$D$410,FALSE,FALSE)} -> 0 | C1: =COUNTA(Total_Scrap[Part Number]) -> 438 | E1: Uniques | G1: Uniques - Occurrence=1 | I1: Uniques - Occurrences>1
A2: 57413F231071 | E2: Part Number | G2: Part Number | I2: Part Number | J2: Nb. Occurrences | K2: Occurrence 1 | L2: Occurrence 2 | M2: Occurrence 3 | N2: Occurrence 4 | O2: Occurrence 5 | P2: Occurrence 6 | Q2: Occurrence 7 | R2: Occurrence 8 | S2: Occurrence 9 | T2: Occurrence 10
A3: 52212FS2LC71 | D3: {=_xlfn.UNIQUE(Total_Scrap[Part Number])} -> 57110F118271 | E3: {=_xlfn.UNIQUE(Total_Scrap[Part Number])} -> 57110F118271 | G3: {=_xlfn.UNIQUE(Total_Scrap[Part Number],FALSE,TRUE)} -> 57110F118271 | I3: {=_xlfn._xlws.FILTER(_xlfn.ANCHORARRAY(E3),COUNTIF(_xlfn.ANCHORARRAY(G3),_xlfn.ANCHORARRAY(E3))=0)} -> 57413F231071 | J3: {=COUNTIF(Total_Scrap[Part Number],_xlfn.ANCHORARRAY('traitement UNIQUE'!I3))} -> 2 | K3: {=TRANSPOSE(_xlfn._xlws.FILTER(Total_Scrap[Month],(Total_Scrap[Part Number]='traitement UNIQUE'!I3)))} -> 04/2020 | L3: 06/2021 | U3: =IF(AND(L3<>"",K3<>""),DATEDIF(K3,L3,"d"),0) -> 426 | V3: =IF(AND(M3<>"",L3<>""),DATEDIF(L3,M3,"d"),0) -> 0 | W3: =IF(AND(N3<>"",M3<>""),DATEDIF(M3,N3,"d"),0) -> 0 | X3: =IF(AND(O3<>"",N3<>""),DATEDIF(N3,O3,"d"),0) -> 0 | Y3: =IF(AND(P3<>"",O3<>""),DATEDIF(O3,P3,"d"),0) -> 0 | Z3: =IF(AND(Q3<>"",P3<>""),DATEDIF(P3,Q3,"d"),0) -> 0 | AA3: =IF(AND(R3<>"",Q3<>""),DATEDIF(Q3,R3,"d"),0) -> 0 | AB3: =IF(AND(S3<>"",R3<>""),DATEDIF(R3,S3,"d"),0) -> 0 | AC3: =IF(AND(T3<>"",S3<>""),DATEDIF(S3,T3,"d"),0) -> 0 | AE3: =SUM(U3:AC3)/(J3-1) -> 426
A4: 56021F219471 | D4: 57413F231071 | E4: 57413F231071 | G4: 56232F231171 | I4: 52212FS2LC71 | J4: 2 | K4: {=TRANSPOSE(_xlfn._xlws.FILTER(Total_Scrap[Month],(Total_Scrap[Part Number]='traitement UNIQUE'!I4)))} -> 05/2020 | L4: 10/2020 | U4: =IF(AND(L4<>"",K4<>""),DATEDIF(K4,L4,"d"),0) -> 153 | V4: =IF(AND(M4<>"",L4<>""),DATEDIF(L4,M4,"d"),0) -> 0 | W4: =IF(AND(N4<>"",M4<>""),DATEDIF(M4,N4,"d"),0) -> 0 | X4: =IF(AND(O4<>"",N4<>""),DATEDIF(N4,O4,"d"),0) -> 0 | Y4: =IF(AND(P4<>"",O4<>""),DATEDIF(O4,P4,"d"),0) -> 0 | Z4: =IF(AND(Q4<>"",P4<>""),DATEDIF(P4,Q4,"d"),0) -> 0 | AA4: =IF(AND(R4<>"",Q4<>""),DATEDIF(Q4,R4,"d"),0) -> 0 | AB4: =IF(AND(S4<>"",R4<>""),DATEDIF(R4,S4,"d"),0) -> 0 | AC4: =IF(AND(T4<>"",S4<>""),DATEDIF(S4,T4,"d"),0) -> 0 | AE4: =SUM(U4:AC4)/(J4-1) -> 153
A5: 56021F220271 | D5: 56232F231171 | E5: 56232F231171 | G5: 56031F222671 | I5: 56021F219471 | J5: 2 | K5: {=TRANSPOSE(_xlfn._xlws.FILTER(Total_Scrap[Month],(Total_Scrap[Part Number]='traitement UNIQUE'!I5)))} -> 05/2020 | L5: 03/2021 | U5: =IF(AND(L5<>"",K5<>""),DATEDIF(K5,L5,"d"),0) -> 304 | V5: =IF(AND(M5<>"",L5<>""),DATEDIF(L5,M5,"d"),0) -> 0 | W5: =IF(AND(N5<>"",M5<>""),DATEDIF(M5,N5,"d"),0) -> 0 | X5: =IF(AND(O5<>"",N5<>""),DATEDIF(N5,O5,"d"),0) -> 0 | Y5: =IF(AND(P5<>"",O5<>""),DATEDIF(O5,P5,"d"),0) -> 0 | Z5: =IF(AND(Q5<>"",P5<>""),DATEDIF(P5,Q5,"d"),0) -> 0 | AA5: =IF(AND(R5<>"",Q5<>""),DATEDIF(Q5,R5,"d"),0) -> 0 | AB5: =IF(AND(S5<>"",R5<>""),DATEDIF(R5,S5,"d"),0) -> 0 | AC5: =IF(AND(T5<>"",S5<>""),DATEDIF(S5,T5,"d"),0) -> 0 | AE5: =SUM(U5:AC5)/(J5-1) -> 304
A6: 55537F318471 | D6: 52212FS2LC71 | E6: 52212FS2LC71 | G6: 56062F221271 | I6: 56021F220271 | J6: 2 | K6: {=TRANSPOSE(_xlfn._xlws.FILTER(Total_Scrap[Month],(Total_Scrap[Part Number]='traitement UNIQUE'!I6)))} -> 05/2020 | L6: 06/2020 | U6: =IF(AND(L6<>"",K6<>""),DATEDIF(K6,L6,"d"),0) -> 31 | V6: =IF(AND(M6<>"",L6<>""),DATEDIF(L6,M6,"d"),0) -> 0 | W6: =IF(AND(N6<>"",M6<>""),DATEDIF(M6,N6,"d"),0) -> 0 | X6: =IF(AND(O6<>"",N6<>""),DATEDIF(N6,O6,"d"),0) -> 0 | Y6: =IF(AND(P6<>"",O6<>""),DATEDIF(O6,P6,"d"),0) -> 0 | Z6: =IF(AND(Q6<>"",P6<>""),DATEDIF(P6,Q6,"d"),0) -> 0 | AA6: =IF(AND(R6<>"",Q6<>""),DATEDIF(Q6,R6,"d"),0) -> 0 | AB6: =IF(AND(S6<>"",R6<>""),DATEDIF(R6,S6,"d"),0) -> 0 | AC6: =IF(AND(T6<>"",S6<>""),DATEDIF(S6,T6,"d"),0) -> 0 | AE6: =SUM(U6:AC6)/(J6-1) -> 31
A7: 55227F218271 | D7: 56031F222671 | E7: 56031F222671 | G7: 56062FSU1U71 | I7: 55537F318471 | J7: 2 | K7: {=TRANSPOSE(_xlfn._xlws.FILTER(Total_Scrap[Month],(Total_Scrap[Part Number]='traitement UNIQUE'!I7)))} -> 05/2020 | L7: 01/2021 | U7: =IF(AND(L7<>"",K7<>""),DATEDIF(K7,L7,"d"),0) -> 245 | V7: =IF(AND(M7<>"",L7<>""),DATEDIF(L7,M7,"d"),0) -> 0 | W7: =IF(AND(N7<>"",M7<>""),DATEDIF(M7,N7,"d"),0) -> 0 | X7: =IF(AND(O7<>"",N7<>""),DATEDIF(N7,O7,"d"),0) -> 0 | Y7: =IF(AND(P7<>"",O7<>""),DATEDIF(O7,P7,"d"),0) -> 0 | Z7: =IF(AND(Q7<>"",P7<>""),DATEDIF(P7,Q7,"d"),0) -> 0 | AA7: =IF(AND(R7<>"",Q7<>""),DATEDIF(Q7,R7,"d"),0) -> 0 | AB7: =IF(AND(S7<>"",R7<>""),DATEDIF(R7,S7,"d"),0) -> 0 | AC7: =IF(AND(T7<>"",S7<>""),DATEDIF(S7,T7,"d"),0) -> 0 | AE7: =SUM(U7:AC7)/(J7-1) -> 245
A8: 68607F319071 | D8: 56062F221271 | E8: 56062F221271 | G8: 175702660371 | I8: 55227F218271 | J8: 2 | K8: {=TRANSPOSE(_xlfn._xlws.FILTER(Total_Scrap[Month],(Total_Scrap[Part Number]='traitement UNIQUE'!I8)))} -> 06/2020 | L8: 10/2020 | U8: =IF(AND(L8<>"",K8<>""),DATEDIF(K8,L8,"d"),0) -> 122 | V8: =IF(AND(M8<>"",L8<>""),DATEDIF(L8,M8,"d"),0) -> 0 | W8: =IF(AND(N8<>"",M8<>""),DATEDIF(M8,N8,"d"),0) -> 0 | X8: =IF(AND(O8<>"",N8<>""),DATEDIF(N8,O8,"d"),0) -> 0 | Y8: =IF(AND(P8<>"",O8<>""),DATEDIF(O8,P8,"d"),0) -> 0 | Z8: =IF(AND(Q8<>"",P8<>""),DATEDIF(P8,Q8,"d"),0) -> 0 | AA8: =IF(AND(R8<>"",Q8<>""),DATEDIF(Q8,R8,"d"),0) -> 0 | AB8: =IF(AND(S8<>"",R8<>""),DATEDIF(R8,S8,"d"),0) -> 0 | AC8: =IF(AND(T8<>"",S8<>""),DATEDIF(S8,T8,"d"),0) -> 0 | AE8: =SUM(U8:AC8)/(J8-1) -> 122
A9: 163612660071 | D9: 56021F219471 | E9: 56021F219471 | G9: 16420F221171 | I9: 68607F319071 | J9: 2 | K9: {=TRANSPOSE(_xlfn._xlws.FILTER(Total_Scrap[Month],(Total_Scrap[Part Number]='traitement UNIQUE'!I9)))} -> 06/2020 | L9: 06/2020 | U9: =IF(AND(L9<>"",K9<>""),DATEDIF(K9,L9,"d"),0) -> 0 | V9: =IF(AND(M9<>"",L9<>""),DATEDIF(L9,M9,"d"),0) -> 0 | W9: =IF(AND(N9<>"",M9<>""),DATEDIF(M9,N9,"d"),0) -> 0 | X9: =IF(AND(O9<>"",N9<>""),DATEDIF(N9,O9,"d"),0) -> 0 | Y9: =IF(AND(P9<>"",O9<>""),DATEDIF(O9,P9,"d"),0) -> 0 | Z9: =IF(AND(Q9<>"",P9<>""),DATEDIF(P9,Q9,"d"),0) -> 0 | AA9: =IF(AND(R9<>"",Q9<>""),DATEDIF(Q9,R9,"d"),0) -> 0 | AB9: =IF(AND(S9<>"",R9<>""),DATEDIF(R9,S9,"d"),0) -> 0 | AC9: =IF(AND(T9<>"",S9<>""),DATEDIF(S9,T9,"d"),0) -> 0 | AE9: =SUM(U9:AC9)/(J9-1) -> 0
A10: 53220F219071 | D10: 56021F220271 | E10: 56021F220271 | G10: 169202661071 | I10: 163612660071 | J10: 10 | K10: {=TRANSPOSE(_xlfn._xlws.FILTER(Total_Scrap[Month],(Total_Scrap[Part Number]='traitement UNIQUE'!I10)))} -> 06/2020 | L10: 07/2020 | M10: 07/2020 | N10: 11/2020 | O10: 12/2020 | P10: 02/2021 | Q10: 02/2021 | R10: 02/2021 | S10: 03/2021 | T10: 06/2021 | U10: =IF(AND(L10<>"",K10<>""),DATEDIF(K10,L10,"d"),0) -> 30 | V10: =IF(AND(M10<>"",L10<>""),DATEDIF(L10,M10,"d"),0) -> 0 | W10: =IF(AND(N10<>"",M10<>""),DATEDIF(M10,N10,"d"),0) -> 123 | X10: =IF(AND(O10<>"",N10<>""),DATEDIF(N10,O10,"d"),0) -> 30 | Y10: =IF(AND(P10<>"",O10<>""),DATEDIF(O10,P10,"d"),0) -> 62 | Z10: =IF(AND(Q10<>"",P10<>""),DATEDIF(P10,Q10,"d"),0) -> 0 | AA10: =IF(AND(R10<>"",Q10<>""),DATEDIF(Q10,R10,"d"),0) -> 0 | AB10: =IF(AND(S10<>"",R10<>""),DATEDIF(R10,S10,"d"),0) -> 28 | AC10: =IF(AND(T10<>"",S10<>""),DATEDIF(S10,T10,"d"),0) -> 92 | AE10: =SUM(U10:AC10)/(J10-1) -> 40.555556
A11: 451101247271 | D11: 55537F318471 | E11: 55537F318471 | G11: 28850F205071 | I11: 53220F219071 | J11: 5 | K11: {=TRANSPOSE(_xlfn._xlws.FILTER(Total_Scrap[Month],(Total_Scrap[Part Number]='traitement UNIQUE'!I11)))} -> 06/2020 | L11: 07/2020 | M11: 10/2020 | N11: 04/2021 | O11: 06/2021 | U11: =IF(AND(L11<>"",K11<>""),DATEDIF(K11,L11,"d"),0) -> 30 | V11: =IF(AND(M11<>"",L11<>""),DATEDIF(L11,M11,"d"),0) -> 92 | W11: =IF(AND(N11<>"",M11<>""),DATEDIF(M11,N11,"d"),0) -> 182 | X11: =IF(AND(O11<>"",N11<>""),DATEDIF(N11,O11,"d"),0) -> 61 | Y11: =IF(AND(P11<>"",O11<>""),DATEDIF(O11,P11,"d"),0) -> 0 | Z11: =IF(AND(Q11<>"",P11<>""),DATEDIF(P11,Q11,"d"),0) -> 0 | AA11: =IF(AND(R11<>"",Q11<>""),DATEDIF(Q11,R11,"d"),0) -> 0 | AB11: =IF(AND(S11<>"",R11<>""),DATEDIF(R11,S11,"d"),0) -> 0 | AC11: =IF(AND(T11<>"",S11<>""),DATEDIF(S11,T11,"d"),0) -> 0 | AE11: =SUM(U11:AC11)/(J11-1) -> 91.25
A12: 565702665071 | D12: 56062FSU1U71 | E12: 56062FSU1U71 | G12: 574501247071 | I12: 451101247271 | J12: 3 | K12: {=TRANSPOSE(_xlfn._xlws.FILTER(Total_Scrap[Month],(Total_Scrap[Part Number]='traitement UNIQUE'!I12)))} -> 06/2020 | L12: 07/2020 | M12: 09/2020 | U12: =IF(AND(L12<>"",K12<>""),DATEDIF(K12,L12,"d"),0) -> 30 | V12: =IF(AND(M12<>"",L12<>""),DATEDIF(L12,M12,"d"),0) -> 62 | W12: =IF(AND(N12<>"",M12<>""),DATEDIF(M12,N12,"d"),0) -> 0 | X12: =IF(AND(O12<>"",N12<>""),DATEDIF(N12,O12,"d"),0) -> 0 | Y12: =IF(AND(P12<>"",O12<>""),DATEDIF(O12,P12,"d"),0) -> 0 | Z12: =IF(AND(Q12<>"",P12<>""),DATEDIF(P12,Q12,"d"),0) -> 0 | AA12: =IF(AND(R12<>"",Q12<>""),DATEDIF(Q12,R12,"d"),0) -> 0 | AB12: =IF(AND(S12<>"",R12<>""),DATEDIF(R12,S12,"d"),0) -> 0 | AC12: =IF(AND(T12<>"",S12<>""),DATEDIF(S12,T12,"d"),0) -> 0 | AE12: =SUM(U12:AC12)/(J12-1) -> 46
A13: 2A14497G3 | D13: 175702660371 | E13: 175702660371 | G13: 68608F319071 | I13: 565702665071 | J13: 3 | K13: {=TRANSPOSE(_xlfn._xlws.FILTER(Total_Scrap[Month],(Total_Scrap[Part Number]='traitement UNIQUE'!I13)))} -> 06/2020 | L13: 06/2020 | M13: 07/2020 | U13: =IF(AND(L13<>"",K13<>""),DATEDIF(K13,L13,"d"),0) -> 0 | V13: =IF(AND(M13<>"",L13<>""),DATEDIF(L13,M13,"d"),0) -> 30 | W13: =IF(AND(N13<>"",M13<>""),DATEDIF(M13,N13,"d"),0) -> 0 | X13: =IF(AND(O13<>"",N13<>""),DATEDIF(N13,O13,"d"),0) -> 0 | Y13: =IF(AND(P13<>"",O13<>""),DATEDIF(O13,P13,"d"),0) -> 0 | Z13: =IF(AND(Q13<>"",P13<>""),DATEDIF(P13,Q13,"d"),0) -> 0 | AA13: =IF(AND(R13<>"",Q13<>""),DATEDIF(Q13,R13,"d"),0) -> 0 | AB13: =IF(AND(S13<>"",R13<>""),DATEDIF(R13,S13,"d"),0) -> 0 | AC13: =IF(AND(T13<>"",S13<>""),DATEDIF(S13,T13,"d"),0) -> 0 | AE13: =SUM(U13:AC13)/(J13-1) -> 15
A14: 17780F218071 | D14: 16420F221171 | E14: 16420F221171 | G14: 43251F210071 | I14: 2A14497G3 | J14: 3 | K14: {=TRANSPOSE(_xlfn._xlws.FILTER(Total_Scrap[Month],(Total_Scrap[Part Number]='traitement UNIQUE'!I14)))} -> 06/2020 | L14: 10/2020 | M14: 06/2021 | U14: =IF(AND(L14<>"",K14<>""),DATEDIF(K14,L14,"d"),0) -> 122 | V14: =IF(AND(M14<>"",L14<>""),DATEDIF(L14,M14,"d"),0) -> 243 | W14: =IF(AND(N14<>"",M14<>""),DATEDIF(M14,N14,"d"),0) -> 0 | X14: =IF(AND(O14<>"",N14<>""),DATEDIF(N14,O14,"d"),0) -> 0 | Y14: =IF(AND(P14<>"",O14<>""),DATEDIF(O14,P14,"d"),0) -> 0 | Z14: =IF(AND(Q14<>"",P14<>""),DATEDIF(P14,Q14,"d"),0) -> 0 | AA14: =IF(AND(R14<>"",Q14<>""),DATEDIF(Q14,R14,"d"),0) -> 0 | AB14: =IF(AND(S14<>"",R14<>""),DATEDIF(R14,S14,"d"),0) -> 0 | AC14: =IF(AND(T14<>"",S14<>""),DATEDIF(S14,T14,"d"),0) -> 0 | AE14: =SUM(U14:AC14)/(J14-1) -> 182.5
A15: 3A14055 | D15: 169202661071 | E15: 169202661071 | G15: 53211F318171 | I15: 17780F218071 | J15: 2 | K15: {=TRANSPOSE(_xlfn._xlws.FILTER(Total_Scrap[Month],(Total_Scrap[Part Number]='traitement UNIQUE'!I15)))} -> 06/2020 | L15: 07/2020 | U15: =IF(AND(L15<>"",K15<>""),DATEDIF(K15,L15,"d"),0) -> 30 | V15: =IF(AND(M15<>"",L15<>""),DATEDIF(L15,M15,"d"),0) -> 0 | W15: =IF(AND(N15<>"",M15<>""),DATEDIF(M15,N15,"d"),0) -> 0 | X15: =IF(AND(O15<>"",N15<>""),DATEDIF(N15,O15,"d"),0) -> 0 | Y15: =IF(AND(P15<>"",O15<>""),DATEDIF(O15,P15,"d"),0) -> 0 | Z15: =IF(AND(Q15<>"",P15<>""),DATEDIF(P15,Q15,"d"),0) -> 0 | AA15: =IF(AND(R15<>"",Q15<>""),DATEDIF(Q15,R15,"d"),0) -> 0 | AB15: =IF(AND(S15<>"",R15<>""),DATEDIF(R15,S15,"d"),0) -> 0 | AC15: =IF(AND(T15<>"",S15<>""),DATEDIF(S15,T15,"d"),0) -> 0 | AE15: =SUM(U15:AC15)/(J15-1) -> 30
A16: 455103664071 | D16: 28850F205071 | E16: 28850F205071 | G16: 53211F219171 | I16: 3A14055 | J16: 3 | K16: {=TRANSPOSE(_xlfn._xlws.FILTER(Total_Scrap[Month],(Total_Scrap[Part Number]='traitement UNIQUE'!I16)))} -> 07/2020 | L16: 07/2020 | M16: 10/2020 | U16: =IF(AND(L16<>"",K16<>""),DATEDIF(K16,L16,"d"),0) -> 0 | V16: =IF(AND(M16<>"",L16<>""),DATEDIF(L16,M16,"d"),0) -> 92 | W16: =IF(AND(N16<>"",M16<>""),DATEDIF(M16,N16,"d"),0) -> 0 | X16: =IF(AND(O16<>"",N16<>""),DATEDIF(N16,O16,"d"),0) -> 0 | Y16: =IF(AND(P16<>"",O16<>""),DATEDIF(O16,P16,"d"),0) -> 0 | Z16: =IF(AND(Q16<>"",P16<>""),DATEDIF(P16,Q16,"d"),0) -> 0 | AA16: =IF(AND(R16<>"",Q16<>""),DATEDIF(Q16,R16,"d"),0) -> 0 | AB16: =IF(AND(S16<>"",R16<>""),DATEDIF(R16,S16,"d"),0) -> 0 | AC16: =IF(AND(T16<>"",S16<>""),DATEDIF(S16,T16,"d"),0) -> 0 | AE16: =SUM(U16:AC16)/(J16-1) -> 46
A17: 27060UB060 | D17: 55227F218271 | E17: 55227F218271 | G17: 57844F210271 | I17: 455103664071 | J17: 2 | K17: {=TRANSPOSE(_xlfn._xlws.FILTER(Total_Scrap[Month],(Total_Scrap[Part Number]='traitement UNIQUE'!I17)))} -> 07/2020 | L17: 03/2021 | U17: =IF(AND(L17<>"",K17<>""),DATEDIF(K17,L17,"d"),0) -> 243 | V17: =IF(AND(M17<>"",L17<>""),DATEDIF(L17,M17,"d"),0) -> 0 | W17: =IF(AND(N17<>"",M17<>""),DATEDIF(M17,N17,"d"),0) -> 0 | X17: =IF(AND(O17<>"",N17<>""),DATEDIF(N17,O17,"d"),0) -> 0 | Y17: =IF(AND(P17<>"",O17<>""),DATEDIF(O17,P17,"d"),0) -> 0 | Z17: =IF(AND(Q17<>"",P17<>""),DATEDIF(P17,Q17,"d"),0) -> 0 | AA17: =IF(AND(R17<>"",Q17<>""),DATEDIF(Q17,R17,"d"),0) -> 0 | AB17: =IF(AND(S17<>"",R17<>""),DATEDIF(R17,S17,"d"),0) -> 0 | AC17: =IF(AND(T17<>"",S17<>""),DATEDIF(S17,T17,"d"),0) -> 0 | AE17: =SUM(U17:AC17)/(J17-1) -> 243
A18: 2A28005 | D18: 574501247071 | E18: 574501247071 | G18: 68730FSJ5U71 | I18: 27060UB060 | J18: 2 | K18: {=TRANSPOSE(_xlfn._xlws.FILTER(Total_Scrap[Month],(Total_Scrap[Part Number]='traitement UNIQUE'!I18)))} -> 07/2020 | L18: 02/2021 | U18: =IF(AND(L18<>"",K18<>""),DATEDIF(K18,L18,"d"),0) -> 215 | V18: =IF(AND(M18<>"",L18<>""),DATEDIF(L18,M18,"d"),0) -> 0 | W18: =IF(AND(N18<>"",M18<>""),DATEDIF(M18,N18,"d"),0) -> 0 | X18: =IF(AND(O18<>"",N18<>""),DATEDIF(N18,O18,"d"),0) -> 0 | Y18: =IF(AND(P18<>"",O18<>""),DATEDIF(O18,P18,"d"),0) -> 0 | Z18: =IF(AND(Q18<>"",P18<>""),DATEDIF(P18,Q18,"d"),0) -> 0 | AA18: =IF(AND(R18<>"",Q18<>""),DATEDIF(Q18,R18,"d"),0) -> 0 | AB18: =IF(AND(S18<>"",R18<>""),DATEDIF(R18,S18,"d"),0) -> 0 | AC18: =IF(AND(T18<>"",S18<>""),DATEDIF(S18,T18,"d"),0) -> 0 | AE18: =SUM(U18:AC18)/(J18-1) -> 215
A19: 565903676071 | D19: 68608F319071 | E19: 68608F319071 | G19: 56018F220771 | I19: 2A28005 | J19: 5 | K19: {=TRANSPOSE(_xlfn._xlws.FILTER(Total_Scrap[Month],(Total_Scrap[Part Number]='traitement UNIQUE'!I19)))} -> 07/2020 | L19: 09/2020 | M19: 10/2020 | N19: 02/2021 | O19: 03/2021 | U19: =IF(AND(L19<>"",K19<>""),DATEDIF(K19,L19,"d"),0) -> 62 | V19: =IF(AND(M19<>"",L19<>""),DATEDIF(L19,M19,"d"),0) -> 30 | W19: =IF(AND(N19<>"",M19<>""),DATEDIF(M19,N19,"d"),0) -> 123 | X19: =IF(AND(O19<>"",N19<>""),DATEDIF(N19,O19,"d"),0) -> 28 | Y19: =IF(AND(P19<>"",O19<>""),DATEDIF(O19,P19,"d"),0) -> 0 | Z19: =IF(AND(Q19<>"",P19<>""),DATEDIF(P19,Q19,"d"),0) -> 0 | AA19: =IF(AND(R19<>"",Q19<>""),DATEDIF(Q19,R19,"d"),0) -> 0 | AB19: =IF(AND(S19<>"",R19<>""),DATEDIF(R19,S19,"d"),0) -> 0 | AC19: =IF(AND(T19<>"",S19<>""),DATEDIF(S19,T19,"d"),0) -> 0 | AE19: =SUM(U19:AC19)/(J19-1) -> 60.75
A20: 55213F218171 | D20: 43251F210071 | E20: 43251F210071 | G20: 58310F218071 | I20: 565903676071 | J20: 6 | K20: {=TRANSPOSE(_xlfn._xlws.FILTER(Total_Scrap[Month],(Total_Scrap[Part Number]='traitement UNIQUE'!I20)))} -> 07/2020 | L20: 10/2020 | M20: 10/2020 | N20: 01/2021 | O20: 03/2021 | P20: 04/2021 | U20: =IF(AND(L20<>"",K20<>""),DATEDIF(K20,L20,"d"),0) -> 92 | V20: =IF(AND(M20<>"",L20<>""),DATEDIF(L20,M20,"d"),0) -> 0 | W20: =IF(AND(N20<>"",M20<>""),DATEDIF(M20,N20,"d"),0) -> 92 | X20: =IF(AND(O20<>"",N20<>""),DATEDIF(N20,O20,"d"),0) -> 59 | Y20: =IF(AND(P20<>"",O20<>""),DATEDIF(O20,P20,"d"),0) -> 31 | Z20: =IF(AND(Q20<>"",P20<>""),DATEDIF(P20,Q20,"d"),0) -> 0 | AA20: =IF(AND(R20<>"",Q20<>""),DATEDIF(Q20,R20,"d"),0) -> 0 | AB20: =IF(AND(S20<>"",R20<>""),DATEDIF(R20,S20,"d"),0) -> 0 | AC20: =IF(AND(T20<>"",S20<>""),DATEDIF(S20,T20,"d"),0) -> 0 | AE20: =SUM(U20:AC20)/(J20-1) -> 54.8
A21: 56031F231071 | D21: 68607F319071 | E21: 68607F319071 | G21: 1A18131 | I21: 55213F218171 | J21: 5 | K21: {=TRANSPOSE(_xlfn._xlws.FILTER(Total_Scrap[Month],(Total_Scrap[Part Number]='traitement UNIQUE'!I21)))} -> 07/2020 | L21: 07/2020 | M21: 09/2020 | N21: 10/2020 | O21: 12/2020 | U21: =IF(AND(L21<>"",K21<>""),DATEDIF(K21,L21,"d"),0) -> 0 | V21: =IF(AND(M21<>"",L21<>""),DATEDIF(L21,M21,"d"),0) -> 62 | W21: =IF(AND(N21<>"",M21<>""),DATEDIF(M21,N21,"d"),0) -> 30 | X21: =IF(AND(O21<>"",N21<>""),DATEDIF(N21,O21,"d"),0) -> 61 | Y21: =IF(AND(P21<>"",O21<>""),DATEDIF(O21,P21,"d"),0) -> 0 | Z21: =IF(AND(Q21<>"",P21<>""),DATEDIF(P21,Q21,"d"),0) -> 0 | AA21: =IF(AND(R21<>"",Q21<>""),DATEDIF(Q21,R21,"d"),0) -> 0 | AB21: =IF(AND(S21<>"",R21<>""),DATEDIF(R21,S21,"d"),0) -> 0 | AC21: =IF(AND(T21<>"",S21<>""),DATEDIF(S21,T21,"d"),0) -> 0 | AE21: =SUM(U21:AC21)/(J21-1) -> 38.25
A22: 23507FPA2171 | D22: 163612660071 | E22: 163612660071 | G22: 1A28083 | I22: 56031F231071 | J22: 2 | K22: {=TRANSPOSE(_xlfn._xlws.FILTER(Total_Scrap[Month],(Total_Scrap[Part Number]='traitement UNIQUE'!I22)))} -> 07/2020 | L22: 09/2020 | U22: =IF(AND(L22<>"",K22<>""),DATEDIF(K22,L22,"d"),0) -> 62 | V22: =IF(AND(M22<>"",L22<>""),DATEDIF(L22,M22,"d"),0) -> 0 | W22: =IF(AND(N22<>"",M22<>""),DATEDIF(M22,N22,"d"),0) -> 0 | X22: =IF(AND(O22<>"",N22<>""),DATEDIF(N22,O22,"d"),0) -> 0 | Y22: =IF(AND(P22<>"",O22<>""),DATEDIF(O22,P22,"d"),0) -> 0 | Z22: =IF(AND(Q22<>"",P22<>""),DATEDIF(P22,Q22,"d"),0) -> 0 | AA22: =IF(AND(R22<>"",Q22<>""),DATEDIF(Q22,R22,"d"),0) -> 0 | AB22: =IF(AND(S22<>"",R22<>""),DATEDIF(R22,S22,"d"),0) -> 0 | AC22: =IF(AND(T22<>"",S22<>""),DATEDIF(S22,T22,"d"),0) -> 0 | AE22: =SUM(U22:AC22)/(J22-1) -> 62
A23: 175102662071 | D23: 53220F219071 | E23: 53220F219071 | G23: 55173FSHD771 | I23: 23507FPA2171 | J23: 3 | K23: {=TRANSPOSE(_xlfn._xlws.FILTER(Total_Scrap[Month],(Total_Scrap[Part Number]='traitement UNIQUE'!I23)))} -> 07/2020 | L23: 04/2021 | M23: 04/2021 | U23: =IF(AND(L23<>"",K23<>""),DATEDIF(K23,L23,"d"),0) -> 274 | V23: =IF(AND(M23<>"",L23<>""),DATEDIF(L23,M23,"d"),0) -> 0 | W23: =IF(AND(N23<>"",M23<>""),DATEDIF(M23,N23,"d"),0) -> 0 | X23: =IF(AND(O23<>"",N23<>""),DATEDIF(N23,O23,"d"),0) -> 0 | Y23: =IF(AND(P23<>"",O23<>""),DATEDIF(O23,P23,"d"),0) -> 0 | Z23: =IF(AND(Q23<>"",P23<>""),DATEDIF(P23,Q23,"d"),0) -> 0 | AA23: =IF(AND(R23<>"",Q23<>""),DATEDIF(Q23,R23,"d"),0) -> 0 | AB23: =IF(AND(S23<>"",R23<>""),DATEDIF(R23,S23,"d"),0) -> 0 | AC23: =IF(AND(T23<>"",S23<>""),DATEDIF(S23,T23,"d"),0) -> 0 | AE23: =SUM(U23:AC23)/(J23-1) -> 137
A24: 68805F226071 | D24: 53211F318171 | E24: 53211F318171 | G24: 56044FPA2071 | I24: 175102662071 | J24: 3 | K24: {=TRANSPOSE(_xlfn._xlws.FILTER(Total_Scrap[Month],(Total_Scrap[Part Number]='traitement UNIQUE'!I24)))} -> 07/2020 | L24: 02/2021 | M24: 02/2021 | U24: =IF(AND(L24<>"",K24<>""),DATEDIF(K24,L24,"d"),0) -> 215 | V24: =IF(AND(M24<>"",L24<>""),DATEDIF(L24,M24,"d"),0) -> 0 | W24: =IF(AND(N24<>"",M24<>""),DATEDIF(M24,N24,"d"),0) -> 0 | X24: =IF(AND(O24<>"",N24<>""),DATEDIF(N24,O24,"d"),0) -> 0 | Y24: =IF(AND(P24<>"",O24<>""),DATEDIF(O24,P24,"d"),0) -> 0 | Z24: =IF(AND(Q24<>"",P24<>""),DATEDIF(P24,Q24,"d"),0) -> 0 | AA24: =IF(AND(R24<>"",Q24<>""),DATEDIF(Q24,R24,"d"),0) -> 0 | AB24: =IF(AND(S24<>"",R24<>""),DATEDIF(R24,S24,"d"),0) -> 0 | AC24: =IF(AND(T24<>"",S24<>""),DATEDIF(S24,T24,"d"),0) -> 0 | AE24: =SUM(U24:AC24)/(J24-1) -> 107.5
A25: 68804F226071 | D25: 53211F219171 | E25: 53211F219171 | G25: 470401661071 | I25: 68805F226071 | J25: 5 | K25: {=TRANSPOSE(_xlfn._xlws.FILTER(Total_Scrap[Month],(Total_Scrap[Part Number]='traitement UNIQUE'!I25)))} -> 07/2020 | L25: 10/2020 | M25: 04/2021 | N25: 06/2021 | O25: 06/2021 | U25: =IF(AND(L25<>"",K25<>""),DATEDIF(K25,L25,"d"),0) -> 92 | V25: =IF(AND(M25<>"",L25<>""),DATEDIF(L25,M25,"d"),0) -> 182 | W25: =IF(AND(N25<>"",M25<>""),DATEDIF(M25,N25,"d"),0) -> 61 | X25: =IF(AND(O25<>"",N25<>""),DATEDIF(N25,O25,"d"),0) -> 0 | Y25: =IF(AND(P25<>"",O25<>""),DATEDIF(O25,P25,"d"),0) -> 0 | Z25: =IF(AND(Q25<>"",P25<>""),DATEDIF(P25,Q25,"d"),0) -> 0 | AA25: =IF(AND(R25<>"",Q25<>""),DATEDIF(Q25,R25,"d"),0) -> 0 | AB25: =IF(AND(S25<>"",R25<>""),DATEDIF(R25,S25,"d"),0) -> 0 | AC25: =IF(AND(T25<>"",S25<>""),DATEDIF(S25,T25,"d"),0) -> 0 | AE25: =SUM(U25:AC25)/(J25-1) -> 83.75
A26: 96365F509871 | D26: 451101247271 | E26: 451101247271 | G26: 56031FPD2071 | I26: 68804F226071 | J26: 3 | K26: {=TRANSPOSE(_xlfn._xlws.FILTER(Total_Scrap[Month],(Total_Scrap[Part Number]='traitement UNIQUE'!I26)))} -> 07/2020 | L26: 12/2020 | M26: 01/2021 | U26: =IF(AND(L26<>"",K26<>""),DATEDIF(K26,L26,"d"),0) -> 153 | V26: =IF(AND(M26<>"",L26<>""),DATEDIF(L26,M26,"d"),0) -> 31 | W26: =IF(AND(N26<>"",M26<>""),DATEDIF(M26,N26,"d"),0) -> 0 | X26: =IF(AND(O26<>"",N26<>""),DATEDIF(N26,O26,"d"),0) -> 0 | Y26: =IF(AND(P26<>"",O26<>""),DATEDIF(O26,P26,"d"),0) -> 0 | Z26: =IF(AND(Q26<>"",P26<>""),DATEDIF(P26,Q26,"d"),0) -> 0 | AA26: =IF(AND(R26<>"",Q26<>""),DATEDIF(Q26,R26,"d"),0) -> 0 | AB26: =IF(AND(S26<>"",R26<>""),DATEDIF(R26,S26,"d"),0) -> 0 | AC26: =IF(AND(T26<>"",S26<>""),DATEDIF(S26,T26,"d"),0) -> 0 | AE26: =SUM(U26:AC26)/(J26-1) -> 92
A27: 56210F219071 | D27: 565702665071 | E27: 565702665071 | G27: 68066F311171 | I27: 96365F509871 | J27: 2 | K27: {=TRANSPOSE(_xlfn._xlws.FILTER(Total_Scrap[Month],(Total_Scrap[Part Number]='traitement UNIQUE'!I27)))} -> 07/2020 | L27: 09/2020 | U27: =IF(AND(L27<>"",K27<>""),DATEDIF(K27,L27,"d"),0) -> 62 | V27: =IF(AND(M27<>"",L27<>""),DATEDIF(L27,M27,"d"),0) -> 0 | W27: =IF(AND(N27<>"",M27<>""),DATEDIF(M27,N27,"d"),0) -> 0 | X27: =IF(AND(O27<>"",N27<>""),DATEDIF(N27,O27,"d"),0) -> 0 | Y27: =IF(AND(P27<>"",O27<>""),DATEDIF(O27,P27,"d"),0) -> 0 | Z27: =IF(AND(Q27<>"",P27<>""),DATEDIF(P27,Q27,"d"),0) -> 0 | AA27: =IF(AND(R27<>"",Q27<>""),DATEDIF(Q27,R27,"d"),0) -> 0 | AB27: =IF(AND(S27<>"",R27<>""),DATEDIF(R27,S27,"d"),0) -> 0 | AC27: =IF(AND(T27<>"",S27<>""),DATEDIF(S27,T27,"d"),0) -> 0 | AE27: =SUM(U27:AC27)/(J27-1) -> 62
A28: 281003677071 | D28: 2A14497G3 | E28: 2A14497G3 | G28: 68606F214171 | I28: 56210F219071 | J28: 9 | K28: {=TRANSPOSE(_xlfn._xlws.FILTER(Total_Scrap[Month],(Total_Scrap[Part Number]='traitement UNIQUE'!I28)))} -> 08/2020 | L28: 10/2020 | M28: 10/2020 | N28: 01/2021 | O28: 03/2021 | P28: 03/2021 | Q28: 03/2021 | R28: 03/2021 | S28: 06/2021 | U28: =IF(AND(L28<>"",K28<>""),DATEDIF(K28,L28,"d"),0) -> 61 | V28: =IF(AND(M28<>"",L28<>""),DATEDIF(L28,M28,"d"),0) -> 0 | W28: =IF(AND(N28<>"",M28<>""),DATEDIF(M28,N28,"d"),0) -> 92 | X28: =IF(AND(O28<>"",N28<>""),DATEDIF(N28,O28,"d"),0) -> 59 | Y28: =IF(AND(P28<>"",O28<>""),DATEDIF(O28,P28,"d"),0) -> 0 | Z28: =IF(AND(Q28<>"",P28<>""),DATEDIF(P28,Q28,"d"),0) -> 0 | AA28: =IF(AND(R28<>"",Q28<>""),DATEDIF(Q28,R28,"d"),0) -> 0 | AB28: =IF(AND(S28<>"",R28<>""),DATEDIF(R28,S28,"d"),0) -> 92 | AC28: =IF(AND(T28<>"",S28<>""),DATEDIF(S28,T28,"d"),0) -> 0 | AE28: =SUM(U28:AC28)/(J28-1) -> 38
A29: 566532661371 | D29: 57844F210271 | E29: 57844F210271 | G29: 678901132071 | I29: 281003677071 | J29: 2 | K29: {=TRANSPOSE(_xlfn._xlws.FILTER(Total_Scrap[Month],(Total_Scrap[Part Number]='traitement UNIQUE'!I29)))} -> 08/2020 | L29: 05/2021 | U29: =IF(AND(L29<>"",K29<>""),DATEDIF(K29,L29,"d"),0) -> 273 | V29: =IF(AND(M29<>"",L29<>""),DATEDIF(L29,M29,"d"),0) -> 0 | W29: =IF(AND(N29<>"",M29<>""),DATEDIF(M29,N29,"d"),0) -> 0 | X29: =IF(AND(O29<>"",N29<>""),DATEDIF(N29,O29,"d"),0) -> 0 | Y29: =IF(AND(P29<>"",O29<>""),DATEDIF(O29,P29,"d"),0) -> 0 | Z29: =IF(AND(Q29<>"",P29<>""),DATEDIF(P29,Q29,"d"),0) -> 0 | AA29: =IF(AND(R29<>"",Q29<>""),DATEDIF(Q29,R29,"d"),0) -> 0 | AB29: =IF(AND(S29<>"",R29<>""),DATEDIF(R29,S29,"d"),0) -> 0 | AC29: =IF(AND(T29<>"",S29<>""),DATEDIF(S29,T29,"d"),0) -> 0 | AE29: =SUM(U29:AC29)/(J29-1) -> 273
A30: 56110F218071 | D30: 17780F218071 | E30: 17780F218071 | G30: 53220F231071 | I30: 566532661371 | J30: 3 | K30: {=TRANSPOSE(_xlfn._xlws.FILTER(Total_Scrap[Month],(Total_Scrap[Part Number]='traitement UNIQUE'!I30)))} -> 08/2020 | L30: 08/2020 | M30: 03/2021 | U30: =IF(AND(L30<>"",K30<>""),DATEDIF(K30,L30,"d"),0) -> 0 | V30: =IF(AND(M30<>"",L30<>""),DATEDIF(L30,M30,"d"),0) -> 212 | W30: =IF(AND(N30<>"",M30<>""),DATEDIF(M30,N30,"d"),0) -> 0 | X30: =IF(AND(O30<>"",N30<>""),DATEDIF(N30,O30,"d"),0) -> 0 | Y30: =IF(AND(P30<>"",O30<>""),DATEDIF(O30,P30,"d"),0) -> 0 | Z30: =IF(AND(Q30<>"",P30<>""),DATEDIF(P30,Q30,"d"),0) -> 0 | AA30: =IF(AND(R30<>"",Q30<>""),DATEDIF(Q30,R30,"d"),0) -> 0 | AB30: =IF(AND(S30<>"",R30<>""),DATEDIF(R30,S30,"d"),0) -> 0 | AC30: =IF(AND(T30<>"",S30<>""),DATEDIF(S30,T30,"d"),0) -> 0 | AE30: =SUM(U30:AC30)/(J30-1) -> 106
A31: 235102661171 | D31: 68730FSJ5U71 | E31: 68730FSJ5U71 | G31: 565013691071 | I31: 56110F218071 | J31: 3 | K31: {=TRANSPOSE(_xlfn._xlws.FILTER(Total_Scrap[Month],(Total_Scrap[Part Number]='traitement UNIQUE'!I31)))} -> 09/2020 | L31: 01/2021 | M31: 06/2021 | U31: =IF(AND(L31<>"",K31<>""),DATEDIF(K31,L31,"d"),0) -> 122 | V31: =IF(AND(M31<>"",L31<>""),DATEDIF(L31,M31,"d"),0) -> 151 | W31: =IF(AND(N31<>"",M31<>""),DATEDIF(M31,N31,"d"),0) -> 0 | X31: =IF(AND(O31<>"",N31<>""),DATEDIF(N31,O31,"d"),0) -> 0 | Y31: =IF(AND(P31<>"",O31<>""),DATEDIF(O31,P31,"d"),0) -> 0 | Z31: =IF(AND(Q31<>"",P31<>""),DATEDIF(P31,Q31,"d"),0) -> 0 | AA31: =IF(AND(R31<>"",Q31<>""),DATEDIF(Q31,R31,"d"),0) -> 0 | AB31: =IF(AND(S31<>"",R31<>""),DATEDIF(R31,S31,"d"),0) -> 0 | AC31: =IF(AND(T31<>"",S31<>""),DATEDIF(S31,T31,"d"),0) -> 0 | AE31: =SUM(U31:AC31)/(J31-1) -> 136.5
A32: 566512664071 | D32: 56018F220771 | E32: 56018F220771 | G32: 177002660071 | I32: 235102661171 | J32: 2 | K32: {=TRANSPOSE(_xlfn._xlws.FILTER(Total_Scrap[Month],(Total_Scrap[Part Number]='traitement UNIQUE'!I32)))} -> 09/2020 | L32: 03/2021 | U32: =IF(AND(L32<>"",K32<>""),DATEDIF(K32,L32,"d"),0) -> 181 | V32: =IF(AND(M32<>"",L32<>""),DATEDIF(L32,M32,"d"),0) -> 0 | W32: =IF(AND(N32<>"",M32<>""),DATEDIF(M32,N32,"d"),0) -> 0 | X32: =IF(AND(O32<>"",N32<>""),DATEDIF(N32,O32,"d"),0) -> 0 | Y32: =IF(AND(P32<>"",O32<>""),DATEDIF(O32,P32,"d"),0) -> 0 | Z32: =IF(AND(Q32<>"",P32<>""),DATEDIF(P32,Q32,"d"),0) -> 0 | AA32: =IF(AND(R32<>"",Q32<>""),DATEDIF(Q32,R32,"d"),0) -> 0 | AB32: =IF(AND(S32<>"",R32<>""),DATEDIF(R32,S32,"d"),0) -> 0 | AC32: =IF(AND(T32<>"",S32<>""),DATEDIF(S32,T32,"d"),0) -> 0 | AE32: =SUM(U32:AC32)/(J32-1) -> 181
A33: 18450UM020 | D33: 3A14055 | E33: 3A14055 | G33: 2A28007G3 | I33: 566512664071 | J33: 4 | K33: {=TRANSPOSE(_xlfn._xlws.FILTER(Total_Scrap[Month],(Total_Scrap[Part Number]='traitement UNIQUE'!I33)))} -> 09/2020 | L33: 11/2020 | M33: 12/2020 | N33: 02/2021 | U33: =IF(AND(L33<>"",K33<>""),DATEDIF(K33,L33,"d"),0) -> 61 | V33: =IF(AND(M33<>"",L33<>""),DATEDIF(L33,M33,"d"),0) -> 30 | W33: =IF(AND(N33<>"",M33<>""),DATEDIF(M33,N33,"d"),0) -> 62 | X33: =IF(AND(O33<>"",N33<>""),DATEDIF(N33,O33,"d"),0) -> 0 | Y33: =IF(AND(P33<>"",O33<>""),DATEDIF(O33,P33,"d"),0) -> 0 | Z33: =IF(AND(Q33<>"",P33<>""),DATEDIF(P33,Q33,"d"),0) -> 0 | AA33: =IF(AND(R33<>"",Q33<>""),DATEDIF(Q33,R33,"d"),0) -> 0 | AB33: =IF(AND(S33<>"",R33<>""),DATEDIF(R33,S33,"d"),0) -> 0 | AC33: =IF(AND(T33<>"",S33<>""),DATEDIF(S33,T33,"d"),0) -> 0 | AE33: =SUM(U33:AC33)/(J33-1) -> 51
A34: 56011F231071 | D34: 455103664071 | E34: 455103664071 | G34: 38717F121071 | I34: 18450UM020 | J34: 4 | K34: {=TRANSPOSE(_xlfn._xlws.FILTER(Total_Scrap[Month],(Total_Scrap[Part Number]='traitement UNIQUE'!I34)))} -> 10/2020 | L34: 11/2020 | M34: 03/2021 | N34: 06/2021 | U34: =IF(AND(L34<>"",K34<>""),DATEDIF(K34,L34,"d"),0) -> 31 | V34: =IF(AND(M34<>"",L34<>""),DATEDIF(L34,M34,"d"),0) -> 120 | W34: =IF(AND(N34<>"",M34<>""),DATEDIF(M34,N34,"d"),0) -> 92 | X34: =IF(AND(O34<>"",N34<>""),DATEDIF(N34,O34,"d"),0) -> 0 | Y34: =IF(AND(P34<>"",O34<>""),DATEDIF(O34,P34,"d"),0) -> 0 | Z34: =IF(AND(Q34<>"",P34<>""),DATEDIF(P34,Q34,"d"),0) -> 0 | AA34: =IF(AND(R34<>"",Q34<>""),DATEDIF(Q34,R34,"d"),0) -> 0 | AB34: =IF(AND(S34<>"",R34<>""),DATEDIF(R34,S34,"d"),0) -> 0 | AC34: =IF(AND(T34<>"",S34<>""),DATEDIF(S34,T34,"d"),0) -> 0 | AE34: =SUM(U34:AC34)/(J34-1) -> 81
A35: 56210F225071 | D35: 27060UB060 | E35: 27060UB060 | G35: 68143F225071 | I35: 56011F231071 | J35: 2 | K35: {=TRANSPOSE(_xlfn._xlws.FILTER(Total_Scrap[Month],(Total_Scrap[Part Number]='traitement UNIQUE'!I35)))} -> 10/2020 | L35: 01/2021 | U35: =IF(AND(L35<>"",K35<>""),DATEDIF(K35,L35,"d"),0) -> 92 | V35: =IF(AND(M35<>"",L35<>""),DATEDIF(L35,M35,"d"),0) -> 0 | W35: =IF(AND(N35<>"",M35<>""),DATEDIF(M35,N35,"d"),0) -> 0 | X35: =IF(AND(O35<>"",N35<>""),DATEDIF(N35,O35,"d"),0) -> 0 | Y35: =IF(AND(P35<>"",O35<>""),DATEDIF(O35,P35,"d"),0) -> 0 | Z35: =IF(AND(Q35<>"",P35<>""),DATEDIF(P35,Q35,"d"),0) -> 0 | AA35: =IF(AND(R35<>"",Q35<>""),DATEDIF(Q35,R35,"d"),0) -> 0 | AB35: =IF(AND(S35<>"",R35<>""),DATEDIF(R35,S35,"d"),0) -> 0 | AC35: =IF(AND(T35<>"",S35<>""),DATEDIF(S35,T35,"d"),0) -> 0 | AE35: =SUM(U35:AC35)/(J35-1) -> 92
A36: 55231F231071 | D36: 58310F218071 | E36: 58310F218071 | G36: 45682F331071 | I36: 56210F225071 | J36: 8 | K36: {=TRANSPOSE(_xlfn._xlws.FILTER(Total_Scrap[Month],(Total_Scrap[Part Number]='traitement UNIQUE'!I36)))} -> 10/2020 | L36: 10/2020 | M36: 12/2020 | N36: 12/2020 | O36: 02/2021 | P36: 02/2021 | Q36: 03/2021 | R36: 03/2021 | U36: =IF(AND(L36<>"",K36<>""),DATEDIF(K36,L36,"d"),0) -> 0 | V36: =IF(AND(M36<>"",L36<>""),DATEDIF(L36,M36,"d"),0) -> 61 | W36: =IF(AND(N36<>"",M36<>""),DATEDIF(M36,N36,"d"),0) -> 0 | X36: =IF(AND(O36<>"",N36<>""),DATEDIF(N36,O36,"d"),0) -> 62 | Y36: =IF(AND(P36<>"",O36<>""),DATEDIF(O36,P36,"d"),0) -> 0 | Z36: =IF(AND(Q36<>"",P36<>""),DATEDIF(P36,Q36,"d"),0) -> 28 | AA36: =IF(AND(R36<>"",Q36<>""),DATEDIF(Q36,R36,"d"),0) -> 0 | AB36: =IF(AND(S36<>"",R36<>""),DATEDIF(R36,S36,"d"),0) -> 0 | AC36: =IF(AND(T36<>"",S36<>""),DATEDIF(S36,T36,"d"),0) -> 0 | AE36: =SUM(U36:AC36)/(J36-1) -> 21.571429
A37: 565302660071 | D37: 1A18131 | E37: 1A18131 | G37: 452021660071 | I37: 55231F231071 | J37: 3 | K37: {=TRANSPOSE(_xlfn._xlws.FILTER(Total_Scrap[Month],(Total_Scrap[Part Number]='traitement UNIQUE'!I37)))} -> 10/2020 | L37: 03/2021 | M37: 06/2021 | U37: =IF(AND(L37<>"",K37<>""),DATEDIF(K37,L37,"d"),0) -> 151 | V37: =IF(AND(M37<>"",L37<>""),DATEDIF(L37,M37,"d"),0) -> 92 | W37: =IF(AND(N37<>"",M37<>""),DATEDIF(M37,N37,"d"),0) -> 0 | X37: =IF(AND(O37<>"",N37<>""),DATEDIF(N37,O37,"d"),0) -> 0 | Y37: =IF(AND(P37<>"",O37<>""),DATEDIF(O37,P37,"d"),0) -> 0 | Z37: =IF(AND(Q37<>"",P37<>""),DATEDIF(P37,Q37,"d"),0) -> 0 | AA37: =IF(AND(R37<>"",Q37<>""),DATEDIF(Q37,R37,"d"),0) -> 0 | AB37: =IF(AND(S37<>"",R37<>""),DATEDIF(R37,S37,"d"),0) -> 0 | AC37: =IF(AND(T37<>"",S37<>""),DATEDIF(S37,T37,"d"),0) -> 0 | AE37: =SUM(U37:AC37)/(J37-1) -> 121.5
A38: 571602660471 | D38: 1A28083 | E38: 1A28083 | G38: 688052132071 | I38: 565302660071 | J38: 7 | K38: {=TRANSPOSE(_xlfn._xlws.FILTER(Total_Scrap[Month],(Total_Scrap[Part Number]='traitement UNIQUE'!I38)))} -> 10/2020 | L38: 01/2021 | M38: 01/2021 | N38: 03/2021 | O38: 04/2021 | P38: 04/2021 | Q38: 06/2021 | U38: =IF(AND(L38<>"",K38<>""),DATEDIF(K38,L38,"d"),0) -> 92 | V38: =IF(AND(M38<>"",L38<>""),DATEDIF(L38,M38,"d"),0) -> 0 | W38: =IF(AND(N38<>"",M38<>""),DATEDIF(M38,N38,"d"),0) -> 59 | X38: =IF(AND(O38<>"",N38<>""),DATEDIF(N38,O38,"d"),0) -> 31 | Y38: =IF(AND(P38<>"",O38<>""),DATEDIF(O38,P38,"d"),0) -> 0 | Z38: =IF(AND(Q38<>"",P38<>""),DATEDIF(P38,Q38,"d"),0) -> 61 | AA38: =IF(AND(R38<>"",Q38<>""),DATEDIF(Q38,R38,"d"),0) -> 0 | AB38: =IF(AND(S38<>"",R38<>""),DATEDIF(R38,S38,"d"),0) -> 0 | AC38: =IF(AND(T38<>"",S38<>""),DATEDIF(S38,T38,"d"),0) -> 0 | AE38: =SUM(U38:AC38)/(J38-1) -> 40.5
A39: 16420F118071 | D39: 2A28005 | E39: 2A28005 | G39: 68131F225071 | I39: 571602660471 | J39: 2 | K39: {=TRANSPOSE(_xlfn._xlws.FILTER(Total_Scrap[Month],(Total_Scrap[Part Number]='traitement UNIQUE'!I39)))} -> 10/2020 | L39: 10/2020 | U39: =IF(AND(L39<>"",K39<>""),DATEDIF(K39,L39,"d"),0) -> 0 | V39: =IF(AND(M39<>"",L39<>""),DATEDIF(L39,M39,"d"),0) -> 0 | W39: =IF(AND(N39<>"",M39<>""),DATEDIF(M39,N39,"d"),0) -> 0 | X39: =IF(AND(O39<>"",N39<>""),DATEDIF(N39,O39,"d"),0) -> 0 | Y39: =IF(AND(P39<>"",O39<>""),DATEDIF(O39,P39,"d"),0) -> 0 | Z39: =IF(AND(Q39<>"",P39<>""),DATEDIF(P39,Q39,"d"),0) -> 0 | AA39: =IF(AND(R39<>"",Q39<>""),DATEDIF(Q39,R39,"d"),0) -> 0 | AB39: =IF(AND(S39<>"",R39<>""),DATEDIF(R39,S39,"d"),0) -> 0 | AC39: =IF(AND(T39<>"",S39<>""),DATEDIF(S39,T39,"d"),0) -> 0 | AE39: =SUM(U39:AC39)/(J39-1) -> 0
A40: 56210F220071 | D40: 55173FSHD771 | E40: 55173FSHD771 | G40: 1A18134 | I40: 16420F118071 | J40: 5 | K40: {=TRANSPOSE(_xlfn._xlws.FILTER(Total_Scrap[Month],(Total_Scrap[Part Number]='traitement UNIQUE'!I40)))} -> 10/2020 | L40: 11/2020 | M40: 11/2020 | N40: 12/2020 | O40: 06/2021 | U40: =IF(AND(L40<>"",K40<>""),DATEDIF(K40,L40,"d"),0) -> 31 | V40: =IF(AND(M40<>"",L40<>""),DATEDIF(L40,M40,"d"),0) -> 0 | W40: =IF(AND(N40<>"",M40<>""),DATEDIF(M40,N40,"d"),0) -> 30 | X40: =IF(AND(O40<>"",N40<>""),DATEDIF(N40,O40,"d"),0) -> 182 | Y40: =IF(AND(P40<>"",O40<>""),DATEDIF(O40,P40,"d"),0) -> 0 | Z40: =IF(AND(Q40<>"",P40<>""),DATEDIF(P40,Q40,"d"),0) -> 0 | AA40: =IF(AND(R40<>"",Q40<>""),DATEDIF(Q40,R40,"d"),0) -> 0 | AB40: =IF(AND(S40<>"",R40<>""),DATEDIF(R40,S40,"d"),0) -> 0 | AC40: =IF(AND(T40<>"",S40<>""),DATEDIF(S40,T40,"d"),0) -> 0 | AE40: =SUM(U40:AC40)/(J40-1) -> 60.75
A41: 233002665071 | D41: 56044FPA2071 | E41: 56044FPA2071 | G41: 452212660071 | I41: 56210F220071 | J41: 2 | K41: {=TRANSPOSE(_xlfn._xlws.FILTER(Total_Scrap[Month],(Total_Scrap[Part Number]='traitement UNIQUE'!I41)))} -> 10/2020 | L41: 02/2021 | U41: =IF(AND(L41<>"",K41<>""),DATEDIF(K41,L41,"d"),0) -> 123 | V41: =IF(AND(M41<>"",L41<>""),DATEDIF(L41,M41,"d"),0) -> 0 | W41: =IF(AND(N41<>"",M41<>""),DATEDIF(M41,N41,"d"),0) -> 0 | X41: =IF(AND(O41<>"",N41<>""),DATEDIF(N41,O41,"d"),0) -> 0 | Y41: =IF(AND(P41<>"",O41<>""),DATEDIF(O41,P41,"d"),0) -> 0 | Z41: =IF(AND(Q41<>"",P41<>""),DATEDIF(P41,Q41,"d"),0) -> 0 | AA41: =IF(AND(R41<>"",Q41<>""),DATEDIF(Q41,R41,"d"),0) -> 0 | AB41: =IF(AND(S41<>"",R41<>""),DATEDIF(R41,S41,"d"),0) -> 0 | AC41: =IF(AND(T41<>"",S41<>""),DATEDIF(S41,T41,"d"),0) -> 0 | AE41: =SUM(U41:AC41)/(J41-1) -> 123
A42: 56031F232071 | D42: 565903676071 | E42: 565903676071 | G42: 56051F326071 | I42: 233002665071 | J42: 3 | K42: {=TRANSPOSE(_xlfn._xlws.FILTER(Total_Scrap[Month],(Total_Scrap[Part Number]='traitement UNIQUE'!I42)))} -> 10/2020 | L42: 11/2020 | M42: 06/2021 | U42: =IF(AND(L42<>"",K42<>""),DATEDIF(K42,L42,"d"),0) -> 31 | V42: =IF(AND(M42<>"",L42<>""),DATEDIF(L42,M42,"d"),0) -> 212 | W42: =IF(AND(N42<>"",M42<>""),DATEDIF(M42,N42,"d"),0) -> 0 | X42: =IF(AND(O42<>"",N42<>""),DATEDIF(N42,O42,"d"),0) -> 0 | Y42: =IF(AND(P42<>"",O42<>""),DATEDIF(O42,P42,"d"),0) -> 0 | Z42: =IF(AND(Q42<>"",P42<>""),DATEDIF(P42,Q42,"d"),0) -> 0 | AA42: =IF(AND(R42<>"",Q42<>""),DATEDIF(Q42,R42,"d"),0) -> 0 | AB42: =IF(AND(S42<>"",R42<>""),DATEDIF(R42,S42,"d"),0) -> 0 | AC42: =IF(AND(T42<>"",S42<>""),DATEDIF(S42,T42,"d"),0) -> 0 | AE42: =SUM(U42:AC42)/(J42-1) -> 121.5
A43: 56052F227071 | D43: 470401661071 | E43: 470401661071 | G43: 587202660071 | I43: 56031F232071 | J43: 2 | K43: {=TRANSPOSE(_xlfn._xlws.FILTER(Total_Scrap[Month],(Total_Scrap[Part Number]='traitement UNIQUE'!I43)))} -> 10/2020 | L43: 01/2021 | U43: =IF(AND(L43<>"",K43<>""),DATEDIF(K43,L43,"d"),0) -> 92 | V43: =IF(AND(M43<>"",L43<>""),DATEDIF(L43,M43,"d"),0) -> 0 | W43: =IF(AND(N43<>"",M43<>""),DATEDIF(M43,N43,"d"),0) -> 0 | X43: =IF(AND(O43<>"",N43<>""),DATEDIF(N43,O43,"d"),0) -> 0 | Y43: =IF(AND(P43<>"",O43<>""),DATEDIF(O43,P43,"d"),0) -> 0 | Z43: =IF(AND(Q43<>"",P43<>""),DATEDIF(P43,Q43,"d"),0) -> 0 | AA43: =IF(AND(R43<>"",Q43<>""),DATEDIF(Q43,R43,"d"),0) -> 0 | AB43: =IF(AND(S43<>"",R43<>""),DATEDIF(R43,S43,"d"),0) -> 0 | AC43: =IF(AND(T43<>"",S43<>""),DATEDIF(S43,T43,"d"),0) -> 0 | AE43: =SUM(U43:AC43)/(J43-1) -> 92
A44: 56570F210071 | D44: 56031FPD2071 | E44: 56031FPD2071 | G44: 561051653171 | I44: 56052F227071 | J44: 6 | K44: {=TRANSPOSE(_xlfn._xlws.FILTER(Total_Scrap[Month],(Total_Scrap[Part Number]='traitement UNIQUE'!I44)))} -> 10/2020 | L44: 10/2020 | M44: 01/2021 | N44: 02/2021 | O44: 02/2021 | P44: 03/2021 | U44: =IF(AND(L44<>"",K44<>""),DATEDIF(K44,L44,"d"),0) -> 0 | V44: =IF(AND(M44<>"",L44<>""),DATEDIF(L44,M44,"d"),0) -> 92 | W44: =IF(AND(N44<>"",M44<>""),DATEDIF(M44,N44,"d"),0) -> 31 | X44: =IF(AND(O44<>"",N44<>""),DATEDIF(N44,O44,"d"),0) -> 0 | Y44: =IF(AND(P44<>"",O44<>""),DATEDIF(O44,P44,"d"),0) -> 28 | Z44: =IF(AND(Q44<>"",P44<>""),DATEDIF(P44,Q44,"d"),0) -> 0 | AA44: =IF(AND(R44<>"",Q44<>""),DATEDIF(Q44,R44,"d"),0) -> 0 | AB44: =IF(AND(S44<>"",R44<>""),DATEDIF(R44,S44,"d"),0) -> 0 | AC44: =IF(AND(T44<>"",S44<>""),DATEDIF(S44,T44,"d"),0) -> 0 | AE44: =SUM(U44:AC44)/(J44-1) -> 30.2
A45: 17106F225071 | D45: 55213F218171 | E45: 55213F218171 | G45: 44140F302071 | I45: 56570F210071 | J45: 3 | K45: {=TRANSPOSE(_xlfn._xlws.FILTER(Total_Scrap[Month],(Total_Scrap[Part Number]='traitement UNIQUE'!I45)))} -> 10/2020 | L45: 01/2021 | M45: 01/2021 | U45: =IF(AND(L45<>"",K45<>""),DATEDIF(K45,L45,"d"),0) -> 92 | V45: =IF(AND(M45<>"",L45<>""),DATEDIF(L45,M45,"d"),0) -> 0 | W45: =IF(AND(N45<>"",M45<>""),DATEDIF(M45,N45,"d"),0) -> 0 | X45: =IF(AND(O45<>"",N45<>""),DATEDIF(N45,O45,"d"),0) -> 0 | Y45: =IF(AND(P45<>"",O45<>""),DATEDIF(O45,P45,"d"),0) -> 0 | Z45: =IF(AND(Q45<>"",P45<>""),DATEDIF(P45,Q45,"d"),0) -> 0 | AA45: =IF(AND(R45<>"",Q45<>""),DATEDIF(Q45,R45,"d"),0) -> 0 | AB45: =IF(AND(S45<>"",R45<>""),DATEDIF(R45,S45,"d"),0) -> 0 | AC45: =IF(AND(T45<>"",S45<>""),DATEDIF(S45,T45,"d"),0) -> 0 | AE45: =SUM(U45:AC45)/(J45-1) -> 46
A46: 451101247371 | D46: 68066F311171 | E46: 68066F311171 | G46: 56310F229071 | I46: 17106F225071 | J46: 7 | K46: {=TRANSPOSE(_xlfn._xlws.FILTER(Total_Scrap[Month],(Total_Scrap[Part Number]='traitement UNIQUE'!I46)))} -> 10/2020 | L46: 01/2021 | M46: 03/2021 | N46: 04/2021 | O46: 04/2021 | P46: 06/2021 | Q46: 06/2021 | U46: =IF(AND(L46<>"",K46<>""),DATEDIF(K46,L46,"d"),0) -> 92 | V46: =IF(AND(M46<>"",L46<>""),DATEDIF(L46,M46,"d"),0) -> 59 | W46: =IF(AND(N46<>"",M46<>""),DATEDIF(M46,N46,"d"),0) -> 31 | X46: =IF(AND(O46<>"",N46<>""),DATEDIF(N46,O46,"d"),0) -> 0 | Y46: =IF(AND(P46<>"",O46<>""),DATEDIF(O46,P46,"d"),0) -> 61 | Z46: =IF(AND(Q46<>"",P46<>""),DATEDIF(P46,Q46,"d"),0) -> 0 | AA46: =IF(AND(R46<>"",Q46<>""),DATEDIF(Q46,R46,"d"),0) -> 0 | AB46: =IF(AND(S46<>"",R46<>""),DATEDIF(R46,S46,"d"),0) -> 0 | AC46: =IF(AND(T46<>"",S46<>""),DATEDIF(S46,T46,"d"),0) -> 0 | AE46: =SUM(U46:AC46)/(J46-1) -> 40.5
A47: 58770F218071 | D47: 56031F231071 | E47: 56031F231071 | G47: 96363F322571 | I47: 451101247371 | J47: 4 | K47: {=TRANSPOSE(_xlfn._xlws.FILTER(Total_Scrap[Month],(Total_Scrap[Part Number]='traitement UNIQUE'!I47)))} -> 10/2020 | L47: 03/2021 | M47: 05/2021 | N47: 06/2021 | U47: =IF(AND(L47<>"",K47<>""),DATEDIF(K47,L47,"d"),0) -> 151 | V47: =IF(AND(M47<>"",L47<>""),DATEDIF(L47,M47,"d"),0) -> 61 | W47: =IF(AND(N47<>"",M47<>""),DATEDIF(M47,N47,"d"),0) -> 31 | X47: =IF(AND(O47<>"",N47<>""),DATEDIF(N47,O47,"d"),0) -> 0 | Y47: =IF(AND(P47<>"",O47<>""),DATEDIF(O47,P47,"d"),0) -> 0 | Z47: =IF(AND(Q47<>"",P47<>""),DATEDIF(P47,Q47,"d"),0) -> 0 | AA47: =IF(AND(R47<>"",Q47<>""),DATEDIF(Q47,R47,"d"),0) -> 0 | AB47: =IF(AND(S47<>"",R47<>""),DATEDIF(R47,S47,"d"),0) -> 0 | AC47: =IF(AND(T47<>"",S47<>""),DATEDIF(S47,T47,"d"),0) -> 0 | AE47: =SUM(U47:AC47)/(J47-1) -> 81
A48: 2A14398G3 | D48: 68606F214171 | E48: 68606F214171 | G48: 23342F231071 | I48: 58770F218071 | J48: 4 | K48: {=TRANSPOSE(_xlfn._xlws.FILTER(Total_Scrap[Month],(Total_Scrap[Part Number]='traitement UNIQUE'!I48)))} -> 10/2020 | L48: 10/2020 | M48: 10/2020 | N48: 06/2021 | U48: =IF(AND(L48<>"",K48<>""),DATEDIF(K48,L48,"d"),0) -> 0 | V48: =IF(AND(M48<>"",L48<>""),DATEDIF(L48,M48,"d"),0) -> 0 | W48: =IF(AND(N48<>"",M48<>""),DATEDIF(M48,N48,"d"),0) -> 243 | X48: =IF(AND(O48<>"",N48<>""),DATEDIF(N48,O48,"d"),0) -> 0 | Y48: =IF(AND(P48<>"",O48<>""),DATEDIF(O48,P48,"d"),0) -> 0 | Z48: =IF(AND(Q48<>"",P48<>""),DATEDIF(P48,Q48,"d"),0) -> 0 | AA48: =IF(AND(R48<>"",Q48<>""),DATEDIF(Q48,R48,"d"),0) -> 0 | AB48: =IF(AND(S48<>"",R48<>""),DATEDIF(R48,S48,"d"),0) -> 0 | AC48: =IF(AND(T48<>"",S48<>""),DATEDIF(S48,T48,"d"),0) -> 0 | AE48: =SUM(U48:AC48)/(J48-1) -> 81
A49: 521823675171 | D49: 678901132071 | E49: 678901132071 | G49: 25750FS2CK71 | I49: 2A14398G3 | J49: 3 | K49: {=TRANSPOSE(_xlfn._xlws.FILTER(Total_Scrap[Month],(Total_Scrap[Part Number]='traitement UNIQUE'!I49)))} -> 10/2020 | L49: 02/2021 | M49: 03/2021 | U49: =IF(AND(L49<>"",K49<>""),DATEDIF(K49,L49,"d"),0) -> 123 | V49: =IF(AND(M49<>"",L49<>""),DATEDIF(L49,M49,"d"),0) -> 28 | W49: =IF(AND(N49<>"",M49<>""),DATEDIF(M49,N49,"d"),0) -> 0 | X49: =IF(AND(O49<>"",N49<>""),DATEDIF(N49,O49,"d"),0) -> 0 | Y49: =IF(AND(P49<>"",O49<>""),DATEDIF(O49,P49,"d"),0) -> 0 | Z49: =IF(AND(Q49<>"",P49<>""),DATEDIF(P49,Q49,"d"),0) -> 0 | AA49: =IF(AND(R49<>"",Q49<>""),DATEDIF(Q49,R49,"d"),0) -> 0 | AB49: =IF(AND(S49<>"",R49<>""),DATEDIF(R49,S49,"d"),0) -> 0 | AC49: =IF(AND(T49<>"",S49<>""),DATEDIF(S49,T49,"d"),0) -> 0 | AE49: =SUM(U49:AC49)/(J49-1) -> 75.5
A50: 96365F509471 | D50: 53220F231071 | E50: 53220F231071 | G50: 235102661071 | I50: 521823675171 | J50: 2 | K50: {=TRANSPOSE(_xlfn._xlws.FILTER(Total_Scrap[Month],(Total_Scrap[Part Number]='traitement UNIQUE'!I50)))} -> 10/2020 | L50: 05/2021 | U50: =IF(AND(L50<>"",K50<>""),DATEDIF(K50,L50,"d"),0) -> 212 | V50: =IF(AND(M50<>"",L50<>""),DATEDIF(L50,M50,"d"),0) -> 0 | W50: =IF(AND(N50<>"",M50<>""),DATEDIF(M50,N50,"d"),0) -> 0 | X50: =IF(AND(O50<>"",N50<>""),DATEDIF(N50,O50,"d"),0) -> 0 | Y50: =IF(AND(P50<>"",O50<>""),DATEDIF(O50,P50,"d"),0) -> 0 | Z50: =IF(AND(Q50<>"",P50<>""),DATEDIF(P50,Q50,"d"),0) -> 0 | AA50: =IF(AND(R50<>"",Q50<>""),DATEDIF(Q50,R50,"d"),0) -> 0 | AB50: =IF(AND(S50<>"",R50<>""),DATEDIF(R50,S50,"d"),0) -> 0 | AC50: =IF(AND(T50<>"",S50<>""),DATEDIF(S50,T50,"d"),0) -> 0 | AE50: =SUM(U50:AC50)/(J50-1) -> 212
A51: 566512663071 | D51: 23507FPA2171 | E51: 23507FPA2171 | G51: 16420F318071 | I51: 96365F509471 | J51: 3 | K51: {=TRANSPOSE(_xlfn._xlws.FILTER(Total_Scrap[Month],(Total_Scrap[Part Number]='traitement UNIQUE'!I51)))} -> 10/2020 | L51: 10/2020 | M51: 12/2020 | U51: =IF(AND(L51<>"",K51<>""),DATEDIF(K51,L51,"d"),0) -> 0 | V51: =IF(AND(M51<>"",L51<>""),DATEDIF(L51,M51,"d"),0) -> 61 | W51: =IF(AND(N51<>"",M51<>""),DATEDIF(M51,N51,"d"),0) -> 0 | X51: =IF(AND(O51<>"",N51<>""),DATEDIF(N51,O51,"d"),0) -> 0 | Y51: =IF(AND(P51<>"",O51<>""),DATEDIF(O51,P51,"d"),0) -> 0 | Z51: =IF(AND(Q51<>"",P51<>""),DATEDIF(P51,Q51,"d"),0) -> 0 | AA51: =IF(AND(R51<>"",Q51<>""),DATEDIF(Q51,R51,"d"),0) -> 0 | AB51: =IF(AND(S51<>"",R51<>""),DATEDIF(R51,S51,"d"),0) -> 0 | AC51: =IF(AND(T51<>"",S51<>""),DATEDIF(S51,T51,"d"),0) -> 0 | AE51: =SUM(U51:AC51)/(J51-1) -> 30.5
A52: 56042F318071 | D52: 565013691071 | E52: 565013691071 | G52: 518912675071 | I52: 566512663071 | J52: 3 | K52: {=TRANSPOSE(_xlfn._xlws.FILTER(Total_Scrap[Month],(Total_Scrap[Part Number]='traitement UNIQUE'!I52)))} -> 10/2020 | L52: 11/2020 | M52: 06/2021 | U52: =IF(AND(L52<>"",K52<>""),DATEDIF(K52,L52,"d"),0) -> 31 | V52: =IF(AND(M52<>"",L52<>""),DATEDIF(L52,M52,"d"),0) -> 212 | W52: =IF(AND(N52<>"",M52<>""),DATEDIF(M52,N52,"d"),0) -> 0 | X52: =IF(AND(O52<>"",N52<>""),DATEDIF(N52,O52,"d"),0) -> 0 | Y52: =IF(AND(P52<>"",O52<>""),DATEDIF(O52,P52,"d"),0) -> 0 | Z52: =IF(AND(Q52<>"",P52<>""),DATEDIF(P52,Q52,"d"),0) -> 0 | AA52: =IF(AND(R52<>"",Q52<>""),DATEDIF(Q52,R52,"d"),0) -> 0 | AB52: =IF(AND(S52<>"",R52<>""),DATEDIF(R52,S52,"d"),0) -> 0 | AC52: =IF(AND(T52<>"",S52<>""),DATEDIF(S52,T52,"d"),0) -> 0 | AE52: =SUM(U52:AC52)/(J52-1) -> 121.5
A53: 89661UM090 | D53: 175102662071 | E53: 175102662071 | G53: 23349F231071 | I53: 56042F318071 | J53: 4 | K53: {=TRANSPOSE(_xlfn._xlws.FILTER(Total_Scrap[Month],(Total_Scrap[Part Number]='traitement UNIQUE'!I53)))} -> 10/2020 | L53: 10/2020 | M53: 01/2021 | N53: 04/2021 | U53: =IF(AND(L53<>"",K53<>""),DATEDIF(K53,L53,"d"),0) -> 0 | V53: =IF(AND(M53<>"",L53<>""),DATEDIF(L53,M53,"d"),0) -> 92 | W53: =IF(AND(N53<>"",M53<>""),DATEDIF(M53,N53,"d"),0) -> 90 | X53: =IF(AND(O53<>"",N53<>""),DATEDIF(N53,O53,"d"),0) -> 0 | Y53: =IF(AND(P53<>"",O53<>""),DATEDIF(O53,P53,"d"),0) -> 0 | Z53: =IF(AND(Q53<>"",P53<>""),DATEDIF(P53,Q53,"d"),0) -> 0 | AA53: =IF(AND(R53<>"",Q53<>""),DATEDIF(Q53,R53,"d"),0) -> 0 | AB53: =IF(AND(S53<>"",R53<>""),DATEDIF(R53,S53,"d"),0) -> 0 | AC53: =IF(AND(T53<>"",S53<>""),DATEDIF(S53,T53,"d"),0) -> 0 | AE53: =SUM(U53:AC53)/(J53-1) -> 60.666667
A54: 56210F118071 | D54: 177002660071 | E54: 177002660071 | G54: 23702FP24271 | I54: 566532660371 | J54: 2 | K54: {=TRANSPOSE(_xlfn._xlws.FILTER(Total_Scrap[Month],(Total_Scrap[Part Number]='traitement UNIQUE'!I54)))} -> 10/2020 | L54: 06/2021 | U54: =IF(AND(L54<>"",K54<>""),DATEDIF(K54,L54,"d"),0) -> 243 | V54: =IF(AND(M54<>"",L54<>""),DATEDIF(L54,M54,"d"),0) -> 0 | W54: =IF(AND(N54<>"",M54<>""),DATEDIF(M54,N54,"d"),0) -> 0 | X54: =IF(AND(O54<>"",N54<>""),DATEDIF(N54,O54,"d"),0) -> 0 | Y54: =IF(AND(P54<>"",O54<>""),DATEDIF(O54,P54,"d"),0) -> 0 | Z54: =IF(AND(Q54<>"",P54<>""),DATEDIF(P54,Q54,"d"),0) -> 0 | AA54: =IF(AND(R54<>"",Q54<>""),DATEDIF(Q54,R54,"d"),0) -> 0 | AB54: =IF(AND(S54<>"",R54<>""),DATEDIF(R54,S54,"d"),0) -> 0 | AC54: =IF(AND(T54<>"",S54<>""),DATEDIF(S54,T54,"d"),0) -> 0 | AE54: =SUM(U54:AC54)/(J54-1) -> 243
A55: 8987125010 | D55: 2A28007G3 | E55: 2A28007G3 | G55: 56013F231071 | I55: 89661UM090 | J55: 4 | K55: {=TRANSPOSE(_xlfn._xlws.FILTER(Total_Scrap[Month],(Total_Scrap[Part Number]='traitement UNIQUE'!I55)))} -> 11/2020 | L55: 01/2021 | M55: 03/2021 | N55: 03/2021 | U55: =IF(AND(L55<>"",K55<>""),DATEDIF(K55,L55,"d"),0) -> 61 | V55: =IF(AND(M55<>"",L55<>""),DATEDIF(L55,M55,"d"),0) -> 59 | W55: =IF(AND(N55<>"",M55<>""),DATEDIF(M55,N55,"d"),0) -> 0 | X55: =IF(AND(O55<>"",N55<>""),DATEDIF(N55,O55,"d"),0) -> 0 | Y55: =IF(AND(P55<>"",O55<>""),DATEDIF(O55,P55,"d"),0) -> 0 | Z55: =IF(AND(Q55<>"",P55<>""),DATEDIF(P55,Q55,"d"),0) -> 0 | AA55: =IF(AND(R55<>"",Q55<>""),DATEDIF(Q55,R55,"d"),0) -> 0 | AB55: =IF(AND(S55<>"",R55<>""),DATEDIF(R55,S55,"d"),0) -> 0 | AC55: =IF(AND(T55<>"",S55<>""),DATEDIF(S55,T55,"d"),0) -> 0 | AE55: =SUM(U55:AC55)/(J55-1) -> 40
A56: 27060UB070 | D56: 38717F121071 | E56: 38717F121071 | G56: 56315FSASD71 | I56: 56210F118071 | J56: 3 | K56: {=TRANSPOSE(_xlfn._xlws.FILTER(Total_Scrap[Month],(Total_Scrap[Part Number]='traitement UNIQUE'!I56)))} -> 11/2020 | L56: 12/2020 | M56: 01/2021 | U56: =IF(AND(L56<>"",K56<>""),DATEDIF(K56,L56,"d"),0) -> 30 | V56: =IF(AND(M56<>"",L56<>""),DATEDIF(L56,M56,"d"),0) -> 31 | W56: =IF(AND(N56<>"",M56<>""),DATEDIF(M56,N56,"d"),0) -> 0 | X56: =IF(AND(O56<>"",N56<>""),DATEDIF(N56,O56,"d"),0) -> 0 | Y56: =IF(AND(P56<>"",O56<>""),DATEDIF(O56,P56,"d"),0) -> 0 | Z56: =IF(AND(Q56<>"",P56<>""),DATEDIF(P56,Q56,"d"),0) -> 0 | AA56: =IF(AND(R56<>"",Q56<>""),DATEDIF(Q56,R56,"d"),0) -> 0 | AB56: =IF(AND(S56<>"",R56<>""),DATEDIF(R56,S56,"d"),0) -> 0 | AC56: =IF(AND(T56<>"",S56<>""),DATEDIF(S56,T56,"d"),0) -> 0 | AE56: =SUM(U56:AC56)/(J56-1) -> 30.5
A57: 56044FPA2271 | D57: 68805F226071 | E57: 68805F226071 | G57: 175202662071 | I57: 8987125010 | J57: 3 | K57: {=TRANSPOSE(_xlfn._xlws.FILTER(Total_Scrap[Month],(Total_Scrap[Part Number]='traitement UNIQUE'!I57)))} -> 11/2020 | L57: 04/2021 | M57: 06/2021 | U57: =IF(AND(L57<>"",K57<>""),DATEDIF(K57,L57,"d"),0) -> 151 | V57: =IF(AND(M57<>"",L57<>""),DATEDIF(L57,M57,"d"),0) -> 61 | W57: =IF(AND(N57<>"",M57<>""),DATEDIF(M57,N57,"d"),0) -> 0 | X57: =IF(AND(O57<>"",N57<>""),DATEDIF(N57,O57,"d"),0) -> 0 | Y57: =IF(AND(P57<>"",O57<>""),DATEDIF(O57,P57,"d"),0) -> 0 | Z57: =IF(AND(Q57<>"",P57<>""),DATEDIF(P57,Q57,"d"),0) -> 0 | AA57: =IF(AND(R57<>"",Q57<>""),DATEDIF(Q57,R57,"d"),0) -> 0 | AB57: =IF(AND(S57<>"",R57<>""),DATEDIF(R57,S57,"d"),0) -> 0 | AC57: =IF(AND(T57<>"",S57<>""),DATEDIF(S57,T57,"d"),0) -> 0 | AE57: =SUM(U57:AC57)/(J57-1) -> 106
A58: 566302661071 | D58: 68804F226071 | E58: 68804F226071 | G58: 56231F231071 | I58: 27060UB070 | J58: 3 | K58: {=TRANSPOSE(_xlfn._xlws.FILTER(Total_Scrap[Month],(Total_Scrap[Part Number]='traitement UNIQUE'!I58)))} -> 11/2020 | L58: 05/2021 | M58: 06/2021 | U58: =IF(AND(L58<>"",K58<>""),DATEDIF(K58,L58,"d"),0) -> 181 | V58: =IF(AND(M58<>"",L58<>""),DATEDIF(L58,M58,"d"),0) -> 31 | W58: =IF(AND(N58<>"",M58<>""),DATEDIF(M58,N58,"d"),0) -> 0 | X58: =IF(AND(O58<>"",N58<>""),DATEDIF(N58,O58,"d"),0) -> 0 | Y58: =IF(AND(P58<>"",O58<>""),DATEDIF(O58,P58,"d"),0) -> 0 | Z58: =IF(AND(Q58<>"",P58<>""),DATEDIF(P58,Q58,"d"),0) -> 0 | AA58: =IF(AND(R58<>"",Q58<>""),DATEDIF(Q58,R58,"d"),0) -> 0 | AB58: =IF(AND(S58<>"",R58<>""),DATEDIF(R58,S58,"d"),0) -> 0 | AC58: =IF(AND(T58<>"",S58<>""),DATEDIF(S58,T58,"d"),0) -> 0 | AE58: =SUM(U58:AC58)/(J58-1) -> 106
A59: 38711F331171 | D59: 68143F225071 | E59: 68143F225071 | G59: 65600FSL4C71 | I59: 56044FPA2271 | J59: 2 | K59: {=TRANSPOSE(_xlfn._xlws.FILTER(Total_Scrap[Month],(Total_Scrap[Part Number]='traitement UNIQUE'!I59)))} -> 11/2020 | L59: 01/2021 | U59: =IF(AND(L59<>"",K59<>""),DATEDIF(K59,L59,"d"),0) -> 61 | V59: =IF(AND(M59<>"",L59<>""),DATEDIF(L59,M59,"d"),0) -> 0 | W59: =IF(AND(N59<>"",M59<>""),DATEDIF(M59,N59,"d"),0) -> 0 | X59: =IF(AND(O59<>"",N59<>""),DATEDIF(N59,O59,"d"),0) -> 0 | Y59: =IF(AND(P59<>"",O59<>""),DATEDIF(O59,P59,"d"),0) -> 0 | Z59: =IF(AND(Q59<>"",P59<>""),DATEDIF(P59,Q59,"d"),0) -> 0 | AA59: =IF(AND(R59<>"",Q59<>""),DATEDIF(Q59,R59,"d"),0) -> 0 | AB59: =IF(AND(S59<>"",R59<>""),DATEDIF(R59,S59,"d"),0) -> 0 | AC59: =IF(AND(T59<>"",S59<>""),DATEDIF(S59,T59,"d"),0) -> 0 | AE59: =SUM(U59:AC59)/(J59-1) -> 61
A60: 53402F218171 | D60: 45682F331071 | E60: 45682F331071 | G60: 55240F218171 | I60: 566302661071 | J60: 3 | K60: {=TRANSPOSE(_xlfn._xlws.FILTER(Total_Scrap[Month],(Total_Scrap[Part Number]='traitement UNIQUE'!I60)))} -> 11/2020 | L60: 03/2021 | M60: 04/2021 | U60: =IF(AND(L60<>"",K60<>""),DATEDIF(K60,L60,"d"),0) -> 120 | V60: =IF(AND(M60<>"",L60<>""),DATEDIF(L60,M60,"d"),0) -> 31 | W60: =IF(AND(N60<>"",M60<>""),DATEDIF(M60,N60,"d"),0) -> 0 | X60: =IF(AND(O60<>"",N60<>""),DATEDIF(N60,O60,"d"),0) -> 0 | Y60: =IF(AND(P60<>"",O60<>""),DATEDIF(O60,P60,"d"),0) -> 0 | Z60: =IF(AND(Q60<>"",P60<>""),DATEDIF(P60,Q60,"d"),0) -> 0 | AA60: =IF(AND(R60<>"",Q60<>""),DATEDIF(Q60,R60,"d"),0) -> 0 | AB60: =IF(AND(S60<>"",R60<>""),DATEDIF(R60,S60,"d"),0) -> 0 | AC60: =IF(AND(T60<>"",S60<>""),DATEDIF(S60,T60,"d"),0) -> 0 | AE60: =SUM(U60:AC60)/(J60-1) -> 75.5
A61: 53401F218171 | D61: 452021660071 | E61: 452021660071 | G61: 16420F218071 | I61: 38711F331171 | J61: 2 | K61: {=TRANSPOSE(_xlfn._xlws.FILTER(Total_Scrap[Month],(Total_Scrap[Part Number]='traitement UNIQUE'!I61)))} -> 11/2020 | L61: 04/2021 | U61: =IF(AND(L61<>"",K61<>""),DATEDIF(K61,L61,"d"),0) -> 151 | V61: =IF(AND(M61<>"",L61<>""),DATEDIF(L61,M61,"d"),0) -> 0 | W61: =IF(AND(N61<>"",M61<>""),DATEDIF(M61,N61,"d"),0) -> 0 | X61: =IF(AND(O61<>"",N61<>""),DATEDIF(N61,O61,"d"),0) -> 0 | Y61: =IF(AND(P61<>"",O61<>""),DATEDIF(O61,P61,"d"),0) -> 0 | Z61: =IF(AND(Q61<>"",P61<>""),DATEDIF(P61,Q61,"d"),0) -> 0 | AA61: =IF(AND(R61<>"",Q61<>""),DATEDIF(Q61,R61,"d"),0) -> 0 | AB61: =IF(AND(S61<>"",R61<>""),DATEDIF(R61,S61,"d"),0) -> 0 | AC61: =IF(AND(T61<>"",S61<>""),DATEDIF(S61,T61,"d"),0) -> 0 | AE61: =SUM(U61:AC61)/(J61-1) -> 151
A62: 178022665071 | D62: 688052132071 | E62: 688052132071 | G62: 58510F318271 | I62: 53402F218171 | J62: 4 | K62: {=TRANSPOSE(_xlfn._xlws.FILTER(Total_Scrap[Month],(Total_Scrap[Part Number]='traitement UNIQUE'!I62)))} -> 11/2020 | L62: 11/2020 | M62: 12/2020 | N62: 02/2021 | U62: =IF(AND(L62<>"",K62<>""),DATEDIF(K62,L62,"d"),0) -> 0 | V62: =IF(AND(M62<>"",L62<>""),DATEDIF(L62,M62,"d"),0) -> 30 | W62: =IF(AND(N62<>"",M62<>""),DATEDIF(M62,N62,"d"),0) -> 62 | X62: =IF(AND(O62<>"",N62<>""),DATEDIF(N62,O62,"d"),0) -> 0 | Y62: =IF(AND(P62<>"",O62<>""),DATEDIF(O62,P62,"d"),0) -> 0 | Z62: =IF(AND(Q62<>"",P62<>""),DATEDIF(P62,Q62,"d"),0) -> 0 | AA62: =IF(AND(R62<>"",Q62<>""),DATEDIF(Q62,R62,"d"),0) -> 0 | AB62: =IF(AND(S62<>"",R62<>""),DATEDIF(R62,S62,"d"),0) -> 0 | AC62: =IF(AND(T62<>"",S62<>""),DATEDIF(S62,T62,"d"),0) -> 0 | AE62: =SUM(U62:AC62)/(J62-1) -> 30.666667
A63: 56051F225071 | D63: 96365F509871 | E63: 96365F509871 | G63: 56310F226071 | I63: 167202665171 | J63: 2 | K63: {=TRANSPOSE(_xlfn._xlws.FILTER(Total_Scrap[Month],(Total_Scrap[Part Number]='traitement UNIQUE'!I63)))} -> 11/2020 | L63: 06/2021 | U63: =IF(AND(L63<>"",K63<>""),DATEDIF(K63,L63,"d"),0) -> 212 | V63: =IF(AND(M63<>"",L63<>""),DATEDIF(L63,M63,"d"),0) -> 0 | W63: =IF(AND(N63<>"",M63<>""),DATEDIF(M63,N63,"d"),0) -> 0 | X63: =IF(AND(O63<>"",N63<>""),DATEDIF(N63,O63,"d"),0) -> 0 | Y63: =IF(AND(P63<>"",O63<>""),DATEDIF(O63,P63,"d"),0) -> 0 | Z63: =IF(AND(Q63<>"",P63<>""),DATEDIF(P63,Q63,"d"),0) -> 0 | AA63: =IF(AND(R63<>"",Q63<>""),DATEDIF(Q63,R63,"d"),0) -> 0 | AB63: =IF(AND(S63<>"",R63<>""),DATEDIF(R63,S63,"d"),0) -> 0 | AC63: =IF(AND(T63<>"",S63<>""),DATEDIF(S63,T63,"d"),0) -> 0 | AE63: =SUM(U63:AC63)/(J63-1) -> 212
A64: 238062665071 | D64: 68131F225071 | E64: 68131F225071 | G64: 53226F231071 | I64: 53401F218171 | J64: 2 | K64: {=TRANSPOSE(_xlfn._xlws.FILTER(Total_Scrap[Month],(Total_Scrap[Part Number]='traitement UNIQUE'!I64)))} -> 11/2020 | L64: 01/2021 | U64: =IF(AND(L64<>"",K64<>""),DATEDIF(K64,L64,"d"),0) -> 61 | V64: =IF(AND(M64<>"",L64<>""),DATEDIF(L64,M64,"d"),0) -> 0 | W64: =IF(AND(N64<>"",M64<>""),DATEDIF(M64,N64,"d"),0) -> 0 | X64: =IF(AND(O64<>"",N64<>""),DATEDIF(N64,O64,"d"),0) -> 0 | Y64: =IF(AND(P64<>"",O64<>""),DATEDIF(O64,P64,"d"),0) -> 0 | Z64: =IF(AND(Q64<>"",P64<>""),DATEDIF(P64,Q64,"d"),0) -> 0 | AA64: =IF(AND(R64<>"",Q64<>""),DATEDIF(Q64,R64,"d"),0) -> 0 | AB64: =IF(AND(S64<>"",R64<>""),DATEDIF(R64,S64,"d"),0) -> 0 | AC64: =IF(AND(T64<>"",S64<>""),DATEDIF(S64,T64,"d"),0) -> 0 | AE64: =SUM(U64:AC64)/(J64-1) -> 61
A65: 532801370071 | D65: 1A18134 | E65: 1A18134 | G65: 56580FPD2171 | I65: 178022665071 | J65: 3 | K65: {=TRANSPOSE(_xlfn._xlws.FILTER(Total_Scrap[Month],(Total_Scrap[Part Number]='traitement UNIQUE'!I65)))} -> 11/2020 | L65: 05/2021 | M65: 06/2021 | U65: =IF(AND(L65<>"",K65<>""),DATEDIF(K65,L65,"d"),0) -> 181 | V65: =IF(AND(M65<>"",L65<>""),DATEDIF(L65,M65,"d"),0) -> 31 | W65: =IF(AND(N65<>"",M65<>""),DATEDIF(M65,N65,"d"),0) -> 0 | X65: =IF(AND(O65<>"",N65<>""),DATEDIF(N65,O65,"d"),0) -> 0 | Y65: =IF(AND(P65<>"",O65<>""),DATEDIF(O65,P65,"d"),0) -> 0 | Z65: =IF(AND(Q65<>"",P65<>""),DATEDIF(P65,Q65,"d"),0) -> 0 | AA65: =IF(AND(R65<>"",Q65<>""),DATEDIF(Q65,R65,"d"),0) -> 0 | AB65: =IF(AND(S65<>"",R65<>""),DATEDIF(R65,S65,"d"),0) -> 0 | AC65: =IF(AND(T65<>"",S65<>""),DATEDIF(S65,T65,"d"),0) -> 0 | AE65: =SUM(U65:AC65)/(J65-1) -> 106
A66: 440701074171 | D66: 452212660071 | E66: 452212660071 | G66: 53211F331071 | I66: 56051F225071 | J66: 2 | K66: {=TRANSPOSE(_xlfn._xlws.FILTER(Total_Scrap[Month],(Total_Scrap[Part Number]='traitement UNIQUE'!I66)))} -> 11/2020 | L66: 01/2021 | U66: =IF(AND(L66<>"",K66<>""),DATEDIF(K66,L66,"d"),0) -> 61 | V66: =IF(AND(M66<>"",L66<>""),DATEDIF(L66,M66,"d"),0) -> 0 | W66: =IF(AND(N66<>"",M66<>""),DATEDIF(M66,N66,"d"),0) -> 0 | X66: =IF(AND(O66<>"",N66<>""),DATEDIF(N66,O66,"d"),0) -> 0 | Y66: =IF(AND(P66<>"",O66<>""),DATEDIF(O66,P66,"d"),0) -> 0 | Z66: =IF(AND(Q66<>"",P66<>""),DATEDIF(P66,Q66,"d"),0) -> 0 | AA66: =IF(AND(R66<>"",Q66<>""),DATEDIF(Q66,R66,"d"),0) -> 0 | AB66: =IF(AND(S66<>"",R66<>""),DATEDIF(R66,S66,"d"),0) -> 0 | AC66: =IF(AND(T66<>"",S66<>""),DATEDIF(S66,T66,"d"),0) -> 0 | AE66: =SUM(U66:AC66)/(J66-1) -> 61
A67: 111203660171 | D67: 56051F326071 | E67: 56051F326071 | G67: 56052F226071 | I67: 238062665071 | J67: 5 | K67: {=TRANSPOSE(_xlfn._xlws.FILTER(Total_Scrap[Month],(Total_Scrap[Part Number]='traitement UNIQUE'!I67)))} -> 11/2020 | L67: 04/2021 | M67: 04/2021 | N67: 04/2021 | O67: 06/2021 | U67: =IF(AND(L67<>"",K67<>""),DATEDIF(K67,L67,"d"),0) -> 151 | V67: =IF(AND(M67<>"",L67<>""),DATEDIF(L67,M67,"d"),0) -> 0 | W67: =IF(AND(N67<>"",M67<>""),DATEDIF(M67,N67,"d"),0) -> 0 | X67: =IF(AND(O67<>"",N67<>""),DATEDIF(N67,O67,"d"),0) -> 61 | Y67: =IF(AND(P67<>"",O67<>""),DATEDIF(O67,P67,"d"),0) -> 0 | Z67: =IF(AND(Q67<>"",P67<>""),DATEDIF(P67,Q67,"d"),0) -> 0 | AA67: =IF(AND(R67<>"",Q67<>""),DATEDIF(Q67,R67,"d"),0) -> 0 | AB67: =IF(AND(S67<>"",R67<>""),DATEDIF(R67,S67,"d"),0) -> 0 | AC67: =IF(AND(T67<>"",S67<>""),DATEDIF(S67,T67,"d"),0) -> 0 | AE67: =SUM(U67:AC67)/(J67-1) -> 53
A68: 53724F222071 | D68: 587202660071 | E68: 587202660071 | G68: 56014F118071 | I68: 532801370071 | J68: 8 | K68: {=TRANSPOSE(_xlfn._xlws.FILTER(Total_Scrap[Month],(Total_Scrap[Part Number]='traitement UNIQUE'!I68)))} -> 11/2020 | L68: 02/2021 | M68: 02/2021 | N68: 03/2021 | O68: 04/2021 | P68: 04/2021 | Q68: 04/2021 | R68: 04/2021 | U68: =IF(AND(L68<>"",K68<>""),DATEDIF(K68,L68,"d"),0) -> 92 | V68: =IF(AND(M68<>"",L68<>""),DATEDIF(L68,M68,"d"),0) -> 0 | W68: =IF(AND(N68<>"",M68<>""),DATEDIF(M68,N68,"d"),0) -> 28 | X68: =IF(AND(O68<>"",N68<>""),DATEDIF(N68,O68,"d"),0) -> 31 | Y68: =IF(AND(P68<>"",O68<>""),DATEDIF(O68,P68,"d"),0) -> 0 | Z68: =IF(AND(Q68<>"",P68<>""),DATEDIF(P68,Q68,"d"),0) -> 0 | AA68: =IF(AND(R68<>"",Q68<>""),DATEDIF(Q68,R68,"d"),0) -> 0 | AB68: =IF(AND(S68<>"",R68<>""),DATEDIF(R68,S68,"d"),0) -> 0 | AC68: =IF(AND(T68<>"",S68<>""),DATEDIF(S68,T68,"d"),0) -> 0 | AE68: =SUM(U68:AC68)/(J68-1) -> 21.571429
A69: 532212665071 | D69: 561051653171 | E69: 561051653171 | G69: 175072660271 | I69: 440701074171 | J69: 2 | K69: {=TRANSPOSE(_xlfn._xlws.FILTER(Total_Scrap[Month],(Total_Scrap[Part Number]='traitement UNIQUE'!I69)))} -> 11/2020 | L69: 11/2020 | U69: =IF(AND(L69<>"",K69<>""),DATEDIF(K69,L69,"d"),0) -> 0 | V69: =IF(AND(M69<>"",L69<>""),DATEDIF(L69,M69,"d"),0) -> 0 | W69: =IF(AND(N69<>"",M69<>""),DATEDIF(M69,N69,"d"),0) -> 0 | X69: =IF(AND(O69<>"",N69<>""),DATEDIF(N69,O69,"d"),0) -> 0 | Y69: =IF(AND(P69<>"",O69<>""),DATEDIF(O69,P69,"d"),0) -> 0 | Z69: =IF(AND(Q69<>"",P69<>""),DATEDIF(P69,Q69,"d"),0) -> 0 | AA69: =IF(AND(R69<>"",Q69<>""),DATEDIF(Q69,R69,"d"),0) -> 0 | AB69: =IF(AND(S69<>"",R69<>""),DATEDIF(R69,S69,"d"),0) -> 0 | AC69: =IF(AND(T69<>"",S69<>""),DATEDIF(S69,T69,"d"),0) -> 0 | AE69: =SUM(U69:AC69)/(J69-1) -> 0
A70: 56190F220071 | D70: 44140F302071 | E70: 44140F302071 | G70: 3A14124G3 | I70: 111203660171 | J70: 2 | K70: {=TRANSPOSE(_xlfn._xlws.FILTER(Total_Scrap[Month],(Total_Scrap[Part Number]='traitement UNIQUE'!I70)))} -> 12/2020 | L70: 01/2021 | U70: =IF(AND(L70<>"",K70<>""),DATEDIF(K70,L70,"d"),0) -> 31 | V70: =IF(AND(M70<>"",L70<>""),DATEDIF(L70,M70,"d"),0) -> 0 | W70: =IF(AND(N70<>"",M70<>""),DATEDIF(M70,N70,"d"),0) -> 0 | X70: =IF(AND(O70<>"",N70<>""),DATEDIF(N70,O70,"d"),0) -> 0 | Y70: =IF(AND(P70<>"",O70<>""),DATEDIF(O70,P70,"d"),0) -> 0 | Z70: =IF(AND(Q70<>"",P70<>""),DATEDIF(P70,Q70,"d"),0) -> 0 | AA70: =IF(AND(R70<>"",Q70<>""),DATEDIF(Q70,R70,"d"),0) -> 0 | AB70: =IF(AND(S70<>"",R70<>""),DATEDIF(R70,S70,"d"),0) -> 0 | AC70: =IF(AND(T70<>"",S70<>""),DATEDIF(S70,T70,"d"),0) -> 0 | AE70: =SUM(U70:AC70)/(J70-1) -> 31
A71: 461502661271 | D71: 56210F219071 | E71: 56210F219071 | G71: 52240F218071 | I71: 53724F222071 | J71: 5 | K71: {=TRANSPOSE(_xlfn._xlws.FILTER(Total_Scrap[Month],(Total_Scrap[Part Number]='traitement UNIQUE'!I71)))} -> 12/2020 | L71: 12/2020 | M71: 02/2021 | N71: 05/2021 | O71: 05/2021 | U71: =IF(AND(L71<>"",K71<>""),DATEDIF(K71,L71,"d"),0) -> 0 | V71: =IF(AND(M71<>"",L71<>""),DATEDIF(L71,M71,"d"),0) -> 62 | W71: =IF(AND(N71<>"",M71<>""),DATEDIF(M71,N71,"d"),0) -> 89 | X71: =IF(AND(O71<>"",N71<>""),DATEDIF(N71,O71,"d"),0) -> 0 | Y71: =IF(AND(P71<>"",O71<>""),DATEDIF(O71,P71,"d"),0) -> 0 | Z71: =IF(AND(Q71<>"",P71<>""),DATEDIF(P71,Q71,"d"),0) -> 0 | AA71: =IF(AND(R71<>"",Q71<>""),DATEDIF(Q71,R71,"d"),0) -> 0 | AB71: =IF(AND(S71<>"",R71<>""),DATEDIF(R71,S71,"d"),0) -> 0 | AC71: =IF(AND(T71<>"",S71<>""),DATEDIF(S71,T71,"d"),0) -> 0 | AE71: =SUM(U71:AC71)/(J71-1) -> 37.75
A72: 56031FPD2271 | D72: 281003677071 | E72: 281003677071 | G72: 167151663071 | I72: 532212665071 | J72: 2 | K72: {=TRANSPOSE(_xlfn._xlws.FILTER(Total_Scrap[Month],(Total_Scrap[Part Number]='traitement UNIQUE'!I72)))} -> 12/2020 | L72: 02/2021 | U72: =IF(AND(L72<>"",K72<>""),DATEDIF(K72,L72,"d"),0) -> 62 | V72: =IF(AND(M72<>"",L72<>""),DATEDIF(L72,M72,"d"),0) -> 0 | W72: =IF(AND(N72<>"",M72<>""),DATEDIF(M72,N72,"d"),0) -> 0 | X72: =IF(AND(O72<>"",N72<>""),DATEDIF(N72,O72,"d"),0) -> 0 | Y72: =IF(AND(P72<>"",O72<>""),DATEDIF(O72,P72,"d"),0) -> 0 | Z72: =IF(AND(Q72<>"",P72<>""),DATEDIF(P72,Q72,"d"),0) -> 0 | AA72: =IF(AND(R72<>"",Q72<>""),DATEDIF(Q72,R72,"d"),0) -> 0 | AB72: =IF(AND(S72<>"",R72<>""),DATEDIF(R72,S72,"d"),0) -> 0 | AC72: =IF(AND(T72<>"",S72<>""),DATEDIF(S72,T72,"d"),0) -> 0 | AE72: =SUM(U72:AC72)/(J72-1) -> 62
A73: 574502663171 | D73: 56310F229071 | E73: 56310F229071 | G73: 58723F318271 | I73: 56190F220071 | J73: 4 | K73: {=TRANSPOSE(_xlfn._xlws.FILTER(Total_Scrap[Month],(Total_Scrap[Part Number]='traitement UNIQUE'!I73)))} -> 01/2021 | L73: 06/2021 | M73: 06/2021 | N73: 06/2021 | U73: =IF(AND(L73<>"",K73<>""),DATEDIF(K73,L73,"d"),0) -> 151 | V73: =IF(AND(M73<>"",L73<>""),DATEDIF(L73,M73,"d"),0) -> 0 | W73: =IF(AND(N73<>"",M73<>""),DATEDIF(M73,N73,"d"),0) -> 0 | X73: =IF(AND(O73<>"",N73<>""),DATEDIF(N73,O73,"d"),0) -> 0 | Y73: =IF(AND(P73<>"",O73<>""),DATEDIF(O73,P73,"d"),0) -> 0 | Z73: =IF(AND(Q73<>"",P73<>""),DATEDIF(P73,Q73,"d"),0) -> 0 | AA73: =IF(AND(R73<>"",Q73<>""),DATEDIF(Q73,R73,"d"),0) -> 0 | AB73: =IF(AND(S73<>"",R73<>""),DATEDIF(R73,S73,"d"),0) -> 0 | AC73: =IF(AND(T73<>"",S73<>""),DATEDIF(S73,T73,"d"),0) -> 0 | AE73: =SUM(U73:AC73)/(J73-1) -> 50.333333
A74: 281002665171 | D74: 96363F322571 | E74: 96363F322571 | G74: 68147F218071 | I74: 461502661271 | J74: 6 | K74: {=TRANSPOSE(_xlfn._xlws.FILTER(Total_Scrap[Month],(Total_Scrap[Part Number]='traitement UNIQUE'!I74)))} -> 01/2021 | L74: 03/2021 | M74: 03/2021 | N74: 04/2021 | O74: 06/2021 | P74: 06/2021 | U74: =IF(AND(L74<>"",K74<>""),DATEDIF(K74,L74,"d"),0) -> 59 | V74: =IF(AND(M74<>"",L74<>""),DATEDIF(L74,M74,"d"),0) -> 0 | W74: =IF(AND(N74<>"",M74<>""),DATEDIF(M74,N74,"d"),0) -> 31 | X74: =IF(AND(O74<>"",N74<>""),DATEDIF(N74,O74,"d"),0) -> 61 | Y74: =IF(AND(P74<>"",O74<>""),DATEDIF(O74,P74,"d"),0) -> 0 | Z74: =IF(AND(Q74<>"",P74<>""),DATEDIF(P74,Q74,"d"),0) -> 0 | AA74: =IF(AND(R74<>"",Q74<>""),DATEDIF(Q74,R74,"d"),0) -> 0 | AB74: =IF(AND(S74<>"",R74<>""),DATEDIF(R74,S74,"d"),0) -> 0 | AC74: =IF(AND(T74<>"",S74<>""),DATEDIF(S74,T74,"d"),0) -> 0 | AE74: =SUM(U74:AC74)/(J74-1) -> 30.2
A75: 111802665171 | D75: 566532661371 | E75: 566532661371 | G75: 678811132171 | I75: 56031FPD2271 | J75: 2 | K75: {=TRANSPOSE(_xlfn._xlws.FILTER(Total_Scrap[Month],(Total_Scrap[Part Number]='traitement UNIQUE'!I75)))} -> 01/2021 | L75: 05/2021 | U75: =IF(AND(L75<>"",K75<>""),DATEDIF(K75,L75,"d"),0) -> 120 | V75: =IF(AND(M75<>"",L75<>""),DATEDIF(L75,M75,"d"),0) -> 0 | W75: =IF(AND(N75<>"",M75<>""),DATEDIF(M75,N75,"d"),0) -> 0 | X75: =IF(AND(O75<>"",N75<>""),DATEDIF(N75,O75,"d"),0) -> 0 | Y75: =IF(AND(P75<>"",O75<>""),DATEDIF(O75,P75,"d"),0) -> 0 | Z75: =IF(AND(Q75<>"",P75<>""),DATEDIF(P75,Q75,"d"),0) -> 0 | AA75: =IF(AND(R75<>"",Q75<>""),DATEDIF(Q75,R75,"d"),0) -> 0 | AB75: =IF(AND(S75<>"",R75<>""),DATEDIF(R75,S75,"d"),0) -> 0 | AC75: =IF(AND(T75<>"",S75<>""),DATEDIF(S75,T75,"d"),0) -> 0 | AE75: =SUM(U75:AC75)/(J75-1) -> 120
A76: #N/A | D76: 23342F231071 | E76: 23342F231071 | G76: 566512660071 | I76: 574502663171 | J76: 2 | K76: {=TRANSPOSE(_xlfn._xlws.FILTER(Total_Scrap[Month],(Total_Scrap[Part Number]='traitement UNIQUE'!I76)))} -> 02/2021 | L76: 03/2021 | U76: =IF(AND(L76<>"",K76<>""),DATEDIF(K76,L76,"d"),0) -> 28 | V76: =IF(AND(M76<>"",L76<>""),DATEDIF(L76,M76,"d"),0) -> 0 | W76: =IF(AND(N76<>"",M76<>""),DATEDIF(M76,N76,"d"),0) -> 0 | X76: =IF(AND(O76<>"",N76<>""),DATEDIF(N76,O76,"d"),0) -> 0 | Y76: =IF(AND(P76<>"",O76<>""),DATEDIF(O76,P76,"d"),0) -> 0 | Z76: =IF(AND(Q76<>"",P76<>""),DATEDIF(P76,Q76,"d"),0) -> 0 | AA76: =IF(AND(R76<>"",Q76<>""),DATEDIF(Q76,R76,"d"),0) -> 0 | AB76: =IF(AND(S76<>"",R76<>""),DATEDIF(R76,S76,"d"),0) -> 0 | AC76: =IF(AND(T76<>"",S76<>""),DATEDIF(S76,T76,"d"),0) -> 0 | AE76: =SUM(U76:AC76)/(J76-1) -> 28
A77: #N/A | D77: 56110F218071 | E77: 56110F218071 | G77: 537462665171 | I77: 281002665171 | J77: 2 | K77: {=TRANSPOSE(_xlfn._xlws.FILTER(Total_Scrap[Month],(Total_Scrap[Part Number]='traitement UNIQUE'!I77)))} -> 03/2021 | L77: 03/2021 | U77: =IF(AND(L77<>"",K77<>""),DATEDIF(K77,L77,"d"),0) -> 0 | V77: =IF(AND(M77<>"",L77<>""),DATEDIF(L77,M77,"d"),0) -> 0 | W77: =IF(AND(N77<>"",M77<>""),DATEDIF(M77,N77,"d"),0) -> 0 | X77: =IF(AND(O77<>"",N77<>""),DATEDIF(N77,O77,"d"),0) -> 0 | Y77: =IF(AND(P77<>"",O77<>""),DATEDIF(O77,P77,"d"),0) -> 0 | Z77: =IF(AND(Q77<>"",P77<>""),DATEDIF(P77,Q77,"d"),0) -> 0 | AA77: =IF(AND(R77<>"",Q77<>""),DATEDIF(Q77,R77,"d"),0) -> 0 | AB77: =IF(AND(S77<>"",R77<>""),DATEDIF(R77,S77,"d"),0) -> 0 | AC77: =IF(AND(T77<>"",S77<>""),DATEDIF(S77,T77,"d"),0) -> 0 | AE77: =SUM(U77:AC77)/(J77-1) -> 0
A78: #N/A | D78: 25750FS2CK71 | E78: 25750FS2CK71 | G78: 90407F210771 | I78: 111802665171 | J78: 2 | K78: {=TRANSPOSE(_xlfn._xlws.FILTER(Total_Scrap[Month],(Total_Scrap[Part Number]='traitement UNIQUE'!I78)))} -> 03/2021 | L78: 06/2021 | U78: =IF(AND(L78<>"",K78<>""),DATEDIF(K78,L78,"d"),0) -> 92 | V78: =IF(AND(M78<>"",L78<>""),DATEDIF(L78,M78,"d"),0) -> 0 | W78: =IF(AND(N78<>"",M78<>""),DATEDIF(M78,N78,"d"),0) -> 0 | X78: =IF(AND(O78<>"",N78<>""),DATEDIF(N78,O78,"d"),0) -> 0 | Y78: =IF(AND(P78<>"",O78<>""),DATEDIF(O78,P78,"d"),0) -> 0 | Z78: =IF(AND(Q78<>"",P78<>""),DATEDIF(P78,Q78,"d"),0) -> 0 | AA78: =IF(AND(R78<>"",Q78<>""),DATEDIF(Q78,R78,"d"),0) -> 0 | AB78: =IF(AND(S78<>"",R78<>""),DATEDIF(R78,S78,"d"),0) -> 0 | AC78: =IF(AND(T78<>"",S78<>""),DATEDIF(S78,T78,"d"),0) -> 0 | AE78: =SUM(U78:AC78)/(J78-1) -> 92
A79: #N/A | D79: 235102661071 | E79: 235102661071 | G79: 38330F231271 | I79: 163612386071 | J79: 2 | K79: {=TRANSPOSE(_xlfn._xlws.FILTER(Total_Scrap[Month],(Total_Scrap[Part Number]='traitement UNIQUE'!I79)))} -> 05/2021 | L79: 06/2021 | U79: =IF(AND(L79<>"",K79<>""),DATEDIF(K79,L79,"d"),0) -> 31 | V79: =IF(AND(M79<>"",L79<>""),DATEDIF(L79,M79,"d"),0) -> 0 | W79: =IF(AND(N79<>"",M79<>""),DATEDIF(M79,N79,"d"),0) -> 0 | X79: =IF(AND(O79<>"",N79<>""),DATEDIF(N79,O79,"d"),0) -> 0 | Y79: =IF(AND(P79<>"",O79<>""),DATEDIF(O79,P79,"d"),0) -> 0 | Z79: =IF(AND(Q79<>"",P79<>""),DATEDIF(P79,Q79,"d"),0) -> 0 | AA79: =IF(AND(R79<>"",Q79<>""),DATEDIF(Q79,R79,"d"),0) -> 0 | AB79: =IF(AND(S79<>"",R79<>""),DATEDIF(R79,S79,"d"),0) -> 0 | AC79: =IF(AND(T79<>"",S79<>""),DATEDIF(S79,T79,"d"),0) -> 0 | AE79: =SUM(U79:AC79)/(J79-1) -> 31
A80: #N/A | D80: 235102661171 | E80: 235102661171 | G80: 17460UM010 | I80: 56680F218101 | J80: 2 | K80: {=TRANSPOSE(_xlfn._xlws.FILTER(Total_Scrap[Month],(Total_Scrap[Part Number]='traitement UNIQUE'!I80)))} -> 06/2021 | L80: 06/2021 | U80: =IF(AND(L80<>"",K80<>""),DATEDIF(K80,L80,"d"),0) -> 0 | V80: =IF(AND(M80<>"",L80<>""),DATEDIF(L80,M80,"d"),0) -> 0 | W80: =IF(AND(N80<>"",M80<>""),DATEDIF(M80,N80,"d"),0) -> 0 | X80: =IF(AND(O80<>"",N80<>""),DATEDIF(N80,O80,"d"),0) -> 0 | Y80: =IF(AND(P80<>"",O80<>""),DATEDIF(O80,P80,"d"),0) -> 0 | Z80: =IF(AND(Q80<>"",P80<>""),DATEDIF(P80,Q80,"d"),0) -> 0 | AA80: =IF(AND(R80<>"",Q80<>""),DATEDIF(Q80,R80,"d"),0) -> 0 | AB80: =IF(AND(S80<>"",R80<>""),DATEDIF(R80,S80,"d"),0) -> 0 | AC80: =IF(AND(T80<>"",S80<>""),DATEDIF(S80,T80,"d"),0) -> 0 | AE80: =SUM(U80:AC80)/(J80-1) -> 0
A81: #N/A | D81: 16420F318071 | E81: 16420F318071 | G81: 38746F231171 | I81: 11111111111 | J81: 2 | K81: {=TRANSPOSE(_xlfn._xlws.FILTER(Total_Scrap[Month],(Total_Scrap[Part Number]='traitement UNIQUE'!I81)))} -> 44713 | L81: 06/2023
A82: #N/A | D82: 566512664071 | E82: 566512664071 | G82: 53233FPA2171
A83: #N/A | D83: 518912675071 | E83: 518912675071 | G83: 17103F218071
A84: #N/A | D84: 23349F231071 | E84: 23349F231071 | G84: 53220F218071
A85: #N/A | D85: 18450UM020 | E85: 18450UM020 | G85: 58508F318071
A86: #N/A | D86: 23702FP24271 | E86: 23702FP24271 | G86: 678202664171
A87: #N/A | D87: 56013F231071 | E87: 56013F231071 | G87: 566302660171
A88: #N/A | D88: 56011F231071 | E88: 56011F231071 | G88: 45672F331071
A89: #N/A | D89: 56315FSASD71 | E89: 56315FSASD71 | G89: 1A28085
A90: #N/A | D90: 175202662071 | E90: 175202662071 | G90: 288013665071
A91: #N/A | D91: 56210F225071 | E91: 56210F225071 | G91: 563063665071
A92: #N/A | D92: 56231F231071 | E92: 56231F231071 | G92: 56606F218171
A93: #N/A | D93: 65600FSL4C71 | E93: 65600FSL4C71 | G93: 56316FSYN971
... A176: #N/A | D176: 571501662171 | E176: 571501662171 | G176: 58741F231071
A177: #N/A | D177: 461502661271 | E177: 461502661271
A178: #N/A | D178: 585111662071 | E178: 585111662071
A179: #N/A | D179: 56031FPD2271 | E179: 56031FPD2271
A180: #N/A | D180: 177402665071 | E180: 177402665071
A181: #N/A | D181: 56530FPD2071 | E181: 56530FPD2071
A182: #N/A | D182: 57510F231071 | E182: 57510F231071
...

Sheet SYNTHESE
A1: Month | B1: Team Leader | C1: Name | D1: FNC / SMR | E1: Part Number | F1: Part Name | G1: Qty | H1: Part cost € | I1: Handling cost € | J1: TOTAL Amount € | K1: Comments | L1: facteur récurrence | M1: Criticité | N1: Date prise de contre-mesure | O1: contre-mesures prises | P1: Date 6 mois après contre-mesures | S1: =TODAY() -> 44397
A2: ='total Scrap'!A2 -> 04/2020 | B2: ='total Scrap'!B2 -> 72999 | C2: ='total Scrap'!C2 -> B. Metreau | D2: ='total Scrap'!D2 -> 95402 | E2: ='total Scrap'!E2 -> 57110F118271 | F2: ='total Scrap'!F2 -> METER ASSY, COMBINATION | G2: ='total Scrap'!G2 -> 1 | H2: ='total Scrap'!H2 -> 34.575077 | ... K2: ='total Scrap'!K2 -> PIÈCE TOMBÉE LORS DU MONTAGE SUR CHAINE (PIECE CASSÉE) | L2: =IF(COUNTIFS($E$2:$E$437,E2)=1,1) -> 1 | M2: =_xlfn.IFS(Tableau6[[#This Row],[facteur récurrence]]>32,"CRITIQUE",Tableau6[[#This Row],[facteur récurrence]]<=8,"RAS",Tableau6[[#This Row],[facteur récurrence]]<=16,"ATTENTION",Tableau6[[#This Row],[facteur récurrence]]<=32,"DANGER") -> RAS | P2: =N2+6*30+3 -> 183
A3: ='total Scrap'!A3 -> 04/2020 | B3: ='total Scrap'!B3 -> 72007 | C3: ='total Scrap'!C3 -> JP Dupas | D3: ='total Scrap'!D3 -> 95403 | E3: ='total Scrap'!E3 -> 57413F231071 | F3: ='total Scrap'!F3 -> BOX ASSY, KEYPAD, LOG-ON | G3: ='total Scrap'!G3 -> 1 | H3: ='total Scrap'!H3 -> 38.46 | ... K3: ='total Scrap'!K3 -> MQ PIÈCE POUR VISSER LE DIJICODE (DÉMONTÉ PAR LA DES) | L3: =IF(COUNTIFS($E$2:$E$437,E3)=1,1) -> FALSE | M3: =_xlfn.IFS(Tableau6[[#This Row],[facteur récurrence]]>32,"CRITIQUE",Tableau6[[#This Row],[facteur récurrence]]<=8,"RAS",Tableau6[[#This Row],[facteur récurrence]]<=16,"ATTENTION",Tableau6[[#This Row],[facteur récurrence]]<=32,"DANGER") -> CRITIQUE | P3: =N3+6*30+3 -> 183
A4: ='total Scrap'!A4 -> 04/2020 | B4: ='total Scrap'!B4 -> 72999 | C4: ='total Scrap'!C4 -> B. Metreau | D4: ='total Scrap'!D4 -> 95504 | E4: ='total Scrap'!E4 -> 56232F231171 | F4: ='total Scrap'!F4 -> WIRE | G4: ='total Scrap'!G4 -> 1 | H4: ='total Scrap'!H4 -> 10.93 | ... K4: ='total Scrap'!K4 -> PRISE ARRACHÉE DÉFAUT NOTÉ SUR LA CHECKLIST ASSEMBLAGE | L4: =IF(COUNTIFS($E$2:$E$437,E4)=1,1) -> 1 | M4: =_xlfn.IFS(Tableau6[[#This Row],[facteur récurrence]]>32,"CRITIQUE",Tableau6[[#This Row],[facteur récurrence]]<=8,"RAS",Tableau6[[#This Row],[facteur récurrence]]<=16,"ATTENTION",Tableau6[[#This Row],[facteur récurrence]]<=32,"DANGER") -> RAS | P4: =N4+6*30+3 -> 183
A5: ='total Scrap'!A5 -> 05/2020 | B5: ='total Scrap'!B5 -> 72007 | C5: ='total Scrap'!C5 -> JP Dupas | D5: ='total Scrap'!D5 -> 95054 | E5: ='total Scrap'!E5 -> 52212FS2LC71 | F5: ='total Scrap'!F5 -> CARPET BOX AIR COOLER | G5: ='total Scrap'!G5 -> 1 | H5: ='total Scrap'!H5 -> 138 | ... K5: ='total Scrap'!K5 -> HABILLAGE ABIMÉ EN ACTIONNANT LE SIÈGE | L5: =IF(COUNTIFS($E$2:$E$437,E5)=1,1) -> FALSE | M5: =_xlfn.IFS(Tableau6[[#This Row],[facteur récurrence]]>32,"CRITIQUE",Tableau6[[#This Row],[facteur récurrence]]<=8,"RAS",Tableau6[[#This Row],[facteur récurrence]]<=16,"ATTENTION",Tableau6[[#This Row],[facteur récurrence]]<=32,"DANGER") -> CRITIQUE | P5: =N5+6*30+3 -> 183
A6: ='total Scrap'!A6 -> 05/2020 | B6: ='total Scrap'!B6 -> 72999 | C6: ='total Scrap'!C6 -> B. Metreau | D6: ='total Scrap'!D6 -> 95703 | E6: ='total Scrap'!E6 -> 56031F222671 | F6: ='total Scrap'!F6 -> WIRE, SIDE LH | G6: ='total Scrap'!G6 -> 2 | H6: ='total Scrap'!H6 -> 67.92 | ... K6: ='total Scrap'!K6 -> PRISE BLANCHE ALIM MINI-LEVER HS | L6: =IF(COUNTIFS($E$2:$E$437,E6)=1,1) -> 1 | M6: =_xlfn.IFS(Tableau6[[#This Row],[facteur récurrence]]>32,"CRITIQUE",Tableau6[[#This Row],[facteur récurrence]]<=8,"RAS",Tableau6[[#This Row],[facteur récurrence]]<=16,"ATTENTION",Tableau6[[#This Row],[facteur récurrence]]<=32,"DANGER") -> RAS | P6: =N6+6*30+3 -> 183
A7: ='total Scrap'!A7 -> 05/2020 | B7: ='total Scrap'!B7 -> 73082 | C7: ='total Scrap'!C7 -> C. Poli Marchetti | D7: ='total Scrap'!D7 -> 95709 | E7: ='total Scrap'!E7 -> 56062F221271 | F7: ='total Scrap'!F7 -> WIRE, HOOD SUB NO.1 | G7: ='total Scrap'!G7 -> 1 | H7: ='total Scrap'!H7 -> 46.85 | ... K7: ='total Scrap'!K7 -> CONNECTEUR ALIM DU SIÈGE HS | L7: =IF(COUNTIFS($E$2:$E$437,E7)=1,1) -> 1 | M7: =_xlfn.IFS(Tableau6[[#This Row],[facteur récurrence]]>32,"CRITIQUE",Tableau6[[#This Row],[facteur récurrence]]<=8,"RAS",Tableau6[[#This Row],[facteur récurrence]]<=16,"ATTENTION",Tableau6[[#This Row],[facteur récurrence]]<=32,"DANGER") -> RAS | P7: =N7+6*30+3 -> 183
A8: ='total Scrap'!A8 -> 05/2020 | B8: ='total Scrap'!B8 -> 72062 | C8: ='total Scrap'!C8 -> P. Sauvaget | D8: ='total Scrap'!D8 -> 95708 | E8: ='total Scrap'!E8 -> 56021F219471 | F8: ='total Scrap'!F8 -> WIRE, ENGINE | G8: ='total Scrap'!G8 -> 1 | H8: ='total Scrap'!H8 -> 46.77 | ... K8: ='total Scrap'!K8 -> SUPPORT FUSIBLES HS | L8: =IF(COUNTIFS($E$2:$E$437,E8)=1,1) -> FALSE | M8: =_xlfn.IFS(Tableau6[[#This Row],[facteur récurrence]]>32,"CRITIQUE",Tableau6[[#This Row],[facteur récurrence]]<=8,"RAS",Tableau6[[#This Row],[facteur récurrence]]<=16,"ATTENTION",Tableau6[[#This Row],[facteur récurrence]]<=32,"DANGER") -> CRITIQUE | P8: =N8+6*30+3 -> 183
A9: ='total Scrap'!A9 -> 05/2020 | B9: ='total Scrap'!B9 -> 72062 | C9: ='total Scrap'!C9 -> P. Sauvaget | D9: ='total Scrap'!D9 -> 95707 | E9: ='total Scrap'!E9 -> 56021F220271 | F9: ='total Scrap'!F9 -> WIRE, ENGINE | G9: ='total Scrap'!G9 -> 1 | H9: ='total Scrap'!H9 -> 24.82 | ... K9: ='total Scrap'!K9 -> VIS DE FIXATION FAISCEAU SUR FUSIBLE HS | L9: =IF(COUNTIFS($E$2:$E$437,E9)=1,1) -> FALSE | M9: =_xlfn.IFS(Tableau6[[#This Row],[facteur récurrence]]>32,"CRITIQUE",Tableau6[[#This Row],[facteur récurrence]]<=8,"RAS",Tableau6[[#This Row],[facteur récurrence]]<=16,"ATTENTION",Tableau6[[#This Row],[facteur récurrence]]<=32,"DANGER") -> CRITIQUE | P9: =N9+6*30+3 -> 183
A10: ='total Scrap'!A10 -> 05/2020 | B10: ='total Scrap'!B10 -> 73082 | C10: ='total Scrap'!C10 -> C. Poli Marchetti | D10: ='total Scrap'!D10 -> 95763 | E10: ='total Scrap'!E10 -> 55537F318471 | F10: ='total Scrap'!F10 -> COVER, INNER, DOOR, RH, UPR | G10: ='total Scrap'!G10 -> 1 | H10: ='total Scrap'!H10 -> 13.87 | ... K10: ='total Scrap'!K10 -> CAPITONNAGE COUPÉ | L10: =IF(COUNTIFS($E$2:$E$437,E10)=1,1) -> FALSE | M10: =_xlfn.IFS(Tableau6[[#This Row],[facteur récurrence]]>32,"CRITIQUE",Tableau6[[#This Row],[facteur récurrence]]<=8,"RAS",Tableau6[[#This Row],[facteur récurrence]]<=16,"ATTENTION",Tableau6[[#This Row],[facteur récurrence]]<=32,"DANGER") -> CRITIQUE | P10: =N10+6*30+3 -> 183
A11: ='total Scrap'!A11 -> 05/2020 | B11: ='total Scrap'!B11 -> 72999 | C11: ='total Scrap'!C11 -> B. Metreau | D11: ='total Scrap'!D11 -> 95705 | E11: ='total Scrap'!E11 -> 56062FSU1U71 | F11: ='total Scrap'!F11 -> WIRE HOOD (56062-F2212-71) | G11: ='total Scrap'!G11 -> 1 | H11: ='total Scrap'!H11 -> 13.5 | ... K11: ='total Scrap'!K11 -> FIL COUPÉ SUR CHAINE | L11: =IF(COUNTIFS($E$2:$E$437,E11)=1,1) -> 1 | M11: =_xlfn.IFS(Tableau6[[#This Row],[facteur récurrence]]>32,"CRITIQUE",Tableau6[[#This Row],[facteur récurrence]]<=8,"RAS",Tableau6[[#This Row],[facteur récurrence]]<=16,"ATTENTION",Tableau6[[#This Row],[facteur récurrence]]<=32,"DANGER") -> RAS | P11: =N11+6*30+3 -> 183
A12: ='total Scrap'!A12 -> 06/2020 | B12: ='total Scrap'!B12 -> 72999 | C12: ='total Scrap'!C12 -> B. Metreau | D12: ='total Scrap'!D12 -> 95952 | E12: ='total Scrap'!E12 -> 175702660371 | F12: ='total Scrap'!F12 -> MUFFLER ASSY, CATALYTIC | G12: ='total Scrap'!G12 -> 1 | H12: ='total Scrap'!H12 -> 179.91 | ... K12: ='total Scrap'!K12 -> FILETAGE HS LORS DU SERRAGE 078 225897 | L12: =IF(COUNTIFS($E$2:$E$437,E12)=1,1) -> 1 | M12: =_xlfn.IFS(Tableau6[[#This Row],[facteur récurrence]]>32,"CRITIQUE",Tableau6[[#This Row],[facteur récurrence]]<=8,"RAS",Tableau6[[#This Row],[facteur récurrence]]<=16,"ATTENTION",Tableau6[[#This Row],[facteur récurrence]]<=32,"DANGER") -> RAS | P12: =N12+6*30+3 -> 183
A13: ='total Scrap'!A13 -> 06/2020 | B13: ='total Scrap'!B13 -> 73082 | C13: ='total Scrap'!C13 -> C. Poli Marchetti | D13: ='total Scrap'!D13 -> 95619 | E13: ='total Scrap'!E13 -> 16420F221171 | F13: ='total Scrap'!F13 -> RADIATOR ASSY | G13: ='total Scrap'!G13 -> 1 | H13: ='total Scrap'!H13 -> 71.35 | ... K13: ='total Scrap'!K13 -> COUPS SUR RADIATEUR | L13: =IF(COUNTIFS($E$2:$E$437,E13)=1,1) -> 1 | M13: =_xlfn.IFS(Tableau6[[#This Row],[facteur récurrence]]>32,"CRITIQUE",Tableau6[[#This Row],[facteur récurrence]]<=8,"RAS",Tableau6[[#This Row],[facteur récurrence]]<=16,"ATTENTION",Tableau6[[#This Row],[facteur récurrence]]<=32,"DANGER") -> RAS | P13: =N13+6*30+3 -> 183
... A47: ='total Scrap'!A47 -> 07/2020 | B47: ='total Scrap'!B47 -> 73082 | C47: ='total Scrap'!C47 -> C. Poli Marchetti | D47: ='total Scrap'!D47 -> 96518 | E47: ='total Scrap'!E47 -> 56031FPD2071 | F47: ='total Scrap'!F47 -> WIRE, INTERFACE | G47: ='total Scrap'!G47 -> 1 | H47: ='total Scrap'!H47 -> 33.23 | ... K47: ='total Scrap'!K47 -> PRISE CASSÉE | L47: =IF(COUNTIFS($E$2:$E$437,E47)=1,1) -> 1 | M47: =_xlfn.IFS(Tableau6[[#This Row],[facteur récurrence]]>32,"CRITIQUE",Tableau6[[#This Row],[facteur récurrence]]<=8,"RAS",Tableau6[[#This Row],[facteur récurrence]]<=16,"ATTENTION",Tableau6[[#This Row],[facteur récurrence]]<=32,"DANGER") -> RAS | P47: =N47+6*30+3 -> 183
A48: ='total Scrap'!A58 -> 07/2020 | B48: ='total Scrap'!B58 -> 72999 | C48: ='total Scrap'!C58 -> B. Metreau | D48: ='total Scrap'!D58 -> 95962 | E48: ='total Scrap'!E58 -> 163612660071 | F48: ='total Scrap'!F58 -> FAN | G48: ='total Scrap'!G58 -> 1 | H48: ='total Scrap'!H58 -> 16.41 | ... K48: ='total Scrap'!K58 -> HÉLICE DE VENTILATEUR CASSÉE LORS DE LA POSE DU CHASSIS | L48: =IF(COUNTIFS($E$2:$E$437,E48)=1,1) -> FALSE | M48: =_xlfn.IFS(Tableau6[[#This Row],[facteur récurrence]]>32,"CRITIQUE",Tableau6[[#This Row],[facteur récurrence]]<=8,"RAS",Tableau6[[#This Row],[facteur récurrence]]<=16,"ATTENTION",Tableau6[[#This Row],[facteur récurrence]]<=32,"DANGER") -> CRITIQUE | P48: =N48+6*30+3 -> 183
A49: ='total Scrap'!A59 -> 07/2020 | B49: ='total Scrap'!B59 -> 72999 | C49: ='total Scrap'!C59 -> B. Metreau | D49: ='total Scrap'!D59 -> 95960 | E49: ='total Scrap'!E59 -> 163612660071 | F49: ='total Scrap'!F59 -> FAN | G49: ='total Scrap'!G59 -> 1 | H49: ='total Scrap'!H59 -> 16.41 | ... K49: ='total Scrap'!K59 -> 647 225365 | L49: =IF(COUNTIFS($E$2:$E$437,E49)=1,1) -> FALSE | M49: =_xlfn.IFS(Tableau6[[#This Row],[facteur récurrence]]>32,"CRITIQUE",Tableau6[[#This Row],[facteur récurrence]]<=8,"RAS",Tableau6[[#This Row],[facteur récurrence]]<=16,"ATTENTION",Tableau6[[#This Row],[facteur récurrence]]<=32,"DANGER") -> CRITIQUE | P49: =N49+6*30+3 -> 183
A50: ='total Scrap'!A50 -> 07/2020 | B50: ='total Scrap'!B50 -> 72999 | C50: ='total Scrap'!C50 -> B. Metreau | D50: ='total Scrap'!D50 -> 95623 | E50: ='total Scrap'!E50 -> 68066F311171 | F50: ='total Scrap'!F50 -> PIPE SUB-ASSY, INNER MAST | G50: ='total Scrap'!G50 -> 1 | H50: ='total Scrap'!H50 -> 31.42 | ... K50: ='total Scrap'!K50 -> FLEXIBLE SERRÉ DE TRAVERS FILETAGE HS | L50: =IF(COUNTIFS($E$2:$E$437,E50)=1,1) -> 1 | M50: =_xlfn.IFS(Tableau6[[#This Row],[facteur récurrence]]>32,"CRITIQUE",Tableau6[[#This Row],[facteur récurrence]]<=8,"RAS",Tableau6[[#This Row],[facteur récurrence]]<=16,"ATTENTION",Tableau6[[#This Row],[facteur récurrence]]<=32,"DANGER") -> RAS | P50: =N50+6*30+3 -> 183
A51: ='total Scrap'!A51 -> 07/2020 | B51: ='total Scrap'!B51 -> 73082 | C51: ='total Scrap'!C51 -> C. Poli Marchetti | D51: ='total Scrap'!D51 -> 95624 | E51: ='total Scrap'!E51 -> 56031F231071 | F51: ='total Scrap'!F51 -> WIRE, SIDE LH | G51: ='total Scrap'!G51 -> 1 | H51: ='total Scrap'!H51 -> 30.3 | ... K51: ='total Scrap'!K51 -> PRISE CASSÉE AINSI QUE LE CLIPS | L51: =IF(COUNTIFS($E$2:$E$437,E51)=1,1) -> FALSE | M51: =_xlfn.IFS(Tableau6[[#This Row],[facteur récurrence]]>32,"CRITIQUE",Tableau6[[#This Row],[facteur récurrence]]<=8,"RAS",Tableau6[[#This Row],[facteur récurrence]]<=16,"ATTENTION",Tableau6[[#This Row],[facteur récurrence]]<=32,"DANGER") -> CRITIQUE | P51: =N51+6*30+3 -> 183
A52: ='total Scrap'!A52 -> 07/2020 | B52: ='total Scrap'!B52 -> 73082 | C52: ='total Scrap'!C52 -> C. Poli Marchetti | D52: ='total Scrap'!D52 -> 96532 | E52: ='total Scrap'!E52 -> 68606F214171 | F52: ='total Scrap'!F52 -> PIPE SUB-ASSY, INNER MAST | G52: ='total Scrap'!G52 -> 1 | H52: ='total Scrap'!H52 -> 29.39 | ... K52: ='total Scrap'!K52 -> IMPURETÉ SUR LE CÔNE (FUITE) | L52: =IF(COUNTIFS($E$2:$E$437,E52)=1,1) -> 1 | M52: =_xlfn.IFS(Tableau6[[#This Row],[facteur récurrence]]>32,"CRITIQUE",Tableau6[[#This Row],[facteur récurrence]]<=8,"RAS",Tableau6[[#This Row],[facteur récurrence]]<=16,"ATTENTION",Tableau6[[#This Row],[facteur récurrence]]<=32,"DANGER") -> RAS | P52: =N52+6*30+3 -> 183
A53: ='total Scrap'!A53 -> 07/2020 | B53: ='total Scrap'!B53 -> 73082 | C53: ='total Scrap'!C53 -> C. Poli Marchetti | D53: ='total Scrap'!D53 -> 95552 | E53: ='total Scrap'!E53 -> 678901132071 | F53: ='total Scrap'!F53 -> PAD ASSY, ARM | G53: ='total Scrap'!G53 -> 1 | H53: ='total Scrap'!H53 -> 25.66 | ... K53: ='total Scrap'!K53 -> COUPS 705 225985 | L53: =IF(COUNTIFS($E$2:$E$437,E53)=1,1) -> 1 | M53: =_xlfn.IFS(Tableau6[[#This Row],[facteur récurrence]]>32,"CRITIQUE",Tableau6[[#This Row],[facteur récurrence]]<=8,"RAS",Tableau6[[#This Row],[facteur récurrence]]<=16,"ATTENTION",Tableau6[[#This Row],[facteur récurrence]]<=32,"DANGER") -> RAS | P53: =N53+6*30+3 -> 183
A54: ='total Scrap'!A54 -> 07/2020 | B54: ='total Scrap'!B54 -> 73082 | C54: ='total Scrap'!C54 -> C. Poli Marchetti | D54: ='total Scrap'!D54 -> 95626 | E54: ='total Scrap'!E54 -> 53220F231071 | F54: ='total Scrap'!F54 -> PANEL ASSY, INSTRUMENT, LH | G54: ='total Scrap'!G54 -> 1 | H54: ='total Scrap'!H54 -> 21.31 | ... K54: ='total Scrap'!K54 -> RAYÉ | L54: =IF(COUNTIFS($E$2:$E$437,E54)=1,1) -> 1 | M54: =_xlfn.IFS(Tableau6[[#This Row],[facteur récurrence]]>32,"CRITIQUE",Tableau6[[#This Row],[facteur récurrence]]<=8,"RAS",Tableau6[[#This Row],[facteur récurrence]]<=16,"ATTENTION",Tableau6[[#This Row],[facteur récurrence]]<=32,"DANGER") -> RAS | P54: =N54+6*30+3 -> 183
A55: ='total Scrap'!A55 -> 07/2020 | B55: ='total Scrap'!B55 -> 72062 | C55: ='total Scrap'!C55 -> P. Sauvaget | D55: ='total Scrap'!D55 -> 95629 | E55: ='total Scrap'!E55 -> 23507FPA2171 | F55: ='total Scrap'!F55 -> WIRE, SENSOR DOPPLER (23510FPA2071 | G55: ='total Scrap'!G55 -> 1 | H55: ='total Scrap'!H55 -> 19.04 | ... K55: ='total Scrap'!K55 -> FILS COUPÉS EN COUPANT LE COLLIER | L55: =IF(COUNTIFS($E$2:$E$437,E55)=1,1) -> FALSE | M55: =_xlfn.IFS(Tableau6[[#This Row],[facteur récurrence]]>32,"CRITIQUE",Tableau6[[#This Row],[facteur récurrence]]<=8,"RAS",Tableau6[[#This Row],[facteur récurrence]]<=16,"ATTENTION",Tableau6[[#This Row],[facteur récurrence]]<=32,"DANGER") -> CRITIQUE | P55: =N55+6*30+3 -> 183
A56: ='total Scrap'!A56 -> 07/2020 | B56: ='total Scrap'!B56 -> 73082 | C56: ='total Scrap'!C56 -> C. Poli Marchetti | D56: ='total Scrap'!D56 -> 96517 | E56: ='total Scrap'!E56 -> 565013691071 | F56: ='total Scrap'!F56 -> BRACKET SUB-ASSY, HEAD LAMP, RH | G56: ='total Scrap'!G56 -> 1 | H56: ='total Scrap'!H56 -> 18.5 | ... K56: ='total Scrap'!K56 -> ABIMÉ 547 225128 | L56: =IF(COUNTIFS($E$2:$E$437,E56)=1,1) -> 1 | M56: =_xlfn.IFS(Tableau6[[#This Row],[facteur récurrence]]>32,"CRITIQUE",Tableau6[[#This Row],[facteur récurrence]]<=8,"RAS",Tableau6[[#This Row],[facteur récurrence]]<=16,"ATTENTION",Tableau6[[#This Row],[facteur récurrence]]<=32,"DANGER") -> RAS | P56: =N56+6*30+3 -> 183
A57: ='total Scrap'!A57 -> 07/2020 | B57: ='total Scrap'!B57 -> 72999 | C57: ='total Scrap'!C57 -> B. Metreau | D57: ='total Scrap'!D57 -> 95954 | E57: ='total Scrap'!E57 -> 175102662071 | F57: ='total Scrap'!F57 -> MUFFLER ASSY | G57: ='total Scrap'!G57 -> 1 | H57: ='total Scrap'!H57 -> 17.05 | ... K57: ='total Scrap'!K57 -> FILETAGE HS 352 226060 | L57: =IF(COUNTIFS($E$2:$E$437,E57)=1,1) -> FALSE | M57: =_xlfn.IFS(Tableau6[[#This Row],[facteur récurrence]]>32,"CRITIQUE",Tableau6[[#This Row],[facteur récurrence]]<=8,"RAS",Tableau6[[#This Row],[facteur récurrence]]<=16,"ATTENTION",Tableau6[[#This Row],[facteur récurrence]]<=32,"DANGER") -> CRITIQUE | P57: =N57+6*30+3 -> 183
A58: ='total Scrap'!A180 -> 11/2020 | B58: ='total Scrap'!B180 -> 73082 | C58: ='total Scrap'!C180 -> C. Poli Marchetti | D58: ='total Scrap'!D180 -> 95745 | E58: ='total Scrap'!E180 -> 163612660071 | F58: ='total Scrap'!F180 -> FAN | G58: ='total Scrap'!G180 -> 1 | H58: ='total Scrap'!H180 -> 16.41 | ... K58: ='total Scrap'!K180 -> HÉLICE CASSÉE 642 | L58: =IF(COUNTIFS($E$2:$E$437,E58)=1,1) -> FALSE | M58: =_xlfn.IFS(Tableau6[[#This Row],[facteur récurrence]]>32,"CRITIQUE",Tableau6[[#This Row],[facteur récurrence]]<=8,"RAS",Tableau6[[#This Row],[facteur récurrence]]<=16,"ATTENTION",Tableau6[[#This Row],[facteur récurrence]]<=32,"DANGER") -> CRITIQUE | P58: =N58+6*30+3 -> 183
A59: ='total Scrap'!A215 -> 12/2020 | B59: ='total Scrap'!B215 -> 72999 | C59: ='total Scrap'!C215 -> B. Metreau | D59: ='total Scrap'!D215 -> 95995 | E59: ='total Scrap'!E215 -> 163612660071 | F59: ='total Scrap'!F215 -> FAN | G59: ='total Scrap'!G215 -> 1 | H59: ='total Scrap'!H215 -> 16.41 | ... K59: ='total Scrap'!K215 -> CASSÉE EN METTANT LE CHASSIS 235 | L59: =IF(COUNTIFS($E$2:$E$437,E59)=1,1) -> FALSE | M59: =_xlfn.IFS(Tableau6[[#This Row],[facteur récurrence]]>32,"CRITIQUE",Tableau6[[#This Row],[facteur récurrence]]<=8,"RAS",Tableau6[[#This Row],[facteur récurrence]]<=16,"ATTENTION",Tableau6[[#This Row],[facteur récurrence]]<=32,"DANGER") -> CRITIQUE | P59: =N59+6*30+3 -> 183
A60: ='total Scrap'!A60 -> 07/2020 | B60: ='total Scrap'!B60 -> 73082 | C60: ='total Scrap'!C60 -> C. Poli Marchetti | D60: ='total Scrap'!D60 -> 96504 | E60: ='total Scrap'!E60 -> 177002660071 | F60: ='total Scrap'!F60 -> CLEANER ASSY, AIR W/ELEMENT | G60: ='total Scrap'!G60 -> 1 | H60: ='total Scrap'!H60 -> 16.32 | ... K60: ='total Scrap'!K60 -> RAYÉ 341 226110 | L60: =IF(COUNTIFS($E$2:$E$437,E60)=1,1) -> 1 | M60: =_xlfn.IFS(Tableau6[[#This Row],[facteur récurrence]]>32,"CRITIQUE",Tableau6[[#This Row],[facteur récurrence]]<=8,"RAS",Tableau6[[#This Row],[facteur récurrence]]<=16,"ATTENTION",Tableau6[[#This Row],[facteur récurrence]]<=32,"DANGER") -> RAS | P60: =N60+6*30+3 -> 183
A61: ='total Scrap'!A61 -> 07/2020 | B61: ='total Scrap'!B61 -> 73082 | C61: ='total Scrap'!C61 -> C. Poli Marchetti | D61: ='total Scrap'!D61 -> 95630 | E61: ='total Scrap'!E61 -> 53220F219071 | F61: ='total Scrap'!F61 -> PANEL ASSY,INSTRUMENT,LH | G61: ='total Scrap'!G61 -> 1 | H61: ='total Scrap'!H61 -> 15.8966 | ... K61: ='total Scrap'!K61 -> RAYÉ | L61: =IF(COUNTIFS($E$2:$E$437,E61)=1,1) -> FALSE | M61: =_xlfn.IFS(Tableau6[[#This Row],[facteur récurrence]]>32,"CRITIQUE",Tableau6[[#This Row],[facteur récurrence]]<=8,"RAS",Tableau6[[#This Row],[facteur récurrence]]<=16,"ATTENTION",Tableau6[[#This Row],[facteur récurrence]]<=32,"DANGER") -> CRITIQUE | P61: =N61+6*30+3 -> 183
A62: ='total Scrap'!A62 -> 07/2020 | B62: ='total Scrap'!B62 -> 73069 | C62: ='total Scrap'!C62 -> T. Boudard | D62: ='total Scrap'!D62 -> 93611 | E62: ='total Scrap'!E62 -> 2A28007G3 | F62: ='total Scrap'!F62 -> STEP S/A, LH | G62: ='total Scrap'!G62 -> 1 | H62: ='total Scrap'!H62 -> 15.4 | ... K62: ='total Scrap'!K62 -> VIS DE FIXATION CASSÉE LORS DU MONTAGE | L62: =IF(COUNTIFS($E$2:$E$437,E62)=1,1) -> 1 | M62: =_xlfn.IFS(Tableau6[[#This Row],[facteur récurrence]]>32,"CRITIQUE",Tableau6[[#This Row],[facteur récurrence]]<=8,"RAS",Tableau6[[#This Row],[facteur récurrence]]<=16,"ATTENTION",Tableau6[[#This Row],[facteur récurrence]]<=32,"DANGER") -> RAS | P62: =N62+6*30+3 -> 183
A63: ='total Scrap'!A63 -> 07/2020 | B63: ='total Scrap'!B63 -> 73082 | C63: ='total Scrap'!C63 -> C. Poli Marchetti | D63: ='total Scrap'!D63 -> 96529 | E63: ='total Scrap'!E63 -> 38717F121071 | F63: ='total Scrap'!F63 -> HOSE | G63: ='total Scrap'!G63 -> 1 | H63: ='total Scrap'!H63 -> 14.93 | ... K63: ='total Scrap'!K63 -> GAINE FLEXIBLE RAPÉE, TRESSE MÉTALLIQUE APPARENTE | L63: =IF(COUNTIFS($E$2:$E$437,E63)=1,1) -> 1 | M63: =_xlfn.IFS(Tableau6[[#This Row],[facteur récurrence]]>32,"CRITIQUE",Tableau6[[#This Row],[facteur récurrence]]<=8,"RAS",Tableau6[[#This Row],[facteur récurrence]]<=16,"ATTENTION",Tableau6[[#This Row],[facteur récurrence]]<=32,"DANGER") -> RAS | P63: =N63+6*30+3 -> 183
A64: ='total Scrap'!A64 -> 07/2020 | B64: ='total Scrap'!B64 -> 72999 | C64: ='total Scrap'!C64 -> B. Metreau | D64: ='total Scrap'!D64 -> 96524 | E64: ='total Scrap'!E64 -> 68805F226071 | F64: ='total Scrap'!F64 -> PIPE SUB-ASSY,A45 MID | G64: ='total Scrap'!G64 -> 1 | H64: ='total Scrap'!H64 -> 14.75 | ... K64: ='total Scrap'!K64 -> FILETAGE HS PRIS DE TRAVERS | L64: =IF(COUNTIFS($E$2:$E$437,E64)=1,1) -> FALSE | M64: =_xlfn.IFS(Tableau6[[#This Row],[facteur récurrence]]>32,"CRITIQUE",Tableau6[[#This Row],[facteur récurrence]]<=8,"RAS",Tableau6[[#This Row],[facteur récurrence]]<=16,"ATTENTION",Tableau6[[#This Row],[facteur récurrence]]<=32,"DANGER") -> CRITIQUE | P64: =N64+6*30+3 -> 183
A65: ='total Scrap'!A65 -> 07/2020 | B65: ='total Scrap'!B65 -> 72999 | C65: ='total Scrap'!C65 -> B. Metreau | D65: ='total Scrap'!D65 -> 95621 | E65: ='total Scrap'!E65 -> 68804F226071 | F65: ='total Scrap'!F65 -> PIPE SUB-ASSY,A41 MID | G65: ='total Scrap'!G65 -> 1 | H65: ='total Scrap'!H65 -> 14.63 | ... K65: ='total Scrap'!K65 -> FILETS HS PRIS DE TRAVERS | L65: =IF(COUNTIFS($E$2:$E$437,E65)=1,1) -> FALSE | M65: =_xlfn.IFS(Tableau6[[#This Row],[facteur récurrence]]>32,"CRITIQUE",Tableau6[[#This Row],[facteur récurrence]]<=8,"RAS",Tableau6[[#This Row],[facteur récurrence]]<=16,"ATTENTION",Tableau6[[#This Row],[facteur récurrence]]<=32,"DANGER") -> CRITIQUE | P65: =N65+6*30+3 -> 183
A66: ='total Scrap'!A66 -> 07/2020 | B66: ='total Scrap'!B66 -> 73082 | C66: ='total Scrap'!C66 -> C. Poli Marchetti | D66: ='total Scrap'!D66 -> 96507 | E66: ='total Scrap'!E66 -> 451101247271 | F66: ='total Scrap'!F66 -> WHEEL ASSY, STEERING | G66: ='total Scrap'!G66 -> 1 | H66: ='total Scrap'!H66 -> 12.61 | ... K66: ='total Scrap'!K66 -> VOLANT ABIMÉ | L66: =IF(COUNTIFS($E$2:$E$437,E66)=1,1) -> FALSE | M66: =_xlfn.IFS(Tableau6[[#This Row],[facteur récurrence]]>32,"CRITIQUE",Tableau6[[#This Row],[facteur récurrence]]<=8,"RAS",Tableau6[[#This Row],[facteur récurrence]]<=16,"ATTENTION",Tableau6[[#This Row],[facteur récurrence]]<=32,"DANGER") -> CRITIQUE | P66: =N66+6*30+3 -> 183
A67: ='total Scrap'!A67 -> 07/2020 | B67: ='total Scrap'!B67 -> 73082 | C67: ='total Scrap'!C67 -> C. Poli Marchetti | D67: ='total Scrap'!D67 -> 96516 | E67: ='total Scrap'!E67 -> 565702665071 | F67: ='total Scrap'!F67 -> LAMP ASSY, COMBINATION HEAD, RH | G67: ='total Scrap'!G67 -> 1 | H67: ='total Scrap'!H67 -> 11.22 | ... K67: ='total Scrap'!K67 -> ABIMÉ 547 225128 | L67: =IF(COUNTIFS($E$2:$E$437,E67)=1,1) -> FALSE | M67: =_xlfn.IFS(Tableau6[[#This Row],[facteur récurrence]]>32,"CRITIQUE",Tableau6[[#This Row],[facteur récurrence]]<=8,"RAS",Tableau6[[#This Row],[facteur récurrence]]<=16,"ATTENTION",Tableau6[[#This Row],[facteur récurrence]]<=32,"DANGER") -> CRITIQUE | P67: =N67+6*30+3 -> 183
A68: ='total Scrap'!A68 -> 07/2020 | B68: ='total Scrap'!B68 -> 72139 | C68: ='total Scrap'!C68 -> C. Pichon | D68: ='total Scrap'!D68 -> 95282 | E68: ='total Scrap'!E68 -> 17780F218071 | F68: ='total Scrap'!F68 -> CLEANER ASSY, AIR, PRIMARY | G68: ='total Scrap'!G68 -> 1 | H68: ='total Scrap'!H68 -> 9 | ... K68: ='total Scrap'!K68 -> RAYURES CHARETTE DE TRANSPORT PAS APPROPRIÉE | L68: =IF(COUNTIFS($E$2:$E$437,E68)=1,1) -> FALSE | M68: =_xlfn.IFS(Tableau6[[#This Row],[facteur récurrence]]>32,"CRITIQUE",Tableau6[[#This Row],[facteur récurrence]]<=8,"RAS",Tableau6[[#This Row],[facteur récurrence]]<=16,"ATTENTION",Tableau6[[#This Row],[facteur récurrence]]<=32,"DANGER") -> CRITIQUE | P68: =N68+6*30+3 -> 183
A69: ='total Scrap'!A69 -> 07/2020 | B69: ='total Scrap'!B69 -> 72999 | C69: ='total Scrap'!C69 -> B. Metreau | D69: ='total Scrap'!D69 -> 96523 | E69: ='total Scrap'!E69 -> 68143F225071 | F69: ='total Scrap'!F69 -> HOSE, HIGH PRESSURE | G69: ='total Scrap'!G69 -> 1 | H69: ='total Scrap'!H69 -> 8.92 | ... K69: ='total Scrap'!K69 -> FLEXIBLE PRIS DE TRAVERS | L69: =IF(COUNTIFS($E$2:$E$437,E69)=1,1) -> 1 | M69: =_xlfn.IFS(Tableau6[[#This Row],[facteur récurrence]]>32,"CRITIQUE",Tableau6[[#This Row],[facteur récurrence]]<=8,"RAS",Tableau6[[#This Row],[facteur récurrence]]<=16,"ATTENTION",Tableau6[[#This Row],[facteur récurrence]]<=32,"DANGER") -> RAS | P69: =N69+6*30+3 -> 183
A70: ='total Scrap'!A70 -> 07/2020 | B70: ='total Scrap'!B70 -> 72999 | C70: ='total Scrap'!C70 -> B. Metreau | D70: ='total Scrap'!D70 -> 95961 | E70: ='total Scrap'!E70 -> 45682F331071 | F70: ='total Scrap'!F70 -> HOSE, PS CYLINDER, NO.2 | G70: ='total Scrap'!G70 -> 1 | H70: ='total Scrap'!H70 -> 8.27 | ... K70: ='total Scrap'!K70 -> FLEXIBLE + GAINE DE PROTECTION ÉCRASÉS | L70: =IF(COUNTIFS($E$2:$E$437,E70)=1,1) -> 1 | M70: =_xlfn.IFS(Tableau6[[#This Row],[facteur récurrence]]>32,"CRITIQUE",Tableau6[[#This Row],[facteur récurrence]]<=8,"RAS",Tableau6[[#This Row],[facteur récurrence]]<=16,"ATTENTION",Tableau6[[#This Row],[facteur récurrence]]<=32,"DANGER") -> RAS | P70: =N70+6*30+3 -> 183
A71: ='total Scrap'!A71 -> 07/2020 | B71: ='total Scrap'!B71 -> 73069 | C71: ='total Scrap'!C71 -> T. Boudard | D71: ='total Scrap'!D71 -> 96521 | E71: ='total Scrap'!E71 -> 452021660071 | F71: ='total Scrap'!F71 -> JACKET SUB-ASSY, MAST | G71: ='total Scrap'!G71 -> 1 | H71: ='total Scrap'!H71 -> 7.38 | ... K71: ='total Scrap'!K71 -> ABIMÉ DÛ AU MONTAGE SUR CHAINE 586 225445 | L71: =IF(COUNTIFS($E$2:$E$437,E71)=1,1) -> 1 | M71: =_xlfn.IFS(Tableau6[[#This Row],[facteur récurrence]]>32,"CRITIQUE",Tableau6[[#This Row],[facteur récurrence]]<=8,"RAS",Tableau6[[#This Row],[facteur récurrence]]<=16,"ATTENTION",Tableau6[[#This Row],[facteur récurrence]]<=32,"DANGER") -> RAS | P71: =N71+6*30+3 -> 183
... A89: ='total Scrap'!A89 -> 09/2020 | B89: ='total Scrap'!B89 -> 72217 | C89: ='total Scrap'!C89 -> D. Peigné | D89: ='total Scrap'!D89 -> 95068 | E89: ='total Scrap'!E89 -> 25750FS2CK71 | F89: ='total Scrap'!F89 -> DD12-24 168-RU IP 65, CONVERTER | G89: ='total Scrap'!G89 -> 1 | H89: ='total Scrap'!H89 -> 153.04 | ... K89: ='total Scrap'!K89 -> TRANSFO HS | L89: =IF(COUNTIFS($E$2:$E$437,E89)=1,1) -> 1 | M89: =_xlfn.IFS(Tableau6[[#This Row],[facteur récurrence]]>32,"CRITIQUE",Tableau6[[#This Row],[facteur récurrence]]<=8,"RAS",Tableau6[[#This Row],[facteur récurrence]]<=16,"ATTENTION",Tableau6[[#This Row],[facteur récurrence]]<=32,"DANGER") -> RAS | P89: =N89+6*30+3 -> 183
A90: ='total Scrap'!A275 -> 02/2021 | B90: ='total Scrap'!B275 -> 72999 | C90: ='total Scrap'!C275 -> B. Metreau | D90: ='total Scrap'!D275 -> 97807 | E90: ='total Scrap'!E275 -> 163612660071 | F90: ='total Scrap'!F275 -> FAN | G90: ='total Scrap'!G275 -> 1 | H90: ='total Scrap'!H275 -> 16.41 | ... K90: ='total Scrap'!K275 -> HÉLICE ABIMÉE EN POSITIONNANT LE CHASSIS SUR LE MOTEUR | L90: =IF(COUNTIFS($E$2:$E$437,E90)=1,1) -> FALSE | M90: =_xlfn.IFS(Tableau6[[#This Row],[facteur récurrence]]>32,"CRITIQUE",Tableau6[[#This Row],[facteur récurrence]]<=8,"RAS",Tableau6[[#This Row],[facteur récurrence]]<=16,"ATTENTION",Tableau6[[#This Row],[facteur récurrence]]<=32,"DANGER") -> CRITIQUE | P90: =N90+6*30+3 -> 183
A91: ='total Scrap'!A91 -> 09/2020 | B91: ='total Scrap'!B91 -> 73082 | C91: ='total Scrap'!C91 -> C. Poli Marchetti | D91: ='total Scrap'!D91 -> 96539 | E91: ='total Scrap'!E91 -> 235102661071 | F91: ='total Scrap'!F91 -> REGULATOR ASSY, LPG | G91: ='total Scrap'!G91 -> 1 | H91: ='total Scrap'!H91 -> 84.44 | ... K91: ='total Scrap'!K91 -> PRISE HS | L91: =IF(COUNTIFS($E$2:$E$437,E91)=1,1) -> 1 | M91: =_xlfn.IFS(Tableau6[[#This Row],[facteur récurrence]]>32,"CRITIQUE",Tableau6[[#This Row],[facteur récurrence]]<=8,"RAS",Tableau6[[#This Row],[facteur récurrence]]<=16,"ATTENTION",Tableau6[[#This Row],[facteur récurrence]]<=32,"DANGER") -> RAS | P91: =N91+6*30+3 -> 183
A92: ='total Scrap'!A92 -> 09/2020 | B92: ='total Scrap'!B92 -> 72999 | C92: ='total Scrap'!C92 -> B. Metreau | D92: ='total Scrap'!D92 -> 95413 | E92: ='total Scrap'!E92 -> 235102661171 | F92: ='total Scrap'!F92 -> REGULATOR ASSY, LPG | G92: ='total Scrap'!G92 -> 1 | H92: ='total Scrap'!H92 -> 78.38 | ... K92: ='total Scrap'!K92 -> FILETAGE RACCORD ENDOMMAGÉ LORS DU MONTAGE | L92: =IF(COUNTIFS($E$2:$E$437,E92)=1,1) -> FALSE | M92: =_xlfn.IFS(Tableau6[[#This Row],[facteur récurrence]]>32,"CRITIQUE",Tableau6[[#This Row],[facteur récurrence]]<=8,"RAS",Tableau6[[#This Row],[facteur récurrence]]<=16,"ATTENTION",Tableau6[[#This Row],[facteur récurrence]]<=32,"DANGER") -> CRITIQUE | P92: =N92+6*30+3 -> 183
A93: ='total Scrap'!A93 -> 09/2020 | B93: ='total Scrap'!B93 -> 72999 | C93: ='total Scrap'!C93 -> B. Metreau | D93: ='total Scrap'!D93 -> 95556 | E93: ='total Scrap'!E93 -> 16420F318071 | F93: ='total Scrap'!F93 -> RADIATOR ASSY | G93: ='total Scrap'!G93 -> 1 | H93: ='total Scrap'!H93 -> 72.12 | ... K93: ='total Scrap'!K93 -> ABIMÉ | L93: =IF(COUNTIFS($E$2:$E$437,E93)=1,1) -> 1 | M93: =_xlfn.IFS(Tableau6[[#This Row],[facteur récurrence]]>32,"CRITIQUE",Tableau6[[#This Row],[facteur récurrence]]<=8,"RAS",Tableau6[[#This Row],[facteur récurrence]]<=16,"ATTENTION",Tableau6[[#This Row],[facteur récurrence]]<=32,"DANGER") -> RAS | P93: =N93+6*30+3 -> 183
A94: ='total Scrap'!A94 -> 09/2020 | B94: ='total Scrap'!B94 -> 73082 | C94: ='total Scrap'!C94 -> C. Poli Marchetti | D94: ='total Scrap'!D94 -> 95786 | E94: ='total Scrap'!E94 -> 2A28005 | F94: ='total Scrap'!F94 -> COVER SUB-ASSY, HTR | G94: ='total Scrap'!G94 -> 1 | H94: ='total Scrap'!H94 -> 51.48 | ... K94: ='total Scrap'!K94 -> SUITE A L'ENCOLLAGE DU JOINT CARTER CHAUFFAGE LA COLLE A COULÉE A L'IN | L94: =IF(COUNTIFS($E$2:$E$437,E94)=1,1) -> FALSE | M94: =_xlfn.IFS(Tableau6[[#This Row],[facteur récurrence]]>32,"CRITIQUE",Tableau6[[#This Row],[facteur récurrence]]<=8,"RAS",Tableau6[[#This Row],[facteur récurrence]]<=16,"ATTENTION",Tableau6[[#This Row],[facteur récurrence]]<=32,"DANGER") -> CRITIQUE | P94: =N94+6*30+3 -> 183
A95: ='total Scrap'!A95 -> 09/2020 | B95: ='total Scrap'!B95 -> 72999 | C95: ='total Scrap'!C95 -> B. Metreau | D95: ='total Scrap'!D95 -> 95638 | E95: ='total Scrap'!E95 -> 56031F231071 | F95: ='total Scrap'!F95 -> WIRE, SIDE LH | G95: ='total Scrap'!G95 -> 1 | H95: ='total Scrap'!H95 -> 30.3 | ... K95: ='total Scrap'!K95 -> PRISE HS | L95: =IF(COUNTIFS($E$2:$E$437,E95)=1,1) -> FALSE | M95: =_xlfn.IFS(Tableau6[[#This Row],[facteur récurrence]]>32,"CRITIQUE",Tableau6[[#This Row],[facteur récurrence]]<=8,"RAS",Tableau6[[#This Row],[facteur récurrence]]<=16,"ATTENTION",Tableau6[[#This Row],[facteur récurrence]]<=32,"DANGER") -> CRITIQUE | P95: =N95+6*30+3 -> 183
A96: ='total Scrap'!A96 -> 09/2020 | B96: ='total Scrap'!B96 -> 73082 | C96: ='total Scrap'!C96 -> C. Poli Marchetti | D96: ='total Scrap'!D96 -> 95660 | E96: ='total Scrap'!E96 -> 451101247271 | F96: ='total Scrap'!F96 -> WHEEL ASSY, STEERING | G96: ='total Scrap'!G96 -> 1 | H96: ='total Scrap'!H96 -> 12.61 | ... K96: ='total Scrap'!K96 -> COUPS | L96: =IF(COUNTIFS($E$2:$E$437,E96)=1,1) -> FALSE | M96: =_xlfn.IFS(Tableau6[[#This Row],[facteur récurrence]]>32,"CRITIQUE",Tableau6[[#This Row],[facteur récurrence]]<=8,"RAS",Tableau6[[#This Row],[facteur récurrence]]<=16,"ATTENTION",Tableau6[[#This Row],[facteur récurrence]]<=32,"DANGER") -> CRITIQUE | P96: =N96+6*30+3 -> 183
A97: ='total Scrap'!A97 -> 09/2020 | B97: ='total Scrap'!B97 -> 73082 | C97: ='total Scrap'!C97 -> C. Poli Marchetti | D97: ='total Scrap'!D97 -> 95203 | E97: ='total Scrap'!E97 -> 96365F509871 | F97: ='total Scrap'!F97 -> HOSE, HIGH PRESSURE | G97: ='total Scrap'!G97 -> 1 | H97: ='total Scrap'!H97 -> 6.95 | ... K97: ='total Scrap'!K97 -> FLEXIBLE ABIMÉ | L97: =IF(COUNTIFS($E$2:$E$437,E97)=1,1) -> FALSE | M97: =_xlfn.IFS(Tableau6[[#This Row],[facteur récurrence]]>32,"CRITIQUE",Tableau6[[#This Row],[facteur récurrence]]<=8,"RAS",Tableau6[[#This Row],[facteur récurrence]]<=16,"ATTENTION",Tableau6[[#This Row],[facteur récurrence]]<=32,"DANGER") -> CRITIQUE | P97: =N97+6*30+3 -> 183
A98: ='total Scrap'!A98 -> 09/2020 | B98: ='total Scrap'!B98 -> 73082 | C98: ='total Scrap'!C98 -> C. Poli Marchetti | D98: ='total Scrap'!D98 -> 95783 | E98: ='total Scrap'!E98 -> 566512664071 | F98: ='total Scrap'!F98 -> COVER, LED RR COMBI LAMP | G98: ='total Scrap'!G98 -> 1 | H98: ='total Scrap'!H98 -> 6.42 | ... K98: ='total Scrap'!K98 -> RAYURES | L98: =IF(COUNTIFS($E$2:$E$437,E98)=1,1) -> FALSE | M98: =_xlfn.IFS(Tableau6[[#This Row],[facteur récurrence]]>32,"CRITIQUE",Tableau6[[#This Row],[facteur récurrence]]<=8,"RAS",Tableau6[[#This Row],[facteur récurrence]]<=16,"ATTENTION",Tableau6[[#This Row],[facteur récurrence]]<=32,"DANGER") -> CRITIQUE | P98: =N98+6*30+3 -> 183
A99: ='total Scrap'!A99 -> 09/2020 | B99: ='total Scrap'!B99 -> 73082 | C99: ='total Scrap'!C99 -> C. Poli Marchetti | D99: ='total Scrap'!D99 -> 95551 | E99: ='total Scrap'!E99 -> 518912675071 | F99: ='total Scrap'!F99 -> COVER, RADIATOR | G99: ='total Scrap'!G99 -> 1 | H99: ='total Scrap'!H99 -> 6.12 | ... K99: ='total Scrap'!K99 -> ABIMÉ | L99: =IF(COUNTIFS($E$2:$E$437,E99)=1,1) -> 1 | M99: =_xlfn.IFS(Tableau6[[#This Row],[facteur récurrence]]>32,"CRITIQUE",Tableau6[[#This Row],[facteur récurrence]]<=8,"RAS",Tableau6[[#This Row],[facteur récurrence]]<=16,"ATTENTION",Tableau6[[#This Row],[facteur récurrence]]<=32,"DANGER") -> RAS | P99: =N99+6*30+3 -> 183
A100: ='total Scrap'!A100 -> 10/2020 | B100: ='total Scrap'!B100 -> 72999 | C100: ='total Scrap'!C100 -> B. Metreau | D100: ='total Scrap'!D100 -> 96544 | E100: ='total Scrap'!E100 -> 23349F231071 | F100: ='total Scrap'!F100 -> CONTROLLER (KIT 17110-F2310-71) | G100: ='total Scrap'!G100 -> 1 | H100: ='total Scrap'!H100 -> 441.21 | ... K100: ='total Scrap'!K100 -> CONTROLEUR HS A CAUSE D'UN FAISCEAU PINCÉ | L100: =IF(COUNTIFS($E$2:$E$437,E100)=1,1) -> 1 | M100: =_xlfn.IFS(Tableau6[[#This Row],[facteur récurrence]]>32,"CRITIQUE",Tableau6[[#This Row],[facteur récurrence]]<=8,"RAS",Tableau6[[#This Row],[facteur récurrence]]<=16,"ATTENTION",Tableau6[[#This Row],[facteur récurrence]]<=32,"DANGER") -> RAS | P100: =N100+6*30+3 -> 183
A101: ='total Scrap'!A101 -> 10/2020 | B101: ='total Scrap'!B101 -> 73082 | C101: ='total Scrap'!C101 -> C. Poli Marchetti | D101: ='total Scrap'!D101 -> 95971 | E101: ='total Scrap'!E101 -> 18450UM020 | F101: ='total Scrap'!F101 -> CONVERTER ASSY, MONOLITHI | G101: ='total Scrap'!G101 -> 1 | H101: ='total Scrap'!H101 -> 345.77 | ... K101: ='total Scrap'!K101 -> VIS CASSÉE | L101: =IF(COUNTIFS($E$2:$E$437,E101)=1,1) -> FALSE | M101: =_xlfn.IFS(Tableau6[[#This Row],[facteur récurrence]]>32,"CRITIQUE",Tableau6[[#This Row],[facteur récurrence]]<=8,"RAS",Tableau6[[#This Row],[facteur récurrence]]<=16,"ATTENTION",Tableau6[[#This Row],[facteur récurrence]]<=32,"DANGER") -> CRITIQUE | P101: =N101+6*30+3 -> 183
A102: ='total Scrap'!A102 -> 10/2020 | B102: ='total Scrap'!B102 -> 73082 | C102: ='total Scrap'!C102 -> C. Poli Marchetti | D102: ='total Scrap'!D102 -> 95727 | E102: ='total Scrap'!E102 -> 23702FP24271 | F102: ='total Scrap'!F102 -> RESERVOIR 55L (ALL,BEL,UK) | G102: ='total Scrap'!G102 -> 1 | H102: ='total Scrap'!H102 -> 305.37 | ... K102: ='total Scrap'!K102 -> ABIMÉ LORS DE LA PRÉPA | L102: =IF(COUNTIFS($E$2:$E$437,E102)=1,1) -> 1 | M102: =_xlfn.IFS(Tableau6[[#This Row],[facteur récurrence]]>32,"CRITIQUE",Tableau6[[#This Row],[facteur récurrence]]<=8,"RAS",Tableau6[[#This Row],[facteur récurrence]]<=16,"ATTENTION",Tableau6[[#This Row],[facteur récurrence]]<=32,"DANGER") -> RAS | P102: =N102+6*30+3 -> 183
... A113: ='total Scrap'!A113 -> 10/2020 | B113: ='total Scrap'!B113 -> 72217 | C113: ='total Scrap'!C113 -> D. Peigné | D113: ='total Scrap'!D113 -> 96263 | E113: ='total Scrap'!E113 -> 55231F231071 | F113: ='total Scrap'!F113 -> GLASS, ROOF | G113: ='total Scrap'!G113 -> 1 | H113: ='total Scrap'!H113 -> 99.9 | ... K113: ='total Scrap'!K113 -> VITRE HS EN MANIPULANT LA CAISSE A L'AIDE DU TRANSPALETTE | L113: =IF(COUNTIFS($E$2:$E$437,E113)=1,1) -> FALSE | M113: =_xlfn.IFS(Tableau6[[#This Row],[facteur récurrence]]>32,"CRITIQUE",Tableau6[[#This Row],[facteur récurrence]]<=8,"RAS",Tableau6[[#This Row],[facteur récurrence]]<=16,"ATTENTION",Tableau6[[#This Row],[facteur récurrence]]<=32,"DANGER") -> CRITIQUE | P113: =N113+6*30+3 -> 183
A114: ='total Scrap'!A276 -> 02/2021 | B114: ='total Scrap'!B276 -> 72999 | C114: ='total Scrap'!C276 -> B. Metreau | D114: ='total Scrap'!D276 -> 97810 | E114: ='total Scrap'!E276 -> 163612660071 | F114: ='total Scrap'!F276 -> FAN | G114: ='total Scrap'!G276 -> 1 | H114: ='total Scrap'!H276 -> 16.41 | ... K114: ='total Scrap'!K276 -> HELICE ABIMÉE EN POSITIONNANT LE CHASSIS SUR LE MOTEUR | L114: =IF(COUNTIFS($E$2:$E$437,E114)=1,1) -> FALSE | M114: =_xlfn.IFS(Tableau6[[#This Row],[facteur récurrence]]>32,"CRITIQUE",Tableau6[[#This Row],[facteur récurrence]]<=8,"RAS",Tableau6[[#This Row],[facteur récurrence]]<=16,"ATTENTION",Tableau6[[#This Row],[facteur récurrence]]<=32,"DANGER") -> CRITIQUE | P114: =N114+6*30+3 -> 183
A115: ='total Scrap'!A115 -> 10/2020 | B115: ='total Scrap'!B115 -> 73082 | C115: ='total Scrap'!C115 -> C. Poli Marchetti | D115: ='total Scrap'!D115 -> 95175 | E115: ='total Scrap'!E115 -> 55240F218171 | F115: ='total Scrap'!F115 -> WINDOW ASSY DOOR RH | G115: ='total Scrap'!G115 -> 1 | H115: ='total Scrap'!H115 -> 92.69 | ... K115: ='total Scrap'!K115 -> ABIMÉE AU NIVEAU DE L'ENCADREMENT | L115: =IF(COUNTIFS($E$2:$E$437,E115)=1,1) -> 1 | M115: =_xlfn.IFS(Tableau6[[#This Row],[facteur récurrence]]>32,"CRITIQUE",Tableau6[[#This Row],[facteur récurrence]]<=8,"RAS",Tableau6[[#This Row],[facteur récurrence]]<=16,"ATTENTION",Tableau6[[#This Row],[facteur récurrence]]<=32,"DANGER") -> RAS | P115: =N115+6*30+3 -> 183
A116: ='total Scrap'!A116 -> 10/2020 | B116: ='total Scrap'!B116 -> 72999 | C116: ='total Scrap'!C116 -> B. Metreau | D116: ='total Scrap'!D116 -> 95419 | E116: ='total Scrap'!E116 -> 571602660471 | F116: ='total Scrap'!F116 -> DISPLAY ASSY, MULTI-FUNCTION | G116: ='total Scrap'!G116 -> 1 | H116: ='total Scrap'!H116 -> 89.81 | ... K116: ='total Scrap'!K116 -> ÉCRAN CASSÉ | L116: =IF(COUNTIFS($E$2:$E$437,E116)=1,1) -> FALSE | M116: =_xlfn.IFS(Tableau6[[#This Row],[facteur récurrence]]>32,"CRITIQUE",Tableau6[[#This Row],[facteur récurrence]]<=8,"RAS",Tableau6[[#This Row],[facteur récurrence]]<=16,"ATTENTION",Tableau6[[#This Row],[facteur récurrence]]<=32,"DANGER") -> CRITIQUE | P116: =N116+6*30+3 -> 183
A117: ='total Scrap'!A117 -> 10/2020 | B117: ='total Scrap'!B117 -> 73082 | C117: ='total Scrap'!C117 -> C. Poli Marchetti | D117: ='total Scrap'!D117 -> 95650 | E117: ='total Scrap'!E117 -> 571602660471 | F117: ='total Scrap'!F117 -> DISPLAY ASSY, MULTI-FUNCTION | G117: ='total Scrap'!G117 -> 1 | H117: ='total Scrap'!H117 -> 89.81 | ... K117: ='total Scrap'!K117 -> RAYÉ | L117: =IF(COUNTIFS($E$2:$E$437,E117)=1,1) -> FALSE | M117: =_xlfn.IFS(Tableau6[[#This Row],[facteur récurrence]]>32,"CRITIQUE",Tableau6[[#This Row],[facteur récurrence]]<=8,"RAS",Tableau6[[#This Row],[facteur récurrence]]<=16,"ATTENTION",Tableau6[[#This Row],[facteur récurrence]]<=32,"DANGER") -> CRITIQUE | P117: =N117+6*30+3 -> 183
A118: ='total Scrap'!A118 -> 10/2020 | B118: ='total Scrap'!B118 -> 73082 | C118: ='total Scrap'!C118 -> C. Poli Marchetti | D118: ='total Scrap'!D118 -> 95640 | E118: ='total Scrap'!E118 -> 56210F219071 | F118: ='total Scrap'!F118 -> WIRE, ENGINE | G118: ='total Scrap'!G118 -> 1 | H118: ='total Scrap'!H118 -> 80.57 | ... K118: ='total Scrap'!K118 -> PRISE HS | L118: =IF(COUNTIFS($E$2:$E$437,E118)=1,1) -> FALSE | M118: =_xlfn.IFS(Tableau6[[#This Row],[facteur récurrence]]>32,"CRITIQUE",Tableau6[[#This Row],[facteur récurrence]]<=8,"RAS",Tableau6[[#This Row],[facteur récurrence]]<=16,"ATTENTION",Tableau6[[#This Row],[facteur récurrence]]<=32,"DANGER") -> CRITIQUE | P118: =N118+6*30+3 -> 183
A119: ='total Scrap'!A119 -> 10/2020 | B119: ='total Scrap'!B119 -> 72999 | C119: ='total Scrap'!C119 -> B. Metreau | D119: ='total Scrap'!D119 -> 96540 | E119: ='total Scrap'!E119 -> 56210F219071 | F119: ='total Scrap'!F119 -> WIRE, ENGINE | G119: ='total Scrap'!G119 -> 1 | H119: ='total Scrap'!H119 -> 80.57 | ... K119: ='total Scrap'!K119 -> COUPÉ | L119: =IF(COUNTIFS($E$2:$E$437,E119)=1,1) -> FALSE | M119: =_xlfn.IFS(Tableau6[[#This Row],[facteur récurrence]]>32,"CRITIQUE",Tableau6[[#This Row],[facteur récurrence]]<=8,"RAS",Tableau6[[#This Row],[facteur récurrence]]<=16,"ATTENTION",Tableau6[[#This Row],[facteur récurrence]]<=32,"DANGER") -> CRITIQUE | P119: =N119+6*30+3 -> 183
A120: ='total Scrap'!A120 -> 10/2020 | B120: ='total Scrap'!B120 -> 72139 | C120: ='total Scrap'!C120 -> C. Pichon | D120: ='total Scrap'!D120 -> 95163 | E120: ='total Scrap'!E120 -> 16420F218071 | F120: ='total Scrap'!F120 -> RADIATOR ASSY | G120: ='total Scrap'!G120 -> 1 | H120: ='total Scrap'!H120 -> 70.91 | ... K120: ='total Scrap'!K120 -> RADIATEUR ABIMÉ LORS DU TRANSFERT DE LA CHARETTE PRÉPA À LA CHARETTE T | L120: =IF(COUNTIFS($E$2:$E$437,E120)=1,1) -> 1 | M120: =_xlfn.IFS(Tableau6[[#This Row],[facteur récurrence]]>32,"CRITIQUE",Tableau6[[#This Row],[facteur récurrence]]<=8,"RAS",Tableau6[[#This Row],[facteur récurrence]]<=16,"ATTENTION",Tableau6[[#This Row],[facteur récurrence]]<=32,"DANGER") -> RAS | P120: =N120+6*30+3 -> 183
A121: ='total Scrap'!A277 -> 02/2021 | B121: ='total Scrap'!B277 -> 72999 | C121: ='total Scrap'!C277 -> B. Metreau | D121: ='total Scrap'!D277 -> 97805 | E121: ='total Scrap'!E277 -> 163612660071 | F121: ='total Scrap'!F277 -> FAN | G121: ='total Scrap'!G277 -> 1 | H121: ='total Scrap'!H277 -> 16.41 | ... K121: ='total Scrap'!K277 -> COUPS SUR LE VENTILATEUR EN METTANT LE CHASSIS SUR LE MOTEUR | L121: =IF(COUNTIFS($E$2:$E$437,E121)=1,1) -> FALSE | M121: =_xlfn.IFS(Tableau6[[#This Row],[facteur récurrence]]>32,"CRITIQUE",Tableau6[[#This Row],[facteur récurrence]]<=8,"RAS",Tableau6[[#This Row],[facteur récurrence]]<=16,"ATTENTION",Tableau6[[#This Row],[facteur récurrence]]<=32,"DANGER") -> CRITIQUE | P121: =N121+6*30+3 -> 183
A122: ='total Scrap'!A122 -> 10/2020 | B122: ='total Scrap'!B122 -> 73082 | C122: ='total Scrap'!C122 -> C. Poli Marchetti | D122: ='total Scrap'!D122 -> 95555 | E122: ='total Scrap'!E122 -> 58510F318271 | F122: ='total Scrap'!F122 -> MOTOR ASSY, WIPER | G122: ='total Scrap'!G122 -> 1 | H122: ='total Scrap'!H122 -> 61.47 | ... K122: ='total Scrap'!K122 -> FILS ARRACHÉS SUR LA PLATINE | L122: =IF(COUNTIFS($E$2:$E$437,E122)=1,1) -> 1 | M122: =_xlfn.IFS(Tableau6[[#This Row],[facteur récurrence]]>32,"CRITIQUE",Tableau6[[#This Row],[facteur récurrence]]<=8,"RAS",Tableau6[[#This Row],[facteur récurrence]]<=16,"ATTENTION",Tableau6[[#This Row],[facteur récurrence]]<=32,"DANGER") -> RAS | P122: =N122+6*30+3 -> 183
A123: ='total Scrap'!A123 -> 10/2020 | B123: ='total Scrap'!B123 -> 73082 | C123: ='total Scrap'!C123 -> C. Poli Marchetti | D123: ='total Scrap'!D123 -> 96805 | E123: ='total Scrap'!E123 -> 2A28005 | F123: ='total Scrap'!F123 -> COVER SUB-ASSY, HTR | G123: ='total Scrap'!G123 -> 1 | H123: ='total Scrap'!H123 -> 51.48 | ... K123: ='total Scrap'!K123 -> PIÈCE RAYÉE LORS DU MONTAGE | L123: =IF(COUNTIFS($E$2:$E$437,E123)=1,1) -> FALSE | M123: =_xlfn.IFS(Tableau6[[#This Row],[facteur récurrence]]>32,"CRITIQUE",Tableau6[[#This Row],[facteur récurrence]]<=8,"RAS",Tableau6[[#This Row],[facteur récurrence]]<=16,"ATTENTION",Tableau6[[#This Row],[facteur récurrence]]<=32,"DANGER") -> CRITIQUE | P123: =N123+6*30+3 -> 183
A124: ='total Scrap'!A124 -> 10/2020 | B124: ='total Scrap'!B124 -> 72139 | C124: ='total Scrap'!C124 -> C. Pichon | D124: ='total Scrap'!D124 -> 95417 | E124: ='total Scrap'!E124 -> 565903676071 | F124: ='total Scrap'!F124 -> LAMP ASSY, HEAD | G124: ='total Scrap'!G124 -> 1 | H124: ='total Scrap'!H124 -> 43.72 | ... K124: ='total Scrap'!K124 -> FEU CASSÉ LORS DE LA PRÉPA LOGISTIQUE | L124: =IF(COUNTIFS($E$2:$E$437,E124)=1,1) -> FALSE | M124: =_xlfn.IFS(Tableau6[[#This Row],[facteur récurrence]]>32,"CRITIQUE",Tableau6[[#This Row],[facteur récurrence]]<=8,"RAS",Tableau6[[#This Row],[facteur récurrence]]<=16,"ATTENTION",Tableau6[[#This Row],[facteur récurrence]]<=32,"DANGER") -> CRITIQUE | P124: =N124+6*30+3 -> 183
A125: ='total Scrap'!A125 -> 10/2020 | B125: ='total Scrap'!B125 -> 73082 | C125: ='total Scrap'!C125 -> C. Poli Marchetti | D125: ='total Scrap'!D125 -> 95418 | E125: ='total Scrap'!E125 -> 565903676071 | F125: ='total Scrap'!F125 -> LAMP ASSY, HEAD | G125: ='total Scrap'!G125 -> 1 | H125: ='total Scrap'!H125 -> 43.72 | ... K125: ='total Scrap'!K125 -> VIS CASSÉE À L'INTERIEUR DU FEU A LED | L125: =IF(COUNTIFS($E$2:$E$437,E125)=1,1) -> FALSE | M125: =_xlfn.IFS(Tableau6[[#This Row],[facteur récurrence]]>32,"CRITIQUE",Tableau6[[#This Row],[facteur récurrence]]<=8,"RAS",Tableau6[[#This Row],[facteur récurrence]]<=16,"ATTENTION",Tableau6[[#This Row],[facteur récurrence]]<=32,"DANGER") -> CRITIQUE | P125: =N125+6*30+3 -> 183
A126: ='total Scrap'!A126 -> 10/2020 | B126: ='total Scrap'!B126 -> 73082 | C126: ='total Scrap'!C126 -> C. Poli Marchetti | D126: ='total Scrap'!D126 -> 95415 | E126: ='total Scrap'!E126 -> 56310F226071 | F126: ='total Scrap'!F126 -> WIRE SIDE LH | G126: ='total Scrap'!G126 -> 1 | H126: ='total Scrap'!H126 -> 41.58 | ... K126: ='total Scrap'!K126 -> PRISE BOITIER DE JONCTION CASSÉE | L126: =IF(COUNTIFS($E$2:$E$437,E126)=1,1) -> 1 | M126: =_xlfn.IFS(Tableau6[[#This Row],[facteur récurrence]]>32,"CRITIQUE",Tableau6[[#This Row],[facteur récurrence]]<=8,"RAS",Tableau6[[#This Row],[facteur récurrence]]<=16,"ATTENTION",Tableau6[[#This Row],[facteur récurrence]]<=32,"DANGER") -> RAS | P126: =N126+6*30+3 -> 183
A127: ='total Scrap'!A127 -> 10/2020 | B127: ='total Scrap'!B127 -> 72007 | C127: ='total Scrap'!C127 -> JP Dupas | D127: ='total Scrap'!D127 -> 95066 | E127: ='total Scrap'!E127 -> 56210F220071 | F127: ='total Scrap'!F127 -> WIRE, ENGINE | G127: ='total Scrap'!G127 -> 1 | H127: ='total Scrap'!H127 -> 35.5 | ... K127: ='total Scrap'!K127 -> SUPPORT FUSIBLE CASSÉ | L127: =IF(COUNTIFS($E$2:$E$437,E127)=1,1) -> FALSE | M127: =_xlfn.IFS(Tableau6[[#This Row],[facteur récurrence]]>32,"CRITIQUE",Tableau6[[#This Row],[facteur récurrence]]<=8,"RAS",Tableau6[[#This Row],[facteur récurrence]]<=16,"ATTENTION",Tableau6[[#This Row],[facteur récurrence]]<=32,"DANGER") -> CRITIQUE | P127: =N127+6*30+3 -> 183
A128: ='total Scrap'!A328 -> 03/2021 | B128: ='total Scrap'!B328 -> 72999 | C128: ='total Scrap'!C328 -> B. Metreau | D128: ='total Scrap'!D328 -> 97814 | E128: ='total Scrap'!E328 -> 163612660071 | F128: ='total Scrap'!F328 -> FAN | G128: ='total Scrap'!G328 -> 1 | H128: ='total Scrap'!H328 -> 16.41 | ... K128: ='total Scrap'!K328 -> HELICE HS EN ASSEMBLANT LE CHASSIS SUR LE MOTEUR | L128: =IF(COUNTIFS($E$2:$E$437,E128)=1,1) -> FALSE | M128: =_xlfn.IFS(Tableau6[[#This Row],[facteur récurrence]]>32,"CRITIQUE",Tableau6[[#This Row],[facteur récurrence]]<=8,"RAS",Tableau6[[#This Row],[facteur récurrence]]<=16,"ATTENTION",Tableau6[[#This Row],[facteur récurrence]]<=32,"DANGER") -> CRITIQUE | P128: =N128+6*30+3 -> 183
A129: ='total Scrap'!A129 -> 10/2020 | B129: ='total Scrap'!B129 -> 73082 | C129: ='total Scrap'!C129 -> C. Poli Marchetti | D129: ='total Scrap'!D129 -> 95974 | E129: ='total Scrap'!E129 -> 233002665071 | F129: ='total Scrap'!F129 -> FILTER ASSY, FUEL | G129: ='total Scrap'!G129 -> 1 | H129: ='total Scrap'!H129 -> 31.22 | ... K129: ='total Scrap'!K129 -> TOMBÉ DONC PRISE HS | L129: =IF(COUNTIFS($E$2:$E$437,E129)=1,1) -> FALSE | M129: =_xlfn.IFS(Tableau6[[#This Row],[facteur récurrence]]>32,"CRITIQUE",Tableau6[[#This Row],[facteur récurrence]]<=8,"RAS",Tableau6[[#This Row],[facteur récurrence]]<=16,"ATTENTION",Tableau6[[#This Row],[facteur récurrence]]<=32,"DANGER") -> CRITIQUE | P129: =N129+6*30+3 -> 183
A130: ='total Scrap'!A130 -> 10/2020 | B130: ='total Scrap'!B130 -> 72999 | C130: ='total Scrap'!C130 -> B. Metreau | D130: ='total Scrap'!D130 -> 96702 | E130: ='total Scrap'!E130 -> 56031F232071 | F130: ='total Scrap'!F130 -> WIRE, SIDE LH | G130: ='total Scrap'!G130 -> 1 | H130: ='total Scrap'!H130 -> 31.19 | ... K130: ='total Scrap'!K130 -> PINCÉ HS | L130: =IF(COUNTIFS($E$2:$E$437,E130)=1,1) -> FALSE | M130: =_xlfn.IFS(Tableau6[[#This Row],[facteur récurrence]]>32,"CRITIQUE",Tableau6[[#This Row],[facteur récurrence]]<=8,"RAS",Tableau6[[#This Row],[facteur récurrence]]<=16,"ATTENTION",Tableau6[[#This Row],[facteur récurrence]]<=32,"DANGER") -> CRITIQUE | P130: =N130+6*30+3 -> 183
A131: ='total Scrap'!A131 -> 10/2020 | B131: ='total Scrap'!B131 -> 73082 | C131: ='total Scrap'!C131 -> C. Poli Marchetti | D131: ='total Scrap'!D131 -> 96546 | E131: ='total Scrap'!E131 -> 53226F231071 | F131: ='total Scrap'!F131 -> PANEL, INSTRUMENT, RH | G131: ='total Scrap'!G131 -> 1 | H131: ='total Scrap'!H131 -> 21.5 | ... K131: ='total Scrap'!K131 -> FIXATION CARTER HS | L131: =IF(COUNTIFS($E$2:$E$437,E131)=1,1) -> 1 | M131: =_xlfn.IFS(Tableau6[[#This Row],[facteur récurrence]]>32,"CRITIQUE",Tableau6[[#This Row],[facteur récurrence]]<=8,"RAS",Tableau6[[#This Row],[facteur récurrence]]<=16,"ATTENTION",Tableau6[[#This Row],[facteur récurrence]]<=32,"DANGER") -> RAS | P131: =N131+6*30+3 -> 183
A132: ='total Scrap'!A132 -> 10/2020 | B132: ='total Scrap'!B132 -> 72062 | C132: ='total Scrap'!C132 -> P. Sauvaget | D132: ='total Scrap'!D132 -> 95421 | E132: ='total Scrap'!E132 -> 56580FPD2171 | F132: ='total Scrap'!F132 -> LAMP ASSY, BEACON | G132: ='total Scrap'!G132 -> 1 | H132: ='total Scrap'!H132 -> 19.7 | ... K132: ='total Scrap'!K132 -> GIRAPHARE HS LORS DU CHARGEMENT DANS LE CAMION | L132: =IF(COUNTIFS($E$2:$E$437,E132)=1,1) -> 1 | M132: =_xlfn.IFS(Tableau6[[#This Row],[facteur récurrence]]>32,"CRITIQUE",Tableau6[[#This Row],[facteur récurrence]]<=8,"RAS",Tableau6[[#This Row],[facteur récurrence]]<=16,"ATTENTION",Tableau6[[#This Row],[facteur récurrence]]<=32,"DANGER") -> RAS | P132: =N132+6*30+3 -> 183
A133: ='total Scrap'!A133 -> 10/2020 | B133: ='total Scrap'!B133 -> 73082 | C133: ='total Scrap'!C133 -> C. Poli Marchetti | D133: ='total Scrap'!D133 -> 96923 | E133: ='total Scrap'!E133 -> 55227F218271 | F133: ='total Scrap'!F133 -> GLASS,RR | G133: ='total Scrap'!G133 -> 1 | H133: ='total Scrap'!H133 -> 19.4 | ... K133: ='total Scrap'!K133 -> FISSURE DU HAYON | L133: =IF(COUNTIFS($E$2:$E$437,E133)=1,1) -> FALSE | M133: =_xlfn.IFS(Tableau6[[#This Row],[facteur récurrence]]>32,"CRITIQUE",Tableau6[[#This Row],[facteur récurrence]]<=8,"RAS",Tableau6[[#This Row],[facteur récurrence]]<=16,"ATTENTION",Tableau6[[#This Row],[facteur récurrence]]<=32,"DANGER") -> CRITIQUE | P133: =N133+6*30+3 -> 183
A134: ='total Scrap'!A134 -> 10/2020 | B134: ='total Scrap'!B134 -> 73082 | C134: ='total Scrap'!C134 -> C. Poli Marchetti | D134: ='total Scrap'!D134 -> 96701 | E134: ='total Scrap'!E134 -> 53211F331071 | F134: ='total Scrap'!F134 -> PANEL, INSTRUMENT, RH | G134: ='total Scrap'!G134 -> 1 | H134: ='total Scrap'!H134 -> 19.39 | ... K134: ='total Scrap'!K134 -> FIXATION CARTER HS | L134: =IF(COUNTIFS($E$2:$E$437,E134)=1,1) -> 1 | M134: =_xlfn.IFS(Tableau6[[#This Row],[facteur récurrence]]>32,"CRITIQUE",Tableau6[[#This Row],[facteur récurrence]]<=8,"RAS",Tableau6[[#This Row],[facteur récurrence]]<=16,"ATTENTION",Tableau6[[#This Row],[facteur récurrence]]<=32,"DANGER") -> RAS | P134: =N134+6*30+3 -> 183
A135: ='total Scrap'!A135 -> 10/2020 | B135: ='total Scrap'!B135 -> 73082 | C135: ='total Scrap'!C135 -> C. Poli Marchetti | D135: ='total Scrap'!D135 -> 95973 | E135: ='total Scrap'!E135 -> 56052F227071 | F135: ='total Scrap'!F135 -> WIRE RR UPR MAIN | G135: ='total Scrap'!G135 -> 1 | H135: ='total Scrap'!H135 -> 19.29 | ... K135: ='total Scrap'!K135 -> FAISCEAU COINCÉ AU NIVEAU DU CHASSIS 2 PRISES HS | L135: =IF(COUNTIFS($E$2:$E$437,E135)=1,1) -> FALSE | M135: =_xlfn.IFS(Tableau6[[#This Row],[facteur récurrence]]>32,"CRITIQUE",Tableau6[[#This Row],[facteur récurrence]]<=8,"RAS",Tableau6[[#This Row],[facteur récurrence]]<=16,"ATTENTION",Tableau6[[#This Row],[facteur récurrence]]<=32,"DANGER") -> CRITIQUE | P135: =N135+6*30+3 -> 183
A136: ='total Scrap'!A136 -> 10/2020 | B136: ='total Scrap'!B136 -> 73082 | C136: ='total Scrap'!C136 -> C. Poli Marchetti | D136: ='total Scrap'!D136 -> 96706 | E136: ='total Scrap'!E136 -> 56052F227071 | F136: ='total Scrap'!F136 -> WIRE RR UPR MAIN | G136: ='total Scrap'!G136 -> 1 | H136: ='total Scrap'!H136 -> 19.29 | ... K136: ='total Scrap'!K136 -> CONNECTEUR HS | L136: =IF(COUNTIFS($E$2:$E$437,E136)=1,1) -> FALSE | M136: =_xlfn.IFS(Tableau6[[#This Row],[facteur récurrence]]>32,"CRITIQUE",Tableau6[[#This Row],[facteur récurrence]]<=8,"RAS",Tableau6[[#This Row],[facteur récurrence]]<=16,"ATTENTION",Tableau6[[#This Row],[facteur récurrence]]<=32,"DANGER") -> CRITIQUE | P136: =N136+6*30+3 -> 183
A137: ='total Scrap'!A137 -> 10/2020 | B137: ='total Scrap'!B137 -> 72139 | C137: ='total Scrap'!C137 -> C. Pichon | D137: ='total Scrap'!D137 -> 95424 | E137: ='total Scrap'!E137 -> 56570F210071 | F137: ='total Scrap'!F137 -> FEU A ECLAT 89990901 | G137: ='total Scrap'!G137 -> 1 | H137: ='total Scrap'!H137 -> 18.95 | ... K137: ='total Scrap'!K137 -> CASSÉ LORS DE LA PRÉPARATION | L137: =IF(COUNTIFS($E$2:$E$437,E137)=1,1) -> FALSE | M137: =_xlfn.IFS(Tableau6[[#This Row],[facteur récurrence]]>32,"CRITIQUE",Tableau6[[#This Row],[facteur récurrence]]<=8,"RAS",Tableau6[[#This Row],[facteur récurrence]]<=16,"ATTENTION",Tableau6[[#This Row],[facteur récurrence]]<=32,"DANGER") -> CRITIQUE | P137: =N137+6*30+3 -> 183
A138: ='total Scrap'!A138 -> 10/2020 | B138: ='total Scrap'!B138 -> 73082 | C138: ='total Scrap'!C138 -> C. Poli Marchetti | D138: ='total Scrap'!D138 -> 95728 | E138: ='total Scrap'!E138 -> 17106F225071 | F138: ='total Scrap'!F138 -> COVER SUB ASSY,DPF | G138: ='total Scrap'!G138 -> 1 | H138: ='total Scrap'!H138 -> 16.27 | ... K138: ='total Scrap'!K138 -> VIS SUPPORT GRILLE BLOQUÉE | L138: =IF(COUNTIFS($E$2:$E$437,E138)=1,1) -> FALSE | M138: =_xlfn.IFS(Tableau6[[#This Row],[facteur récurrence]]>32,"CRITIQUE",Tableau6[[#This Row],[facteur récurrence]]<=8,"RAS",Tableau6[[#This Row],[facteur récurrence]]<=16,"ATTENTION",Tableau6[[#This Row],[facteur récurrence]]<=32,"DANGER") -> CRITIQUE | P138: =N138+6*30+3 -> 183
A139: ='total Scrap'!A139 -> 10/2020 | B139: ='total Scrap'!B139 -> 72999 | C139: ='total Scrap'!C139 -> B. Metreau | D139: ='total Scrap'!D139 -> 95642 | E139: ='total Scrap'!E139 -> 56052F226071 | F139: ='total Scrap'!F139 -> WIRE RR UPR MAIN | G139: ='total Scrap'!G139 -> 1 | H139: ='total Scrap'!H139 -> 16.04 | ... K139: ='total Scrap'!K139 -> FILS COUPÉS AU MONTAGE | L139: =IF(COUNTIFS($E$2:$E$437,E139)=1,1) -> 1 | M139: =_xlfn.IFS(Tableau6[[#This Row],[facteur récurrence]]>32,"CRITIQUE",Tableau6[[#This Row],[facteur récurrence]]<=8,"RAS",Tableau6[[#This Row],[facteur récurrence]]<=16,"ATTENTION",Tableau6[[#This Row],[facteur récurrence]]<=32,"DANGER") -> RAS | P139: =N139+6*30+3 -> 183
A140: ='total Scrap'!A140 -> 10/2020 | B140: ='total Scrap'!B140 -> 73082 | C140: ='total Scrap'!C140 -> C. Poli Marchetti | D140: ='total Scrap'!D140 -> 96707 | E140: ='total Scrap'!E140 -> 53220F219071 | F140: ='total Scrap'!F140 -> PANEL ASSY,INSTRUMENT,LH | G140: ='total Scrap'!G140 -> 1 | H140: ='total Scrap'!H140 -> 15.8966 | ... K140: ='total Scrap'!K140 -> RAYÉ | L140: =IF(COUNTIFS($E$2:$E$437,E140)=1,1) -> FALSE | M140: =_xlfn.IFS(Tableau6[[#This Row],[facteur récurrence]]>32,"CRITIQUE",Tableau6[[#This Row],[facteur récurrence]]<=8,"RAS",Tableau6[[#This Row],[facteur récurrence]]<=16,"ATTENTION",Tableau6[[#This Row],[facteur récurrence]]<=32,"DANGER") -> CRITIQUE | P140: =N140+6*30+3 -> 183
... A169: ='total Scrap'!A169 -> 11/2020 | B169: ='total Scrap'!B169 -> 73082 | C169: ='total Scrap'!C169 -> C. Poli Marchetti | D169: ='total Scrap'!D169 -> 96717 | E169: ='total Scrap'!E169 -> 89661UM090 | F169: ='total Scrap'!F169 -> COMPUTER, ENGINE CONTROL | G169: ='total Scrap'!G169 -> 1 | H169: ='total Scrap'!H169 -> 161.78 | ... K169: ='total Scrap'!K169 -> PLASTIQUE AU NIVEAU DE LA PRISE CASSÉ | L169: =IF(COUNTIFS($E$2:$E$437,E169)=1,1) -> FALSE | M169: =_xlfn.IFS(Tableau6[[#This Row],[facteur récurrence]]>32,"CRITIQUE",Tableau6[[#This Row],[facteur récurrence]]<=8,"RAS",Tableau6[[#This Row],[facteur récurrence]]<=16,"ATTENTION",Tableau6[[#This Row],[facteur récurrence]]<=32,"DANGER") -> CRITIQUE | P169: =N169+6*30+3 -> 183
A170: ='total Scrap'!A48 -> 07/2020 | B170: ='total Scrap'!B48 -> 72007 | C170: ='total Scrap'!C48 -> JP Dupas | D170: ='total Scrap'!D48 -> 95767 | E170: ='total Scrap'!E48 -> 55213F218171 | F170: ='total Scrap'!F48 -> GLASS,FR | G170: ='total Scrap'!G48 -> 1 | H170: ='total Scrap'!H48 -> 32.65 | ... K170: ='total Scrap'!K48 -> PARE BRISE ABIMÉ PAR DES GRAINS DE SOUDURE LORS DE L'INTERVENTION AFF | L170: =IF(COUNTIFS($E$2:$E$437,E170)=1,1) -> FALSE | M170: =_xlfn.IFS(Tableau6[[#This Row],[facteur récurrence]]>32,"CRITIQUE",Tableau6[[#This Row],[facteur récurrence]]<=8,"RAS",Tableau6[[#This Row],[facteur récurrence]]<=16,"ATTENTION",Tableau6[[#This Row],[facteur récurrence]]<=32,"DANGER") -> CRITIQUE | P170: =N170+6*30+3 -> 183
A171: ='total Scrap'!A171 -> 11/2020 | B171: ='total Scrap'!B171 -> 73082 | C171: ='total Scrap'!C171 -> C. Poli Marchetti | D171: ='total Scrap'!D171 -> 95744 | E171: ='total Scrap'!E171 -> 56210F118071 | F171: ='total Scrap'!F171 -> WIRE, ENGINE | G171: ='total Scrap'!G171 -> 1 | H171: ='total Scrap'!H171 -> 87.93 | ... K171: ='total Scrap'!K171 -> PRISE ET CLIPS HS | L171: =IF(COUNTIFS($E$2:$E$437,E171)=1,1) -> FALSE | M171: =_xlfn.IFS(Tableau6[[#This Row],[facteur récurrence]]>32,"CRITIQUE",Tableau6[[#This Row],[facteur récurrence]]<=8,"RAS",Tableau6[[#This Row],[facteur récurrence]]<=16,"ATTENTION",Tableau6[[#This Row],[facteur récurrence]]<=32,"DANGER") -> CRITIQUE | P171: =N171+6*30+3 -> 183
A172: ='total Scrap'!A172 -> 11/2020 | B172: ='total Scrap'!B172 -> 72999 | C172: ='total Scrap'!C172 -> B. Metreau | D172: ='total Scrap'!D172 -> 95991 | E172: ='total Scrap'!E172 -> 8987125010 | F172: ='total Scrap'!F172 -> CONTROLLER ASSY, FUEL INJECTION | G172: ='total Scrap'!G172 -> 1 | H172: ='total Scrap'!H172 -> 87.45 | ... K172: ='total Scrap'!K172 -> FIXATION CASSÉE | L172: =IF(COUNTIFS($E$2:$E$437,E172)=1,1) -> FALSE | M172: =_xlfn.IFS(Tableau6[[#This Row],[facteur récurrence]]>32,"CRITIQUE",Tableau6[[#This Row],[facteur récurrence]]<=8,"RAS",Tableau6[[#This Row],[facteur récurrence]]<=16,"ATTENTION",Tableau6[[#This Row],[facteur récurrence]]<=32,"DANGER") -> CRITIQUE | P172: =N172+6*30+3 -> 183
A173: ='total Scrap'!A49 -> 07/2020 | B173: ='total Scrap'!B49 -> 73069 | C173: ='total Scrap'!C49 -> T. Boudard | D173: ='total Scrap'!D49 -> 95770 | E173: ='total Scrap'!E49 -> 55213F218171 | F173: ='total Scrap'!F49 -> GLASS,FR | G173: ='total Scrap'!G49 -> 1 | H173: ='total Scrap'!H49 -> 32.65 | ... K173: ='total Scrap'!K49 -> RAYÉ | L173: =IF(COUNTIFS($E$2:$E$437,E173)=1,1) -> FALSE | M173: =_xlfn.IFS(Tableau6[[#This Row],[facteur récurrence]]>32,"CRITIQUE",Tableau6[[#This Row],[facteur récurrence]]<=8,"RAS",Tableau6[[#This Row],[facteur récurrence]]<=16,"ATTENTION",Tableau6[[#This Row],[facteur récurrence]]<=32,"DANGER") -> CRITIQUE | P173: =N173+6*30+3 -> 183
A174: ='total Scrap'!A174 -> 11/2020 | B174: ='total Scrap'!B174 -> 73082 | C174: ='total Scrap'!C174 -> C. Poli Marchetti | D174: ='total Scrap'!D174 -> 95738 | E174: ='total Scrap'!E174 -> 27060UB070 | F174: ='total Scrap'!F174 -> ALTERNATOR ASSY, W/REGULATOR | G174: ='total Scrap'!G174 -> 1 | H174: ='total Scrap'!H174 -> 65.82 | ... K174: ='total Scrap'!K174 -> PRISE MOULÉE HS | L174: =IF(COUNTIFS($E$2:$E$437,E174)=1,1) -> FALSE | M174: =_xlfn.IFS(Tableau6[[#This Row],[facteur récurrence]]>32,"CRITIQUE",Tableau6[[#This Row],[facteur récurrence]]<=8,"RAS",Tableau6[[#This Row],[facteur récurrence]]<=16,"ATTENTION",Tableau6[[#This Row],[facteur récurrence]]<=32,"DANGER") -> CRITIQUE | P174: =N174+6*30+3 -> 183
A175: ='total Scrap'!A175 -> 11/2020 | B175: ='total Scrap'!B175 -> 72999 | C175: ='total Scrap'!C175 -> B. Metreau | D175: ='total Scrap'!D175 -> 95984 | E175: ='total Scrap'!E175 -> 56044FPA2271 | F175: ='total Scrap'!F175 -> WIRE, MAIN, I-SITE | G175: ='total Scrap'!G175 -> 1 | H175: ='total Scrap'!H175 -> 40.95 | ... K175: ='total Scrap'!K175 -> CONNECTEUR J19 HS | L175: =IF(COUNTIFS($E$2:$E$437,E175)=1,1) -> FALSE | M175: =_xlfn.IFS(Tableau6[[#This Row],[facteur récurrence]]>32,"CRITIQUE",Tableau6[[#This Row],[facteur récurrence]]<=8,"RAS",Tableau6[[#This Row],[facteur récurrence]]<=16,"ATTENTION",Tableau6[[#This Row],[facteur récurrence]]<=32,"DANGER") -> CRITIQUE | P175: =N175+6*30+3 -> 183
A176: ='total Scrap'!A176 -> 11/2020 | B176: ='total Scrap'!B176 -> 72217 | C176: ='total Scrap'!C176 -> D. Peigné | D176: ='total Scrap'!D176 -> 96316 | E176: ='total Scrap'!E176 -> 566302661071 | F176: ='total Scrap'!F176 -> LAMP ASSY, COMBINATION RR, LED | G176: ='total Scrap'!G176 -> 1 | H176: ='total Scrap'!H176 -> 37.34 | ... K176: ='total Scrap'!K176 -> VIS HS SUR RAMPE DE FEUX IMPOSSIBLE A EXTRAIRE | L176: =IF(COUNTIFS($E$2:$E$437,E176)=1,1) -> FALSE | M176: =_xlfn.IFS(Tableau6[[#This Row],[facteur récurrence]]>32,"CRITIQUE",Tableau6[[#This Row],[facteur récurrence]]<=8,"RAS",Tableau6[[#This Row],[facteur récurrence]]<=16,"ATTENTION",Tableau6[[#This Row],[facteur récurrence]]<=32,"DANGER") -> CRITIQUE | P176: =N176+6*30+3 -> 183
A177: ='total Scrap'!A177 -> 11/2020 | B177: ='total Scrap'!B177 -> 72999 | C177: ='total Scrap'!C177 -> B. Metreau | D177: ='total Scrap'!D177 -> 95981 | E177: ='total Scrap'!E177 -> 233002665071 | F177: ='total Scrap'!F177 -> FILTER ASSY, FUEL | G177: ='total Scrap'!G177 -> 1 | H177: ='total Scrap'!H177 -> 31.22 | ... K177: ='total Scrap'!K177 -> PRISE CASSÉE 481 | L177: =IF(COUNTIFS($E$2:$E$437,E177)=1,1) -> FALSE | M177: =_xlfn.IFS(Tableau6[[#This Row],[facteur récurrence]]>32,"CRITIQUE",Tableau6[[#This Row],[facteur récurrence]]<=8,"RAS",Tableau6[[#This Row],[facteur récurrence]]<=16,"ATTENTION",Tableau6[[#This Row],[facteur récurrence]]<=32,"DANGER") -> CRITIQUE | P177: =N177+6*30+3 -> 183
A178: ='total Scrap'!A178 -> 11/2020 | B178: ='total Scrap'!B178 -> 73082 | C178: ='total Scrap'!C178 -> C. Poli Marchetti | D178: ='total Scrap'!D178 -> 95743 | E178: ='total Scrap'!E178 -> 38746F231171 | F178: ='total Scrap'!F178 -> VALVE | G178: ='total Scrap'!G178 -> 1 | H178: ='total Scrap'!H178 -> 30.91 | ... K178: ='total Scrap'!K178 -> FILETAGE HS | L178: =IF(COUNTIFS($E$2:$E$437,E178)=1,1) -> 1 | M178: =_xlfn.IFS(Tableau6[[#This Row],[facteur récurrence]]>32,"CRITIQUE",Tableau6[[#This Row],[facteur récurrence]]<=8,"RAS",Tableau6[[#This Row],[facteur récurrence]]<=16,"ATTENTION",Tableau6[[#This Row],[facteur récurrence]]<=32,"DANGER") -> RAS | P178: =N178+6*30+3 -> 183
A179: ='total Scrap'!A179 -> 11/2020 | B179: ='total Scrap'!B179 -> 72217 | C179: ='total Scrap'!C179 -> D. Peigné | D179: ='total Scrap'!D179 -> 96208 | E179: ='total Scrap'!E179 -> 53233FPA2171 | F179: ='total Scrap'!F179 -> PANEL, INSTRUMENT, RH | G179: ='total Scrap'!G179 -> 1 | H179: ='total Scrap'!H179 -> 17.15 | ... K179: ='total Scrap'!K179 -> RAYÉ EN LE DÉMONTANT | L179: =IF(COUNTIFS($E$2:$E$437,E179)=1,1) -> 1 | M179: =_xlfn.IFS(Tableau6[[#This Row],[facteur récurrence]]>32,"CRITIQUE",Tableau6[[#This Row],[facteur récurrence]]<=8,"RAS",Tableau6[[#This Row],[facteur récurrence]]<=16,"ATTENTION",Tableau6[[#This Row],[facteur récurrence]]<=32,"DANGER") -> RAS | P179: =N179+6*30+3 -> 183
A180: ='total Scrap'!A90 -> 09/2020 | B180: ='total Scrap'!B90 -> 72139 | C180: ='total Scrap'!C90 -> C. Pichon | D180: ='total Scrap'!D90 -> 95160 | E180: ='total Scrap'!E90 -> 55213F218171 | F180: ='total Scrap'!F90 -> GLASS,FR | G180: ='total Scrap'!G90 -> 3 | H180: ='total Scrap'!H90 -> 97.95 | ... K180: ='total Scrap'!K90 -> RAYURES | L180: =IF(COUNTIFS($E$2:$E$437,E180)=1,1) -> FALSE | M180: =_xlfn.IFS(Tableau6[[#This Row],[facteur récurrence]]>32,"CRITIQUE",Tableau6[[#This Row],[facteur récurrence]]<=8,"RAS",Tableau6[[#This Row],[facteur récurrence]]<=16,"ATTENTION",Tableau6[[#This Row],[facteur récurrence]]<=32,"DANGER") -> CRITIQUE | P180: =N180+6*30+3 -> 183
A181: ='total Scrap'!A181 -> 11/2020 | B181: ='total Scrap'!B181 -> 73082 | C181: ='total Scrap'!C181 -> C. Poli Marchetti | D181: ='total Scrap'!D181 -> 95733 | E181: ='total Scrap'!E181 -> 38711F331171 | F181: ='total Scrap'!F181 -> PIPE | G181: ='total Scrap'!G181 -> 1 | H181: ='total Scrap'!H181 -> 16.39 | ... K181: ='total Scrap'!K181 -> FILETS FLEXIBLE COTÉ DISTRIBUTEUR HS | L181: =IF(COUNTIFS($E$2:$E$437,E181)=1,1) -> FALSE | M181: =_xlfn.IFS(Tableau6[[#This Row],[facteur récurrence]]>32,"CRITIQUE",Tableau6[[#This Row],[facteur récurrence]]<=8,"RAS",Tableau6[[#This Row],[facteur récurrence]]<=16,"ATTENTION",Tableau6[[#This Row],[facteur récurrence]]<=32,"DANGER") -> CRITIQUE | P181: =N181+6*30+3 -> 183
A182: ='total Scrap'!A182 -> 11/2020 | B182: ='total Scrap'!B182 -> 73082 | C182: ='total Scrap'!C182 -> C. Poli Marchetti | D182: ='total Scrap'!D182 -> 95431 | E182: ='total Scrap'!E182 -> 53402F218171 | F182: ='total Scrap'!F182 -> TOE-BOARD SUB-ASSY, RR | G182: ='total Scrap'!G182 -> 1 | H182: ='total Scrap'!H182 -> 14.342 | ... K182: ='total Scrap'!K182 -> TORDU (COUPS DE FOURCHES) | L182: =IF(COUNTIFS($E$2:$E$437,E182)=1,1) -> FALSE | M182: =_xlfn.IFS(Tableau6[[#This Row],[facteur récurrence]]>32,"CRITIQUE",Tableau6[[#This Row],[facteur récurrence]]<=8,"RAS",Tableau6[[#This Row],[facteur récurrence]]<=16,"ATTENTION",Tableau6[[#This Row],[facteur récurrence]]<=32,"DANGER") -> CRITIQUE | P182: =N182+6*30+3 -> 183
A183: ='total Scrap'!A183 -> 11/2020 | B183: ='total Scrap'!B183 -> 73082 | C183: ='total Scrap'!C183 -> C. Poli Marchetti | D183: ='total Scrap'!D183 -> 96153 | E183: ='total Scrap'!E183 -> 53402F218171 | F183: ='total Scrap'!F183 -> TOE-BOARD SUB-ASSY, RR | G183: ='total Scrap'!G183 -> 1 | H183: ='total Scrap'!H183 -> 14.342 | ... K183: ='total Scrap'!K183 -> PLANCHER ABIMÉ ET DÉFORMÉ | L183: =IF(COUNTIFS($E$2:$E$437,E183)=1,1) -> FALSE | M183: =_xlfn.IFS(Tableau6[[#This Row],[facteur récurrence]]>32,"CRITIQUE",Tableau6[[#This Row],[facteur récurrence]]<=8,"RAS",Tableau6[[#This Row],[facteur récurrence]]<=16,"ATTENTION",Tableau6[[#This Row],[facteur récurrence]]<=32,"DANGER") -> CRITIQUE | P183: =N183+6*30+3 -> 183
A184: ='total Scrap'!A184 -> 11/2020 | B184: ='total Scrap'!B184 -> 73082 | C184: ='total Scrap'!C184 -> C. Poli Marchetti | D184: ='total Scrap'!D184 -> 95427 | E184: ='total Scrap'!E184 -> 17103F218071 | F184: ='total Scrap'!F184 -> GUARD SUB ASSY, MUFFLER | G184: ='total Scrap'!G184 -> 1 | H184: ='total Scrap'!H184 -> 14.04 | ... K184: ='total Scrap'!K184 -> GILLE DESSOUDÉE (COUPS) | L184: =IF(COUNTIFS($E$2:$E$437,E184)=1,1) -> 1 | M184: =_xlfn.IFS(Tableau6[[#This Row],[facteur récurrence]]>32,"CRITIQUE",Tableau6[[#This Row],[facteur récurrence]]<=8,"RAS",Tableau6[[#This Row],[facteur récurrence]]<=16,"ATTENTION",Tableau6[[#This Row],[facteur récurrence]]<=32,"DANGER") -> RAS | P184: =N184+6*30+3 -> 183
A185: ='total Scrap'!A185 -> 11/2020 | B185: ='total Scrap'!B185 -> 73082 | C185: ='total Scrap'!C185 -> C. Poli Marchetti | D185: ='total Scrap'!D185 -> 96713 | E185: ='total Scrap'!E185 -> 53220F218071 | F185: ='total Scrap'!F185 -> PANEL ASSY, INSTRUMENT, LH | G185: ='total Scrap'!G185 -> 1 | H185: ='total Scrap'!H185 -> 13.5117 | ... K185: ='total Scrap'!K185 -> RAYURES | L185: =IF(COUNTIFS($E$2:$E$437,E185)=1,1) -> 1 | M185: =_xlfn.IFS(Tableau6[[#This Row],[facteur récurrence]]>32,"CRITIQUE",Tableau6[[#This Row],[facteur récurrence]]<=8,"RAS",Tableau6[[#This Row],[facteur récurrence]]<=16,"ATTENTION",Tableau6[[#This Row],[facteur récurrence]]<=32,"DANGER") -> RAS | P185: =N185+6*30+3 -> 183
A186: ='total Scrap'!A186 -> 11/2020 | B186: ='total Scrap'!B186 -> 73069 | C186: ='total Scrap'!C186 -> T. Boudard | D186: ='total Scrap'!D186 -> 96652 | E186: ='total Scrap'!E186 -> 58508F318071 | F186: ='total Scrap'!F186 -> BAC, WASHER | G186: ='total Scrap'!G186 -> 1 | H186: ='total Scrap'!H186 -> 13.21 | ... K186: ='total Scrap'!K186 -> SORTIE PRODUIT LAVE-GLACE CASSÉE | L186: =IF(COUNTIFS($E$2:$E$437,E186)=1,1) -> 1 | M186: =_xlfn.IFS(Tableau6[[#This Row],[facteur récurrence]]>32,"CRITIQUE",Tableau6[[#This Row],[facteur récurrence]]<=8,"RAS",Tableau6[[#This Row],[facteur récurrence]]<=16,"ATTENTION",Tableau6[[#This Row],[facteur récurrence]]<=32,"DANGER") -> RAS | P186: =N186+6*30+3 -> 183
A187: ='total Scrap'!A187 -> 11/2020 | B187: ='total Scrap'!B187 -> 72479 | C187: ='total Scrap'!C187 -> A. Albert | D187: ='total Scrap'!D187 -> 95191 | E187: ='total Scrap'!E187 -> 167202665171 | F187: ='total Scrap'!F187 -> SHROUD ASSY, FAN | G187: ='total Scrap'!G187 -> 1 | H187: ='total Scrap'!H187 -> 12.56 | ... K187: ='total Scrap'!K187 -> L'ÉCROU A CASSÉ SON LOGEMENT LORS DU SERRAGE | L187: =IF(COUNTIFS($E$2:$E$437,E187)=1,1) -> FALSE | M187: =_xlfn.IFS(Tableau6[[#This Row],[facteur récurrence]]>32,"CRITIQUE",Tableau6[[#This Row],[facteur récurrence]]<=8,"RAS",Tableau6[[#This Row],[facteur récurrence]]<=16,"ATTENTION",Tableau6[[#This Row],[facteur récurrence]]<=32,"DANGER") -> CRITIQUE | P187: =N187+6*30+3 -> 183
A188: ='total Scrap'!A188 -> 11/2020 | B188: ='total Scrap'!B188 -> 72999 | C188: ='total Scrap'!C188 -> B. Metreau | D188: ='total Scrap'!D188 -> 96716 | E188: ='total Scrap'!E188 -> 678202664171 | F188: ='total Scrap'!F188 -> LEVER ASSY, TILT, W/SWITCH & KNOB | G188: ='total Scrap'!G188 -> 1 | H188: ='total Scrap'!H188 -> 12.15 | ... K188: ='total Scrap'!K188 -> COUPS | L188: =IF(COUNTIFS($E$2:$E$437,E188)=1,1) -> 1 | M188: =_xlfn.IFS(Tableau6[[#This Row],[facteur récurrence]]>32,"CRITIQUE",Tableau6[[#This Row],[facteur récurrence]]<=8,"RAS",Tableau6[[#This Row],[facteur récurrence]]<=16,"ATTENTION",Tableau6[[#This Row],[facteur récurrence]]<=32,"DANGER") -> RAS | P188: =N188+6*30+3 -> 183
...
