Workbook

Sheet Question
A1: Les questions 0), 1), 2), 3) comptent pour 10 points. Les questions 4) et 5) comptent pour dix points.
A3: Nous voulons étudier le prix d'un litre de Diesel dans la Région Nord-Pas de Calais (RNPdC). Rappelons que cette Région est composée de deux Départements : Nord et Pas-de-Calais. Le premier possède une population de 2.584.126 habitants et le deuxième une population de 1.465.559 habitants. La distribution de stations d'essence ne suit pas cette proportion. Nous trouvons 13.567 stations d'essence dans le Département du Nord et 8.978 dans celui du Pas-de-Calais. Pour mener cette étude nous avons choisi deux échantillons, un dans chaque Département, de taille respective 150 et 100. Ils sont présentes dans les tableaux suivants.
A12: Remplacer tous les fonds Bleus par la couleur B (Voir données)
A14: I - Dans l'onglet Données vous trouverez les prix d'un litre de Diesel dans l'échantillon des 150 stations d'essence du Département du Nord
A18: 1) Calculer la moyenne, l'écart type, la médiane et les quartiles du prix d'un litre de Diesel dans le Département du Nord. On n'utilisera que le tableau précédant. Les réponses doivent être présentées à l'endroit indiqué, ci-dessous.
D23: Moyenne | E23: Écart Type | F23: Médiane | G23: Q1 | H23: Q3
D24: =AVERAGE(Données!A1:J15) -> 1.3608667 | E24: =STDEV(Données!A1:J15) -> 0.087143457 | F24: =MEDIAN(Données!A1:J15) -> 1.3625 | G24: =QUARTILE(Données!A1:J15,1) -> 1.283 | H24: =QUARTILE(Données!A1:J15,3) -> 1.44075
B26: 2) Regrouper les données en classes et remplir le tableau suivant
C29: Prix du litre de Diesel (classes) | D29: Nombre de Stations | E29: Colonne auxiliaire (si nécessaire) | F29: Colonne auxiliaire (si nécessaire) | G29: Colonne auxiliaire (si nécessaire) | H29: Colonne auxiliaire (si nécessaire) | I29: Colonne auxiliaire (si nécessaire) | J29: Colonne auxiliaire (si nécessaire)
C32: [ 1,20 ; 1,22 [ | D32: =COUNTIF(Données!$A$1:$J$15,E32)-COUNTIF(Données!$A$1:$J$15,E33) -> 7 | E32: >=1,20 | F32: =D32/D$47 -> 0.046666667 | G32: =F32 -> 0.046666667 | H32: =IF(MAX(F$32:F$46)=F32,C32,"") | I32: =(1.2+1.22)/2 -> 1.21
C33: [ 1,22 ; 1,24 [ | D33: =COUNTIF(Données!$A$1:$J$15,E33)-COUNTIF(Données!$A$1:$J$15,E34) -> 7 | E33: >=1,22 | F33: =D33/D$47 -> 0.046666667 | G33: =G32+F33 -> 0.093333333 | H33: =IF(MAX(F$32:F$46)=F33,C33,"") | I33: =(1.22+1.24)/2 -> 1.23
C34: [ 1,24 ; 1,26 [ | D34: =COUNTIF(Données!$A$1:$J$15,E34)-COUNTIF(Données!$A$1:$J$15,E35) -> 12 | E34: >=1,24 | F34: =D34/D$47 -> 0.08 | G34: =G33+F34 -> 0.17333333 | H34: =IF(MAX(F$32:F$46)=F34,C34,"") | I34: =(1.24+1.26)/2 -> 1.25
C35: [ 1,26 ; 1,28 [ | D35: =COUNTIF(Données!$A$1:$J$15,E35)-COUNTIF(Données!$A$1:$J$15,E36) -> 10 | E35: >=1,26 | F35: =D35/D$47 -> 0.066666667 | G35: =G34+F35 -> 0.24 | H35: =IF(MAX(F$32:F$46)=F35,C35,"") | I35: =(1.26+1.28)/2 -> 1.27
C36: [ 1,28 ; 1,30 [ | D36: =COUNTIF(Données!$A$1:$J$15,E36)-COUNTIF(Données!$A$1:$J$15,E37) -> 13 | E36: >=1,28 | F36: =D36/D$47 -> 0.086666667 | G36: =G35+F36 -> 0.32666667 | H36: =IF(MAX(F$32:F$46)=F36,C36,"") | I36: =(1.28+1.3)/2 -> 1.29
C37: [ 1,30 ; 1,32 [ | D37: =COUNTIF(Données!$A$1:$J$15,E37)-COUNTIF(Données!$A$1:$J$15,E38) -> 5 | E37: >=1,30 | F37: =D37/D$47 -> 0.033333333 | G37: =G36+F37 -> 0.36 | H37: =IF(MAX(F$32:F$46)=F37,C37,"") | I37: =(1.3+1.32)/2 -> 1.31
C38: [ 1,32 ; 1,34 [ | D38: =COUNTIF(Données!$A$1:$J$15,E38)-COUNTIF(Données!$A$1:$J$15,E39) -> 11 | E38: >=1,32 | F38: =D38/D$47 -> 0.073333333 | G38: =G37+F38 -> 0.43333333 | H38: =IF(MAX(F$32:F$46)=F38,C38,"") | I38: =(1.32+1.34)/2 -> 1.33
C39: [ 1,34 ; 1,36 [ | D39: =COUNTIF(Données!$A$1:$J$15,E39)-COUNTIF(Données!$A$1:$J$15,E40) -> 7 | E39: >=1,34 | F39: =D39/D$47 -> 0.046666667 | G39: =G38+F39 -> 0.48 | H39: =IF(MAX(F$32:F$46)=F39,C39,"") | I39: =(1.34+1.36)/2 -> 1.35
C40: [ 1,36 ; 1,38 [ | D40: =COUNTIF(Données!$A$1:$J$15,E40)-COUNTIF(Données!$A$1:$J$15,E41) -> 8 | E40: >=1,36 | F40: =D40/D$47 -> 0.053333333 | G40: =G39+F40 -> 0.53333333 | H40: =IF(MAX(F$32:F$46)=F40,C40,"") | I40: =(1.36+1.38)/2 -> 1.37
C41: [ 1,38 ; 1,40 [ | D41: =COUNTIF(Données!$A$1:$J$15,E41)-COUNTIF(Données!$A$1:$J$15,E42) -> 8 | E41: >=1,38 | F41: =D41/D$47 -> 0.053333333 | G41: =G40+F41 -> 0.58666667 | H41: =IF(MAX(F$32:F$46)=F41,C41,"") | I41: =(1.38+1.4)/2 -> 1.39
C42: [ 1,40 ; 1,42 [ | D42: =COUNTIF(Données!$A$1:$J$15,E42)-COUNTIF(Données!$A$1:$J$15,E43) -> 10 | E42: >=1,40 | F42: =D42/D$47 -> 0.066666667 | G42: =G41+F42 -> 0.65333333 | H42: =IF(MAX(F$32:F$46)=F42,C42,"") | I42: =(1.4+1.42)/2 -> 1.41
C43: [ 1,42 ; 1,44 [ | D43: =COUNTIF(Données!$A$1:$J$15,E43)-COUNTIF(Données!$A$1:$J$15,E44) -> 13 | E43: >=1,42 | F43: =D43/D$47 -> 0.086666667 | G43: =G42+F43 -> 0.74 | H43: =IF(MAX(F$32:F$46)=F43,C43,"") | I43: =(1.42+1.44)/2 -> 1.43
C44: [ 1,44 ; 1,46 [ | D44: =COUNTIF(Données!$A$1:$J$15,E44)-COUNTIF(Données!$A$1:$J$15,E45) -> 13 | E44: >=1,44 | F44: =D44/D$47 -> 0.086666667 | G44: =G43+F44 -> 0.82666667 | H44: =IF(MAX(F$32:F$46)=F44,C44,"") | I44: =(1.44+1.46)/2 -> 1.45
C45: [ 1,46 ; 1,48 [ | D45: =COUNTIF(Données!$A$1:$J$15,E45)-COUNTIF(Données!$A$1:$J$15,E46) -> 15 | E45: >=1,46 | F45: =D45/D$47 -> 0.1 | G45: =G44+F45 -> 0.92666667 | H45: =IF(MAX(F$32:F$46)=F45,C45,"") -> [ 1,46 ; 1,48 [ | I45: =(1.46+1.48)/2 -> 1.47
C46: [ 1,48 ; 1,50 [ | D46: =COUNTIF(Données!$A$1:$J$15,E46)-COUNTIF(Données!$A$1:$J$15,E47) -> 11 | E46: >=1,48 | F46: =D46/D$47 -> 0.073333333 | G46: =G45+F46 -> 1 | H46: =IF(MAX(F$32:F$46)=F46,C46,"") | I46: =(1.48+1.5)/2 -> 1.49
C47: Total | D47: =SUM(D32:D46) -> 150
B49: II - Voici les prix d'un litre de Diesel dans l'échantillon des 100 stations d'essence du Département du Pas-de-Calais.
B51: 3) Remplir le tableau suivant. Calculer la moyenne, l'écart type et la médiane du prix d'un litre de Diesel dans le Département du Pas-de-Calais. Les réponses doivent être présentées à l'endroit indiqué, ci-dessous.
C56: Prix du litre de Diesel (classes) | D56: Nombre de Stations | E56: Fréquence | F56: FCC | G56: Classe modale | H56: Centres | I56: Bornes
C59: [ 1,20 ; 1,22 [ | D59: =RANDBETWEEN(0,8) -> 6 | E59: =D59/D$74 -> 0.06 | F59: =E59 -> 0.06 | G59: =IF(MAX(E$59:E$73)=E59,C59,"") | H59: =(1.2+1.22)/2 -> 1.21 | I59: 1.2
C60: [ 1,22 ; 1,24 [ | D60: =RANDBETWEEN(0,8) -> 4 | E60: =D60/D$74 -> 0.04 | F60: =F59+E60 -> 0.1 | G60: =IF(MAX(E$59:E$73)=E60,C60,"") | H60: =(1.22+1.24)/2 -> 1.23 | I60: 1.22
C61: [ 1,24 ; 1,26 [ | D61: =RANDBETWEEN(0,8) -> 4 | E61: =D61/D$74 -> 0.04 | F61: =F60+E61 -> 0.14 | G61: =IF(MAX(E$59:E$73)=E61,C61,"") | H61: =(1.24+1.26)/2 -> 1.25 | I61: 1.24
C62: [ 1,26 ; 1,28 [ | D62: =25-SUM(D59:D61) -> 11 | E62: =D62/D$74 -> 0.11 | F62: =F61+E62 -> 0.25 | G62: =IF(MAX(E$59:E$73)=E62,C62,"") | H62: =(1.26+1.28)/2 -> 1.27 | I62: 1.26
C63: [ 1,28 ; 1,30 [ | D63: =RANDBETWEEN(0,8) -> 1 | E63: =D63/D$74 -> 0.01 | F63: =F62+E63 -> 0.26 | G63: =IF(MAX(E$59:E$73)=E63,C63,"") | H63: =(1.28+1.3)/2 -> 1.29 | I63: 1.28
C64: [ 1,30 ; 1,32 [ | D64: =RANDBETWEEN(0,8) -> 0 | E64: =D64/D$74 -> 0 | F64: =F63+E64 -> 0.26 | G64: =IF(MAX(E$59:E$73)=E64,C64,"") | H64: =(1.3+1.32)/2 -> 1.31 | I64: 1.3
C65: [ 1,32 ; 1,34 [ | D65: =RANDBETWEEN(1,8) -> 5 | E65: =D65/D$74 -> 0.05 | F65: =F64+E65 -> 0.31 | G65: =IF(MAX(E$59:E$73)=E65,C65,"") | H65: =(1.32+1.34)/2 -> 1.33 | I65: 1.32
C66: [ 1,34 ; 1,36 [ | D66: =25-SUM(D63:D65) -> 19 | E66: =D66/D$74 -> 0.19 | F66: =F65+E66 -> 0.5 | G66: =IF(MAX(E$59:E$73)=E66,C66,"") -> [ 1,34 ; 1,36 [ | H66: =(1.34+1.36)/2 -> 1.35 | I66: 1.34
C67: [ 1,36 ; 1,38 [ | D67: =RANDBETWEEN(0,8) -> 2 | E67: =D67/D$74 -> 0.02 | F67: =F66+E67 -> 0.52 | G67: =IF(MAX(E$59:E$73)=E67,C67,"") | H67: =(1.36+1.38)/2 -> 1.37 | I67: 1.36
C68: [ 1,38 ; 1,40 [ | D68: =RANDBETWEEN(0,8) -> 4 | E68: =D68/D$74 -> 0.04 | F68: =F67+E68 -> 0.56 | G68: =IF(MAX(E$59:E$73)=E68,C68,"") | H68: =(1.38+1.4)/2 -> 1.39 | I68: 1.38
C69: [ 1,40 ; 1,42 [ | D69: =RANDBETWEEN(0,8) -> 6 | E69: =D69/D$74 -> 0.06 | F69: =F68+E69 -> 0.62 | G69: =IF(MAX(E$59:E$73)=E69,C69,"") | H69: =(1.4+1.42)/2 -> 1.41 | I69: 1.4
C70: [ 1,42 ; 1,44 [ | D70: =25-SUM(D67:D69) -> 13 | E70: =D70/D$74 -> 0.13 | F70: =F69+E70 -> 0.75 | G70: =IF(MAX(E$59:E$73)=E70,C70,"") | H70: =(1.42+1.44)/2 -> 1.43 | I70: 1.42
...

Sheet Données
A1: =RANDBETWEEN(1201,1499)/1000 -> 1.464 | B1: =RANDBETWEEN(1201,1499)/1000 -> 1.249 | C1: =RANDBETWEEN(1201,1499)/1000 -> 1.362 | D1: =RANDBETWEEN(1201,1499)/1000 -> 1.357 | E1: =RANDBETWEEN(1201,1499)/1000 -> 1.441 | F1: =RANDBETWEEN(1201,1499)/1000 -> 1.278 | G1: =RANDBETWEEN(1201,1499)/1000 -> 1.205 | H1: =RANDBETWEEN(1201,1499)/1000 -> 1.362 | ... J1: =RANDBETWEEN(1201,1499)/1000 -> 1.424 | L1: 0) Choisir quatre couleurs différentes A,B,D et C (pas noir, pas blanc)
A2: =RANDBETWEEN(1201,1499)/1000 -> 1.463 | B2: =RANDBETWEEN(1201,1499)/1000 -> 1.357 | C2: =RANDBETWEEN(1201,1499)/1000 -> 1.23 | D2: =RANDBETWEEN(1201,1499)/1000 -> 1.485 | E2: =RANDBETWEEN(1201,1499)/1000 -> 1.223 | F2: =RANDBETWEEN(1201,1499)/1000 -> 1.355 | G2: =RANDBETWEEN(1201,1499)/1000 -> 1.396 | H2: =RANDBETWEEN(1201,1499)/1000 -> 1.239 | ... J2: =RANDBETWEEN(1201,1499)/1000 -> 1.363
A3: =RANDBETWEEN(1201,1499)/1000 -> 1.32 | B3: =RANDBETWEEN(1201,1499)/1000 -> 1.471 | C3: =RANDBETWEEN(1201,1499)/1000 -> 1.234 | D3: =RANDBETWEEN(1201,1499)/1000 -> 1.323 | E3: =RANDBETWEEN(1201,1499)/1000 -> 1.341 | F3: =RANDBETWEEN(1201,1499)/1000 -> 1.283 | G3: =RANDBETWEEN(1201,1499)/1000 -> 1.481 | H3: =RANDBETWEEN(1201,1499)/1000 -> 1.484 | ... J3: =RANDBETWEEN(1201,1499)/1000 -> 1.208 | L3: Les prix entre 1,2€ et 1,3€ doivent utiliser la couleur A
A4: =RANDBETWEEN(1201,1499)/1000 -> 1.466 | B4: =RANDBETWEEN(1201,1499)/1000 -> 1.279 | C4: =RANDBETWEEN(1201,1499)/1000 -> 1.29 | D4: =RANDBETWEEN(1201,1499)/1000 -> 1.498 | E4: =RANDBETWEEN(1201,1499)/1000 -> 1.286 | F4: =RANDBETWEEN(1201,1499)/1000 -> 1.289 | G4: =RANDBETWEEN(1201,1499)/1000 -> 1.329 | H4: =RANDBETWEEN(1201,1499)/1000 -> 1.483 | ... J4: =RANDBETWEEN(1201,1499)/1000 -> 1.361 | L4: Les prix entre 1,3€ et 1,4€ doivent utiliser la couleur B
A5: =RANDBETWEEN(1201,1499)/1000 -> 1.273 | B5: =RANDBETWEEN(1201,1499)/1000 -> 1.452 | C5: =RANDBETWEEN(1201,1499)/1000 -> 1.35 | D5: =RANDBETWEEN(1201,1499)/1000 -> 1.337 | E5: =RANDBETWEEN(1201,1499)/1000 -> 1.395 | F5: =RANDBETWEEN(1201,1499)/1000 -> 1.426 | G5: =RANDBETWEEN(1201,1499)/1000 -> 1.443 | H5: =RANDBETWEEN(1201,1499)/1000 -> 1.448 | ... J5: =RANDBETWEEN(1201,1499)/1000 -> 1.455 | L5: Les prix entre 1,4€ et 1,5€ doivent utiliser la couleur C
A6: =RANDBETWEEN(1201,1499)/1000 -> 1.465 | B6: =RANDBETWEEN(1201,1499)/1000 -> 1.208 | C6: =RANDBETWEEN(1201,1499)/1000 -> 1.404 | D6: =RANDBETWEEN(1201,1499)/1000 -> 1.487 | E6: =RANDBETWEEN(1201,1499)/1000 -> 1.235 | F6: =RANDBETWEEN(1201,1499)/1000 -> 1.261 | G6: =RANDBETWEEN(1201,1499)/1000 -> 1.47 | H6: =RANDBETWEEN(1201,1499)/1000 -> 1.206 | ... J6: =RANDBETWEEN(1201,1499)/1000 -> 1.258 | L6: Le minimium dot utiliser la couleur D
A7: =RANDBETWEEN(1201,1499)/1000 -> 1.299 | B7: =RANDBETWEEN(1201,1499)/1000 -> 1.281 | C7: =RANDBETWEEN(1201,1499)/1000 -> 1.318 | D7: =RANDBETWEEN(1201,1499)/1000 -> 1.253 | E7: =RANDBETWEEN(1201,1499)/1000 -> 1.382 | F7: =RANDBETWEEN(1201,1499)/1000 -> 1.267 | G7: =RANDBETWEEN(1201,1499)/1000 -> 1.42 | H7: =RANDBETWEEN(1201,1499)/1000 -> 1.421 | ... J7: =RANDBETWEEN(1201,1499)/1000 -> 1.272
A8: =RANDBETWEEN(1201,1499)/1000 -> 1.394 | B8: =RANDBETWEEN(1201,1499)/1000 -> 1.258 | C8: =RANDBETWEEN(1201,1499)/1000 -> 1.473 | D8: =RANDBETWEEN(1201,1499)/1000 -> 1.321 | E8: =RANDBETWEEN(1201,1499)/1000 -> 1.265 | F8: =RANDBETWEEN(1201,1499)/1000 -> 1.31 | G8: =RANDBETWEEN(1201,1499)/1000 -> 1.259 | H8: =RANDBETWEEN(1201,1499)/1000 -> 1.431 | ... J8: =RANDBETWEEN(1201,1499)/1000 -> 1.403 | L8: A
A9: =RANDBETWEEN(1201,1499)/1000 -> 1.258 | B9: =RANDBETWEEN(1201,1499)/1000 -> 1.406 | C9: =RANDBETWEEN(1201,1499)/1000 -> 1.402 | D9: =RANDBETWEEN(1201,1499)/1000 -> 1.453 | E9: =RANDBETWEEN(1201,1499)/1000 -> 1.336 | F9: =RANDBETWEEN(1201,1499)/1000 -> 1.295 | G9: =RANDBETWEEN(1201,1499)/1000 -> 1.38 | H9: =RANDBETWEEN(1201,1499)/1000 -> 1.335 | ... J9: =RANDBETWEEN(1201,1499)/1000 -> 1.292 | L9: B
A10: =RANDBETWEEN(1201,1499)/1000 -> 1.402 | B10: =RANDBETWEEN(1201,1499)/1000 -> 1.479 | C10: =RANDBETWEEN(1201,1499)/1000 -> 1.283 | D10: =RANDBETWEEN(1201,1499)/1000 -> 1.429 | E10: =RANDBETWEEN(1201,1499)/1000 -> 1.421 | F10: =RANDBETWEEN(1201,1499)/1000 -> 1.486 | G10: =RANDBETWEEN(1201,1499)/1000 -> 1.457 | H10: =RANDBETWEEN(1201,1499)/1000 -> 1.225 | ... J10: =RANDBETWEEN(1201,1499)/1000 -> 1.4 | L10: C
A11: =RANDBETWEEN(1201,1499)/1000 -> 1.499 | B11: =RANDBETWEEN(1201,1499)/1000 -> 1.431 | C11: =RANDBETWEEN(1201,1499)/1000 -> 1.209 | D11: =RANDBETWEEN(1201,1499)/1000 -> 1.371 | E11: =RANDBETWEEN(1201,1499)/1000 -> 1.482 | F11: =RANDBETWEEN(1201,1499)/1000 -> 1.474 | G11: =RANDBETWEEN(1201,1499)/1000 -> 1.332 | H11: =RANDBETWEEN(1201,1499)/1000 -> 1.328 | ... J11: =RANDBETWEEN(1201,1499)/1000 -> 1.308 | L11: D
A12: =RANDBETWEEN(1201,1499)/1000 -> 1.275 | B12: =RANDBETWEEN(1201,1499)/1000 -> 1.322 | C12: =RANDBETWEEN(1201,1499)/1000 -> 1.347 | D12: =RANDBETWEEN(1201,1499)/1000 -> 1.371 | E12: =RANDBETWEEN(1201,1499)/1000 -> 1.215 | F12: =RANDBETWEEN(1201,1499)/1000 -> 1.47 | G12: =RANDBETWEEN(1201,1499)/1000 -> 1.46 | H12: =RANDBETWEEN(1201,1499)/1000 -> 1.283 | ... J12: =RANDBETWEEN(1201,1499)/1000 -> 1.454
A13: =RANDBETWEEN(1201,1499)/1000 -> 1.454 | B13: =RANDBETWEEN(1201,1499)/1000 -> 1.492 | C13: =RANDBETWEEN(1201,1499)/1000 -> 1.39 | D13: =RANDBETWEEN(1201,1499)/1000 -> 1.387 | E13: =RANDBETWEEN(1201,1499)/1000 -> 1.413 | F13: =RANDBETWEEN(1201,1499)/1000 -> 1.455 | G13: =RANDBETWEEN(1201,1499)/1000 -> 1.316 | H13: =RANDBETWEEN(1201,1499)/1000 -> 1.423 | ... J13: =RANDBETWEEN(1201,1499)/1000 -> 1.466
A14: =RANDBETWEEN(1201,1499)/1000 -> 1.337 | B14: =RANDBETWEEN(1201,1499)/1000 -> 1.471 | C14: =RANDBETWEEN(1201,1499)/1000 -> 1.45 | D14: =RANDBETWEEN(1201,1499)/1000 -> 1.258 | E14: =RANDBETWEEN(1201,1499)/1000 -> 1.257 | F14: =RANDBETWEEN(1201,1499)/1000 -> 1.467 | G14: =RANDBETWEEN(1201,1499)/1000 -> 1.296 | H14: =RANDBETWEEN(1201,1499)/1000 -> 1.263 | ... J14: =RANDBETWEEN(1201,1499)/1000 -> 1.248
A15: =RANDBETWEEN(1201,1499)/1000 -> 1.469 | B15: =RANDBETWEEN(1201,1499)/1000 -> 1.318 | C15: =RANDBETWEEN(1201,1499)/1000 -> 1.246 | D15: =RANDBETWEEN(1201,1499)/1000 -> 1.297 | E15: =RANDBETWEEN(1201,1499)/1000 -> 1.392 | F15: =RANDBETWEEN(1201,1499)/1000 -> 1.284 | G15: =RANDBETWEEN(1201,1499)/1000 -> 1.367 | H15: =RANDBETWEEN(1201,1499)/1000 -> 1.44 | ... J15: =RANDBETWEEN(1201,1499)/1000 -> 1.375

Sheet Hoja3
