Workbook

Sheet BADGEAGE JUIN
A5: PRENOM | B5: 44354 | E5: =B5+1 -> 44355 | H5: =E5+1 -> 44356 | K5: =H5+1 -> 44357 | N5: =K5+1 -> 44358 | Q5: =N5+1 -> 44359 | T5: TOTAL TEMPS LOGUE | U5: PAUSE | V5: 0.041666667
B6: Début | C6: Fin | D6: TL | E6: Début | F6: Fin | G6: TL | H6: Début | I6: Fin | J6: TL | K6: Début | L6: Fin | M6: TL | N6: Début | O6: Fin | P6: TL | Q6: Début | R6: Fin | S6: TL
A7: EVE | D7: =(C7-B7)-($V$5) -> -0.041666667 | E7: 0.375 | F7: 0.64583333 | G7: =+(F7-E7)-$V$5 -> 0.22916667 | H7: 0.375 | I7: 0.6875 | J7: =(I7-H7)-$V$5 -> 0.27083333 | K7: 0.375 | L7: 0.6875 | M7: =(L7-K7)-$V$5 -> 0.27083333 | N7: 0.375 | O7: 0.6875 | P7: =(O7-N7)-$V$5 -> 0.27083333 | S7: =(R7-Q7)-$V$5 -> -0.041666667 | T7: =IFERROR(SUM(D7,G7,J7,M7,P7,S7),"") -> 0.95833333
A8: MOUSTAPHA | D8: =(C8-B8)-$V$5 -> -0.041666667 | E8: 0.375 | F8: 0.64583333 | G8: =+(F8-E8)-$V$5 -> 0.22916667 | H8: 0.375 | I8: 0.6875 | J8: =(I8-H8)-$V$5 -> 0.27083333 | K8: 0.375 | L8: 0.6875 | M8: =(L8-K8)-$V$5 -> 0.27083333 | N8: 0.375 | O8: 0.6875 | P8: =(O8-N8)-$V$5 -> 0.27083333 | S8: =(R8-Q8)-$V$5 -> -0.041666667 | T8: =IFERROR(SUM(D8,G8,J8,M8,P8,S8),"") -> 0.95833333
A9: EDMOND | D9: =(C9-B9)-$V$5 -> -0.041666667 | E9: 0.375 | F9: 0.64583333 | G9: =+(F9-E9)-$V$5 -> 0.22916667 | H9: 0.375 | I9: 0.6875 | J9: =(I9-H9)-$V$5 -> 0.27083333 | K9: 0.375 | L9: 0.6875 | M9: =(L9-K9)-$V$5 -> 0.27083333 | N9: 0.375 | O9: 0.6875 | P9: =(O9-N9)-$V$5 -> 0.27083333 | S9: =(R9-Q9)-$V$5 -> -0.041666667 | T9: =IFERROR(SUM(D9,G9,J9,M9,P9,S9),"") -> 0.95833333
A10: SYLVIE | D10: =(C10-B10)-$V$5 -> -0.041666667 | E10: 0.375 | F10: 0.64583333 | G10: =+(F10-E10)-$V$5 -> 0.22916667 | H10: 0.375 | I10: 0.6875 | J10: =(I10-H10)-$V$5 -> 0.27083333 | K10: 0.375 | L10: 0.6875 | M10: =(L10-K10)-$V$5 -> 0.27083333 | N10: 0.375 | O10: 0.6875 | P10: =(O10-N10)-$V$5 -> 0.27083333 | S10: =(R10-Q10)-$V$5 -> -0.041666667 | T10: =IFERROR(SUM(D10,G10,J10,M10,P10,S10),"") -> 0.95833333
A11: RITA | D11: =(C11-B11)-$V$5 -> -0.041666667 | E11: 0.375 | F11: 0.64583333 | G11: =+(F11-E11)-$V$5 -> 0.22916667 | H11: 0.375 | I11: 0.6875 | J11: =(I11-H11)-$V$5 -> 0.27083333 | K11: 0.375 | L11: 0.6875 | M11: =(L11-K11)-$V$5 -> 0.27083333 | N11: 0.375 | O11: 0.6875 | P11: =(O11-N11)-$V$5 -> 0.27083333 | S11: =(R11-Q11)-$V$5 -> -0.041666667 | T11: =IFERROR(SUM(D11,G11,J11,M11,P11,S11),"") -> 0.95833333
A12: FABIOLA | D12: =(C12-B12)-$V$5 -> -0.041666667 | E12: 0.375 | F12: 0.64583333 | G12: =+(F12-E12)-$V$5 -> 0.22916667 | H12: 0.375 | I12: 0.6875 | J12: =(I12-H12)-$V$5 -> 0.27083333 | K12: 0.375 | L12: 0.6875 | M12: =(L12-K12)-$V$5 -> 0.27083333 | N12: 0.375 | O12: 0.6875 | P12: =(O12-N12)-$V$5 -> 0.27083333 | S12: =(R12-Q12)-$V$5 -> -0.041666667 | T12: =IFERROR(SUM(D12,G12,J12,M12,P12,S12),"") -> 0.95833333
A13: MARIE | D13: =(C13-B13)-$V$5 -> -0.041666667 | E13: 0.375 | F13: 0.64583333 | G13: =+(F13-E13)-$V$5 -> 0.22916667 | H13: 0.375 | I13: 0.6875 | J13: =(I13-H13)-$V$5 -> 0.27083333 | K13: 0.375 | L13: 0.6875 | M13: =(L13-K13)-$V$5 -> 0.27083333 | N13: 0.375 | O13: 0.6875 | P13: =(O13-N13)-$V$5 -> 0.27083333 | S13: =(R13-Q13)-$V$5 -> -0.041666667 | T13: =IFERROR(SUM(D13,G13,J13,M13,P13,S13),"") -> 0.95833333
A18: PRENOM | B18: 44361 | E18: =B18+1 -> 44362 | H18: =E18+1 -> 44363 | K18: =H18+1 -> 44364 | N18: =K18+1 -> 44365 | Q18: =N18+1 -> 44366 | T18: TOTAL TEMPS LOGUE
B19: Début | C19: Fin | D19: TL | E19: Début | F19: Fin | G19: TL | H19: Début | I19: Fin | J19: TL | K19: Début | L19: Fin | M19: TL | N19: Début | O19: Fin | P19: TL | Q19: Début | R19: Fin | S19: TL
A20: EVE | B20: 0.375 | C20: 0.66666667 | D20: =(C20-B20)-$V$5 -> 0.25 | G20: =+(F20-E20)-$V$5 -> -0.041666667 | J20: =(I20-H20)-$V$5 -> -0.041666667 | M20: =(L20-K20)-$V$5 -> -0.041666667 | P20: =(O20-N20)-$V$5 -> -0.041666667 | S20: =(R20-Q20)-$V$5 -> -0.041666667 | T20: =SUM(D20,G20,J20,M20,P20,S20) -> 0.041666667
A21: MOUSTAPHA | B21: 0.375 | C21: 0.66666667 | D21: =(C21-B21)-$V$5 -> 0.25 | G21: =+(F21-E21)-$V$5 -> -0.041666667 | J21: =(I21-H21)-$V$5 -> -0.041666667 | M21: =(L21-K21)-$V$5 -> -0.041666667 | P21: =(O21-N21)-$V$5 -> -0.041666667 | S21: =(R21-Q21)-$V$5 -> -0.041666667 | T21: =SUM(D21,G21,J21,M21,P21,S21) -> 0.041666667
A22: EDMOND | B22: 0.375 | C22: 0.66666667 | D22: =(C22-B22)-$V$5 -> 0.25 | G22: =+(F22-E22)-$V$5 -> -0.041666667 | J22: =(I22-H22)-$V$5 -> -0.041666667 | M22: =(L22-K22)-$V$5 -> -0.041666667 | P22: =(O22-N22)-$V$5 -> -0.041666667 | S22: =(R22-Q22)-$V$5 -> -0.041666667 | T22: =SUM(D22,G22,J22,M22,P22,S22) -> 0.041666667
A23: SYLVIE | B23: 0.375 | C23: 0.66666667 | D23: =(C23-B23)-$V$5 -> 0.25 | G23: =+(F23-E23)-$V$5 -> -0.041666667 | J23: =(I23-H23)-$V$5 -> -0.041666667 | M23: =(L23-K23)-$V$5 -> -0.041666667 | P23: =(O23-N23)-$V$5 -> -0.041666667 | S23: =(R23-Q23)-$V$5 -> -0.041666667 | T23: =SUM(D23,G23,J23,M23,P23,S23) -> 0.041666667
A24: RITA | B24: 0.375 | C24: 0.66666667 | D24: =(C24-B24)-$V$5 -> 0.25 | G24: =+(F24-E24)-$V$5 -> -0.041666667 | J24: =(I24-H24)-$V$5 -> -0.041666667 | M24: =(L24-K24)-$V$5 -> -0.041666667 | P24: =(O24-N24)-$V$5 -> -0.041666667 | S24: =(R24-Q24)-$V$5 -> -0.041666667 | T24: =SUM(D24,G24,J24,M24,P24,S24) -> 0.041666667
A25: FABIOLA | B25: 0.375 | C25: 0.66666667 | D25: =(C25-B25)-$V$5 -> 0.25 | G25: =+(F25-E25)-$V$5 -> -0.041666667 | J25: =(I25-H25)-$V$5 -> -0.041666667 | M25: =(L25-K25)-$V$5 -> -0.041666667 | P25: =(O25-N25)-$V$5 -> -0.041666667 | S25: =(R25-Q25)-$V$5 -> -0.041666667 | T25: =SUM(D25,G25,J25,M25,P25,S25) -> 0.041666667
A26: MARIE | B26: 0.375 | C26: 0.63888889 | D26: =(C26-B26)-$V$5 -> 0.22222222 | G26: =+(F26-E26)-$V$5 -> -0.041666667 | J26: =(I26-H26)-$V$5 -> -0.041666667 | M26: =(L26-K26)-$V$5 -> -0.041666667 | P26: =(O26-N26)-$V$5 -> -0.041666667 | S26: =(R26-Q26)-$V$5 -> -0.041666667 | T26: =SUM(D26,G26,J26,M26,P26,S26) -> 0.013888889
A31: PRENOM | B31: 44368 | E31: =B31+1 -> 44369 | H31: =E31+1 -> 44370 | K31: =H31+1 -> 44371 | N31: =K31+1 -> 44372 | Q31: =N31+1 -> 44373 | T31: TOTAL TEMPS LOGUE
B32: Début | C32: Fin | D32: TL | E32: Début | F32: Fin | G32: TL | H32: Début | I32: Fin | J32: TL | K32: Début | L32: Fin | M32: TL | N32: Début | O32: Fin | P32: TL | Q32: Début | R32: Fin | S32: TL
A33: EVE | D33: =(C33-B33)-$V$5 -> -0.041666667 | G33: =+(F33-E33)-$V$5 -> -0.041666667 | J33: =(I33-H33)-$V$5 -> -0.041666667 | M33: =(L33-K33)-$V$5 -> -0.041666667 | P33: =(O33-N33)-$V$5 -> -0.041666667 | S33: =(R33-Q33)-$V$5 -> -0.041666667 | T33: =SUM(D33,G33,J33,M33,P33,S33) -> -0.25
A34: MOUSTAPHA | D34: =(C34-B34)-$V$5 -> -0.041666667 | G34: =+(F34-E34)-$V$5 -> -0.041666667 | J34: =(I34-H34)-$V$5 -> -0.041666667 | M34: =(L34-K34)-$V$5 -> -0.041666667 | P34: =(O34-N34)-$V$5 -> -0.041666667 | S34: =(R34-Q34)-$V$5 -> -0.041666667 | T34: =SUM(D34,G34,J34,M34,P34,S34) -> -0.25
A35: EDMOND | D35: =(C35-B35)-$V$5 -> -0.041666667 | G35: =+(F35-E35)-$V$5 -> -0.041666667 | J35: =(I35-H35)-$V$5 -> -0.041666667 | M35: =(L35-K35)-$V$5 -> -0.041666667 | P35: =(O35-N35)-$V$5 -> -0.041666667 | S35: =(R35-Q35)-$V$5 -> -0.041666667 | T35: =SUM(D35,G35,J35,M35,P35,S35) -> -0.25
A36: SYLVIE | D36: =(C36-B36)-$V$5 -> -0.041666667 | G36: =+(F36-E36)-$V$5 -> -0.041666667 | J36: =(I36-H36)-$V$5 -> -0.041666667 | M36: =(L36-K36)-$V$5 -> -0.041666667 | P36: =(O36-N36)-$V$5 -> -0.041666667 | S36: =(R36-Q36)-$V$5 -> -0.041666667 | T36: =SUM(D36,G36,J36,M36,P36,S36) -> -0.25
A37: RITA | D37: =(C37-B37)-$V$5 -> -0.041666667 | G37: =+(F37-E37)-$V$5 -> -0.041666667 | J37: =(I37-H37)-$V$5 -> -0.041666667 | M37: =(L37-K37)-$V$5 -> -0.041666667 | P37: =(O37-N37)-$V$5 -> -0.041666667 | S37: =(R37-Q37)-$V$5 -> -0.041666667 | T37: =SUM(D37,G37,J37,M37,P37,S37) -> -0.25
A38: FABIOLA | D38: =(C38-B38)-$V$5 -> -0.041666667 | G38: =+(F38-E38)-$V$5 -> -0.041666667 | J38: =(I38-H38)-$V$5 -> -0.041666667 | M38: =(L38-K38)-$V$5 -> -0.041666667 | P38: =(O38-N38)-$V$5 -> -0.041666667 | S38: =(R38-Q38)-$V$5 -> -0.041666667 | T38: =SUM(D38,G38,J38,M38,P38,S38) -> -0.25
A39: MARIE | D39: =(C39-B39)-$V$5 -> -0.041666667 | G39: =+(F39-E39)-$V$5 -> -0.041666667 | J39: =(I39-H39)-$V$5 -> -0.041666667 | M39: =(L39-K39)-$V$5 -> -0.041666667 | P39: =(O39-N39)-$V$5 -> -0.041666667 | S39: =(R39-Q39)-$V$5 -> -0.041666667 | T39: =SUM(D39,G39,J39,M39,P39,S39) -> -0.25
A44: PRENOM | B44: 44375 | E44: =B44+1 -> 44376 | H44: =E44+1 -> 44377 | K44: =H44+1 -> 44378 | N44: =K44+1 -> 44379 | Q44: =N44+1 -> 44380 | T44: TOTAL TEMPS LOGUE
B45: Début | C45: Fin | D45: TL | E45: Début | F45: Fin | G45: TL | H45: Début | I45: Fin | J45: TL | K45: Début | L45: Fin | M45: TL | N45: Début | O45: Fin | P45: TL | Q45: Début | R45: Fin | S45: TL
A46: EVE | D46: =(C46-B46)-$V$5 -> -0.041666667 | G46: =+(F46-E46)-$V$5 -> -0.041666667 | J46: =(I46-H46)-$V$5 -> -0.041666667 | M46: =(L46-K46)-$V$5 -> -0.041666667 | P46: =(O46-N46)-$V$5 -> -0.041666667 | S46: =(R46-Q46)-$V$5 -> -0.041666667 | T46: =SUM(D46,G46,J46,M46,P46,S46) -> -0.25
A47: MOUSTAPHA | D47: =(C47-B47)-$V$5 -> -0.041666667 | G47: =+(F47-E47)-$V$5 -> -0.041666667 | J47: =(I47-H47)-$V$5 -> -0.041666667 | M47: =(L47-K47)-$V$5 -> -0.041666667 | P47: =(O47-N47)-$V$5 -> -0.041666667 | S47: =(R47-Q47)-$V$5 -> -0.041666667 | T47: =SUM(D47,G47,J47,M47,P47,S47) -> -0.25
A48: EDMOND | D48: =(C48-B48)-$V$5 -> -0.041666667 | G48: =+(F48-E48)-$V$5 -> -0.041666667 | J48: =(I48-H48)-$V$5 -> -0.041666667 | M48: =(L48-K48)-$V$5 -> -0.041666667 | P48: =(O48-N48)-$V$5 -> -0.041666667 | S48: =(R48-Q48)-$V$5 -> -0.041666667 | T48: =SUM(D48,G48,J48,M48,P48,S48) -> -0.25
A49: SYLVIE | D49: =(C49-B49)-$V$5 -> -0.041666667 | G49: =+(F49-E49)-$V$5 -> -0.041666667 | J49: =(I49-H49)-$V$5 -> -0.041666667 | M49: =(L49-K49)-$V$5 -> -0.041666667 | P49: =(O49-N49)-$V$5 -> -0.041666667 | S49: =(R49-Q49)-$V$5 -> -0.041666667 | T49: =SUM(D49,G49,J49,M49,P49,S49) -> -0.25
A50: RITA | D50: =(C50-B50)-$V$5 -> -0.041666667 | G50: =+(F50-E50)-$V$5 -> -0.041666667 | J50: =(I50-H50)-$V$5 -> -0.041666667 | M50: =(L50-K50)-$V$5 -> -0.041666667 | P50: =(O50-N50)-$V$5 -> -0.041666667 | S50: =(R50-Q50)-$V$5 -> -0.041666667 | T50: =SUM(D50,G50,J50,M50,P50,S50) -> -0.25
A51: FABIOLA | D51: =(C51-B51)-$V$5 -> -0.041666667 | G51: =+(F51-E51)-$V$5 -> -0.041666667 | J51: =(I51-H51)-$V$5 -> -0.041666667 | M51: =(L51-K51)-$V$5 -> -0.041666667 | P51: =(O51-N51)-$V$5 -> -0.041666667 | S51: =(R51-Q51)-$V$5 -> -0.041666667 | T51: =SUM(D51,G51,J51,M51,P51,S51) -> -0.25
A52: MARIE | D52: =(C52-B52)-$V$5 -> -0.041666667 | G52: =+(F52-E52)-$V$5 -> -0.041666667 | J52: =(I52-H52)-$V$5 -> -0.041666667 | M52: =(L52-K52)-$V$5 -> -0.041666667 | P52: =(O52-N52)-$V$5 -> -0.041666667 | S52: =(R52-Q52)-$V$5 -> -0.041666667 | T52: =SUM(D52,G52,J52,M52,P52,S52) -> -0.25
A57: PRENOM | B57: 44382 | E57: =B57+1 -> 44383 | H57: =E57+1 -> 44384 | K57: =H57+1 -> 44385 | N57: =K57+1 -> 44386 | Q57: =N57+1 -> 44387 | T57: TOTAL TEMPS LOGUE
B58: Début | C58: Fin | D58: TL | E58: Début | F58: Fin | G58: TL | H58: Début | I58: Fin | J58: TL | K58: Début | L58: Fin | M58: TL | N58: Début | O58: Fin | P58: TL | Q58: Début | R58: Fin | S58: TL
A59: EVE | D59: =(C59-B59)-$V$5 -> -0.041666667 | G59: =+(F59-E59)-$V$5 -> -0.041666667 | J59: =(I59-H59)-$V$5 -> -0.041666667 | M59: =(L59-K59)-$V$5 -> -0.041666667 | P59: =(O59-N59)-$V$5 -> -0.041666667 | S59: =(R59-Q59)-$V$5 -> -0.041666667 | T59: =SUM(D59,G59,J59,M59,P59,S59) -> -0.25
A60: MOUSTAPHA | D60: =(C60-B60)-$V$5 -> -0.041666667 | G60: =+(F60-E60)-$V$5 -> -0.041666667 | J60: =(I60-H60)-$V$5 -> -0.041666667 | M60: =(L60-K60)-$V$5 -> -0.041666667 | P60: =(O60-N60)-$V$5 -> -0.041666667 | S60: =(R60-Q60)-$V$5 -> -0.041666667 | T60: =SUM(D60,G60,J60,M60,P60,S60) -> -0.25
A61: EDMOND | D61: =(C61-B61)-$V$5 -> -0.041666667 | G61: =+(F61-E61)-$V$5 -> -0.041666667 | J61: =(I61-H61)-$V$5 -> -0.041666667 | M61: =(L61-K61)-$V$5 -> -0.041666667 | P61: =(O61-N61)-$V$5 -> -0.041666667 | S61: =(R61-Q61)-$V$5 -> -0.041666667 | T61: =SUM(D61,G61,J61,M61,P61,S61) -> -0.25
A62: SYLVIE | D62: =(C62-B62)-$V$5 -> -0.041666667 | G62: =+(F62-E62)-$V$5 -> -0.041666667 | J62: =(I62-H62)-$V$5 -> -0.041666667 | M62: =(L62-K62)-$V$5 -> -0.041666667 | P62: =(O62-N62)-$V$5 -> -0.041666667 | S62: =(R62-Q62)-$V$5 -> -0.041666667 | T62: =SUM(D62,G62,J62,M62,P62,S62) -> -0.25
A63: RITA | D63: =(C63-B63)-$V$5 -> -0.041666667 | G63: =+(F63-E63)-$V$5 -> -0.041666667 | J63: =(I63-H63)-$V$5 -> -0.041666667 | M63: =(L63-K63)-$V$5 -> -0.041666667 | P63: =(O63-N63)-$V$5 -> -0.041666667 | S63: =(R63-Q63)-$V$5 -> -0.041666667 | T63: =SUM(D63,G63,J63,M63,P63,S63) -> -0.25
A64: FABIOLA | D64: =(C64-B64)-$V$5 -> -0.041666667 | G64: =+(F64-E64)-$V$5 -> -0.041666667 | J64: =(I64-H64)-$V$5 -> -0.041666667 | M64: =(L64-K64)-$V$5 -> -0.041666667 | P64: =(O64-N64)-$V$5 -> -0.041666667 | S64: =(R64-Q64)-$V$5 -> -0.041666667 | T64: =SUM(D64,G64,J64,M64,P64,S64) -> -0.25
A65: MARIE | D65: =(C65-B65)-$V$5 -> -0.041666667 | G65: =+(F65-E65)-$V$5 -> -0.041666667 | J65: =(I65-H65)-$V$5 -> -0.041666667 | M65: =(L65-K65)-$V$5 -> -0.041666667 | P65: =(O65-N65)-$V$5 -> -0.041666667 | S65: =(R65-Q65)-$V$5 -> -0.041666667 | T65: =SUM(D65,G65,J65,M65,P65,S65) -> -0.25

Sheet HEURES PROD JUIN
A3: NOM | B3: PRENOM | C3: MATRICULE | D3: TOTAL TEMPS LOGUE
A5: EVE | B5: EVE | C5: EVE | D5: =SUM('BADGEAGE JUIN'!T7,'BADGEAGE JUIN'!T20,'BADGEAGE JUIN'!T33,'BADGEAGE JUIN'!T46,'BADGEAGE JUIN'!T59) -> 0.25
A6: MOUSTAPHA | B6: MOUSTAPHA | C6: MOUSTAPHA | D6: =SUM('BADGEAGE JUIN'!T8,'BADGEAGE JUIN'!T21,'BADGEAGE JUIN'!T34,'BADGEAGE JUIN'!T47,'BADGEAGE JUIN'!T60) -> 0.25
A7: EDMOND | B7: EDMOND | C7: EDMOND | D7: =SUM('BADGEAGE JUIN'!T9,'BADGEAGE JUIN'!T22,'BADGEAGE JUIN'!T35,'BADGEAGE JUIN'!T48,'BADGEAGE JUIN'!T61) -> 0.25
A8: SYLVIE | B8: SYLVIE | C8: SYLVIE | D8: =SUM('BADGEAGE JUIN'!T10,'BADGEAGE JUIN'!T23,'BADGEAGE JUIN'!T36,'BADGEAGE JUIN'!T49,'BADGEAGE JUIN'!T62) -> 0.25
A9: RITA | B9: RITA | C9: RITA | D9: =SUM('BADGEAGE JUIN'!T11,'BADGEAGE JUIN'!T24,'BADGEAGE JUIN'!T37,'BADGEAGE JUIN'!T50,'BADGEAGE JUIN'!T63) -> 0.25
A10: FABIOLA | B10: FABIOLA | C10: FABIOLA | D10: =SUM('BADGEAGE JUIN'!T12,'BADGEAGE JUIN'!T25,'BADGEAGE JUIN'!T38,'BADGEAGE JUIN'!T51,'BADGEAGE JUIN'!T64) -> 0.25
A11: MARIE | B11: MARIE | C11: MARIE | D11: =SUM('BADGEAGE JUIN'!T13,'BADGEAGE JUIN'!T26,'BADGEAGE JUIN'!T39,'BADGEAGE JUIN'!T52,'BADGEAGE JUIN'!T65) -> 0.22222222
