Workbook

Sheet PLANNING JUIN
A1: Date | B1: Prise de Service | C1: Fin de Service | D1: Début Pause Matin | E1: Fin de Pause Matin | F1: Début Repas | G1: Fin de Repas | H1: LIEU PAUSE | I1: Début Pause Aprem | J1: Fin de Pause Aprem | K1: 0 / IS / IRU / IR | L1: Total Travail Amplitude | M1: Total Pause Repas | N1: Total Autres Pauses | O1: Total Travail Effectif
A4: 44711 | B4: 0.39583333 | C4: 0.79861111 | F4: 0.55902778 | G4: 0.61805556 | H4: ENT | L4: =C4-B4 -> 0.40277778 | M4: =G4-F4 -> 0.059027778 | N4: =SUM(E4-D4,J4-I4) -> 0 | O4: =L4-SUM(M4:N4) -> 0.34375
A5: 44712 | B5: 0.41666667 | C5: 0.83333333 | F5: 0.5 | G5: 0.54166667 | H5: ENT | L5: =C5-B5 -> 0.41666667 | M5: =G5-F5 -> 0.041666667 | N5: =SUM(E5-D5,J5-I5) -> 0 | O5: =L5-SUM(M5:N5) -> 0.375
A6: 44713 | B6: 0.39583333 | C6: 0.79861111 | F6: 0.52083333 | G6: 0.5625 | H6: ENT | L6: =C6-B6 -> 0.40277778 | M6: =G6-F6 -> 0.041666667 | N6: =SUM(E6-D6,J6-I6) -> 0 | O6: =L6-SUM(M6:N6) -> 0.36111111
A7: 44714 | B7: 0.39583333 | C7: 0.79861111 | F7: 0.52083333 | G7: 0.5625 | H7: ENT | L7: =C7-B7 -> 0.40277778 | M7: =G7-F7 -> 0.041666667 | N7: =SUM(E7-D7,J7-I7) -> 0 | O7: =L7-SUM(M7:N7) -> 0.36111111
A8: 44715 | B8: 0.41666667 | C8: 0.83333333 | F8: 0.5 | G8: 0.54166667 | H8: ENT | L8: =C8-B8 -> 0.41666667 | M8: =G8-F8 -> 0.041666667 | N8: =SUM(E8-D8,J8-I8) -> 0 | O8: =L8-SUM(M8:N8) -> 0.375
A9: 44716 | B9: 0.39583333 | C9: 0.79861111 | F9: 0.52083333 | G9: 0.5625 | H9: ENT | L9: =C9-B9 -> 0.40277778 | M9: =G9-F9 -> 0.041666667 | N9: =SUM(E9-D9,J9-I9) -> 0 | O9: =L9-SUM(M9:N9) -> 0.36111111
A10: 44717 | B10: 0.41666667 | C10: 0.83333333 | F10: 0.5 | G10: 0.54166667 | H10: ENT | L10: =C10-B10 -> 0.41666667 | M10: =G10-F10 -> 0.041666667 | N10: =SUM(E10-D10,J10-I10) -> 0 | O10: =L10-SUM(M10:N10) -> 0.375
A11: Total semaine | L11: =SUM(L4:L10) -> 2.8611111 | M11: =SUM(M4:M10) -> 0.30902778 | N11: =SUM(N4:N10) -> 0 | O11: =SUM(O4:O10) -> 2.5520833
A12: Total repas | O12: =IF(O4>0,1,0)+IF(O5>0,1,0)+IF(O6>0,1,0)+IF(O7>0,1,0)+IF(O8>0,1,0)+IF(O9>0,1,0)+IF(O10>0,1,0) -> 7
A15: IS -> Pause repas pris à l'entreprise et d'au moins 1h00 et qu'au moins 30 min n'est pas compris entre 11h00 et 14h30 ou 18h30 et 22h00
A16: 0 -> Pause repas pris à l'entreprise et d'au moins 1h00 entre 11h00 et 14h30 ou 18h30 et 22h00
A17: 0 -> Prise de service entre 11:00 et 14h30 ou 18:30 et 22h00
A18: IR -> Pause repas pris à l'extérieur et non prévenu la veille avant 12h00
A19: IR -> Si dépassement régulier fin de service après 21:30
A20: IR X2 -> Pause 2 repas pris à l'extérieur et finit après 22h00
A21: IRU -> Pause repas pris à l'extérieure et prévenu la veille avant 12h00
A22: IRU -> Pause repas pris à l'entreprise et de moins d'1h00
A23: IRU -> Si travail de 4h00 minimum entre 22h00 et 7h00
A25: En sachant que l'on aura notre planning chaque soir pour le lendemain

Sheet RÉCAP JUIN
A3: Semaines | B3: Nombre d'heures travaillées | C3: Nombre d'heures travaillées | D3: HEURES SUPPLEMENTAIRES | E3: HS +25% | F3: HS +50% | G3: Indemnités Dimanche | H3: Indemnités Spéciales | I3: Indemnités de Repas Unique | J3: Indemnités de Repas
A4: DU 26/10/2020 AU 01/11/2020 | B4: ='PLANNING JUIN'!O11 -> 2.5520833 | C4: =B4*24 -> 61.25 | D4: =IF(C4<35.01,0,C4-35) -> 26.25 | E4: =IF(D4<=9,D4,8) -> 8 | F4: =D4-E4 -> 18.25 | G4: =IF('PLANNING JUIN'!O11>"0:00"*1,1,0) -> 1 | H4: =IF('PLANNING JUIN'!K4="IS",1,0)+IF('PLANNING JUIN'!K5="IS",1,0)+IF('PLANNING JUIN'!K6="IS",1,0)+IF('PLANNING JUIN'!K7="IS",1,0)+IF('PLANNING JUIN'!K8="IS",1,0)+IF('PLANNING JUIN'!K9="IS",1,0)+IF('PLANNING JUIN'!K10="IS",1,0) -> 0 | I4: =IF('PLANNING JUIN'!K4="IRU",1,0)+IF('PLANNING JUIN'!K5="IRU",1,0)+IF('PLANNING JUIN'!K6="IRU",1,0)+IF('PLANNING JUIN'!K7="IRU",1,0)+IF('PLANNING JUIN'!K8="IRU",1,0)+IF('PLANNING JUIN'!K9="IRU",1,0)+IF('PLANNING JUIN'!K10="IRU",1,0) -> 0 | J4: =IF('PLANNING JUIN'!K4="IR",1,0)+IF('PLANNING JUIN'!K5="IR",1,0)+IF('PLANNING JUIN'!K6="IR",1,0)+IF('PLANNING JUIN'!K7="IR",1,0)+IF('PLANNING JUIN'!K8="IR",1,0)+IF('PLANNING JUIN'!K9="IR",1,0)+IF('PLANNING JUIN'!K10="IR",1,0) -> 0
A5: DU 02/11/2020 AU 08/11/2020 | B5: ='PLANNING JUIN'!P36 -> 0 | C5: =B5*24 -> 0 | D5: =IF(C5<14.01,0,C5-14) -> 0 | E5: =IF(D5<=8,D5,8) -> 0 | F5: =D5-E5 -> 0 | G5: =IF('PLANNING JUIN'!P35>"0:00"*1,1,0) -> 0 | H5: =IF('PLANNING JUIN'!L29="IS",1,0)+IF('PLANNING JUIN'!L30="IS",1,0)+IF('PLANNING JUIN'!L31="IS",1,0)+IF('PLANNING JUIN'!L32="IS",1,0)+IF('PLANNING JUIN'!L33="IS",1,0)+IF('PLANNING JUIN'!L34="IS",1,0)+IF('PLANNING JUIN'!L35="IS",1,0) -> 0 | I5: =IF('PLANNING JUIN'!M29="IRU",1,0)+IF('PLANNING JUIN'!M30="IRU",1,0)+IF('PLANNING JUIN'!M31="IRU",1,0)+IF('PLANNING JUIN'!M32="IRU",1,0)+IF('PLANNING JUIN'!M33="IRU",1,0)+IF('PLANNING JUIN'!M34="IRU",1,0)+IF('PLANNING JUIN'!M35="IRU",1,0) -> 0 | J5: =IF('PLANNING JUIN'!L29="IR",1,0)+IF('PLANNING JUIN'!L30="IR",1,0)+IF('PLANNING JUIN'!L31="IR",1,0)+IF('PLANNING JUIN'!L32="IR",1,0)+IF('PLANNING JUIN'!L33="IR",1,0)+IF('PLANNING JUIN'!L34="IR",1,0)+IF('PLANNING JUIN'!L35="IR",1,0) -> 0
A6: DU 09/11/2020 AU 15/11/2020 | B6: ='PLANNING JUIN'!P55 -> 0 | C6: =B6*24 -> 0 | D6: =IF(C6<35.01,0,C6-35) -> 0 | E6: =IF(D6<=9,D6,8) -> 0 | F6: =D6-E6 -> 0 | G6: =IF('PLANNING JUIN'!P54>"0:00"*1,1,0) -> 0 | H6: =IF('PLANNING JUIN'!L48="IS",1,0)+IF('PLANNING JUIN'!L49="IS",1,0)+IF('PLANNING JUIN'!L50="IS",1,0)+IF('PLANNING JUIN'!L51="IS",1,0)+IF('PLANNING JUIN'!L52="IS",1,0)+IF('PLANNING JUIN'!L53="IS",1,0)+IF('PLANNING JUIN'!L54="IS",1,0) -> 0 | I6: =IF('PLANNING JUIN'!L48="IRU",1,0)+IF('PLANNING JUIN'!L49="IRU",1,0)+IF('PLANNING JUIN'!L50="IRU",1,0)+IF('PLANNING JUIN'!L51="IRU",1,0)+IF('PLANNING JUIN'!L52="IRU",1,0)+IF('PLANNING JUIN'!L53="IRU",1,0)+IF('PLANNING JUIN'!L54="IRU",1,0) -> 0 | J6: =IF('PLANNING JUIN'!L48="IR",1,0)+IF('PLANNING JUIN'!L49="IR",1,0)+IF('PLANNING JUIN'!L50="IR",1,0)+IF('PLANNING JUIN'!L51="IR",1,0)+IF('PLANNING JUIN'!L52="IR",1,0)+IF('PLANNING JUIN'!L53="IR",1,0)+IF('PLANNING JUIN'!L54="IR",1,0) -> 0
A7: DU 16/11/2020 AU 22/11/2020 | B7: ='PLANNING JUIN'!P77 -> 0 | C7: =B7*24 -> 0 | D7: =IF(C7<35.01,0,C7-35) -> 0 | E7: =IF(D7<=9,D7,8) -> 0 | F7: =D7-E7 -> 0 | G7: =IF('PLANNING JUIN'!P76>"0:00"*1,1,0) -> 0 | H7: =IF('PLANNING JUIN'!L70="IS",1,0)+IF('PLANNING JUIN'!L71="IS",1,0)+IF('PLANNING JUIN'!L72="IS",1,0)+IF('PLANNING JUIN'!L73="IS",1,0)+IF('PLANNING JUIN'!L74="IS",1,0)+IF('PLANNING JUIN'!L75="IS",1,0)+IF('PLANNING JUIN'!L76="IS",1,0) -> 0 | I7: =IF('PLANNING JUIN'!L70="IRU",1,0)+IF('PLANNING JUIN'!L71="IRU",1,0)+IF('PLANNING JUIN'!L72="IRU",1,0)+IF('PLANNING JUIN'!L73="IRU",1,0)+IF('PLANNING JUIN'!L74="IRU",1,0)+IF('PLANNING JUIN'!L75="IRU",1,0)+IF('PLANNING JUIN'!L76="IRU",1,0) -> 0 | J7: =IF('PLANNING JUIN'!L70="IR",1,0)+IF('PLANNING JUIN'!L71="IR",1,0)+IF('PLANNING JUIN'!L72="IR",1,0)+IF('PLANNING JUIN'!L73="IR",1,0)+IF('PLANNING JUIN'!L74="IR",1,0)+IF('PLANNING JUIN'!L75="IR",1,0)+IF('PLANNING JUIN'!L76="IR",1,0) -> 0
A8: DU 23/11/2020 AU 29/11/2020 | B8: ='PLANNING JUIN'!AF14 -> 0 | C8: =B8*24 -> 0 | D8: =IF(C8<35.01,0,C8-35) -> 0 | E8: =IF(D8<=9,D8,8) -> 0 | F8: =D8-E8 -> 0 | G8: =IF('PLANNING JUIN'!AF13>"0:00"*1,1,0) -> 0 | H8: =IF('PLANNING JUIN'!AB7="IS",1,0)+IF('PLANNING JUIN'!AB8="IS",1,0)+IF('PLANNING JUIN'!AB9="IS",1,0)+IF('PLANNING JUIN'!AB10="IS",1,0)+IF('PLANNING JUIN'!AB11="IS",1,0)+IF('PLANNING JUIN'!AB12="IS",1,0)+IF('PLANNING JUIN'!AB13="IS",1,0) -> 0 | I8: =IF('PLANNING JUIN'!AB7="IRU",1,0)+IF('PLANNING JUIN'!AB8="IRU",1,0)+IF('PLANNING JUIN'!AB9="IRU",1,0)+IF('PLANNING JUIN'!AB10="IRU",1,0)+IF('PLANNING JUIN'!AB11="IRU",1,0)+IF('PLANNING JUIN'!AB12="IRU",1,0)+IF('PLANNING JUIN'!AB13="IRU",1,0) -> 0 | J8: =IF('PLANNING JUIN'!AB7="IR",1,0)+IF('PLANNING JUIN'!AB8="IR",1,0)+IF('PLANNING JUIN'!AB9="IR",1,0)+IF('PLANNING JUIN'!AB10="IR",1,0)+IF('PLANNING JUIN'!AB11="IR",1,0)+IF('PLANNING JUIN'!AB12="IR",1,0)+IF('PLANNING JUIN'!AB13="IR",1,0) -> 0
A9: DU 30/11/2020 AU 06/12/2020 | B9: =[1]NOVEMBRE!AF33 -> 0 | C9: =B9*24 -> 0 | D9: =IF(C9<35.01,0,C9-35) -> 0 | E9: =IF(D9<=9,D9,8) -> 0 | F9: =D9-E9 -> 0 | G9: =IF('PLANNING JUIN'!AF35>"0:00"*1,1,0) -> 0 | H9: =IF('PLANNING JUIN'!AB29="IS",1,0) -> 0 | I9: =IF('PLANNING JUIN'!AB29="IRU",1,0) -> 0 | J9: =IF('PLANNING JUIN'!AB29="IR",1,0) -> 0
A10: Totaux | B10: =SUM(B4:B9) -> 2.5520833 | C10: =SUM(C4:C9) -> 61.25 | D10: =SUM(D4:D9) -> 26.25 | E10: =SUM(E9) -> 0 | F10: =SUM(F9) -> 0 | G10: =SUM(G4:G9) -> 1 | H10: =SUM(H4:H9) -> 0 | I10: =SUM(I4:I9) -> 0 | J10: =SUM(J4:J9) -> 0
A11: TOTAL HEURES SUPPLEMENTAIRES (DU 02/11 AU 29/11/2020 ET DU 26/10 AU 01/11/2020) | E11: =SUM(E4:E8) -> 8 | F11: =SUM(F4:F8) -> 18.25
D14: k4 à k10

Sheet PAIE JUIN
A1: Désignation | B1: Nombre ou Base | C1: Taux Salariale | D1: Taux Patronale | E1: Montant | F1: Part Employeur
A4: Salaire mensuel | B4: 151.67 | C4: 11.3 | E4: =B4*C4 -> 1713.871
A5: Heure abscence dûe au faite commencement 05/11 | B5: 21 | C5: 11.3 | E5: =-(B5*C5) -> -237.3
A6: Heures supplémentaires à 125% | B6: ='[2]RECAP NOVEMBRE'!E11 -> 19.666667 | C6: =C4*125% -> 14.125 | E6: =B6*C6 -> 277.79167
A7: Heures supplémentaires à 150% | B7: ='[2]RECAP NOVEMBRE'!F11 -> 13.25 | C7: =C4*150% -> 16.95 | E7: =B7*C7 -> 224.5875
A8: Prime d'habillage ou déshabillage | E8: =B8*C8 -> 0
A9: Prime Dimanche | B9: ='[2]RECAP NOVEMBRE'!G10 -> 2 | C9: 21.74 | E9: =B9*C9 -> 43.48
A10: Indemnités Spéciale | B10: ='[2]RECAP NOVEMBRE'!H10 -> 0 | C10: 3.88 | E10: =B10*C10 -> 0
A11: Indemnité de Repas Unique | B11: ='[2]RECAP NOVEMBRE'!I10 -> 5 | C11: 8.57 | E11: =B11*C11 -> 42.85
A12: Indemnités Repas | B12: ='[2]RECAP NOVEMBRE'!J10 -> 6 | C12: 13.88 | E12: =B12*C12 -> 83.28
A14: Total Brut | E14: =SUM(E4:E13) -> 2148.5602
A16: SANTE
A17: Sécurité Sociale - Maladie Maternité Invalidité Décès | B17: =E14 -> 2148.5602 | D17: 7 | F17: =(B17*D17)/100 -> 150.39921
A18: ACCIDENT DU TRAVAIL - MALADIE PROFESSIONNELLES | B18: =E14 -> 2148.5602 | D18: 3.9 | F18: =(B18*D18)/100 -> 83.793847
A19: RETRAITE
A20: Sécurité Sociale Plafonnée | B20: =E14 -> 2148.5602 | C20: 6.9 | D20: 8.55 | E20: =(B20*C20)/100 -> 148.25065 | F20: =(B20*D20)/100 -> 183.70189
A21: Sécurité Sociale Déplafonnée | B21: =E14 -> 2148.5602 | C21: 0.4 | D21: 1.9 | E21: =(B21*C21)/100 -> 8.5942407 | F21: =(B21*D21)/100 -> 40.822643
A22: FAMILLE | B22: =E14 -> 2148.5602 | D22: 3.45 | F22: =(B22*D22)/100 -> 74.125326
A23: ASSURANCE CHÔMAGE | B23: =E14 -> 2148.5602 | D23: 4.05 | F23: =(B23*D23)/100 -> 87.016687
A24: AUTRES CONTRIBUTIONS DUES PAR L'EMPLOYEUR | B24: =E14 -> 2148.5602 | D24: 1.08 | F24: =(B24*D24)/100 -> 23.20445
A25: CSG déductible de l'impôt sur le revenu | B25: =E14*64.2362922% -> 1380.1554 | C25: 6.8 | E25: =(B25*C25)/100 -> 93.850566
A26: CSG / CRDS non déductible de l'impöt sur le revenu | B26: =E14*64.2362922% -> 1380.1554 | C26: 2.9 | E26: =(B26*C26)/100 -> 40.024506
A27: CSG / CRDS sur les revenus non imposables | B27: =E14*34.0137104% -> 730.80503 | C27: 9.7 | E27: =(B27*C27)/100 -> 70.888088
A28: EXONERATIONS DE CÔTISATIONS EMPLOYEUR | B28: =E14 -> 2148.5602 | D28: -11.119 | F28: =(B28*D28)/100 -> -238.8984
A29: EXONERATIONS DE CÔTISATIONS SALARIALES | B29: =E14 -> 2148.5602 | C29: -2.752 | E29: =(B29*C29)/100 -> -59.128376
A30: Pôle Emploi Fngs | B30: =E14 -> 2148.5602 | D30: 0.15 | F30: =(B30*D30)/100 -> 3.2228403
A31: Contribution org.syndicale | B31: =E14 -> 2148.5602 | D31: 0.016 | F31: =(B31*D31)/100 -> 0.34376963
A32: Retraite TU1 | B32: =E14 -> 2148.5602 | C32: 3.15 | D32: 4.72 | E32: =(B32*C32)/100 -> 67.679645 | F32: =(B32*D32)/100 -> 101.41204
A33: CEG TU1 | B33: =E14 -> 2148.5602 | C33: 0.86 | D33: 1.29 | E33: =(B33*C33)/100 -> 18.477617 | F33: =(B33*D33)/100 -> 27.716426
A34: Prévoyance 2 CARCEPT TA | B34: =E14 -> 2148.5602 | C34: 0.35 | D34: 0.35 | E34: =(B34*C34)/100 -> 7.5199606 | F34: =(B34*D34)/100 -> 7.5199606
A35: Paritarisme TA | B35: =E14 -> 2148.5602 | C35: 0.025 | D35: 0.025 | E35: =(B35*C35)/100 -> 0.53714004 | F35: =(B35*D35)/100 -> 0.53714004
A37: Total imposable | E37: =(E14*61.657)/100 -> 1324.7377
A39: Formation continue | B39: =E14 -> 2148.5602 | D39: 0.55 | F39: =(B39*D39)/100 -> 11.817081
A45: Total des cötisations et contributions | E45: =SUM(E15:E35) -> 396.69404 | F45: =SUM(F15:F39) -> 556.73491
A47: Net à Payer avant impöt sur le revenu | F47: =E14-E45 -> 1751.8661
A49: dont évolution de la rémunération liée à la suppression des côtisations salariales chômage et maladie | F49: =(E14*1.88)/100 -> 40.392931
A51: Impôt sur le revenu | B51: Base | C51: Taux Personnalisé | F51: Montant
A52: Impôt sur le revenu prélevé à la source | B52: =E37 -> 1324.7377 | C52: 0 | F52: =B52*C52 -> 0
C54: Net à payer | F54: =F47-F52 -> 1751.8661
