Workbook
Name plageD: INDIRECT(ADDRESS(MATCH(MAX(Feuil1!$E$1:$E$35),Feuil1!$E$1:$E$35,0)+1,5)&":$E$"&COUNTA(Feuil1!$E:$E))

Sheet Feuil1
A1: sup | B1: abscice origine | C1: ordonée ori. | E1: Moment | F1: Abscice | H1: sup | I1: abscice origine | J1: ordonée ori.
A2: 1er lit | B2: =$F$35 -> 3.6693 | C2: 0 | E2: =[1]Données!G8 -> 0 | F2: =IF(AND([1]Données!H8<=INDEX([1]Données!H$8:H$41,MATCH(MAX([1]Données!G$8:G$41),[1]Données!G$8:G$41,0),),[1]Données!H7<>INDEX([1]Données!H$8:H$41,MATCH(MAX([1]Données!G$8:G$41),[1]Données!G$8:G$41,0),)),[1]Données!H8-[1]Données!$E$21,[1]Données!H8+[1]Données!$E$21) -> -0.0693 | H2: 1er lit | I2: =$F$35 -> 3.6693 | J2: 0
A3: 2em lit | B3: =INDEX($F$2:$F$35,MATCH(C3,$E$2:$E$35,1)) -> 0.2682 | C3: 6.04 | E3: =[1]Données!G9 -> 2.1402467 | F3: =IF(AND([1]Données!H9<=INDEX([1]Données!H$8:H$41,MATCH(MAX([1]Données!G$8:G$41),[1]Données!G$8:G$41,0),),[1]Données!H8<>INDEX([1]Données!H$8:H$41,MATCH(MAX([1]Données!G$8:G$41),[1]Données!G$8:G$41,0),)),[1]Données!H9-[1]Données!$E$21,[1]Données!H9+[1]Données!$E$21) -> 0.0432 | H3: 2em lit | I3: =INDEX(OFFSET(plageD,,1),MATCH(J3,plageD,-1)) -> 2.6568 | J3: 6.04
A4: 3em lit | B4: =INDEX($F$2:$F$35,MATCH(C4,$E$2:$E$35,1)) -> 0.7182 | C4: =C3*2 -> 12.08 | E4: =[1]Données!G10 -> 4.1100137 | F4: =IF(AND([1]Données!H10<=INDEX([1]Données!H$8:H$41,MATCH(MAX([1]Données!G$8:G$41),[1]Données!G$8:G$41,0),),[1]Données!H9<>INDEX([1]Données!H$8:H$41,MATCH(MAX([1]Données!G$8:G$41),[1]Données!G$8:G$41,0),)),[1]Données!H10-[1]Données!$E$21,[1]Données!H10+[1]Données!$E$21) -> 0.1557 | H4: 3em lit | I4: =INDEX(OFFSET(plageD,,1),MATCH(J4,plageD,-1)) -> 2.0943 | J4: =J3*2 -> 12.08
E5: =[1]Données!G11 -> 5.909301 | F5: =IF(AND([1]Données!H11<=INDEX([1]Données!H$8:H$41,MATCH(MAX([1]Données!G$8:G$41),[1]Données!G$8:G$41,0),),[1]Données!H10<>INDEX([1]Données!H$8:H$41,MATCH(MAX([1]Données!G$8:G$41),[1]Données!G$8:G$41,0),)),[1]Données!H11-[1]Données!$E$21,[1]Données!H11+[1]Données!$E$21) -> 0.2682
E6: =[1]Données!G12 -> 7.5381086 | F6: =IF(AND([1]Données!H12<=INDEX([1]Données!H$8:H$41,MATCH(MAX([1]Données!G$8:G$41),[1]Données!G$8:G$41,0),),[1]Données!H11<>INDEX([1]Données!H$8:H$41,MATCH(MAX([1]Données!G$8:G$41),[1]Données!G$8:G$41,0),)),[1]Données!H12-[1]Données!$E$21,[1]Données!H12+[1]Données!$E$21) -> 0.3807
E7: =[1]Données!G13 -> 8.9964365 | F7: =IF(AND([1]Données!H13<=INDEX([1]Données!H$8:H$41,MATCH(MAX([1]Données!G$8:G$41),[1]Données!G$8:G$41,0),),[1]Données!H12<>INDEX([1]Données!H$8:H$41,MATCH(MAX([1]Données!G$8:G$41),[1]Données!G$8:G$41,0),)),[1]Données!H13-[1]Données!$E$21,[1]Données!H13+[1]Données!$E$21) -> 0.4932 | H7: La formule =INDIRECT(ADRESSE(EQUIV(MAX($E$1:$E$35);$E$1:$E$35;0)+1;5)&":$E$"&NBVAL($E:$E)) est nommée plageD
E8: =[1]Données!G14 -> 10.284285 | F8: =IF(AND([1]Données!H14<=INDEX([1]Données!H$8:H$41,MATCH(MAX([1]Données!G$8:G$41),[1]Données!G$8:G$41,0),),[1]Données!H13<>INDEX([1]Données!H$8:H$41,MATCH(MAX([1]Données!G$8:G$41),[1]Données!G$8:G$41,0),)),[1]Données!H14-[1]Données!$E$21,[1]Données!H14+[1]Données!$E$21) -> 0.6057
E9: =[1]Données!G15 -> 11.401653 | F9: =IF(AND([1]Données!H15<=INDEX([1]Données!H$8:H$41,MATCH(MAX([1]Données!G$8:G$41),[1]Données!G$8:G$41,0),),[1]Données!H14<>INDEX([1]Données!H$8:H$41,MATCH(MAX([1]Données!G$8:G$41),[1]Données!G$8:G$41,0),)),[1]Données!H15-[1]Données!$E$21,[1]Données!H15+[1]Données!$E$21) -> 0.7182 | H9: Elle renvoie $E$16:$E$35, E16 étant la cellule ou commence la plage décroissante.
E10: =[1]Données!G16 -> 12.348542 | F10: =IF(AND([1]Données!H16<=INDEX([1]Données!H$8:H$41,MATCH(MAX([1]Données!G$8:G$41),[1]Données!G$8:G$41,0),),[1]Données!H15<>INDEX([1]Données!H$8:H$41,MATCH(MAX([1]Données!G$8:G$41),[1]Données!G$8:G$41,0),)),[1]Données!H16-[1]Données!$E$21,[1]Données!H16+[1]Données!$E$21) -> 0.8307
E11: =[1]Données!G17 -> 13.124951 | F11: =IF(AND([1]Données!H17<=INDEX([1]Données!H$8:H$41,MATCH(MAX([1]Données!G$8:G$41),[1]Données!G$8:G$41,0),),[1]Données!H16<>INDEX([1]Données!H$8:H$41,MATCH(MAX([1]Données!G$8:G$41),[1]Données!G$8:G$41,0),)),[1]Données!H17-[1]Données!$E$21,[1]Données!H17+[1]Données!$E$21) -> 0.9432 | H11: La formule en I3 est alors =INDEX(DECALER(plageD;;1);EQUIV(J3;plageD;-1))
E12: =[1]Données!G18 -> 13.730881 | F12: =IF(AND([1]Données!H18<=INDEX([1]Données!H$8:H$41,MATCH(MAX([1]Données!G$8:G$41),[1]Données!G$8:G$41,0),),[1]Données!H17<>INDEX([1]Données!H$8:H$41,MATCH(MAX([1]Données!G$8:G$41),[1]Données!G$8:G$41,0),)),[1]Données!H18-[1]Données!$E$21,[1]Données!H18+[1]Données!$E$21) -> 1.0557
E13: =[1]Données!G19 -> 14.166331 | F13: =IF(AND([1]Données!H19<=INDEX([1]Données!H$8:H$41,MATCH(MAX([1]Données!G$8:G$41),[1]Données!G$8:G$41,0),),[1]Données!H18<>INDEX([1]Données!H$8:H$41,MATCH(MAX([1]Données!G$8:G$41),[1]Données!G$8:G$41,0),)),[1]Données!H19-[1]Données!$E$21,[1]Données!H19+[1]Données!$E$21) -> 1.1682 | H13: J'ai supposé que la longueur de la colonne ainsi que la ligne où commence la décroissance était variable.
E14: =[1]Données!G20 -> 14.431301 | F14: =IF(AND([1]Données!H20<=INDEX([1]Données!H$8:H$41,MATCH(MAX([1]Données!G$8:G$41),[1]Données!G$8:G$41,0),),[1]Données!H19<>INDEX([1]Données!H$8:H$41,MATCH(MAX([1]Données!G$8:G$41),[1]Données!G$8:G$41,0),)),[1]Données!H20-[1]Données!$E$21,[1]Données!H20+[1]Données!$E$21) -> 1.2807 | H14: Sinon il suffit d'utiliser =INDEX($F$2:$F$35;EQUIV(J2;$E$2:$E$35;-1)) tout simplement.
E15: =[1]Données!G21 -> 14.525791 | F15: =IF(AND([1]Données!H21<=INDEX([1]Données!H$8:H$41,MATCH(MAX([1]Données!G$8:G$41),[1]Données!G$8:G$41,0),),[1]Données!H20<>INDEX([1]Données!H$8:H$41,MATCH(MAX([1]Données!G$8:G$41),[1]Données!G$8:G$41,0),)),[1]Données!H21-[1]Données!$E$21,[1]Données!H21+[1]Données!$E$21) -> 1.3932
E16: =[1]Données!G22 -> 14.525791 | F16: =IF(AND([1]Données!H22<=INDEX([1]Données!H$8:H$41,MATCH(MAX([1]Données!G$8:G$41),[1]Données!G$8:G$41,0),),[1]Données!H21<>INDEX([1]Données!H$8:H$41,MATCH(MAX([1]Données!G$8:G$41),[1]Données!G$8:G$41,0),)),[1]Données!H22-[1]Données!$E$21,[1]Données!H22+[1]Données!$E$21) -> 1.5318
E17: =[1]Données!G23 -> 14.449802 | F17: =IF(AND([1]Données!H23<=INDEX([1]Données!H$8:H$41,MATCH(MAX([1]Données!G$8:G$41),[1]Données!G$8:G$41,0),),[1]Données!H22<>INDEX([1]Données!H$8:H$41,MATCH(MAX([1]Données!G$8:G$41),[1]Données!G$8:G$41,0),)),[1]Données!H23-[1]Données!$E$21,[1]Données!H23+[1]Données!$E$21) -> 1.6443
E18: =[1]Données!G24 -> 14.203333 | F18: =IF(AND([1]Données!H24<=INDEX([1]Données!H$8:H$41,MATCH(MAX([1]Données!G$8:G$41),[1]Données!G$8:G$41,0),),[1]Données!H23<>INDEX([1]Données!H$8:H$41,MATCH(MAX([1]Données!G$8:G$41),[1]Données!G$8:G$41,0),)),[1]Données!H24-[1]Données!$E$21,[1]Données!H24+[1]Données!$E$21) -> 1.7568
E19: =[1]Données!G25 -> 13.786384 | F19: =IF(AND([1]Données!H25<=INDEX([1]Données!H$8:H$41,MATCH(MAX([1]Données!G$8:G$41),[1]Données!G$8:G$41,0),),[1]Données!H24<>INDEX([1]Données!H$8:H$41,MATCH(MAX([1]Données!G$8:G$41),[1]Données!G$8:G$41,0),)),[1]Données!H25-[1]Données!$E$21,[1]Données!H25+[1]Données!$E$21) -> 1.8693
E20: =[1]Données!G26 -> 13.198956 | F20: =IF(AND([1]Données!H26<=INDEX([1]Données!H$8:H$41,MATCH(MAX([1]Données!G$8:G$41),[1]Données!G$8:G$41,0),),[1]Données!H25<>INDEX([1]Données!H$8:H$41,MATCH(MAX([1]Données!G$8:G$41),[1]Données!G$8:G$41,0),)),[1]Données!H26-[1]Données!$E$21,[1]Données!H26+[1]Données!$E$21) -> 1.9818
E21: =[1]Données!G27 -> 12.441048 | F21: =IF(AND([1]Données!H27<=INDEX([1]Données!H$8:H$41,MATCH(MAX([1]Données!G$8:G$41),[1]Données!G$8:G$41,0),),[1]Données!H26<>INDEX([1]Données!H$8:H$41,MATCH(MAX([1]Données!G$8:G$41),[1]Données!G$8:G$41,0),)),[1]Données!H27-[1]Données!$E$21,[1]Données!H27+[1]Données!$E$21) -> 2.0943
E22: =[1]Données!G28 -> 11.51266 | F22: =IF(AND([1]Données!H28<=INDEX([1]Données!H$8:H$41,MATCH(MAX([1]Données!G$8:G$41),[1]Données!G$8:G$41,0),),[1]Données!H27<>INDEX([1]Données!H$8:H$41,MATCH(MAX([1]Données!G$8:G$41),[1]Données!G$8:G$41,0),)),[1]Données!H28-[1]Données!$E$21,[1]Données!H28+[1]Données!$E$21) -> 2.2068
E23: =[1]Données!G29 -> 10.413793 | F23: =IF(AND([1]Données!H29<=INDEX([1]Données!H$8:H$41,MATCH(MAX([1]Données!G$8:G$41),[1]Données!G$8:G$41,0),),[1]Données!H28<>INDEX([1]Données!H$8:H$41,MATCH(MAX([1]Données!G$8:G$41),[1]Données!G$8:G$41,0),)),[1]Données!H29-[1]Données!$E$21,[1]Données!H29+[1]Données!$E$21) -> 2.3193
E24: =[1]Données!G30 -> 9.144446 | F24: =IF(AND([1]Données!H30<=INDEX([1]Données!H$8:H$41,MATCH(MAX([1]Données!G$8:G$41),[1]Données!G$8:G$41,0),),[1]Données!H29<>INDEX([1]Données!H$8:H$41,MATCH(MAX([1]Données!G$8:G$41),[1]Données!G$8:G$41,0),)),[1]Données!H30-[1]Données!$E$21,[1]Données!H30+[1]Données!$E$21) -> 2.4318
E25: =[1]Données!G31 -> 7.7046192 | F25: =IF(AND([1]Données!H31<=INDEX([1]Données!H$8:H$41,MATCH(MAX([1]Données!G$8:G$41),[1]Données!G$8:G$41,0),),[1]Données!H30<>INDEX([1]Données!H$8:H$41,MATCH(MAX([1]Données!G$8:G$41),[1]Données!G$8:G$41,0),)),[1]Données!H31-[1]Données!$E$21,[1]Données!H31+[1]Données!$E$21) -> 2.5443
E26: =[1]Données!G32 -> 6.0943128 | F26: =IF(AND([1]Données!H32<=INDEX([1]Données!H$8:H$41,MATCH(MAX([1]Données!G$8:G$41),[1]Données!G$8:G$41,0),),[1]Données!H31<>INDEX([1]Données!H$8:H$41,MATCH(MAX([1]Données!G$8:G$41),[1]Données!G$8:G$41,0),)),[1]Données!H32-[1]Données!$E$21,[1]Données!H32+[1]Données!$E$21) -> 2.6568
... E35: =[1]Données!G41 -> 0 | F35: =IF(AND([1]Données!H41<=INDEX([1]Données!H$8:H$41,MATCH(MAX([1]Données!G$8:G$41),[1]Données!G$8:G$41,0),),[1]Données!H40<>INDEX([1]Données!H$8:H$41,MATCH(MAX([1]Données!G$8:G$41),[1]Données!G$8:G$41,0),)),[1]Données!H41-[1]Données!$E$21,[1]Données!H41+[1]Données!$E$21) -> 3.6693
D36: =COUNTA(E:E) -> 35

Sheet Feuil2

Sheet Feuil3
