Workbook

Sheet tableau de bord
B1: Secteur | C1: Périmètre | D1: Action | E1: Taux de réalisation de l'action | F1: Evolution des besoins en énergie (MWh/an) | G1: ="Contribution aux objectifs énergétiques du PCAET pour 2030"&" (=réduction de "&LEFT(SUM('Trajectoires énergie-climat'!H40,-'Trajectoires énergie-climat'!N40),5)&" MWh/an)" -> Contribution aux objectifs énergétiques du PCAET pour 2030 (=réduction de 23257 MWh/an) | H1: Evolution des rejets de GES (t eq CO2/an) | I1: ="Contribution aux objectifs GES du PCAET pour 2030"&" (=réduction de "&LEFT(SUM('Trajectoires énergie-climat'!G40-'Trajectoires énergie-climat'!I40),4)&" t eq CO2/an)" -> Contribution aux objectifs GES du PCAET pour 2030 (=réduction de 9000 t eq CO2/an) | K1: Consommation estimée en 2019 Mwh/an | L1: Réductions de consommation liées aux actions mises en place MWh/an | M1: Budget énergétique en 2030 Mwh/an | N1: Emissions estimées en 2019 t eq CO2/an | O1: Réduction des émissions liée aux actions mises en place t eq CO2/an | P1: Budget carbone estimée en 2030 t eq CO2/an
A2: =B2&" "&C2&" "&D2 -> Facteurs de Kaya Démographie Variation de la population entre 2019 et 2030 (habitants) | B2: Facteurs de Kaya | C2: Démographie | D2: Variation de la population entre 2019 et 2030 (habitants) | E2: 8 | F2: =VLOOKUP($A2,'base de données'!$A$2:$H$19,5,0)*E2 -> 166.34839 | G2: =VLOOKUP($A2,'base de données'!$A$2:$H$19,6,0)*E2 -> -0.0071524512 | H2: =VLOOKUP($A2,'base de données'!$A$2:$H$19,7,0)*E2 -> 88 | I2: =VLOOKUP($A2,'base de données'!$A$2:$H$19,8,0)*E2 -> -0.0097776376 | K2: ='Trajectoires énergie-climat'!H40 -> 141396.13 | L2: =SUM(F2:F30) -> #N/A | M2: ='Trajectoires énergie-climat'!N40 -> 118138.59 | N2: ='Trajectoires énergie-climat'!G40 -> 48367.742 | O2: =SUM(H2:H30) -> #N/A | P2: ='Trajectoires énergie-climat'!I40 -> 39367.613
A3: =B3&" "&C3&" "&D3 -> Facteurs de Kaya Revenu par habitant Variation de la population entre 2019 et 2030 (habitants) | B3: Facteurs de Kaya | C3: Revenu par habitant | D3: Variation de la population entre 2019 et 2030 (habitants) | E3: 8 | F3: =VLOOKUP($A3,'base de données'!$A$2:$H$19,5,0)*E3 -> #N/A | G3: =VLOOKUP($A3,'base de données'!$A$2:$H$19,6,0)*E3 -> #N/A | H3: =VLOOKUP($A3,'base de données'!$A$2:$H$19,7,0)*E3 -> #N/A | I3: =VLOOKUP($A3,'base de données'!$A$2:$H$19,8,0)*E3 -> #N/A

Sheet base de données
A1: Périmètre & Action | B1: Secteur | C1: Périmètre | D1: action | E1: Evolution des besoins en énergie (MWh/an) | F1: Contribution aux objectifs énergétiques du PCAET pour 2030 | G1: Evolution des rejets de GES (t eq CO2/an) | H1: Contribution aux objectifs GES du PCAET pour 2030
A2: =B2&" "&C2& " "&D2 -> Facteurs de Kaya Démographie Variation de la population entre 2019 et 2030 (habitants) | B2: Facteurs de Kaya | C2: Démographie | D2: Variation de la population entre 2019 et 2030 (habitants) | E2: ='Facteurs Kaya'!E6 -> 20.793548 | F2: ='Facteurs Kaya'!F7 -> -0.0008940564 | G2: ='Facteurs Kaya'!E15 -> 11 | H2: ='Facteurs Kaya'!F16 -> -0.0012222047
A3: =B3&" "&C3&" "&D3 -> Facteurs de Kaya Revenu par habitant Variation du revenu par habitant entre 2019 et 2030 | B3: Facteurs de Kaya | C3: Revenu par habitant | D3: Variation du revenu par habitant entre 2019 et 2030 | E3: ='Facteurs Kaya'!E8 -> 141396.13 | F3: ='Facteurs Kaya'!F7 -> -0.0008940564 | G3: ='Facteurs Kaya'!E17 -> 48367.742 | H3: ='Facteurs Kaya'!F18 -> -5.3741165
A4: =B4&" "&C4&" "&D4
A5: =B5&" "&C5&" "&D5
A6: =B6&" "&C6&" "&D6
A7: =B7&" "&C7&" "&D7
A8: =B8&" "&C8&" "&D8
A9: =B9&" "&C9&" "&D9
A10: =B10&" "&C10&" "&D10
A11: =B11&" "&C11&" "&D11
A12: =B12&" "&C12&" "&D12
A13: =B13&" "&C13&" "&D13
A14: =B14&" "&C14&" "&D14
A15: =B15&" "&C15&" "&D15
... A18: =B18&" "&C18&" "&D18

Sheet Listes
B2: Pérmètres des secteurs | G2: Actions associées aux secteurs eux-mêmes associés à un périmètre
A3: Secteur | B3: Bâtiment | C3: Alimentation | D3: Transport | E3: Facteurs de Kaya | F3: Photovoltaïque | G3: Bâtiment Patrimoine Communal | H3: Facteurs de Kaya Démographie | I3: Facteurs de Kaya Revenu par habitant | J3: Bâtiment Commune | K3: Alimentation Cuisine Centrale | L3: Alimentation Commune | M3: Transport Flotte De Véhicules | N3: Transport Commune | O3: Photovoltaïque Toitures individuelles
A4: Bâtiment | B4: Patrimoine Communal | C4: Cuisine Centrale | D4: Flotte De Véhicules | E4: Démographie | F4: Toitures individuelles | G4: Eclairage public LED | H4: Variation de la population entre 2019 et 2030 (habitants) | I4: Variation du revenu par habitant entre 2019 et 2030 | J4: Eclairage LED bâtiments | K4: Conventionnelle vers locale | L4: Conventionnelle vers locale | M4: Motorisation thermique vers électrique | N4: VE | O4: Exploitation des 50 hectares de toitures bien exposées
A5: Alimentation | B5: Commune | C5: Commune | D5: Commune | E5: Revenu par habitant | G5: BBC | J5: BBC | K5: Carnée conventionnelle vers carnée bio | L5: Carnée conventionnelle vers carnée bio | M5: GNV | N5: GNV
A6: Transport | B6: Mairie | G6: Nuit noire | K6: Végétalienne conventionnelle vers végétalienne bio | L6: Végétalienne conventionnelle vers végétalienne bio | M6: Réduction de masse | N6: Réduction de masse | Q6: 1 | R6: 1 | S6: 1 | T6: 1
A7: Facteurs de Kaya | K7: Carnée conventionnelle vers végétalienne conventionnelle | L7: Carnée conventionnelle vers végétalienne conventionnelle | Q7: 1 | R7: 1 | S7: 1 | T7: 1
A8: Photovoltaïque | Q8: 1 | R8: 2 | S8: 1 | T8: 1

Sheet Facteurs Kaya
C2: OBJECTIFS énergie | D2: Déclinaison Bidart PCAET 2030 | I2: Déclinaison Bidart PCAET 2050
D3: Tous secteurs | I3: Tous secteurs | P3: 2019 | Q3: 2030 | R3: 2050 | T3: Données
D4: Valeur prévue (MWh/an) | E4: Réduction entre 2019 et 2030 (MWh/an) | F4: Vitesse de réduction entre 2019 et 2030 (%/an) | G4: Taux de réduction des secteurs entre 2019 et 2030 (%) | I4: Valeur prévue (MWh/an) | J4: Réduction entre 2019 et 2050 (MWh/an) | K4: Vitesse de réduction entre 2019 et 2030 (%/an) | L4: Taux de réduction des secteurs entre 2019 et 2050 (%) | O4: Variation de la population entre 2019 et … | Q4: 0 | R4: 0 | T4: Consommation énergétique d'un habitant de la CAPB en 2019 MWh/an.habitant | U4: =('Trajectoires énergie-climat'!H22/'Trajectoires énergie-climat'!H3)*1000 -> 20.793548
E5: ='Trajectoires énergie-climat'!$N$40-'Trajectoires énergie-climat'!$H$40 -> -23257.535 | I5: ='Trajectoires énergie-climat'!B47 -> 0 | J5: ='Trajectoires énergie-climat'!$P$40-'Trajectoires énergie-climat'!$H$40 -> -69284.103 | K5: =POWER('Trajectoires énergie-climat'!B47/#REF!,1/31)-1 -> #REF! | L5: ='Trajectoires énergie-climat'!C47 -> 0 | O5: Population | P5: ='Trajectoires énergie-climat'!C3 -> 6800 | Q5: =P5*(1+Q4) -> 6800 | R5: =P5*(1+R4) -> 6800 | T5: Emission de Ges d'un habitant de la CAPB en 2019 t eq CO2/an.habitant | U5: =('Trajectoires énergie-climat'!G22/'Trajectoires énergie-climat'!H3)*1000 -> 7.1129032
A6: ACTIONS | B6: Augmentation de la population de 1 habitant | E6: ='Trajectoires énergie-climat'!H6 -> 20.793548 | I6: =#REF!*POWER((1+#REF!),31) -> #REF! | J6: =R6 -> 0 | K6: =POWER(#REF!/#REF!,1/9)-1 -> #REF! | L6: =#REF!/#REF! -> #REF! | O6: Variation des consommations énergétiques par rapport à 2019 MWh/an | Q6: =(Q5*U4)-(P5*U4) -> 0 | R6: =(R5*U4)-(P5*U4) -> 0
D7: Contribution de l'action à l'objectif : | F7: =E6/E5 -> -0.0008940564 | I7: Contribution de l'action à l'objectif : | K7: =J6/J5 -> 0 | O7: Variation des émissions par rapport à 2019 en t eq CO2/an | Q7: =(Q5*U5)-(P5*U5) -> 0 | R7: =(R5*U5)-(P5*U5) -> 0
B8: Augmentation de 100% du revenu par habitant | E8: =Q12 -> 141396.13 | J8: =R12 -> 141396.13
D9: Contribution de l'action à l'objectif : | F9: =E8/E5 -> -6.0795835 | I9: Contribution de l'action à l'objectif : | P9: 2019 | Q9: 2030 | R9: 2050
O10: Variation du revenu par habitant entre 2019 et … | Q10: 1 | R10: 1
C11: OBJECTIFS GES | O11: Salaire moyen (source JDN) | P11: 2237 | Q11: =P11*(1+Q10) -> 4474 | R11: =P11*(1+R10) -> 4474
D12: Tous secteurs | I12: Tous secteurs | O12: Variation des consommations énergétiques par rapport à 2019 MWh/an | Q12: =((Q11-$P$11)/$P$11)*$U$4*$P$5 -> 141396.13 | R12: =((R11-$P$11)/$P$11)*$U$4*$P$5 -> 141396.13
D13: Valeur prévue (t eq CO2/an) | E13: Réduction entre 2019 et 2030 (t eq CO2/an) | F13: Vitesse de réduction entre 2019 et 2030 (%/an) | G13: Taux de réduction des secteurs entre 2019 et 2030 (%) | I13: Valeur prévue (t eq CO2/an) | J13: Réduction entre 2019 et 2050 (t eq CO2/an) | K13: Vitesse de réduction entre 2019 et 2030 (%/an) | L13: Taux de réduction des secteurs entre 2019 et 2050 (%) | O13: Variation des émissions par rapport à 2019 en t eq CO2/an | Q13: =((Q11-P11)/P11)*U5*P5 -> 48367.742 | R13: =((R11-P11)/P11)*P5*U5 -> 48367.742
E14: ='Trajectoires énergie-climat'!$I$40-'Trajectoires énergie-climat'!$G$40 -> -9000.129 | J14: ='Trajectoires énergie-climat'!$K$40-'Trajectoires énergie-climat'!$G$40 -> -27085.935
A15: ACTIONS | B15: Augmentation de la population de 1 habitant | E15: ='Trajectoires énergie-climat'!H8 -> 11 | J15: =R7 -> 0
D16: Contribution de l'action à l'objectif : | F16: =E15/E14 -> -0.0012222047 | I16: Contribution de l'action à l'objectif : | K16: =J15/J14 -> 0
B17: Augmentation de 100% du revenu par habitan | E17: =Q13 -> 48367.742 | J17: =R13 -> 48367.742
D18: Contribution de l'action à l'objectif : | F18: =E17/E14 -> -5.3741165 | I18: Contribution de l'action à l'objectif : | K18: =J17/J14 -> -1.7857143
A27: ACTIONS

Sheet Trajectoires énergie-climat
A1: VARIABLES | H1: Années
B2: CAPB | C2: Bidart | D2: par habitant | H2: 2020 | I2: 2030 | J2: 2050 | T2: 2020 | U2: 2030 | V2: 2050
A3: Population | B3: 310000 | C3: 6800 | F3: Population CAPB | H3: =B3 -> 310000 | I3: =H3*POWER(1+B4,10) -> 310000 | J3: =I3*POWER(1+B5,20) -> 310000 | S3: CAPB | T3: =(G22/H3)*1000 -> 7.1129032 | U3: =(I22/I3)*1000 -> 5.7893548 | V3: =(K22/J3)*1000 -> 3.1296774
A4: Taux de croissance démographique annuel 2020 à 2030 | B4: 0 | C4: 0 | F4: Population Bidart | H4: =C3 -> 6800 | I4: =H4*POWER(1+C4,10) -> 6800 | J4: =I4*POWER(1+C5,20) -> 6800 | S4: Bidart | T4: =G40/H4 -> 7.1129032 | U4: =I40/I4 -> 5.7893548 | V4: =K40/J4 -> 3.1296774
A5: Taux de croissance démographique 2030 à 2050 | B5: 0 | C5: 0 | F5: % de la population de la CAPB vivant à Bidart | H5: =H4/H3 -> 0.021935484 | I5: =I4/I3 -> 0.021935484 | J5: =J4/J3 -> 0.021935484 | S5: Rapport Bidart/CAPB | T5: =T4/T3 -> 1 | U5: =U4/U3 -> 1 | V5: =V4/V3 -> 1
A6: GES (t eq CO2/an) périmètre territoire | B6: 2200000 | C6: =(B6/300000)*6800 -> 49866.667 | D6: =C6/6800 -> 7.3333333 | F6: Objectifs en MWh/an.habitant | H6: =(H22/H3)*1000 -> 20.793548 | I6: =(N22/I3)*1000 -> 17.373323 | J6: =(P22/J3)*1000 -> 10.60471 | S6: Emission par habitant t eq CO2/hab.an
A7: GES (t eq CO2/an) périmètre empreinte | B7: 3600000 | C7: =(B7/300000)*6800 -> 81600 | D7: =C7/6800 -> 12 | F7: Objectif en t eq CO2/an.habitant | H7: =(G22/H3)*1000 -> 7.1129032 | I7: =(I22/I3)*1000 -> 5.7893548 | J7: =(K22/J3)*1000 -> 3.1296774
A8: Energie (MWh/an) périmètre territoire | B8: 6500000 | C8: =(B8/300000)*6800 -> 147333.33 | D8: =C8/6800 -> 21.666667 | F8: Empreinte carbone d'un français (source : MTES) t eq CO2/an | H8: 11 | T8: =POWER(U3/T3,1/10)-1 -> -0.020378458 | U8: =POWER(V3/U3,1/20)-1 -> -0.030286436
L10: .
I13: CAPB
I14: Valeurs prévues GES 2030 | K14: Valeurs prévues GES 2050 | N14: Valeurs prévues énergie 2030 | P14: Valeurs prévues énergie 2050
C15: Source | D15: Scénario | E15: secteur | F15: Année de référence | G15: GES émis (kt eq CO2/an) | H15: Energie finale (GWh/an) | I15: kt eq CO2/an | J15: % | K15: kt eq CO2/an | L15: % | N15: GWh/an | O15: % | P15: GWh/an | Q15: %
C16: PCAET | D16: tendanciel | E16: Tous | F16: 2019 | G16: =SUM(G17:G21) -> 2205 | H16: =SUM(H17:H21) -> 6446 | I16: =SUM(I17:I21) -> 2051.35 | J16: =(I16-G16)/G16 -> -0.06968254 | K16: =G16*(1+L16) -> 1719.9 | L16: -0.22 | N16: =SUM(N17:N21) -> 6218.88 | O16: =(N16-H16)/H16 -> -0.035234254 | P16: =H16*(1+Q16) -> 5801.4 | Q16: -0.1
D17: tendanciel | E17: Résidentiel | F17: 2019 | G17: 335 | H17: 2432 | I17: =G17*(1+J17) -> 324.95 | J17: -0.03 | K17: =G17*(1+L17) -> 301.5 | L17: -0.1 | N17: =H17*(1+O17) -> 2407.68 | O17: -0.01 | P17: =H17*(1+Q17) -> 2359.04 | Q17: -0.03
D18: tendanciel | E18: Tertiaire | F18: 2019 | G18: 230 | H18: 1185 | I18: =G18*(1+J18) -> 223.1 | J18: -0.03 | K18: =G18*(1+L18) -> 207 | L18: -0.1 | N18: =H18*(1+O18) -> 1173.15 | O18: -0.01 | P18: =H18*(1+Q18) -> 1137.6 | Q18: -0.04
D19: tendanciel | E19: Agricole | F19: 2019 | G19: 840 | H19: 160 | I19: =G19*(1+J19) -> 831.6 | J19: -0.01 | K19: =G19*(1+L19) -> 823.2 | L19: -0.02 | N19: =H19*(1+O19) -> 152 | O19: -0.05 | P19: =H19*(1+Q19) -> 136 | Q19: -0.15
D20: tendanciel | E20: Transport | F20: 2019 | G20: 730 | H20: 2281 | I20: =G20*(1+J20) -> 605.9 | J20: -0.17 | K20: =G20*(1+L20) -> 357.7 | L20: -0.51 | N20: =H20*(1+O20) -> 2121.33 | O20: -0.07 | P20: =H20*(1+Q20) -> 1824.8 | Q20: -0.2
D21: tendanciel | E21: Industriel | F21: 2019 | G21: 70 | H21: 388 | I21: =G21*(1+J21) -> 65.8 | J21: -0.06 | K21: =G21*(1+L21) -> 56.7 | L21: -0.19 | N21: =H21*(1+O21) -> 364.72 | O21: -0.06 | P21: =H21*(1+Q21) -> 318.16 | Q21: -0.18
D22: "Trajectoire Basque" | E22: Tous | F22: 2019 | G22: =SUM(G23:G27) -> 2205 | H22: 6446 | I22: =SUM(I23:I27) -> 1794.7 | J22: =(I22-G22)/G22 -> -0.1860771 | K22: =G22*(1+L22) -> 970.2 | L22: -0.56 | N22: =SUM(N23:N27) -> 5385.73 | O22: =(N22-H22)/H22 -> -0.16448495 | P22: =H22*(1+Q22) -> 3287.46 | Q22: -0.49
D23: "Trajectoire Basque" | E23: Résidentiel | F23: 2019 | G23: 335 | H23: 2432 | I23: =G23*(1+J23) -> 254.6 | J23: =-24% -> -0.24 | K23: =G23*(1+L23) -> 90.45 | L23: -0.73 | N23: =H23*(1+O23) -> 2018.56 | O23: -0.17 | P23: =H23*(1+Q23) -> 1216 | Q23: -0.5
D24: "Trajectoire Basque" | E24: Tertiaire | F24: 2019 | G24: 230 | H24: 1185 | I24: =G24*(1+J24) -> 188.6 | J24: -0.18 | K24: =G24*(1+L24) -> 108.1 | L24: -0.53 | N24: =H24*(1+O24) -> 1030.95 | O24: -0.13 | P24: =H24*(1+Q24) -> 711 | Q24: -0.4
D25: "Trajectoire Basque" | E25: Agricole | F25: 2019 | G25: 840 | H25: 160 | I25: =G25*(1+J25) -> 756 | J25: -0.1 | K25: =G25*(1+L25) -> 588 | L25: -0.3 | N25: =H25*(1+O25) -> 136 | O25: -0.15 | P25: =H25*(1+Q25) -> 89.6 | Q25: -0.44
D26: "Trajectoire Basque" | E26: Transport | F26: 2019 | G26: 730 | H26: 2281 | I26: =G26*(1+J26) -> 540.2 | J26: -0.26 | K26: =G26*(1+L26) -> 167.9 | L26: -0.77 | N26: =H26*(1+O26) -> 1870.42 | O26: -0.18 | P26: =H26*(1+Q26) -> 1049.26 | Q26: -0.54
D27: "Trajectoire Basque" | E27: Industriel | F27: 2019 | G27: 70 | H27: 388 | I27: =G27*(1+J27) -> 55.3 | J27: -0.21 | K27: =G27*(1+L27) -> 25.9 | L27: -0.63 | N27: =H27*(1+O27) -> 329.8 | O27: -0.15 | P27: =H27*(1+Q27) -> 213.4 | Q27: -0.45
E28: Production EnR | N28: =O28*N22 -> 1615.719 | O28: 0.3 | P28: =P22*Q28 -> 3287.46 | Q28: 1
I31: BIDART
I32: objectifs GES 2030 | K32: Objectif GES 2050 | N32: Objectif énergie 2030 | P32: Objectif énergie 2050
C33: Source | D33: Scénario | E33: secteur | F33: Année de référence | G33: GES émis (t eq CO2/an) | H33: Energie finale (MWh/an) | I33: t eq CO2/an | J33: % | K33: t eq CO2/an | L33: % | N33: MWh/an | O33: % | P33: MWh/an | Q33: %
C34: Conversion des scénarii du PCAET de l'échelle de 300 000 habitants à une échelle de 6800 habitants | D34: tendanciel | E34: Tous | F34: 2019 | G34: =$H$5*G16*1000 -> 48367.742 | H34: =$H$5*H16*1000 -> 141396.13 | I34: =$I$5*I16*1000 -> 44997.355 | J34: =(I34-G34)/G34 -> -0.06968254 | K34: =$J$5*K16*1000 -> 37726.839 | L34: =(K34-G34)/G34 -> -0.22 | N34: =$J$5*N16*1000 -> 136414.14 | O34: =(N34-H34)/H34 -> -0.035234254 | P34: =$J$5*P16*1000 -> 127256.52 | Q34: =(P34-H34)/H34 -> -0.1
D35: tendanciel | E35: Résidentiel | F35: 2019 | G35: =$H$5*G17*1000 -> 7348.3871 | H35: =$H$5*H17*1000 -> 53347.097 | I35: =$I$5*I17*1000 -> 7127.9355 | J35: =(I35-G35)/G35 -> -0.03 | K35: =$J$5*K17*1000 -> 6613.5484 | L35: =(K35-G35)/G35 -> -0.1 | N35: =$J$5*N17*1000 -> 52813.626 | O35: =(N35-H35)/H35 -> -0.01 | P35: =$J$5*P17*1000 -> 51746.684 | Q35: =(P35-H35)/H35 -> -0.03
D36: tendanciel | E36: Tertiaire | F36: 2019 | G36: =$H$5*G18*1000 -> 5045.1613 | H36: =$H$5*H18*1000 -> 25993.548 | I36: =$I$5*I18*1000 -> 4893.8065 | J36: =(I36-G36)/G36 -> -0.03 | K36: =$J$5*K18*1000 -> 4540.6452 | L36: =(K36-G36)/G36 -> -0.1 | N36: =$J$5*N18*1000 -> 25733.613 | O36: =(N36-H36)/H36 -> -0.01 | P36: =$J$5*P18*1000 -> 24953.806 | Q36: =(P36-H36)/H36 -> -0.04
D37: tendanciel | E37: Agricole | F37: 2019 | G37: =$H$5*G19*1000 -> 18425.806 | H37: =$H$5*H19*1000 -> 3509.6774 | I37: =$I$5*I19*1000 -> 18241.548 | J37: =(I37-G37)/G37 -> -0.01 | K37: =$J$5*K19*1000 -> 18057.29 | L37: =(K37-G37)/G37 -> -0.02 | N37: =$J$5*N19*1000 -> 3334.1935 | O37: =(N37-H37)/H37 -> -0.05 | P37: =$J$5*P19*1000 -> 2983.2258 | Q37: =(P37-H37)/H37 -> -0.15
D38: tendanciel | E38: Transport | F38: 2019 | G38: =$H$5*G20*1000 -> 16012.903 | H38: =$H$5*H20*1000 -> 50034.839 | I38: =$I$5*I20*1000 -> 13290.71 | J38: =(I38-G38)/G38 -> -0.17 | K38: =$J$5*K20*1000 -> 7846.3226 | L38: =(K38-G38)/G38 -> -0.51 | N38: =$J$5*N20*1000 -> 46532.4 | O38: =(N38-H38)/H38 -> -0.07 | P38: =$J$5*P20*1000 -> 40027.871 | Q38: =(P38-H38)/H38 -> -0.2
D39: tendanciel | E39: Industriel | F39: 2019 | G39: =$H$5*G21*1000 -> 1535.4839 | H39: =$H$5*H21*1000 -> 8510.9677 | I39: =$I$5*I21*1000 -> 1443.3548 | J39: =(I39-G39)/G39 -> -0.06 | K39: =$J$5*K21*1000 -> 1243.7419 | L39: =(K39-G39)/G39 -> -0.19 | N39: =$J$5*N21*1000 -> 8000.3097 | O39: =(N39-H39)/H39 -> -0.06 | P39: =$J$5*P21*1000 -> 6978.9935 | Q39: =(P39-H39)/H39 -> -0.18
D40: "Trajectoire Basque" | E40: Tous | F40: 2019 | G40: =$H$5*G22*1000 -> 48367.742 | H40: =$H$5*H22*1000 -> 141396.13 | I40: =$I$5*I22*1000 -> 39367.613 | J40: =(I40-G40)/G40 -> -0.1860771 | K40: =$J$5*K22*1000 -> 21281.806 | L40: =(K40-G40)/G40 -> -0.56 | N40: =$J$5*N22*1000 -> 118138.59 | O40: =(N40-H40)/H40 -> -0.16448495 | P40: =$J$5*P22*1000 -> 72112.026 | Q40: =(P40-H40)/H40 -> -0.49
D41: "Trajectoire Basque" | E41: Résidentiel | F41: 2019 | G41: =$H$5*G23*1000 -> 7348.3871 | H41: =$H$5*H23*1000 -> 53347.097 | I41: =$I$5*I23*1000 -> 5584.7742 | J41: =(I41-G41)/G41 -> -0.24 | K41: =$J$5*K23*1000 -> 1984.0645 | L41: =(K41-G41)/G41 -> -0.73 | N41: =$J$5*N23*1000 -> 44278.09 | O41: =(N41-H41)/H41 -> -0.17 | P41: =$J$5*P23*1000 -> 26673.548 | Q41: =(P41-H41)/H41 -> -0.5
D42: "Trajectoire Basque" | E42: Tertiaire | F42: 2019 | G42: =$H$5*G24*1000 -> 5045.1613 | H42: =$H$5*H24*1000 -> 25993.548 | I42: =$I$5*I24*1000 -> 4137.0323 | J42: =(I42-G42)/G42 -> -0.18 | K42: =$J$5*K24*1000 -> 2371.2258 | L42: =(K42-G42)/G42 -> -0.53 | N42: =$J$5*N24*1000 -> 22614.387 | O42: =(N42-H42)/H42 -> -0.13 | P42: =$J$5*P24*1000 -> 15596.129 | Q42: =(P42-H42)/H42 -> -0.4
D43: "Trajectoire Basque" | E43: Agricole | F43: 2019 | G43: =$H$5*G25*1000 -> 18425.806 | H43: =$H$5*H25*1000 -> 3509.6774 | I43: =$I$5*I25*1000 -> 16583.226 | J43: =(I43-G43)/G43 -> -0.1 | K43: =$J$5*K25*1000 -> 12898.065 | L43: =(K43-G43)/G43 -> -0.3 | N43: =$J$5*N25*1000 -> 2983.2258 | O43: =(N43-H43)/H43 -> -0.15 | P43: =$J$5*P25*1000 -> 1965.4194 | Q43: =(P43-H43)/H43 -> -0.44
D44: "Trajectoire Basque" | E44: Transport | F44: 2019 | G44: =$H$5*G26*1000 -> 16012.903 | H44: =$H$5*H26*1000 -> 50034.839 | I44: =$I$5*I26*1000 -> 11849.548 | J44: =(I44-G44)/G44 -> -0.26 | K44: =$J$5*K26*1000 -> 3682.9677 | L44: =(K44-G44)/G44 -> -0.77 | N44: =$J$5*N26*1000 -> 41028.568 | O44: =(N44-H44)/H44 -> -0.18 | P44: =$J$5*P26*1000 -> 23016.026 | Q44: =(P44-H44)/H44 -> -0.54
D45: "Trajectoire Basque" | E45: Industriel | F45: 2019 | G45: =$H$5*G27*1000 -> 1535.4839 | H45: =$H$5*H27*1000 -> 8510.9677 | I45: =$I$5*I27*1000 -> 1213.0323 | J45: =(I45-G45)/G45 -> -0.21 | K45: =$J$5*K27*1000 -> 568.12903 | L45: =(K45-G45)/G45 -> -0.63 | N45: =$J$5*N27*1000 -> 7234.3226 | O45: =(N45-H45)/H45 -> -0.15 | P45: =$J$5*P27*1000 -> 4681.0323 | Q45: =(P45-H45)/H45 -> -0.45
E46: Production EnR | N46: =O46*N40 -> 35441.578 | O46: =O28 -> 0.3 | P46: =Q46*P40 -> 72112.026 | Q46: =Q28 -> 1
A53: Année | B53: Taux de croissance annuelle | C53: pop Bidart | D53: Taux de croissance annuel | E53: Pop CAPB | F53: Part de Bidart dans la pop de la CAPB
A54: 2020 | B54: 0.019 | C54: 6800 | D54: 0.008 | E54: 310000 | F54: =C54/E54 -> 0.021935484
A55: =A54+1 -> 2021 | C55: =C54*(1+$B$54) -> 6929.2 | E55: =E54*(1+$D$54) -> 312480 | F55: =C55/E55 -> 0.022174859
A56: =A55+1 -> 2022 | C56: =C55*(1+$B$54) -> 7060.8548 | E56: =E55*(1+$D$54) -> 314979.84 | F56: =C56/E56 -> 0.022416847
A57: =A56+1 -> 2023 | C57: =C56*(1+$B$54) -> 7195.011 | E57: =E56*(1+$D$54) -> 317499.68 | F57: =C57/E57 -> 0.022661475
A58: =A57+1 -> 2024 | C58: =C57*(1+$B$54) -> 7331.7163 | E58: =E57*(1+$D$54) -> 320039.68 | F58: =C58/E58 -> 0.022908773
A59: =A58+1 -> 2025 | C59: =C58*(1+$B$54) -> 7471.0189 | E59: =E58*(1+$D$54) -> 322599.99 | F59: =C59/E59 -> 0.023158769
A60: =A59+1 -> 2026 | C60: =C59*(1+$B$54) -> 7612.9682 | E60: =E59*(1+$D$54) -> 325180.79 | F60: =C60/E60 -> 0.023411494
A61: =A60+1 -> 2027 | C61: =C60*(1+$B$54) -> 7757.6146 | E61: =E60*(1+$D$54) -> 327782.24 | F61: =C61/E61 -> 0.023666977
A62: =A61+1 -> 2028 | C62: =C61*(1+$B$54) -> 7905.0093 | E62: =E61*(1+$D$54) -> 330404.5 | F62: =C62/E62 -> 0.023925247
A63: =A62+1 -> 2029 | C63: =C62*(1+$B$54) -> 8055.2045 | E63: =E62*(1+$D$54) -> 333047.73 | F63: =C63/E63 -> 0.024186336
A64: =A63+1 -> 2030 | C64: =C63*(1+$B$54) -> 8208.2534 | E64: =E63*(1+$D$54) -> 335712.12 | F64: =C64/E64 -> 0.024450274
A65: =A64+1 -> 2031 | C65: =C64*(1+$B$54) -> 8364.2102 | E65: =E64*(1+$D$54) -> 338397.81 | F65: =C65/E65 -> 0.024717093
A66: =A65+1 -> 2032 | C66: =C65*(1+$B$54) -> 8523.1302 | E66: =E65*(1+$D$54) -> 341105 | F66: =C66/E66 -> 0.024986823
... A83: =A82+1 -> 2049 | C83: =C82*(1+$B$54) -> 11737.085 | E83: =E82*(1+$D$54) -> 390586.41 | F83: =C83/E83 -> 0.030049906
A84: =A83+1 -> 2050 | C84: =C83*(1+$B$54) -> 11960.09 | E84: =E83*(1+$D$54) -> 393711.1 | F84: =C84/E84 -> 0.030377832 | G84: =(F84-F54)/F54 -> 0.38487175

Sheet BEGES 2012 VS etat des lieux 20
C1: Données BEGES 2012 | E1: Valeurs calculées 2020
C2: Tendanciel | D2: Scénario Grenelle + | E2: Bâtiments du patrimoine public de Bidart | F2: Services techniques | G2: Alimentation
B3: Consommation d’énergie (2008/2020) | C3: 0.056 | D3: -0.127 | E3: =POWER((1+#REF!),12)-1 -> #REF! | F3: =POWER((1+#REF!),12)-1 -> #REF!
B4: Part des EnR dans la consommation d’énergie | C4: 0.156 | D4: 0.254 | E4: =AVERAGE(#REF!) -> #REF! | F4: =(#REF!*#REF!+#REF!*#REF!)/#REF! -> #REF! | G4: 0
B5: Emissions de GES (par rapport à 1990) | C5: 0.071 | D5: -0.2 | E5: =POWER(POWER(AVERAGE(#REF!)/AVERAGE(#REF!),1/9),12)-1 -> #REF! | F5: =POWER((1+#REF!),12)-1 -> #REF! | G5: =((((#REF!/#REF!)*#REF!)-(#REF!/#REF!)*#REF!*(#REF!/#REF!))-#REF!)/#REF! -> #REF!
