Workbook
Name TAB: [1]!Tableau3[#All]

Sheet Feuil4
A1: Code (site) | B1: Facturation | C1: Début | D1: Résil, | E1: Janvier | F1: Février | G1: Mars | H1: Avril | I1: Mai | J1: Juin | K1: Juillet | L1: Août | M1: Septembre | N1: Octobre | O1: Novembre | P1: Décembre | Q1: Montant | R1: HT RECALCULE | T1: ht recalcule TEST
A2: A | B2: A Echoir | C2: 43525 | E2: 0.0833 | F2: 0.0833 | G2: 0.0833 | H2: 0.0833 | I2: 0.0833 | J2: 0.0833 | K2: 0.0833 | L2: 0.0833 | M2: 0.0833 | N2: 0.0833 | O2: 0.0833 | P2: 0.0833 | Q2: 3000 | R2: =Q2/12*6 -> 1500 | T2: =Q2-(Q2*SUM(INDIRECT(CONCATENATE("E",MATCH(INDIRECT("Feuil4!B"&MATCH(A2,Feuil4!A:A,0),1),B2,0),":",ADDRESS(MATCH(INDIRECT("Feuil4!B"&MATCH(A2,Feuil4!A:A,0),1),$U$8:$U$10,0),MATCH($U$4,$E$1:$P$1,0),4,1)),1))) -> 3000
A3: B | B3: Echu | C3: 41487 | D3: 46873 | E3: 0.0833 | F3: 0.0833 | G3: 0.0833 | H3: 0.0833 | I3: 0.0833 | J3: 0.0833 | K3: 0.0833 | L3: 0.0833 | M3: 0.0833 | N3: 0.0833 | O3: 0.0833 | P3: 0.0833 | Q3: 3000 | R3: =Q3/12*6 -> 1500 | T3: =(Q3*SUM(INDIRECT(CONCATENATE("E",MATCH(INDIRECT("Feuil4!B"&MATCH(A3,Feuil4!A1:A13,0),1),B3,0),":",ADDRESS(MATCH(INDIRECT("Feuil4!B"&MATCH(A3,Feuil4!A1:A13,0),1),$U$8:$U$10,0),MATCH($U$4,$E$1:$P$1,0),4,1)),1))) -> 749.7 | U3: mois
A4: C | B4: Echu | C4: 42887 | D4: 44712 | E4: 0 | F4: 0 | G4: 0 | H4: 0 | I4: 0 | J4: 0 | K4: 0 | L4: 0 | M4: 0 | N4: 0 | O4: 0 | P4: 0 | Q4: 464 | R4: 0 | T4: =Q4-(Q4*SUM(INDIRECT(CONCATENATE("E",MATCH(INDIRECT("Feuil4!B"&MATCH(A4,Feuil4!A:A,0),1),B4,0),":",ADDRESS(MATCH(INDIRECT("Feuil4!B"&MATCH(A4,Feuil4!A:A,0),1),$U$8:$U$10,0),MATCH($U$4,$E$1:$P$1,0),4,1)),1))) -> 348.0464 | U4: juillet
A5: D | B5: Echu | C5: 42887 | D5: 44712 | E5: 0 | F5: 0 | G5: 0 | H5: 0 | I5: 0 | J5: 0 | K5: 0 | L5: 0 | M5: 0 | N5: 0 | O5: 0 | P5: 0 | Q5: 7 | R5: 0 | T5: =Q5-(Q5*SUM(INDIRECT(CONCATENATE("E",MATCH(INDIRECT("Feuil4!B"&MATCH(A5,Feuil4!A:A,0),1),B5,0),":",ADDRESS(MATCH(INDIRECT("Feuil4!B"&MATCH(A5,Feuil4!A:A,0),1),$U$8:$U$10,0),MATCH($U$4,$E$1:$P$1,0),4,1)),1))) -> 5.2507
A6: E | B6: Echu | C6: 38149 | E6: 0.25 | F6: 0 | G6: 0 | H6: 0.25 | I6: 0 | J6: 0 | K6: 0.25 | L6: 0 | M6: 0 | N6: 0.25 | O6: 0 | P6: 0 | Q6: 74 | R6: =Q6/4*2 -> 37 | T6: =Q6-(Q6*SUM(INDIRECT(CONCATENATE("E",MATCH(INDIRECT("Feuil4!B"&MATCH(A6,Feuil4!A:A,0),1),B6,0),":",ADDRESS(MATCH(INDIRECT("Feuil4!B"&MATCH(A6,Feuil4!A:A,0),1),$U$8:$U$10,0),MATCH($U$4,$E$1:$P$1,0),4,1)),1))) -> 55.5074
A7: F | B7: A Echoir | C7: 41275 | D7: 46752 | E7: 0.0833 | F7: 0.0833 | G7: 0.0833 | H7: 0.0833 | I7: 0.0833 | J7: 0.0833 | K7: 0.0833 | L7: 0.0833 | M7: 0.0833 | N7: 0.0833 | O7: 0.0833 | P7: 0.0833 | Q7: 7474 | R7: =Q7/12*6 -> 3737 | T7: =Q7-(Q7*SUM(INDIRECT(CONCATENATE("E",MATCH(INDIRECT("Feuil4!B"&MATCH(A7,Feuil4!A:A,0),1),B7,0),":",ADDRESS(MATCH(INDIRECT("Feuil4!B"&MATCH(A7,Feuil4!A:A,0),1),$U$8:$U$10,0),MATCH($U$4,$E$1:$P$1,0),4,1)),1))) -> 7474
A8: G | B8: A Echoir | C8: 42736 | E8: 0.0833 | F8: 0.0833 | G8: 0.0833 | H8: 0.0833 | I8: 0.0833 | J8: 0.0833 | K8: 0.0833 | L8: 0.0833 | M8: 0.0833 | N8: 0.0833 | O8: 0.0833 | P8: 0.0833 | Q8: 474 | R8: =Q8/12*6 -> 237 | T8: =Q8-(Q8*SUM(INDIRECT(CONCATENATE("E",MATCH(INDIRECT("Feuil4!B"&MATCH(A8,Feuil4!A:A,0),1),B8,0),":",ADDRESS(MATCH(INDIRECT("Feuil4!B"&MATCH(A8,Feuil4!A:A,0),1),$U$8:$U$10,0),MATCH($U$4,$E$1:$P$1,0),4,1)),1))) -> 474 | U8: A Echoir
A9: H | B9: A Echoir | C9: 41456 | D9: 44561 | E9: 0.0833 | F9: 0.0833 | G9: 0.0833 | H9: 0.0833 | I9: 0.0833 | J9: 0.0833 | K9: 0.0833 | L9: 0.0833 | M9: 0.0833 | N9: 0.0833 | O9: 0.0833 | P9: 0.0833 | Q9: 8986 | R9: =Q9/12*6 -> 4493 | T9: =Q9-(Q9*SUM(INDIRECT(CONCATENATE("E",MATCH(INDIRECT("Feuil4!B"&MATCH(A9,Feuil4!A:A,0),1),B9,0),":",ADDRESS(MATCH(INDIRECT("Feuil4!B"&MATCH(A9,Feuil4!A:A,0),1),$U$8:$U$10,0),MATCH($U$4,$E$1:$P$1,0),4,1)),1))) -> 8986 | U9: Echu
A10: I | B10: A Echoir | C10: 39783 | D10: 45626 | E10: 0 | F10: 0 | G10: 0.25 | H10: 0 | I10: 0 | J10: 0.25 | K10: 0 | L10: 0 | M10: 0.25 | N10: 0 | O10: 0 | P10: 0.25 | Q10: 77775 | R10: =Q10/4*2 -> 38887.5 | T10: =Q10-(Q10*SUM(INDIRECT(CONCATENATE("E",MATCH(INDIRECT("Feuil4!B"&MATCH(A10,Feuil4!A:A,0),1),B10,0),":",ADDRESS(MATCH(INDIRECT("Feuil4!B"&MATCH(A10,Feuil4!A:A,0),1),$U$8:$U$10,0),MATCH($U$4,$E$1:$P$1,0),4,1)),1))) -> 77775 | U10: Non
A11: J | B11: Echu | C11: 42461 | D11: 45626 | E11: 0.25 | F11: 0 | G11: 0 | H11: 0.25 | I11: 0 | J11: 0 | K11: 0.25 | L11: 0 | M11: 0 | N11: 0.25 | O11: 0 | P11: 0 | Q11: 9789 | R11: =Q11/4*2 -> 4894.5 | T11: =Q11-(Q11*SUM(INDIRECT(CONCATENATE("E",MATCH(INDIRECT("Feuil4!B"&MATCH(A11,Feuil4!A:A,0),1),B11,0),":",ADDRESS(MATCH(INDIRECT("Feuil4!B"&MATCH(A11,Feuil4!A:A,0),1),$U$8:$U$10,0),MATCH($U$4,$E$1:$P$1,0),4,1)),1))) -> 7342.7289
A12: J | B12: A Echoir | C12: 39783 | D12: 45626 | E12: 0 | F12: 0 | G12: 0.25 | H12: 0 | I12: 0 | J12: 0.25 | K12: 0 | L12: 0 | M12: 0.25 | N12: 0 | O12: 0 | P12: 0.25 | Q12: 446 | R12: =Q12/4*2 -> 223 | T12: =Q12-(Q12*SUM(INDIRECT(CONCATENATE("E",MATCH(INDIRECT("Feuil4!B"&MATCH(A12,Feuil4!A:A,0),1),B12,0),":",ADDRESS(MATCH(INDIRECT("Feuil4!B"&MATCH(A12,Feuil4!A:A,0),1),$U$8:$U$10,0),MATCH($U$4,$E$1:$P$1,0),4,1)),1))) -> #N/A
A13: K | B13: A Echoir | C13: 39783 | D13: 45626 | E13: 0 | F13: 0 | G13: 0.25 | H13: 0 | I13: 0 | J13: 0.25 | K13: 0 | L13: 0 | M13: 0.25 | N13: 0 | O13: 0 | P13: 0.25 | Q13: 4463 | R13: =Q13/4*2 -> 2231.5 | T13: =Q13-(Q13*SUM(INDIRECT(CONCATENATE("E",MATCH(INDIRECT("Feuil4!B"&MATCH(A13,Feuil4!A:A,0),1),B13,0),":",ADDRESS(MATCH(INDIRECT("Feuil4!B"&MATCH(A13,Feuil4!A:A,0),1),$U$8:$U$10,0),MATCH($U$4,$E$1:$P$1,0),4,1)),1))) -> 4463
R14: Calcul fait pour le 05 juillet
S17: Je dois trouver les mêmes résultats

Sheet Feuil5
A1: mois
A2: janvier
A3: février
A4: mars
A5: avril
A6: mai
A7: juin
A8: juillet
A9: août
A10: septembre
A11: octobre
A12: novembre
A13: décembre
