Workbook
Name Tableau1: Données!$A$1:$D$11

Sheet Données
A1: Affaire | B1: Résultat | C1: contrat | D1: compte
A2: A | B2: 200 | C2: P1 | D2: 600
A3: B | B3: 564 | C3: P2 | D3: 601
A4: C | B4: 38 | C4: P3 | D4: 602
A5: D | B5: 265 | C5: P4 | D5: 603
A6: E | B6: 95 | C6: P5 | D6: 604
A7: F | B7: 560 | C7: P6 | D7: 700
A8: G | B8: 65 | C8: P1 | D8: 701
A9: H | B9: 45 | C9: P8 | D9: 703
A10: I | B10: 648 | C10: P9 | D10: 702
A11: J | B11: 325 | C11: P10 | D11: 702

Sheet matrice
D2: Affaire | E2: E
D4: P1 | E4: P2 | F4: P3 | G4: P4 | H4: P5 | I4: P6 | J4: P8 | K4: P9 | L4: P10
C5: 600 | D5: =SUMIFS(Données!$B$2:$B$11,Données!$D$2:$D$11,matrice!$C:$C,Données!$C$2:$C$11,matrice!$4:$4,Données!A2:A11,matrice!E$2) -> 0 | E5: =SUMIFS(Données!$B$2:$B$11,Données!$D$2:$D$11,matrice!$C:$C,Données!$C$2:$C$11,matrice!$4:$4,Données!B2:B11,matrice!F$2) -> 0 | F5: =SUMIFS(Données!$B$2:$B$11,Données!$D$2:$D$11,matrice!$C:$C,Données!$C$2:$C$11,matrice!$4:$4,Données!C2:C11,matrice!G$2) -> 0 | G5: =SUMIFS(Données!$B$2:$B$11,Données!$D$2:$D$11,matrice!$C:$C,Données!$C$2:$C$11,matrice!$4:$4,Données!D2:D11,matrice!H$2) -> 0 | H5: =SUMIFS(Données!$B$2:$B$11,Données!$D$2:$D$11,matrice!$C:$C,Données!$C$2:$C$11,matrice!$4:$4,Données!E2:E11,matrice!I$2) -> 0 | I5: =SUMIFS(Données!$B$2:$B$11,Données!$D$2:$D$11,matrice!$C:$C,Données!$C$2:$C$11,matrice!$4:$4,Données!F2:F11,matrice!J$2) -> 0 | J5: =SUMIFS(Données!$B$2:$B$11,Données!$D$2:$D$11,matrice!$C:$C,Données!$C$2:$C$11,matrice!$4:$4,Données!G2:G11,matrice!K$2) -> 0 | K5: =SUMIFS(Données!$B$2:$B$11,Données!$D$2:$D$11,matrice!$C:$C,Données!$C$2:$C$11,matrice!$4:$4,Données!H2:H11,matrice!L$2) -> 0 | L5: =SUMIFS(Données!$B$2:$B$11,Données!$D$2:$D$11,matrice!$C:$C,Données!$C$2:$C$11,matrice!$4:$4,Données!I2:I11,matrice!M$2) -> 0
C6: 601 | D6: =SUMIFS(Données!$B$2:$B$11,Données!$D$2:$D$11,matrice!$C:$C,Données!$C$2:$C$11,matrice!$4:$4,Données!A3:A12,matrice!E$2) -> 0 | E6: =SUMIFS(Données!$B$2:$B$11,Données!$D$2:$D$11,matrice!$C:$C,Données!$C$2:$C$11,matrice!$4:$4,Données!B3:B12,matrice!F$2) -> 0 | F6: =SUMIFS(Données!$B$2:$B$11,Données!$D$2:$D$11,matrice!$C:$C,Données!$C$2:$C$11,matrice!$4:$4,Données!C3:C12,matrice!G$2) -> 0 | G6: =SUMIFS(Données!$B$2:$B$11,Données!$D$2:$D$11,matrice!$C:$C,Données!$C$2:$C$11,matrice!$4:$4,Données!D3:D12,matrice!H$2) -> 0 | H6: =SUMIFS(Données!$B$2:$B$11,Données!$D$2:$D$11,matrice!$C:$C,Données!$C$2:$C$11,matrice!$4:$4,Données!E3:E12,matrice!I$2) -> 0 | I6: =SUMIFS(Données!$B$2:$B$11,Données!$D$2:$D$11,matrice!$C:$C,Données!$C$2:$C$11,matrice!$4:$4,Données!F3:F12,matrice!J$2) -> 0 | J6: =SUMIFS(Données!$B$2:$B$11,Données!$D$2:$D$11,matrice!$C:$C,Données!$C$2:$C$11,matrice!$4:$4,Données!G3:G12,matrice!K$2) -> 0 | K6: =SUMIFS(Données!$B$2:$B$11,Données!$D$2:$D$11,matrice!$C:$C,Données!$C$2:$C$11,matrice!$4:$4,Données!H3:H12,matrice!L$2) -> 0 | L6: =SUMIFS(Données!$B$2:$B$11,Données!$D$2:$D$11,matrice!$C:$C,Données!$C$2:$C$11,matrice!$4:$4,Données!I3:I12,matrice!M$2) -> 0
C7: 602 | D7: =SUMIFS(Données!$B$2:$B$11,Données!$D$2:$D$11,matrice!$C:$C,Données!$C$2:$C$11,matrice!$4:$4,Données!A4:A13,matrice!E$2) -> 0 | E7: =SUMIFS(Données!$B$2:$B$11,Données!$D$2:$D$11,matrice!$C:$C,Données!$C$2:$C$11,matrice!$4:$4,Données!B4:B13,matrice!F$2) -> 0 | F7: =SUMIFS(Données!$B$2:$B$11,Données!$D$2:$D$11,matrice!$C:$C,Données!$C$2:$C$11,matrice!$4:$4,Données!C4:C13,matrice!G$2) -> 0 | G7: =SUMIFS(Données!$B$2:$B$11,Données!$D$2:$D$11,matrice!$C:$C,Données!$C$2:$C$11,matrice!$4:$4,Données!D4:D13,matrice!H$2) -> 0 | H7: =SUMIFS(Données!$B$2:$B$11,Données!$D$2:$D$11,matrice!$C:$C,Données!$C$2:$C$11,matrice!$4:$4,Données!E4:E13,matrice!I$2) -> 0 | I7: =SUMIFS(Données!$B$2:$B$11,Données!$D$2:$D$11,matrice!$C:$C,Données!$C$2:$C$11,matrice!$4:$4,Données!F4:F13,matrice!J$2) -> 0 | J7: =SUMIFS(Données!$B$2:$B$11,Données!$D$2:$D$11,matrice!$C:$C,Données!$C$2:$C$11,matrice!$4:$4,Données!G4:G13,matrice!K$2) -> 0 | K7: =SUMIFS(Données!$B$2:$B$11,Données!$D$2:$D$11,matrice!$C:$C,Données!$C$2:$C$11,matrice!$4:$4,Données!H4:H13,matrice!L$2) -> 0 | L7: =SUMIFS(Données!$B$2:$B$11,Données!$D$2:$D$11,matrice!$C:$C,Données!$C$2:$C$11,matrice!$4:$4,Données!I4:I13,matrice!M$2) -> 0 | S7: Affaire
C8: 603 | D8: =SUMIFS(Données!$B$2:$B$11,Données!$D$2:$D$11,matrice!$C:$C,Données!$C$2:$C$11,matrice!$4:$4,Données!A5:A14,matrice!E$2) -> 0 | E8: =SUMIFS(Données!$B$2:$B$11,Données!$D$2:$D$11,matrice!$C:$C,Données!$C$2:$C$11,matrice!$4:$4,Données!B5:B14,matrice!F$2) -> 0 | F8: =SUMIFS(Données!$B$2:$B$11,Données!$D$2:$D$11,matrice!$C:$C,Données!$C$2:$C$11,matrice!$4:$4,Données!C5:C14,matrice!G$2) -> 0 | G8: =SUMIFS(Données!$B$2:$B$11,Données!$D$2:$D$11,matrice!$C:$C,Données!$C$2:$C$11,matrice!$4:$4,Données!D5:D14,matrice!H$2) -> 0 | H8: =SUMIFS(Données!$B$2:$B$11,Données!$D$2:$D$11,matrice!$C:$C,Données!$C$2:$C$11,matrice!$4:$4,Données!E5:E14,matrice!I$2) -> 0 | I8: =SUMIFS(Données!$B$2:$B$11,Données!$D$2:$D$11,matrice!$C:$C,Données!$C$2:$C$11,matrice!$4:$4,Données!F5:F14,matrice!J$2) -> 0 | J8: =SUMIFS(Données!$B$2:$B$11,Données!$D$2:$D$11,matrice!$C:$C,Données!$C$2:$C$11,matrice!$4:$4,Données!G5:G14,matrice!K$2) -> 0 | K8: =SUMIFS(Données!$B$2:$B$11,Données!$D$2:$D$11,matrice!$C:$C,Données!$C$2:$C$11,matrice!$4:$4,Données!H5:H14,matrice!L$2) -> 0 | L8: =SUMIFS(Données!$B$2:$B$11,Données!$D$2:$D$11,matrice!$C:$C,Données!$C$2:$C$11,matrice!$4:$4,Données!I5:I14,matrice!M$2) -> 0 | S8: A
C9: 604 | D9: =SUMIFS(Données!$B$2:$B$11,Données!$D$2:$D$11,matrice!$C:$C,Données!$C$2:$C$11,matrice!$4:$4,Données!A6:A15,matrice!E$2) -> 0 | E9: =SUMIFS(Données!$B$2:$B$11,Données!$D$2:$D$11,matrice!$C:$C,Données!$C$2:$C$11,matrice!$4:$4,Données!B6:B15,matrice!F$2) -> 0 | F9: =SUMIFS(Données!$B$2:$B$11,Données!$D$2:$D$11,matrice!$C:$C,Données!$C$2:$C$11,matrice!$4:$4,Données!C6:C15,matrice!G$2) -> 0 | G9: =SUMIFS(Données!$B$2:$B$11,Données!$D$2:$D$11,matrice!$C:$C,Données!$C$2:$C$11,matrice!$4:$4,Données!D6:D15,matrice!H$2) -> 0 | H9: =SUMIFS(Données!$B$2:$B$11,Données!$D$2:$D$11,matrice!$C:$C,Données!$C$2:$C$11,matrice!$4:$4,Données!E6:E15,matrice!I$2) -> 0 | I9: =SUMIFS(Données!$B$2:$B$11,Données!$D$2:$D$11,matrice!$C:$C,Données!$C$2:$C$11,matrice!$4:$4,Données!F6:F15,matrice!J$2) -> 0 | J9: =SUMIFS(Données!$B$2:$B$11,Données!$D$2:$D$11,matrice!$C:$C,Données!$C$2:$C$11,matrice!$4:$4,Données!G6:G15,matrice!K$2) -> 0 | K9: =SUMIFS(Données!$B$2:$B$11,Données!$D$2:$D$11,matrice!$C:$C,Données!$C$2:$C$11,matrice!$4:$4,Données!H6:H15,matrice!L$2) -> 0 | L9: =SUMIFS(Données!$B$2:$B$11,Données!$D$2:$D$11,matrice!$C:$C,Données!$C$2:$C$11,matrice!$4:$4,Données!I6:I15,matrice!M$2) -> 0 | S9: B
C10: 700 | D10: =SUMIFS(Données!$B$2:$B$11,Données!$D$2:$D$11,matrice!$C:$C,Données!$C$2:$C$11,matrice!$4:$4,Données!A7:A16,matrice!E$2) -> 0 | E10: =SUMIFS(Données!$B$2:$B$11,Données!$D$2:$D$11,matrice!$C:$C,Données!$C$2:$C$11,matrice!$4:$4,Données!B7:B16,matrice!F$2) -> 0 | F10: =SUMIFS(Données!$B$2:$B$11,Données!$D$2:$D$11,matrice!$C:$C,Données!$C$2:$C$11,matrice!$4:$4,Données!C7:C16,matrice!G$2) -> 0 | G10: =SUMIFS(Données!$B$2:$B$11,Données!$D$2:$D$11,matrice!$C:$C,Données!$C$2:$C$11,matrice!$4:$4,Données!D7:D16,matrice!H$2) -> 0 | H10: =SUMIFS(Données!$B$2:$B$11,Données!$D$2:$D$11,matrice!$C:$C,Données!$C$2:$C$11,matrice!$4:$4,Données!E7:E16,matrice!I$2) -> 0 | I10: =SUMIFS(Données!$B$2:$B$11,Données!$D$2:$D$11,matrice!$C:$C,Données!$C$2:$C$11,matrice!$4:$4,Données!F7:F16,matrice!J$2) -> 0 | J10: =SUMIFS(Données!$B$2:$B$11,Données!$D$2:$D$11,matrice!$C:$C,Données!$C$2:$C$11,matrice!$4:$4,Données!G7:G16,matrice!K$2) -> 0 | K10: =SUMIFS(Données!$B$2:$B$11,Données!$D$2:$D$11,matrice!$C:$C,Données!$C$2:$C$11,matrice!$4:$4,Données!H7:H16,matrice!L$2) -> 0 | L10: =SUMIFS(Données!$B$2:$B$11,Données!$D$2:$D$11,matrice!$C:$C,Données!$C$2:$C$11,matrice!$4:$4,Données!I7:I16,matrice!M$2) -> 0 | S10: C
C11: 701 | D11: =SUMIFS(Données!$B$2:$B$11,Données!$D$2:$D$11,matrice!$C:$C,Données!$C$2:$C$11,matrice!$4:$4,Données!A8:A17,matrice!E$2) -> 0 | E11: =SUMIFS(Données!$B$2:$B$11,Données!$D$2:$D$11,matrice!$C:$C,Données!$C$2:$C$11,matrice!$4:$4,Données!B8:B17,matrice!F$2) -> 0 | F11: =SUMIFS(Données!$B$2:$B$11,Données!$D$2:$D$11,matrice!$C:$C,Données!$C$2:$C$11,matrice!$4:$4,Données!C8:C17,matrice!G$2) -> 0 | G11: =SUMIFS(Données!$B$2:$B$11,Données!$D$2:$D$11,matrice!$C:$C,Données!$C$2:$C$11,matrice!$4:$4,Données!D8:D17,matrice!H$2) -> 0 | H11: =SUMIFS(Données!$B$2:$B$11,Données!$D$2:$D$11,matrice!$C:$C,Données!$C$2:$C$11,matrice!$4:$4,Données!E8:E17,matrice!I$2) -> 0 | I11: =SUMIFS(Données!$B$2:$B$11,Données!$D$2:$D$11,matrice!$C:$C,Données!$C$2:$C$11,matrice!$4:$4,Données!F8:F17,matrice!J$2) -> 0 | J11: =SUMIFS(Données!$B$2:$B$11,Données!$D$2:$D$11,matrice!$C:$C,Données!$C$2:$C$11,matrice!$4:$4,Données!G8:G17,matrice!K$2) -> 0 | K11: =SUMIFS(Données!$B$2:$B$11,Données!$D$2:$D$11,matrice!$C:$C,Données!$C$2:$C$11,matrice!$4:$4,Données!H8:H17,matrice!L$2) -> 0 | L11: =SUMIFS(Données!$B$2:$B$11,Données!$D$2:$D$11,matrice!$C:$C,Données!$C$2:$C$11,matrice!$4:$4,Données!I8:I17,matrice!M$2) -> 0 | S11: D
C12: 703 | D12: =SUMIFS(Données!$B$2:$B$11,Données!$D$2:$D$11,matrice!$C:$C,Données!$C$2:$C$11,matrice!$4:$4,Données!A9:A18,matrice!E$2) -> 0 | E12: =SUMIFS(Données!$B$2:$B$11,Données!$D$2:$D$11,matrice!$C:$C,Données!$C$2:$C$11,matrice!$4:$4,Données!B9:B18,matrice!F$2) -> 0 | F12: =SUMIFS(Données!$B$2:$B$11,Données!$D$2:$D$11,matrice!$C:$C,Données!$C$2:$C$11,matrice!$4:$4,Données!C9:C18,matrice!G$2) -> 0 | G12: =SUMIFS(Données!$B$2:$B$11,Données!$D$2:$D$11,matrice!$C:$C,Données!$C$2:$C$11,matrice!$4:$4,Données!D9:D18,matrice!H$2) -> 0 | H12: =SUMIFS(Données!$B$2:$B$11,Données!$D$2:$D$11,matrice!$C:$C,Données!$C$2:$C$11,matrice!$4:$4,Données!E9:E18,matrice!I$2) -> 0 | I12: =SUMIFS(Données!$B$2:$B$11,Données!$D$2:$D$11,matrice!$C:$C,Données!$C$2:$C$11,matrice!$4:$4,Données!F9:F18,matrice!J$2) -> 0 | J12: =SUMIFS(Données!$B$2:$B$11,Données!$D$2:$D$11,matrice!$C:$C,Données!$C$2:$C$11,matrice!$4:$4,Données!G9:G18,matrice!K$2) -> 0 | K12: =SUMIFS(Données!$B$2:$B$11,Données!$D$2:$D$11,matrice!$C:$C,Données!$C$2:$C$11,matrice!$4:$4,Données!H9:H18,matrice!L$2) -> 0 | L12: =SUMIFS(Données!$B$2:$B$11,Données!$D$2:$D$11,matrice!$C:$C,Données!$C$2:$C$11,matrice!$4:$4,Données!I9:I18,matrice!M$2) -> 0 | S12: E
C13: 702 | D13: =SUMIFS(Données!$B$2:$B$11,Données!$D$2:$D$11,matrice!$C:$C,Données!$C$2:$C$11,matrice!$4:$4,Données!A10:A19,matrice!E$2) -> 0 | E13: =SUMIFS(Données!$B$2:$B$11,Données!$D$2:$D$11,matrice!$C:$C,Données!$C$2:$C$11,matrice!$4:$4,Données!B10:B19,matrice!F$2) -> 0 | F13: =SUMIFS(Données!$B$2:$B$11,Données!$D$2:$D$11,matrice!$C:$C,Données!$C$2:$C$11,matrice!$4:$4,Données!C10:C19,matrice!G$2) -> 0 | G13: =SUMIFS(Données!$B$2:$B$11,Données!$D$2:$D$11,matrice!$C:$C,Données!$C$2:$C$11,matrice!$4:$4,Données!D10:D19,matrice!H$2) -> 0 | H13: =SUMIFS(Données!$B$2:$B$11,Données!$D$2:$D$11,matrice!$C:$C,Données!$C$2:$C$11,matrice!$4:$4,Données!E10:E19,matrice!I$2) -> 0 | I13: =SUMIFS(Données!$B$2:$B$11,Données!$D$2:$D$11,matrice!$C:$C,Données!$C$2:$C$11,matrice!$4:$4,Données!F10:F19,matrice!J$2) -> 0 | J13: =SUMIFS(Données!$B$2:$B$11,Données!$D$2:$D$11,matrice!$C:$C,Données!$C$2:$C$11,matrice!$4:$4,Données!G10:G19,matrice!K$2) -> 0 | K13: =SUMIFS(Données!$B$2:$B$11,Données!$D$2:$D$11,matrice!$C:$C,Données!$C$2:$C$11,matrice!$4:$4,Données!H10:H19,matrice!L$2) -> 0 | L13: =SUMIFS(Données!$B$2:$B$11,Données!$D$2:$D$11,matrice!$C:$C,Données!$C$2:$C$11,matrice!$4:$4,Données!I10:I19,matrice!M$2) -> 0 | S13: F
C14: 702 | D14: =SUMIFS(Données!$B$2:$B$11,Données!$D$2:$D$11,matrice!$C:$C,Données!$C$2:$C$11,matrice!$4:$4,Données!A11:A20,matrice!E$2) -> 0 | E14: =SUMIFS(Données!$B$2:$B$11,Données!$D$2:$D$11,matrice!$C:$C,Données!$C$2:$C$11,matrice!$4:$4,Données!B11:B20,matrice!F$2) -> 0 | F14: =SUMIFS(Données!$B$2:$B$11,Données!$D$2:$D$11,matrice!$C:$C,Données!$C$2:$C$11,matrice!$4:$4,Données!C11:C20,matrice!G$2) -> 0 | G14: =SUMIFS(Données!$B$2:$B$11,Données!$D$2:$D$11,matrice!$C:$C,Données!$C$2:$C$11,matrice!$4:$4,Données!D11:D20,matrice!H$2) -> 0 | H14: =SUMIFS(Données!$B$2:$B$11,Données!$D$2:$D$11,matrice!$C:$C,Données!$C$2:$C$11,matrice!$4:$4,Données!E11:E20,matrice!I$2) -> 0 | I14: =SUMIFS(Données!$B$2:$B$11,Données!$D$2:$D$11,matrice!$C:$C,Données!$C$2:$C$11,matrice!$4:$4,Données!F11:F20,matrice!J$2) -> 0 | J14: =SUMIFS(Données!$B$2:$B$11,Données!$D$2:$D$11,matrice!$C:$C,Données!$C$2:$C$11,matrice!$4:$4,Données!G11:G20,matrice!K$2) -> 0 | K14: =SUMIFS(Données!$B$2:$B$11,Données!$D$2:$D$11,matrice!$C:$C,Données!$C$2:$C$11,matrice!$4:$4,Données!H11:H20,matrice!L$2) -> 0 | L14: =SUMIFS(Données!$B$2:$B$11,Données!$D$2:$D$11,matrice!$C:$C,Données!$C$2:$C$11,matrice!$4:$4,Données!I11:I20,matrice!M$2) -> 0 | S14: G
S15: H
S16: I
S17: J
