Workbook

Sheet Feuil1
C6: Type de contrat | D6: P1 | E6: P2 | F6: P3 | G6: P4 | H6: P5 | I6: P6 | J6: P7 | K6: P8 | L6: P9
C7: Chiffre d'Affaire
C8: SOMME DES CHARGES | D8: {=SUMPRODUCT(ISNUMBER(SEARCH($O$16,matrice!$N$3:$N$100))*(matrice!$C$3:$C$100=$D$7)*(matrice!$D$3:$D$100=$O$13)*(LEFT(matrice!$E$3:$E$100,3)=$O$10)*(matrice!$O$3:$O$100))} -> 0 | E8: {=SUMPRODUCT(ISNUMBER(SEARCH($O$16,matrice!$N$3:$N$100))*(matrice!$C$3:$C$100=$D$7)*(matrice!$D$3:$D$100=$O$13)*(LEFT(matrice!$E$3:$E$100,3)=$O$10)*(matrice!$O$3:$O$100))} -> 0 | F8: {=SUMPRODUCT(ISNUMBER(SEARCH($O$16,matrice!$N$3:$N$100))*(matrice!$C$3:$C$100=$D$7)*(matrice!$D$3:$D$100=$O$13)*(LEFT(matrice!$E$3:$E$100,3)=$O$10)*(matrice!$O$3:$O$100))} -> 0 | G8: {=SUMPRODUCT(ISNUMBER(SEARCH($O$16,matrice!$N$3:$N$100))*(matrice!$C$3:$C$100=$D$7)*(matrice!$D$3:$D$100=$O$13)*(LEFT(matrice!$E$3:$E$100,3)=$O$10)*(matrice!$O$3:$O$100))} -> 0 | H8: {=SUMPRODUCT(ISNUMBER(SEARCH($O$16,matrice!$N$3:$N$100))*(matrice!$C$3:$C$100=$D$7)*(matrice!$D$3:$D$100=$O$13)*(LEFT(matrice!$E$3:$E$100,3)=$O$10)*(matrice!$O$3:$O$100))} -> 0 | I8: {=SUMPRODUCT(ISNUMBER(SEARCH($O$16,matrice!$N$3:$N$100))*(matrice!$C$3:$C$100=$D$7)*(matrice!$D$3:$D$100=$O$13)*(LEFT(matrice!$E$3:$E$100,3)=$O$10)*(matrice!$O$3:$O$100))} -> 0 | J8: {=SUMPRODUCT(ISNUMBER(SEARCH($O$16,matrice!$N$3:$N$100))*(matrice!$C$3:$C$100=$D$7)*(matrice!$D$3:$D$100=$O$13)*(LEFT(matrice!$E$3:$E$100,3)=$O$10)*(matrice!$O$3:$O$100))} -> 0 | K8: {=SUMPRODUCT(ISNUMBER(SEARCH($O$16,matrice!$N$3:$N$100))*(matrice!$C$3:$C$100=$D$7)*(matrice!$D$3:$D$100=$O$13)*(LEFT(matrice!$E$3:$E$100,3)=$O$10)*(matrice!$O$3:$O$100))} -> 0 | L8: {=SUMPRODUCT(ISNUMBER(SEARCH($O$16,matrice!$N$3:$N$100))*(matrice!$C$3:$C$100=$D$7)*(matrice!$D$3:$D$100=$O$13)*(LEFT(matrice!$E$3:$E$100,3)=$O$10)*(matrice!$O$3:$O$100))} -> 0 | O8: Rechercher par secteur
C9: SOMMES DE PRODUIT | O9: DT2
C10: Marge
O11: Rechercher par affaire
O12: HUGO
O14: Rechercher par libellé
O15: ODBILAN

Sheet matrice
A1: DT | B1: DT PLUS | C1: Colonne2 | D1: affaire | E1: Activité | F1: racine compte | G1: Charges | H1: Produit | I1: Résultat | J1: date | K1: compte | L1: jnl | M1: piece | N1: libellé | O1: debit | P1: crédit | Q1: Colonne1
A2: DT0 | B2: DT0.P9 | C2: P9 | D2: Gen | E2: DT0.P9 (P9) | H2: 0 | I2: 0 | J2: X
A3: DT2 | B3: DT2.P1 | C3: P1 | D3: HUGO | E3: DT2.P1 (P9) | G3: X | H3: 0 | I3: x | J3: X | K3: 700 | L3: X | M3: X | N3: ODBILAN | O3: 122 | P3: x | Q3: x
A4: DT0 | B4: DT0.P5 | C4: P5 | D4: Frais Gen | E4: DT0.P5 (P5) | F4: =LEFT(K4,1) -> 7 | G4: X | H4: 0 | I4: x | J4: X | K4: 700 | L4: X | M4: X | N4: AT1 | O4: 5466 | P4: x | Q4: x
A5: DT1 | B5: DT1.P7 | C5: P7 | D5: HUGO | E5: DT1.P7 (P7) | F5: =LEFT(K5,1) -> 7 | G5: X | H5: 0 | I5: x | J5: X | K5: 700 | L5: X | M5: X | N5: AT2 | O5: 6543 | P5: x | Q5: x
A6: DT0 | B6: DT0.P2 | C6: P2 | D6: Fra | E6: DT0.P2 (P2) | F6: =LEFT(K6,1) -> 7 | G6: X | H6: 0 | I6: x | J6: X | K6: 700 | L6: X | M6: X | N6: AT6 | O6: 32138 | P6: x | Q6: x
A7: GC2 | B7: GC2.P6 | C7: P6 | D7: Frais Gen | E7: GC2.P6 (P6) | F7: =LEFT(K7,1) -> 7 | G7: X | H7: 0 | I7: x | J7: X | K7: 700 | L7: X | M7: X | N7: AT3 | O7: 134 | P7: x | Q7: x
A8: DT0 | B8: DT0.P7 | C8: P7 | D8: Gen | E8: DT0.P9 (P7) | F8: =LEFT(K8,1) -> 7 | G8: X | H8: 0 | I8: x | J8: X | K8: 700 | L8: X | M8: X | N8: AT54 | O8: 456587 | P8: x | Q8: x
A9: DT0 | B9: DT0.P2 | C9: P2 | D9: Frais Gene | E9: DT0.P2 (P2) | F9: =LEFT(K9,1) -> 7 | G9: X | H9: 0 | I9: x | J9: X | K9: 700 | L9: X | M9: X | N9: AT | O9: 5435 | P9: x | Q9: x
A10: DT0 | B10: DT0.P1 | C10: P1 | D10: A | E10: DT0.P1 (P1) | F10: =LEFT(K10,1) -> 7 | G10: X | H10: 0 | I10: x | J10: X | K10: 700 | L10: X | M10: X | N10: O | O10: 354354 | P10: x | Q10: x
A11: DT0 | B11: DT0.P3 | C11: P3 | D11: Frais | E11: DT0.P3 (P3) | F11: =LEFT(K11,1) -> 7 | G11: X | H11: 0 | I11: x | J11: X | K11: 700 | L11: X | M11: X | N11: GH | O11: 354 | P11: x | Q11: x
A12: RT2 | B12: RT2.P5 | C12: P5 | D12: Frais Gen | E12: RT2.P5 (P5) | F12: =LEFT(K12,1) -> 7 | G12: X | H12: 0 | I12: x | J12: X | K12: 700 | L12: X | M12: X | N12: GH2 | O12: 35 | P12: x | Q12: x
A13: DT0 | B13: DT0.P9 | C13: P9 | D13: Frais Gen | E13: DT0.P9 (P9) | F13: =LEFT(K13,1) -> 7 | G13: X | H13: 0 | I13: x | J13: X | K13: 700 | L13: X | M13: X | N13: ODBI | O13: 3524 | P13: x | Q13: x
A14: GC2 | B14: GC2.P9 | C14: P9 | D14: Frais | E14: GC2.P9 (P9) | F14: =LEFT(K14,1) -> 7 | G14: X | H14: 0 | I14: x | J14: X | K14: 700 | L14: X | M14: X | N14: POU | O14: 24 | P14: x | Q14: x
A15: GC1 | B15: GC1.P1 | C15: P1 | D15: TU | E15: GC1.P1 (P1) | F15: =LEFT(K15,1) -> 7 | G15: X | H15: 0 | I15: x | J15: X | K15: 700 | L15: X | M15: X | N15: NAB | O15: 212 | P15: x | Q15: x
... A20: GC3 | B20: GC3.P7 | C20: P7 | D20: AT | E20: GC3.P7 (P7) | F20: =LEFT(K20,1) -> 7 | G20: X | H20: 0 | I20: x | J20: X | K20: 700 | L20: X | M20: X | N20: LO | O20: 7 | P20: x | Q20: x
