Workbook

Sheet plateforme
A1: Varietes | B1: ligne.rep | C1: Pied | D1: Date.floraison.mâle | E1: Date.floraison.femelle | F1: ASIi | G1: Hauteur.des.pieds | H1: Hauteur.des.soies
A2: Georgia | B2: 1 | C2: 1 | D2: 44408 | E2: 44409 | F2: =DATEDIF(D2,E2,"d") -> 1 | G2: 200 | H2: 100
A3: Georgia | B3: 1 | C3: 2 | D3: 44405 | E3: 44411 | F3: =DATEDIF(D3,E3,"d") -> 6 | G3: 210 | H3: 104
A4: Georgia | B4: 1 | C4: 3 | D4: 44408 | E4: 44410 | F4: =DATEDIF(D4,E4,"d") -> 2 | G4: 205 | H4: 102
A5: Georgia | B5: 1 | C5: 4 | D5: 44404 | E5: 44411 | F5: =DATEDIF(D5,E5,"d") -> 7 | G5: 215 | H5: 110
A6: Georgia | B6: 1 | C6: 5 | D6: 44406 | E6: 44413 | F6: =DATEDIF(D6,E6,"d") -> 7 | G6: 217 | H6: 108
A7: Georgia | B7: 1 | C7: 6 | D7: 44408 | E7: NA | F7: =DATEDIF(D7,E7,"d") -> #VALUE! | G7: 213 | H7: 110
A8: Georgia | B8: 1 | C8: 7 | D8: 44407 | E8: 44412 | F8: =DATEDIF(D8,E8,"d") -> 5 | G8: 207 | H8: 103
A9: Georgia | B9: 1 | C9: 8 | D9: 44408 | E9: 44410 | F9: =DATEDIF(D9,E9,"d") -> 2 | G9: 205 | H9: 102
A10: Ruby | B10: 1 | C10: 1 | D10: 44406 | E10: 44410 | F10: =DATEDIF(D10,E10,"d") -> 4 | G10: 208 | H10: 105
A11: Ruby | B11: 1 | C11: 2 | D11: 44404 | E11: NA | F11: =DATEDIF(D11,E11,"d") -> #VALUE! | G11: 212 | H11: 106
A12: Ruby | B12: 1 | C12: 3 | D12: 44409 | E12: 44412 | F12: =DATEDIF(D12,E12,"d") -> 3 | G12: 206 | H12: 105
A13: Ruby | B13: 1 | C13: 4 | D13: 44407 | E13: 44413 | F13: =DATEDIF(D13,E13,"d") -> 6 | G13: 215 | H13: 110
A14: Ruby | B14: 1 | C14: 5 | D14: 44404 | E14: 44410 | F14: =DATEDIF(D14,E14,"d") -> 6 | G14: 216 | H14: 112
A15: Ruby | B15: 1 | C15: 6 | D15: 44406 | E15: 44411 | F15: =DATEDIF(D15,E15,"d") -> 5 | G15: 212 | H15: 108
A16: Ruby | B16: 1 | C16: 7 | D16: 44408 | E16: 44416 | F16: =DATEDIF(D16,E16,"d") -> 8 | G16: 220 | H16: 113
A17: Ruby | B17: 1 | C17: 8 | D17: 44409 | E17: 44413 | F17: =DATEDIF(D17,E17,"d") -> 4 | G17: 215 | H17: 110
A18: Abelastone | B18: 1 | C18: 1 | D18: 44406 | E18: 44418 | F18: =DATEDIF(D18,E18,"d") -> 12 | G18: 230 | H18: 123
A19: Abelastone | B19: 1 | C19: 2 | D19: 44410 | E19: 44425 | F19: =DATEDIF(D19,E19,"d") -> 15 | G19: 228 | H19: 118
A20: Abelastone | B20: 1 | C20: 3 | D20: 44409 | E20: 44419 | F20: =DATEDIF(D20,E20,"d") -> 10 | G20: 226 | H20: 116
A21: Abelastone | B21: 1 | C21: 4 | D21: 44410 | E21: NA | F21: =DATEDIF(D21,E21,"d") -> #VALUE! | G21: 235 | H21: 120
A22: Abelastone | B22: 1 | C22: 5 | D22: 44439 | E22: NA | F22: =DATEDIF(D22,E22,"d") -> #VALUE! | G22: 234 | H22: 122
A23: Abelastone | B23: 1 | C23: 6 | D23: 44411 | E23: 44433 | F23: =DATEDIF(D23,E23,"d") -> 22 | G23: 240 | H23: 124
A24: Abelastone | B24: 1 | C24: 7 | D24: 44412 | E24: 44425 | F24: =DATEDIF(D24,E24,"d") -> 13 | G24: 233 | H24: 122
A25: Abelastone | B25: 1 | C25: 8 | D25: NA | E25: NA | F25: =DATEDIF(D25,E25,"d") -> #VALUE! | G25: 245 | H25: 130

Sheet calculs
A1: Varietes | B1: ligne.rep | C1: ASI.Edmeades | D1: DTS | E1: DTA | F1: Pieds.stériles | G1: Hauteur.moyenne | H1: Hauteur.moyenne.soies
A2: Georgia | B2: 1 | C2: 4 | D2: 44411 | E2: 44407 | F2: =COUNTIF(plateforme!F2:F9, #VALUE!) -> 1 | G2: =AVERAGE(plateforme!G2:G9) -> 209 | H2: =AVERAGE(plateforme!H2:H9) -> 104.875
A3: Ruby | B3: 1 | C3: 6 | D3: 44412 | E3: 44406 | F3: =COUNTIF(plateforme!F10:F17, #VALUE!) -> 1 | G3: =AVERAGE(plateforme!G10:G17) -> 213 | H3: =AVERAGE(plateforme!H10:H17) -> 108.625
A4: Abelastone | B4: 1 | C4: 15 | D4: 44425 | E4: 44410 | F4: =COUNTIF(plateforme!F18:F25, #VALUE!) -> 3 | G4: =AVERAGE(plateforme!G18:G25) -> 233.875 | H4: =AVERAGE(plateforme!H18:H25) -> 121.875
