Workbook

Sheet Feuil1
A2: dossard | B2: Nom | C2: Prenom
A3: 1 | B3: A | C3: A
A4: 2 | B4: B | C4: A
A5: 3 | B5: C | C5: A

Sheet Feuil2
A1: classement
A3: classement | B3: dossard | C3: nom | D3: prenom
A4: 1 | B4: 3 | C4: =IFERROR(INDEX(Feuil1!$B$3:$B$37,MATCH(Feuil2!B4,Feuil1!$A$3:$A$37)),"") -> C | D4: =IFERROR(INDEX(Feuil1!$C$3:$C$37,MATCH(Feuil2!B4,Feuil1!$A$3:$A$37)),"") -> A
A5: 2 | B5: 1 | C5: =IFERROR(INDEX(Feuil1!$B$3:$B$37,MATCH(Feuil2!B5,Feuil1!$A$3:$A$37)),"") -> A | D5: =IFERROR(INDEX(Feuil1!$C$3:$C$37,MATCH(Feuil2!B5,Feuil1!$A$3:$A$37)),"") -> A
A6: 3 | B6: 2 | C6: =IFERROR(INDEX(Feuil1!$B$3:$B$37,MATCH(Feuil2!B6,Feuil1!$A$3:$A$37)),"") -> B | D6: =IFERROR(INDEX(Feuil1!$C$3:$C$37,MATCH(Feuil2!B6,Feuil1!$A$3:$A$37)),"") -> A
A7: 4 | C7: =IFERROR(INDEX(Feuil1!$B$3:$B$37,MATCH(Feuil2!B7,Feuil1!$A$3:$A$37)),"") | D7: =IFERROR(INDEX(Feuil1!$C$3:$C$37,MATCH(Feuil2!B7,Feuil1!$A$3:$A$37)),"")
A8: 5 | C8: =IFERROR(INDEX(Feuil1!$B$3:$B$37,MATCH(Feuil2!B8,Feuil1!$A$3:$A$37)),"") | D8: =IFERROR(INDEX(Feuil1!$C$3:$C$37,MATCH(Feuil2!B8,Feuil1!$A$3:$A$37)),"")
A9: 6 | C9: =IFERROR(INDEX(Feuil1!$B$3:$B$37,MATCH(Feuil2!B9,Feuil1!$A$3:$A$37)),"") | D9: =IFERROR(INDEX(Feuil1!$C$3:$C$37,MATCH(Feuil2!B9,Feuil1!$A$3:$A$37)),"")
A10: 7 | C10: =IFERROR(INDEX(Feuil1!$B$3:$B$37,MATCH(Feuil2!B10,Feuil1!$A$3:$A$37)),"") | D10: =IFERROR(INDEX(Feuil1!$C$3:$C$37,MATCH(Feuil2!B10,Feuil1!$A$3:$A$37)),"")
A11: 8 | C11: =IFERROR(INDEX(Feuil1!$B$3:$B$37,MATCH(Feuil2!B11,Feuil1!$A$3:$A$37)),"") | D11: =IFERROR(INDEX(Feuil1!$C$3:$C$37,MATCH(Feuil2!B11,Feuil1!$A$3:$A$37)),"")
A12: 9 | C12: =IFERROR(INDEX(Feuil1!$B$3:$B$37,MATCH(Feuil2!B12,Feuil1!$A$3:$A$37)),"") | D12: =IFERROR(INDEX(Feuil1!$C$3:$C$37,MATCH(Feuil2!B12,Feuil1!$A$3:$A$37)),"")
A13: 10 | C13: =IFERROR(INDEX(Feuil1!$B$3:$B$37,MATCH(Feuil2!B13,Feuil1!$A$3:$A$37)),"") | D13: =IFERROR(INDEX(Feuil1!$C$3:$C$37,MATCH(Feuil2!B13,Feuil1!$A$3:$A$37)),"")
A14: 11 | C14: =IFERROR(INDEX(Feuil1!$B$3:$B$37,MATCH(Feuil2!B14,Feuil1!$A$3:$A$37)),"") | D14: =IFERROR(INDEX(Feuil1!$C$3:$C$37,MATCH(Feuil2!B14,Feuil1!$A$3:$A$37)),"")
A15: 12 | C15: =IFERROR(INDEX(Feuil1!$B$3:$B$37,MATCH(Feuil2!B15,Feuil1!$A$3:$A$37)),"") | D15: =IFERROR(INDEX(Feuil1!$C$3:$C$37,MATCH(Feuil2!B15,Feuil1!$A$3:$A$37)),"")
A16: 13 | C16: =IFERROR(INDEX(Feuil1!$B$3:$B$37,MATCH(Feuil2!B16,Feuil1!$A$3:$A$37)),"") | D16: =IFERROR(INDEX(Feuil1!$C$3:$C$37,MATCH(Feuil2!B16,Feuil1!$A$3:$A$37)),"")
A17: 14 | C17: =IFERROR(INDEX(Feuil1!$B$3:$B$37,MATCH(Feuil2!B17,Feuil1!$A$3:$A$37)),"") | D17: =IFERROR(INDEX(Feuil1!$C$3:$C$37,MATCH(Feuil2!B17,Feuil1!$A$3:$A$37)),"")
A18: 15 | C18: =IFERROR(INDEX(Feuil1!$B$3:$B$37,MATCH(Feuil2!B18,Feuil1!$A$3:$A$37)),"") | D18: =IFERROR(INDEX(Feuil1!$C$3:$C$37,MATCH(Feuil2!B18,Feuil1!$A$3:$A$37)),"")
... A36: 33 | C36: =IFERROR(INDEX(Feuil1!$B$3:$B$37,MATCH(Feuil2!B36,Feuil1!$A$3:$A$37)),"") | D36: =IFERROR(INDEX(Feuil1!$C$3:$C$37,MATCH(Feuil2!B36,Feuil1!$A$3:$A$37)),"")
