Workbook

Sheet BDD
A1: Matricule | B1: Genre | C1: Salaire | D1: Age | E1: Tranche d'âge | I1: {=_xlfn.PIVOTBY(tblData[Tranche d''âge],tblData[Genre],tblData[Salaire],_xlfn.HSTACK(_xleta.AVERAGE,_xleta.COUNTA))} | J1: F | K1: F | L1: H | M1: H | N1: Total | O1: Total
A2: 18262 | B2: F | C2: 20330 | D2: 53 | E2: 51 à 55 ans | J2: MOYENNE | K2: NBVAL | L2: MOYENNE | M2: NBVAL | N2: MOYENNE | O2: NBVAL
A3: 64264 | B3: H | C3: 39217 | D3: 21 | E3: 20 à 25 ans | I3: 20 à 25 ans | J3: 43231.847 | K3: 59 | L3: 42077.806 | M3: 72 | N3: 42597.565 | O3: 131
A4: 92329 | B4: H | C4: 60717 | D4: 41 | E4: 41 à 45 ans | I4: 26 à 30 ans | J4: 45958.07 | K4: 71 | L4: 45089.2 | M4: 65 | N4: 45542.801 | O4: 136
A5: 85560 | B5: F | C5: 29120 | D5: 30 | E5: 26 à 30 ans | I5: 31 à 35 ans | J5: 49146.456 | K5: 57 | L5: 43917.309 | M5: 55 | N5: 46578.571 | O5: 112
A6: 90100 | B6: H | C6: 60648 | D6: 21 | E6: 20 à 25 ans | I6: 36 à 40 ans | J6: 44559.875 | K6: 48 | L6: 41452.597 | M6: 62 | N6: 42808.5 | O6: 110
A7: 52615 | B7: F | C7: 21579 | D7: 25 | E7: 20 à 25 ans | I7: 41 à 45 ans | J7: 45873.77 | K7: 61 | L7: 42788.81 | M7: 58 | N7: 44370.176 | O7: 119
A8: 15057 | B8: F | C8: 38987 | D8: 28 | E8: 26 à 30 ans | I8: 46 à 50 ans | J8: 45543.85 | K8: 60 | L8: 42592.222 | M8: 63 | N8: 44032.041 | O8: 123
A9: 48982 | B9: H | C9: 62273 | D9: 50 | E9: 46 à 50 ans | I9: 51 à 55 ans | J9: 45786.075 | K9: 67 | L9: 44038 | M9: 66 | N9: 44918.609 | O9: 133
A10: 35992 | B10: F | C10: 68200 | D10: 54 | E10: 51 à 55 ans | I10: 56 à 60 ans | J10: 46400.796 | K10: 54 | L10: 44222.507 | M10: 73 | N10: 45148.709 | O10: 127
A11: 20000 | B11: F | C11: 41312 | D11: 53 | E11: 51 à 55 ans | I11: Total | J11: 45824.245 | K11: 477 | L11: 43279.621 | M11: 514 | N11: 44504.43 | O11: 991
A12: 99054 | B12: F | C12: 49422 | D12: 51 | E12: 51 à 55 ans
A13: 83099 | B13: H | C13: 31360 | D13: 49 | E13: 46 à 50 ans
A14: 23 | B14: F | C14: 48586 | D14: 60 | E14: 56 à 60 ans
A15: 67239 | B15: H | C15: 51819 | D15: 53 | E15: 51 à 55 ans
A16: 90772 | B16: F | C16: 46690 | D16: 25 | E16: 20 à 25 ans
A17: 80414 | B17: H | C17: 57282 | D17: 32 | E17: 31 à 35 ans
A18: 50243 | B18: F | C18: 69204 | D18: 51 | E18: 51 à 55 ans
A19: 50422 | B19: F | C19: 64118 | D19: 26 | E19: 26 à 30 ans
A20: 74837 | B20: F | C20: 61199 | D20: 29 | E20: 26 à 30 ans
A21: 18293 | B21: F | C21: 69461 | D21: 60 | E21: 56 à 60 ans
A22: 45012 | B22: H | C22: 32561 | D22: 59 | E22: 56 à 60 ans
A23: 93314 | B23: F | C23: 27691 | D23: 20 | E23: 20 à 25 ans
... A992: 27540 | B992: F | C992: 51463 | D992: 51 | E992: 51 à 55 ans

Sheet TCD et graphique
F1: Graphique sans la courbe existant à ce jour | K1: Graphique souhaité
B3: Étiquettes de colonnes
B4: F | D4: H | F4: Total Moyenne de Salaire | G4: Total Nombre de Genre
A5: Étiquettes de lignes | B5: Moyenne de Salaire | C5: Nombre de Genre | D5: Moyenne de Salaire | E5: Nombre de Genre
A6: 20 à 25 ans | B6: 43231.847 | C6: 59 | D6: 42077.806 | E6: 72 | F6: 42597.565 | G6: 131
A7: 26 à 30 ans | B7: 45958.07 | C7: 71 | D7: 45089.2 | E7: 65 | F7: 45542.801 | G7: 136
A8: 31 à 35 ans | B8: 49146.456 | C8: 57 | D8: 43917.309 | E8: 55 | F8: 46578.571 | G8: 112
A9: 36 à 40 ans | B9: 44559.875 | C9: 48 | D9: 41452.597 | E9: 62 | F9: 42808.5 | G9: 110
A10: 41 à 45 ans | B10: 45873.77 | C10: 61 | D10: 42788.81 | E10: 58 | F10: 44370.176 | G10: 119
A11: 46 à 50 ans | B11: 45543.85 | C11: 60 | D11: 42592.222 | E11: 63 | F11: 44032.041 | G11: 123
A12: 51 à 55 ans | B12: 45786.075 | C12: 67 | D12: 44038 | E12: 66 | F12: 44918.609 | G12: 133
A13: 56 à 60 ans | B13: 46400.796 | C13: 54 | D13: 44222.507 | E13: 73 | F13: 45148.709 | G13: 127
A14: Total général | B14: 45824.245 | C14: 477 | D14: 43279.621 | E14: 514 | F14: 44504.43 | G14: 991

Sheet Feuil1
A1: Tranche | B1: Moyenne salaire H | C1: Moyenne salaire F | D1: Nb pers/tranche
A2: 20 à 25 ans | B2: =AVERAGEIFS(tblData[Salaire],tblData[Genre],"H",tblData[Tranche d''âge],Feuil1!A2) -> 42077.806 | C2: =AVERAGEIFS(tblData[Salaire],tblData[Genre],"F",tblData[Tranche d''âge],Feuil1!A2) -> 43231.847 | D2: =COUNTIF(tblData[Tranche d''âge],A2) -> 131
A3: 26 à 30 ans | B3: =AVERAGEIFS(tblData[Salaire],tblData[Genre],"H",tblData[Tranche d''âge],Feuil1!A3) -> 45089.2 | C3: =AVERAGEIFS(tblData[Salaire],tblData[Genre],"F",tblData[Tranche d''âge],Feuil1!A3) -> 45958.07 | D3: =COUNTIF(tblData[Tranche d''âge],A3) -> 136
A4: 31 à 35 ans | B4: =AVERAGEIFS(tblData[Salaire],tblData[Genre],"H",tblData[Tranche d''âge],Feuil1!A4) -> 43917.309 | C4: =AVERAGEIFS(tblData[Salaire],tblData[Genre],"F",tblData[Tranche d''âge],Feuil1!A4) -> 49146.456 | D4: =COUNTIF(tblData[Tranche d''âge],A4) -> 112
A5: 36 à 40 ans | B5: =AVERAGEIFS(tblData[Salaire],tblData[Genre],"H",tblData[Tranche d''âge],Feuil1!A5) -> 41452.597 | C5: =AVERAGEIFS(tblData[Salaire],tblData[Genre],"F",tblData[Tranche d''âge],Feuil1!A5) -> 44559.875 | D5: =COUNTIF(tblData[Tranche d''âge],A5) -> 110
A6: 41 à 45 ans | B6: =AVERAGEIFS(tblData[Salaire],tblData[Genre],"H",tblData[Tranche d''âge],Feuil1!A6) -> 42788.81 | C6: =AVERAGEIFS(tblData[Salaire],tblData[Genre],"F",tblData[Tranche d''âge],Feuil1!A6) -> 45873.77 | D6: =COUNTIF(tblData[Tranche d''âge],A6) -> 119
A7: 46 à 50 ans | B7: =AVERAGEIFS(tblData[Salaire],tblData[Genre],"H",tblData[Tranche d''âge],Feuil1!A7) -> 42592.222 | C7: =AVERAGEIFS(tblData[Salaire],tblData[Genre],"F",tblData[Tranche d''âge],Feuil1!A7) -> 45543.85 | D7: =COUNTIF(tblData[Tranche d''âge],A7) -> 123
A8: 51 à 55 ans | B8: =AVERAGEIFS(tblData[Salaire],tblData[Genre],"H",tblData[Tranche d''âge],Feuil1!A8) -> 44038 | C8: =AVERAGEIFS(tblData[Salaire],tblData[Genre],"F",tblData[Tranche d''âge],Feuil1!A8) -> 45786.075 | D8: =COUNTIF(tblData[Tranche d''âge],A8) -> 133
A9: 56 à 60 ans | B9: =AVERAGEIFS(tblData[Salaire],tblData[Genre],"H",tblData[Tranche d''âge],Feuil1!A9) -> 44222.507 | C9: =AVERAGEIFS(tblData[Salaire],tblData[Genre],"F",tblData[Tranche d''âge],Feuil1!A9) -> 46400.796 | D9: =COUNTIF(tblData[Tranche d''âge],A9) -> 127
