Workbook

Sheet Feuil1
A1: NOM | B1: A1 | C1: B1 | D1: C1 | E1: D1 | F1: A2 | G1: B2 | H1: C2 | I1: D2 | J1: A3 | K1: B3 | L1: C3 | M1: D3
A2: pierre | B2: 10 | C2: 10 | D2: 10 | E2: 10
A3: paul | C3: 10 | F3: 20 | I3: 20 | L3: 30
A4: jack | E4: 10 | F4: 20 | H4: 20 | M4: 30
A5: tim | D5: 10 | G5: 20 | I5: 20 | J5: 30
A6: tom | J6: 30 | K6: 30 | L6: 30 | M6: 30
A8: Type
A9: A | C9: Recherche : | D9: Nom | E9: jack | F9: Paul | G9: Tim | H9: tom
A10: B | D10: Type | E10: D | F10: B | G10: B | H10: D
A11: C | C11: Résultat attendu | E11: {=INDEX($B$2:$E$6&" "&$F$2:$I$6&" "&$J$2:$M$6,MATCH(E9,$A$2:$A$6,0),MATCH(E10,LEFT($B$1:$M$1,1),0))} -> 10 30 | F11: {=INDEX($B$3:$E$6&" "&$F$3:$I$6&" "&$J$3:$M$6,MATCH(F10,LEFT($B$1:$M$1,1),0))} -> 20 | G11: =INDEX($B$2:$E$6&$F$2:$I$6&$J$2:$M$6,MATCH(G9,$A$2:$A$6,0),MATCH(G10,LEFT($B$1:$M$1,1),0)) -> #VALUE! | H11: {=INDEX($B$2:$E$6&$F$2:$I$6&$J$2:$M$6,MATCH(H9,$A$2:$A$6,0),MATCH(H10,LEFT($B$1:$M$1,1),0))} -> 30
A12: D | D12: Formules essayées | E12: =IFERROR(HLOOKUP(E10&"",B1:E1,FALSE),IFERROR(HLOOKUP(E10&"",F1:I1,2,FALSE),IFERROR(HLOOKUP(E10&"",J1:M1,2,FALSE),"erreur"))) -> erreur
E13: =IF(SEARCH("A",B1,1)=1,LEFT(B1,1)) -> A
E14: =LOOKUP("A",B1:M1,B2:M2) -> #N/A

Sheet extraction données
A1: Adhérent | B1: Variété | C1: Clône | D1: Commentaire | E1: 64 + C1 | F1: 72 C1 | G1: 72 + C1 | H1: 80 C1 | I1: 88 C1 | J1: 100 C1 | K1: 113 C1 | L1: 125 C1 | M1: 138 C1 | N1: 150 C1 | O1: 163 C1 | P1: 175 C1 | Q1: 198 C1 | R1: 216 C1 | T1: 64 + C4 | U1: 72 C4 | V1: 72 + C4 | W1: 80 C4 | X1: 88 C4 | Y1: 100 C4 | Z1: 113 C4 | AA1: 125 C4 | AB1: 138 C4 | AC1: 150 C4 | AD1: 163 C4 | AE1: 175 C4 | AF1: 198 C4 | AG1: 216 C4 | AI1: 64 + C3 | AJ1: 72 C3 | AK1: 72 + C3 | AL1: 80 C3 | AM1: 88 C3 | AN1: 100 C3 | AO1: 113 C3 | AP1: 125 C3 | AQ1: 138 C3 | AR1: 150 C3 | AS1: 163 C3 | AT1: 175 C3 | AU1: 198 C3 | AV1: 216 C3
A2: ABBONDIO | B2: GALA | C2: GALAVAL | D2: 1 pass smart fresh | AK2: 38.253 | AL2: 363.035 | AM2: 992.783 | AN2: 2370.598 | AO2: 3565.7 | AP2: 3338.775 | AQ2: 2890.279 | AR2: 2201.973 | AS2: 1721.679 | AT2: 1375.361 | AU2: 1096.465 | AV2: 1032.597
A3: ABBONDIO | B3: GALA | C3: GALAVAL | D3: 1 pass smart fresh | AK3: 321.005 | AL3: 1523.054 | AM3: 2719.162 | AN3: 4331.626 | AO3: 4545.39 | AP3: 3168.237 | AQ3: 2264.418 | AR3: 1451.589 | AS3: 999.288 | AT3: 699.954 | AU3: 502.411 | AV3: 417.604
A4: ABBONDIO | B4: GALA | C4: GALAVAL | D4: 1 pass smart fresh | AK4: 186.598 | AL4: 1025.387 | AM4: 1963.219 | AN4: 3435.267 | AO4: 3894.907 | AP4: 3083.788 | AQ4: 2472.399 | AR4: 1762.444 | AS4: 1307.935 | AT4: 1020.542 | AU4: 838.921 | AV4: 822.995
A5: ABBOUS | B5: GALA | C5: BROOKFIELD | D5: 1 pass | AI5: 2.855 | AJ5: 18.673 | AL5: 228.981 | AM5: 824.017 | AN5: 2465.828 | AO5: 4670.715 | AP5: 5286.544 | AQ5: 5336.255 | AR5: 4508.584 | AS5: 3687.685 | AT5: 2995.585 | AU5: 2383.997 | AV5: 1976.593
A6: ABBOUS | B6: GALA | C6: BROOKFIELD | D6: 1 pass | AI6: 3.241 | AJ6: 19.754 | AL6: 213.629 | AM6: 754.545 | AN6: 2284.785 | AO6: 4212.653 | AP6: 4302.744 | AQ6: 3898.7 | AR6: 2886.305 | AS6: 2064.819 | AT6: 1470.765 | AU6: 1021.739 | AV6: 702.897
A7: ABBOUS | B7: GALA | C7: BUCKEYE | D7: 2 pass | AI7: 4.62 | AJ7: 3.162 | AL7: 50.711 | AM7: 202.783 | AN7: 667.696 | AO7: 1382.358 | AP7: 1642.386 | AQ7: 1834.686 | AR7: 1685.57 | AS7: 1583.922 | AT7: 1596.939 | AU7: 1677.375 | AV7: 2273.749
A8: ABBOUS | B8: GALA | C8: BROOKFIELD | D8: 2 pass | AI8: 0.847 | AJ8: 2.677 | AL8: 66.637 | AM8: 258.566 | AN8: 878.057 | AO8: 1739.95 | AP8: 1942.821 | AQ8: 1888.097 | AR8: 1567.14 | AS8: 1250.142 | AT8: 1051.498 | AU8: 881.731 | AV8: 897.219
A9: ABBOUS | B9: GALA | C9: BROOKFIELD | D9: 3 pass | AJ9: 0.255 | AL9: 2.544 | AM9: 16.241 | AN9: 69.541 | AO9: 184.605 | AP9: 271.074 | AQ9: 339.615 | AR9: 346.297 | AS9: 342.903 | AT9: 344.253 | AU9: 355.908 | AV9: 435.519
A10: ABBOUS | B10: GRANNY | C10: STANDAR | D10: 1 pass smart fresh | E10: 15.958 | F10: 97.462 | H10: 331.056 | I10: 711.69 | J10: 1492.643 | K10: 2080.914 | L10: 1901.033 | M10: 1694.901 | N10: 1341.278 | O10: 1116.762 | P10: 967.353 | Q10: 917.829 | R10: 1167.91
A11: ABBOUS | B11: GRANNY | C11: STANDAR | D11: 1 pass smart fresh | E11: 13.21 | F11: 60.922 | H11: 471.161 | I11: 1236.103 | J11: 2761.74 | K11: 4015.524 | L11: 3633.963 | M11: 3128.032 | N11: 2369.911 | O11: 1809.122 | P11: 1486.551 | Q11: 1310.263 | R11: 1468.09
A12: ABBOUS | B12: GRANNY | C12: STANDAR | D12: 1 pass smart fresh | E12: 13.13 | F12: 26.106 | H12: 98.551 | I12: 169.126 | J12: 270.189 | K12: 305.24 | L12: 260.516 | M12: 212.23 | N12: 159.013 | O12: 128.29 | P12: 107.624 | Q12: 96.477 | R12: 123.946
A13: ABEL | B13: FUJI | C13: ASTECK | D13: 2 pass dallacosta | AI13: 97.037 | AJ13: 255.035 | AL13: 570.784 | AM13: 1553.564 | AN13: 1533.794 | AO13: 2644.867 | AP13: 1215.802 | AQ13: 1326.854 | AR13: 1258.059 | AS13: 191.347 | AT13: 588.332 | AU13: 39.07 | AV13: 64.937
A14: ABEL | B14: GALA | C14: BUCKEYE | D14: 2 pass | AJ14: 1.304 | AL14: 5.583 | AM14: 33.005 | AN14: 201.032 | AO14: 724.831 | AP14: 1279.671 | AQ14: 1961.109 | AR14: 2322.238 | AS14: 2594.227 | AT14: 2810.414 | AU14: 2863.854 | AV14: 2725.219
A15: ABEL | B15: GALA | C15: BROOKFIELD | D15: 3 pass squivene | AI15: 2.909 | AJ15: 1.063 | AL15: 9.596 | AM15: 35.084 | AN15: 130.418 | AO15: 340.676 | AP15: 506.044 | AQ15: 676.319 | AR15: 747.407 | AS15: 761.122 | AT15: 754.38 | AU15: 774.28 | AV15: 840.853
A16: ABEL | B16: GALA | C16: GALAXY/Mondialgala | D16: 3 pass | AI16: 5.454 | AJ16: 3.113 | AL16: 18.069 | AM16: 72.881 | AN16: 310.909 | AO16: 1013.919 | AP16: 1836.18 | AQ16: 2792.296 | AR16: 3296 | AS16: 3648.613 | AT16: 4068.199 | AU16: 4507.388 | AV16: 6136.557
A17: ABEL | B17: GALA | C17: GALAXY/Mondialgala | D17: 1 pass | AI17: 8.35 | AJ17: 53.269 | AL17: 193.526 | AM17: 230.586 | AN17: 295.951 | AO17: 765.412 | AP17: 676.967 | AQ17: 927.552 | AR17: 925.501 | AS17: 1022.9 | AT17: 1209.505 | AU17: 1275.39 | AV17: 1542.917
A18: ABEL | B18: GALA | C18: GALAXY/Mondialgala | D18: 3 pass Squievene | AI18: 2.753 | AJ18: 1.55 | AL18: 5.725 | AM18: 27.118 | AN18: 127.092 | AO18: 410.88 | AP18: 735.054 | AQ18: 1098.614 | AR18: 1315.48 | AS18: 1497.158 | AT18: 1745.715 | AU18: 2056.328 | AV18: 2882.972
A19: ABEL | B19: GALA | C19: BUCKEYE | D19: 1 pass rge squievene | AI19: 6.337 | AJ19: 41.801 | AL19: 23.247 | AM19: 82.027 | AN19: 363.814 | AO19: 954.028 | AP19: 1642.694 | AQ19: 2295.623 | AR19: 4202.099 | AS19: 1287.26 | AT19: 4738.178 | AU19: 1651.804 | AV19: 4377.908
A20: ABEL | B20: GRANNY | C20: CHALLENGER | D20: 1 pass smart fresh squievene | E20: 88.324 | F20: 401.332 | H20: 1999.839 | I20: 3303.272 | J20: 5319.291 | K20: 6300.163 | L20: 5246.658 | M20: 4508.86 | N20: 3494.49 | O20: 2764.168 | P20: 2347.667 | Q20: 2013.563 | R20: 2119.308
A21: ABEL | B21: GRANNY | C21: CHALLENGER | D21: 1 pass smart fresh squievene | E21: 29.846 | F21: 157.287 | H21: 962.912 | I21: 2008.428 | J21: 3977.29 | K21: 5300.701 | L21: 4787.503 | M21: 4362.827 | N21: 3559.313 | O21: 2969.767 | P21: 2635.602 | Q21: 2463.237 | R21: 2863.131
A22: ABEL | B22: GRANNY | C22: CHALLENGER | D22: 1 ,pass smart fresh | E22: 12.569 | F22: 51.86 | H22: 278.773 | I22: 505.743 | J22: 841.799 | K22: 1002.548 | L22: 815.802 | M22: 716.494 | N22: 572.162 | O22: 454.782 | P22: 413.777 | Q22: 389.554 | R22: 470.488
A23: ABEL | B23: PINK LADY | C23: ROSY GLOW | D23: 2 pass smart fresh | T23: 100.437 | U23: 505.257 | W23: 3863.119 | X23: 998.059 | Y23: 4474.996 | Z23: 2304.117 | AA23: 1714.229 | AB23: 845.453 | AC23: 437.926 | AD23: 360.595 | AE23: 235.397 | AF23: 117.36 | AG23: 101.78
A24: ABEL | B24: PINK LADY | C24: ROSY GLOW | D24: 2 pass smart fresh maison | T24: 144.646 | U24: 1896.032 | W24: 9553.021 | X24: 2239.834 | Y24: 9879.903 | Z24: 4777.651 | AA24: 3185.415 | AB24: 1516.614 | AC24: 801.132 | AD24: 450.032 | AE24: 328.275 | AF24: 203.714 | AG24: 148.938
A25: ABEL | B25: PINK LADY | C25: ROSY GLOW | D25: 2 pass smart fresh | T25: 53.184 | U25: 807.318 | W25: 4074.102 | X25: 780.303 | Y25: 3046.765 | Z25: 1269.742 | AA25: 745.389 | AB25: 329.569 | AC25: 145.915 | AD25: 73.312 | AE25: 40.461 | AF25: 21.99 | AG25: 17.27
A26: ALIBERT | B26: GALA | C26: BUCKEYE | D26: 1 pass | AI26: 1.21 | AJ26: 1.289 | AL26: 18.466 | AM26: 72.925 | AN26: 295.611 | AO26: 743.108 | AP26: 1211.865 | AQ26: 1697.463 | AR26: 1994.537 | AS26: 2176.182 | AT26: 2432.318 | AU26: 2578.134 | AV26: 2789.389
A27: ALIBERT | B27: GALA | C27: BUCKEYE | D27: 1 pass | AI27: 1.21 | AJ27: 1.289 | AL27: 18.466 | AM27: 72.925 | AN27: 295.611 | AO27: 743.108 | AP27: 1211.865 | AQ27: 1697.463 | AR27: 1994.537 | AS27: 2176.182 | AT27: 2432.318 | AU27: 2578.134 | AV27: 2789.389
A28: ALIBERT | B28: GALA | C28: BROOKFIELD | D28: 2 pass | AI28: 17.421 | AJ28: 86.629 | AL28: 233.428 | AM28: 630.483 | AN28: 1643.64 | AO28: 3010.569 | AP28: 3640.407 | AQ28: 4175.074 | AR28: 3874.345 | AS28: 3646.92 | AT28: 3525.382 | AU28: 3543.55 | AV28: 4134.965
A29: ALIBERT | B29: GALA | C29: BUCKEYE | D29: 2 pass | AI29: 4.79 | AJ29: 2.615 | AL29: 24.078 | AM29: 84.338 | AN29: 256.225 | AO29: 631.572 | AP29: 977.802 | AQ29: 1395.635 | AR29: 1681.529 | AS29: 1981.054 | AT29: 2398.236 | AU29: 2888.861 | AV29: 4248.411
A30: ALIBERT | B30: GALA | C30: GALAXY/Mondialgala | D30: 1 pass | AI30: 88.227 | AJ30: 114.013 | AL30: 609.32 | AM30: 1423.279 | AN30: 3243.623 | AO30: 5143.268 | AP30: 5485.787 | AQ30: 5679.282 | AR30: 5006.136 | AS30: 4457.254 | AT30: 4062.064 | AU30: 3663.523 | AV30: 3696.747
E37: {=IFERROR(INDEX($E$2:$R$30,ROW(A1),COLUMN(A1))+ INDEX($T$2:$AG$30,ROW(A1),COLUMN(A1))+ INDEX($AI$2:$AV$30,ROW(A1),COLUMN(A1)),"")} -> 0 | F37: {=IFERROR(INDEX($E$2:$R$30,ROW(B1),COLUMN(B1))+ INDEX($T$2:$AG$30,ROW(B1),COLUMN(B1))+ INDEX($AI$2:$AV$30,ROW(B1),COLUMN(B1)),"")} -> 0 | G37: {=IFERROR(INDEX($E$2:$R$30,ROW(C1),COLUMN(C1))+ INDEX($T$2:$AG$30,ROW(C1),COLUMN(C1))+ INDEX($AI$2:$AV$30,ROW(C1),COLUMN(C1)),"")} -> 38.253 | H37: {=IFERROR(INDEX($E$2:$R$30,ROW(D1),COLUMN(D1))+ INDEX($T$2:$AG$30,ROW(D1),COLUMN(D1))+ INDEX($AI$2:$AV$30,ROW(D1),COLUMN(D1)),"")} -> 363.035 | I37: {=IFERROR(INDEX($E$2:$R$30,ROW(E1),COLUMN(E1))+ INDEX($T$2:$AG$30,ROW(E1),COLUMN(E1))+ INDEX($AI$2:$AV$30,ROW(E1),COLUMN(E1)),"")} -> 992.783 | J37: {=IFERROR(INDEX($E$2:$R$30,ROW(F1),COLUMN(F1))+ INDEX($T$2:$AG$30,ROW(F1),COLUMN(F1))+ INDEX($AI$2:$AV$30,ROW(F1),COLUMN(F1)),"")} -> 2370.598 | K37: {=IFERROR(INDEX($E$2:$R$30,ROW(G1),COLUMN(G1))+ INDEX($T$2:$AG$30,ROW(G1),COLUMN(G1))+ INDEX($AI$2:$AV$30,ROW(G1),COLUMN(G1)),"")} -> 3565.7 | L37: {=IFERROR(INDEX($E$2:$R$30,ROW(H1),COLUMN(H1))+ INDEX($T$2:$AG$30,ROW(H1),COLUMN(H1))+ INDEX($AI$2:$AV$30,ROW(H1),COLUMN(H1)),"")} -> 3338.775 | ... R37: {=IFERROR(INDEX($E$2:$R$30,ROW(N1),COLUMN(N1))+ INDEX($T$2:$AG$30,ROW(N1),COLUMN(N1))+ INDEX($AI$2:$AV$30,ROW(N1),COLUMN(N1)),"")} -> 1032.597
E38: {=IFERROR(INDEX($E$2:$R$30,ROW(A2),COLUMN(A2))+ INDEX($T$2:$AG$30,ROW(A2),COLUMN(A2))+ INDEX($AI$2:$AV$30,ROW(A2),COLUMN(A2)),"")} -> 0 | F38: {=IFERROR(INDEX($E$2:$R$30,ROW(B2),COLUMN(B2))+ INDEX($T$2:$AG$30,ROW(B2),COLUMN(B2))+ INDEX($AI$2:$AV$30,ROW(B2),COLUMN(B2)),"")} -> 0 | G38: {=IFERROR(INDEX($E$2:$R$30,ROW(C2),COLUMN(C2))+ INDEX($T$2:$AG$30,ROW(C2),COLUMN(C2))+ INDEX($AI$2:$AV$30,ROW(C2),COLUMN(C2)),"")} -> 321.005 | H38: {=IFERROR(INDEX($E$2:$R$30,ROW(D2),COLUMN(D2))+ INDEX($T$2:$AG$30,ROW(D2),COLUMN(D2))+ INDEX($AI$2:$AV$30,ROW(D2),COLUMN(D2)),"")} -> 1523.054 | I38: {=IFERROR(INDEX($E$2:$R$30,ROW(E2),COLUMN(E2))+ INDEX($T$2:$AG$30,ROW(E2),COLUMN(E2))+ INDEX($AI$2:$AV$30,ROW(E2),COLUMN(E2)),"")} -> 2719.162 | J38: {=IFERROR(INDEX($E$2:$R$30,ROW(F2),COLUMN(F2))+ INDEX($T$2:$AG$30,ROW(F2),COLUMN(F2))+ INDEX($AI$2:$AV$30,ROW(F2),COLUMN(F2)),"")} -> 4331.626 | K38: {=IFERROR(INDEX($E$2:$R$30,ROW(G2),COLUMN(G2))+ INDEX($T$2:$AG$30,ROW(G2),COLUMN(G2))+ INDEX($AI$2:$AV$30,ROW(G2),COLUMN(G2)),"")} -> 4545.39 | L38: {=IFERROR(INDEX($E$2:$R$30,ROW(H2),COLUMN(H2))+ INDEX($T$2:$AG$30,ROW(H2),COLUMN(H2))+ INDEX($AI$2:$AV$30,ROW(H2),COLUMN(H2)),"")} -> 3168.237 | ... R38: {=IFERROR(INDEX($E$2:$R$30,ROW(N2),COLUMN(N2))+ INDEX($T$2:$AG$30,ROW(N2),COLUMN(N2))+ INDEX($AI$2:$AV$30,ROW(N2),COLUMN(N2)),"")} -> 417.604
E39: {=IFERROR(INDEX($E$2:$R$30,ROW(A3),COLUMN(A3))+ INDEX($T$2:$AG$30,ROW(A3),COLUMN(A3))+ INDEX($AI$2:$AV$30,ROW(A3),COLUMN(A3)),"")} -> 0 | F39: {=IFERROR(INDEX($E$2:$R$30,ROW(B3),COLUMN(B3))+ INDEX($T$2:$AG$30,ROW(B3),COLUMN(B3))+ INDEX($AI$2:$AV$30,ROW(B3),COLUMN(B3)),"")} -> 0 | G39: {=IFERROR(INDEX($E$2:$R$30,ROW(C3),COLUMN(C3))+ INDEX($T$2:$AG$30,ROW(C3),COLUMN(C3))+ INDEX($AI$2:$AV$30,ROW(C3),COLUMN(C3)),"")} -> 186.598 | H39: {=IFERROR(INDEX($E$2:$R$30,ROW(D3),COLUMN(D3))+ INDEX($T$2:$AG$30,ROW(D3),COLUMN(D3))+ INDEX($AI$2:$AV$30,ROW(D3),COLUMN(D3)),"")} -> 1025.387 | I39: {=IFERROR(INDEX($E$2:$R$30,ROW(E3),COLUMN(E3))+ INDEX($T$2:$AG$30,ROW(E3),COLUMN(E3))+ INDEX($AI$2:$AV$30,ROW(E3),COLUMN(E3)),"")} -> 1963.219 | J39: {=IFERROR(INDEX($E$2:$R$30,ROW(F3),COLUMN(F3))+ INDEX($T$2:$AG$30,ROW(F3),COLUMN(F3))+ INDEX($AI$2:$AV$30,ROW(F3),COLUMN(F3)),"")} -> 3435.267 | K39: {=IFERROR(INDEX($E$2:$R$30,ROW(G3),COLUMN(G3))+ INDEX($T$2:$AG$30,ROW(G3),COLUMN(G3))+ INDEX($AI$2:$AV$30,ROW(G3),COLUMN(G3)),"")} -> 3894.907 | L39: {=IFERROR(INDEX($E$2:$R$30,ROW(H3),COLUMN(H3))+ INDEX($T$2:$AG$30,ROW(H3),COLUMN(H3))+ INDEX($AI$2:$AV$30,ROW(H3),COLUMN(H3)),"")} -> 3083.788 | ... R39: {=IFERROR(INDEX($E$2:$R$30,ROW(N3),COLUMN(N3))+ INDEX($T$2:$AG$30,ROW(N3),COLUMN(N3))+ INDEX($AI$2:$AV$30,ROW(N3),COLUMN(N3)),"")} -> 822.995
E40: {=IFERROR(INDEX($E$2:$R$30,ROW(A4),COLUMN(A4))+ INDEX($T$2:$AG$30,ROW(A4),COLUMN(A4))+ INDEX($AI$2:$AV$30,ROW(A4),COLUMN(A4)),"")} -> 2.855 | F40: {=IFERROR(INDEX($E$2:$R$30,ROW(B4),COLUMN(B4))+ INDEX($T$2:$AG$30,ROW(B4),COLUMN(B4))+ INDEX($AI$2:$AV$30,ROW(B4),COLUMN(B4)),"")} -> 18.673 | G40: {=IFERROR(INDEX($E$2:$R$30,ROW(C4),COLUMN(C4))+ INDEX($T$2:$AG$30,ROW(C4),COLUMN(C4))+ INDEX($AI$2:$AV$30,ROW(C4),COLUMN(C4)),"")} -> 0 | H40: {=IFERROR(INDEX($E$2:$R$30,ROW(D4),COLUMN(D4))+ INDEX($T$2:$AG$30,ROW(D4),COLUMN(D4))+ INDEX($AI$2:$AV$30,ROW(D4),COLUMN(D4)),"")} -> 228.981 | I40: {=IFERROR(INDEX($E$2:$R$30,ROW(E4),COLUMN(E4))+ INDEX($T$2:$AG$30,ROW(E4),COLUMN(E4))+ INDEX($AI$2:$AV$30,ROW(E4),COLUMN(E4)),"")} -> 824.017 | J40: {=IFERROR(INDEX($E$2:$R$30,ROW(F4),COLUMN(F4))+ INDEX($T$2:$AG$30,ROW(F4),COLUMN(F4))+ INDEX($AI$2:$AV$30,ROW(F4),COLUMN(F4)),"")} -> 2465.828 | K40: {=IFERROR(INDEX($E$2:$R$30,ROW(G4),COLUMN(G4))+ INDEX($T$2:$AG$30,ROW(G4),COLUMN(G4))+ INDEX($AI$2:$AV$30,ROW(G4),COLUMN(G4)),"")} -> 4670.715 | L40: {=IFERROR(INDEX($E$2:$R$30,ROW(H4),COLUMN(H4))+ INDEX($T$2:$AG$30,ROW(H4),COLUMN(H4))+ INDEX($AI$2:$AV$30,ROW(H4),COLUMN(H4)),"")} -> 5286.544 | ... R40: {=IFERROR(INDEX($E$2:$R$30,ROW(N4),COLUMN(N4))+ INDEX($T$2:$AG$30,ROW(N4),COLUMN(N4))+ INDEX($AI$2:$AV$30,ROW(N4),COLUMN(N4)),"")} -> 1976.593
E41: {=IFERROR(INDEX($E$2:$R$30,ROW(A5),COLUMN(A5))+ INDEX($T$2:$AG$30,ROW(A5),COLUMN(A5))+ INDEX($AI$2:$AV$30,ROW(A5),COLUMN(A5)),"")} -> 3.241 | F41: {=IFERROR(INDEX($E$2:$R$30,ROW(B5),COLUMN(B5))+ INDEX($T$2:$AG$30,ROW(B5),COLUMN(B5))+ INDEX($AI$2:$AV$30,ROW(B5),COLUMN(B5)),"")} -> 19.754 | G41: {=IFERROR(INDEX($E$2:$R$30,ROW(C5),COLUMN(C5))+ INDEX($T$2:$AG$30,ROW(C5),COLUMN(C5))+ INDEX($AI$2:$AV$30,ROW(C5),COLUMN(C5)),"")} -> 0 | H41: {=IFERROR(INDEX($E$2:$R$30,ROW(D5),COLUMN(D5))+ INDEX($T$2:$AG$30,ROW(D5),COLUMN(D5))+ INDEX($AI$2:$AV$30,ROW(D5),COLUMN(D5)),"")} -> 213.629 | I41: {=IFERROR(INDEX($E$2:$R$30,ROW(E5),COLUMN(E5))+ INDEX($T$2:$AG$30,ROW(E5),COLUMN(E5))+ INDEX($AI$2:$AV$30,ROW(E5),COLUMN(E5)),"")} -> 754.545 | J41: {=IFERROR(INDEX($E$2:$R$30,ROW(F5),COLUMN(F5))+ INDEX($T$2:$AG$30,ROW(F5),COLUMN(F5))+ INDEX($AI$2:$AV$30,ROW(F5),COLUMN(F5)),"")} -> 2284.785 | K41: {=IFERROR(INDEX($E$2:$R$30,ROW(G5),COLUMN(G5))+ INDEX($T$2:$AG$30,ROW(G5),COLUMN(G5))+ INDEX($AI$2:$AV$30,ROW(G5),COLUMN(G5)),"")} -> 4212.653 | L41: {=IFERROR(INDEX($E$2:$R$30,ROW(H5),COLUMN(H5))+ INDEX($T$2:$AG$30,ROW(H5),COLUMN(H5))+ INDEX($AI$2:$AV$30,ROW(H5),COLUMN(H5)),"")} -> 4302.744 | ... R41: {=IFERROR(INDEX($E$2:$R$30,ROW(N5),COLUMN(N5))+ INDEX($T$2:$AG$30,ROW(N5),COLUMN(N5))+ INDEX($AI$2:$AV$30,ROW(N5),COLUMN(N5)),"")} -> 702.897
E42: {=IFERROR(INDEX($E$2:$R$30,ROW(A6),COLUMN(A6))+ INDEX($T$2:$AG$30,ROW(A6),COLUMN(A6))+ INDEX($AI$2:$AV$30,ROW(A6),COLUMN(A6)),"")} -> 4.62 | F42: {=IFERROR(INDEX($E$2:$R$30,ROW(B6),COLUMN(B6))+ INDEX($T$2:$AG$30,ROW(B6),COLUMN(B6))+ INDEX($AI$2:$AV$30,ROW(B6),COLUMN(B6)),"")} -> 3.162 | G42: {=IFERROR(INDEX($E$2:$R$30,ROW(C6),COLUMN(C6))+ INDEX($T$2:$AG$30,ROW(C6),COLUMN(C6))+ INDEX($AI$2:$AV$30,ROW(C6),COLUMN(C6)),"")} -> 0 | H42: {=IFERROR(INDEX($E$2:$R$30,ROW(D6),COLUMN(D6))+ INDEX($T$2:$AG$30,ROW(D6),COLUMN(D6))+ INDEX($AI$2:$AV$30,ROW(D6),COLUMN(D6)),"")} -> 50.711 | I42: {=IFERROR(INDEX($E$2:$R$30,ROW(E6),COLUMN(E6))+ INDEX($T$2:$AG$30,ROW(E6),COLUMN(E6))+ INDEX($AI$2:$AV$30,ROW(E6),COLUMN(E6)),"")} -> 202.783 | J42: {=IFERROR(INDEX($E$2:$R$30,ROW(F6),COLUMN(F6))+ INDEX($T$2:$AG$30,ROW(F6),COLUMN(F6))+ INDEX($AI$2:$AV$30,ROW(F6),COLUMN(F6)),"")} -> 667.696 | K42: {=IFERROR(INDEX($E$2:$R$30,ROW(G6),COLUMN(G6))+ INDEX($T$2:$AG$30,ROW(G6),COLUMN(G6))+ INDEX($AI$2:$AV$30,ROW(G6),COLUMN(G6)),"")} -> 1382.358 | L42: {=IFERROR(INDEX($E$2:$R$30,ROW(H6),COLUMN(H6))+ INDEX($T$2:$AG$30,ROW(H6),COLUMN(H6))+ INDEX($AI$2:$AV$30,ROW(H6),COLUMN(H6)),"")} -> 1642.386 | ... R42: {=IFERROR(INDEX($E$2:$R$30,ROW(N6),COLUMN(N6))+ INDEX($T$2:$AG$30,ROW(N6),COLUMN(N6))+ INDEX($AI$2:$AV$30,ROW(N6),COLUMN(N6)),"")} -> 2273.749
E43: {=IFERROR(INDEX($E$2:$R$30,ROW(A7),COLUMN(A7))+ INDEX($T$2:$AG$30,ROW(A7),COLUMN(A7))+ INDEX($AI$2:$AV$30,ROW(A7),COLUMN(A7)),"")} -> 0.847 | F43: {=IFERROR(INDEX($E$2:$R$30,ROW(B7),COLUMN(B7))+ INDEX($T$2:$AG$30,ROW(B7),COLUMN(B7))+ INDEX($AI$2:$AV$30,ROW(B7),COLUMN(B7)),"")} -> 2.677 | G43: {=IFERROR(INDEX($E$2:$R$30,ROW(C7),COLUMN(C7))+ INDEX($T$2:$AG$30,ROW(C7),COLUMN(C7))+ INDEX($AI$2:$AV$30,ROW(C7),COLUMN(C7)),"")} -> 0 | H43: {=IFERROR(INDEX($E$2:$R$30,ROW(D7),COLUMN(D7))+ INDEX($T$2:$AG$30,ROW(D7),COLUMN(D7))+ INDEX($AI$2:$AV$30,ROW(D7),COLUMN(D7)),"")} -> 66.637 | I43: {=IFERROR(INDEX($E$2:$R$30,ROW(E7),COLUMN(E7))+ INDEX($T$2:$AG$30,ROW(E7),COLUMN(E7))+ INDEX($AI$2:$AV$30,ROW(E7),COLUMN(E7)),"")} -> 258.566 | J43: {=IFERROR(INDEX($E$2:$R$30,ROW(F7),COLUMN(F7))+ INDEX($T$2:$AG$30,ROW(F7),COLUMN(F7))+ INDEX($AI$2:$AV$30,ROW(F7),COLUMN(F7)),"")} -> 878.057 | K43: {=IFERROR(INDEX($E$2:$R$30,ROW(G7),COLUMN(G7))+ INDEX($T$2:$AG$30,ROW(G7),COLUMN(G7))+ INDEX($AI$2:$AV$30,ROW(G7),COLUMN(G7)),"")} -> 1739.95 | L43: {=IFERROR(INDEX($E$2:$R$30,ROW(H7),COLUMN(H7))+ INDEX($T$2:$AG$30,ROW(H7),COLUMN(H7))+ INDEX($AI$2:$AV$30,ROW(H7),COLUMN(H7)),"")} -> 1942.821 | ... R43: {=IFERROR(INDEX($E$2:$R$30,ROW(N7),COLUMN(N7))+ INDEX($T$2:$AG$30,ROW(N7),COLUMN(N7))+ INDEX($AI$2:$AV$30,ROW(N7),COLUMN(N7)),"")} -> 897.219
E44: {=IFERROR(INDEX($E$2:$R$30,ROW(A8),COLUMN(A8))+ INDEX($T$2:$AG$30,ROW(A8),COLUMN(A8))+ INDEX($AI$2:$AV$30,ROW(A8),COLUMN(A8)),"")} -> 0 | F44: {=IFERROR(INDEX($E$2:$R$30,ROW(B8),COLUMN(B8))+ INDEX($T$2:$AG$30,ROW(B8),COLUMN(B8))+ INDEX($AI$2:$AV$30,ROW(B8),COLUMN(B8)),"")} -> 0.255 | G44: {=IFERROR(INDEX($E$2:$R$30,ROW(C8),COLUMN(C8))+ INDEX($T$2:$AG$30,ROW(C8),COLUMN(C8))+ INDEX($AI$2:$AV$30,ROW(C8),COLUMN(C8)),"")} -> 0 | H44: {=IFERROR(INDEX($E$2:$R$30,ROW(D8),COLUMN(D8))+ INDEX($T$2:$AG$30,ROW(D8),COLUMN(D8))+ INDEX($AI$2:$AV$30,ROW(D8),COLUMN(D8)),"")} -> 2.544 | I44: {=IFERROR(INDEX($E$2:$R$30,ROW(E8),COLUMN(E8))+ INDEX($T$2:$AG$30,ROW(E8),COLUMN(E8))+ INDEX($AI$2:$AV$30,ROW(E8),COLUMN(E8)),"")} -> 16.241 | J44: {=IFERROR(INDEX($E$2:$R$30,ROW(F8),COLUMN(F8))+ INDEX($T$2:$AG$30,ROW(F8),COLUMN(F8))+ INDEX($AI$2:$AV$30,ROW(F8),COLUMN(F8)),"")} -> 69.541 | K44: {=IFERROR(INDEX($E$2:$R$30,ROW(G8),COLUMN(G8))+ INDEX($T$2:$AG$30,ROW(G8),COLUMN(G8))+ INDEX($AI$2:$AV$30,ROW(G8),COLUMN(G8)),"")} -> 184.605 | L44: {=IFERROR(INDEX($E$2:$R$30,ROW(H8),COLUMN(H8))+ INDEX($T$2:$AG$30,ROW(H8),COLUMN(H8))+ INDEX($AI$2:$AV$30,ROW(H8),COLUMN(H8)),"")} -> 271.074 | ... R44: {=IFERROR(INDEX($E$2:$R$30,ROW(N8),COLUMN(N8))+ INDEX($T$2:$AG$30,ROW(N8),COLUMN(N8))+ INDEX($AI$2:$AV$30,ROW(N8),COLUMN(N8)),"")} -> 435.519
E45: {=IFERROR(INDEX($E$2:$R$30,ROW(A9),COLUMN(A9))+ INDEX($T$2:$AG$30,ROW(A9),COLUMN(A9))+ INDEX($AI$2:$AV$30,ROW(A9),COLUMN(A9)),"")} -> 15.958 | F45: {=IFERROR(INDEX($E$2:$R$30,ROW(B9),COLUMN(B9))+ INDEX($T$2:$AG$30,ROW(B9),COLUMN(B9))+ INDEX($AI$2:$AV$30,ROW(B9),COLUMN(B9)),"")} -> 97.462 | G45: {=IFERROR(INDEX($E$2:$R$30,ROW(C9),COLUMN(C9))+ INDEX($T$2:$AG$30,ROW(C9),COLUMN(C9))+ INDEX($AI$2:$AV$30,ROW(C9),COLUMN(C9)),"")} -> 0 | H45: {=IFERROR(INDEX($E$2:$R$30,ROW(D9),COLUMN(D9))+ INDEX($T$2:$AG$30,ROW(D9),COLUMN(D9))+ INDEX($AI$2:$AV$30,ROW(D9),COLUMN(D9)),"")} -> 331.056 | I45: {=IFERROR(INDEX($E$2:$R$30,ROW(E9),COLUMN(E9))+ INDEX($T$2:$AG$30,ROW(E9),COLUMN(E9))+ INDEX($AI$2:$AV$30,ROW(E9),COLUMN(E9)),"")} -> 711.69 | J45: {=IFERROR(INDEX($E$2:$R$30,ROW(F9),COLUMN(F9))+ INDEX($T$2:$AG$30,ROW(F9),COLUMN(F9))+ INDEX($AI$2:$AV$30,ROW(F9),COLUMN(F9)),"")} -> 1492.643 | K45: {=IFERROR(INDEX($E$2:$R$30,ROW(G9),COLUMN(G9))+ INDEX($T$2:$AG$30,ROW(G9),COLUMN(G9))+ INDEX($AI$2:$AV$30,ROW(G9),COLUMN(G9)),"")} -> 2080.914 | L45: {=IFERROR(INDEX($E$2:$R$30,ROW(H9),COLUMN(H9))+ INDEX($T$2:$AG$30,ROW(H9),COLUMN(H9))+ INDEX($AI$2:$AV$30,ROW(H9),COLUMN(H9)),"")} -> 1901.033 | ... R45: {=IFERROR(INDEX($E$2:$R$30,ROW(N9),COLUMN(N9))+ INDEX($T$2:$AG$30,ROW(N9),COLUMN(N9))+ INDEX($AI$2:$AV$30,ROW(N9),COLUMN(N9)),"")} -> 1167.91
E46: {=IFERROR(INDEX($E$2:$R$30,ROW(A10),COLUMN(A10))+ INDEX($T$2:$AG$30,ROW(A10),COLUMN(A10))+ INDEX($AI$2:$AV$30,ROW(A10),COLUMN(A10)),"")} -> 13.21 | F46: {=IFERROR(INDEX($E$2:$R$30,ROW(B10),COLUMN(B10))+ INDEX($T$2:$AG$30,ROW(B10),COLUMN(B10))+ INDEX($AI$2:$AV$30,ROW(B10),COLUMN(B10)),"")} -> 60.922 | G46: {=IFERROR(INDEX($E$2:$R$30,ROW(C10),COLUMN(C10))+ INDEX($T$2:$AG$30,ROW(C10),COLUMN(C10))+ INDEX($AI$2:$AV$30,ROW(C10),COLUMN(C10)),"")} -> 0 | H46: {=IFERROR(INDEX($E$2:$R$30,ROW(D10),COLUMN(D10))+ INDEX($T$2:$AG$30,ROW(D10),COLUMN(D10))+ INDEX($AI$2:$AV$30,ROW(D10),COLUMN(D10)),"")} -> 471.161 | I46: {=IFERROR(INDEX($E$2:$R$30,ROW(E10),COLUMN(E10))+ INDEX($T$2:$AG$30,ROW(E10),COLUMN(E10))+ INDEX($AI$2:$AV$30,ROW(E10),COLUMN(E10)),"")} -> 1236.103 | J46: {=IFERROR(INDEX($E$2:$R$30,ROW(F10),COLUMN(F10))+ INDEX($T$2:$AG$30,ROW(F10),COLUMN(F10))+ INDEX($AI$2:$AV$30,ROW(F10),COLUMN(F10)),"")} -> 2761.74 | K46: {=IFERROR(INDEX($E$2:$R$30,ROW(G10),COLUMN(G10))+ INDEX($T$2:$AG$30,ROW(G10),COLUMN(G10))+ INDEX($AI$2:$AV$30,ROW(G10),COLUMN(G10)),"")} -> 4015.524 | L46: {=IFERROR(INDEX($E$2:$R$30,ROW(H10),COLUMN(H10))+ INDEX($T$2:$AG$30,ROW(H10),COLUMN(H10))+ INDEX($AI$2:$AV$30,ROW(H10),COLUMN(H10)),"")} -> 3633.963 | ... R46: {=IFERROR(INDEX($E$2:$R$30,ROW(N10),COLUMN(N10))+ INDEX($T$2:$AG$30,ROW(N10),COLUMN(N10))+ INDEX($AI$2:$AV$30,ROW(N10),COLUMN(N10)),"")} -> 1468.09
...

Sheet tableau propre
A1: Adhérent | B1: Variété | C1: Clône | D1: Commentaire | E1: 48 | F1: 56 | G1: 64 | H1: 72 | I1: 80 | J1: 88 | K1: 100 | L1: 113 | M1: 125 | N1: 138 | O1: 150 | P1: 163 | Q1: 175 | R1: 198 | S1: 216
A2: ='extraction données'!A2 -> ABBONDIO | B2: ='extraction données'!B2 -> GALA | C2: ='extraction données'!C2 -> GALAVAL | D2: ='extraction données'!D2 -> 1 pass smart fresh | E2: {=IFERROR(INDEX('extraction données'!$E$2:$R$30,ROW(A1),COLUMN(A1))+ INDEX('extraction données'!$T$2:$AG$30,ROW(A1),COLUMN(A1))+ INDEX('extraction données'!$AI$2:$AV$30,ROW(A1),COLUMN(A1)),"")} -> 0 | F2: {=IFERROR(INDEX('extraction données'!$E$2:$R$30,ROW(B1),COLUMN(B1))+ INDEX('extraction données'!$T$2:$AG$30,ROW(B1),COLUMN(B1))+ INDEX('extraction données'!$AI$2:$AV$30,ROW(B1),COLUMN(B1)),"")} -> 0 | G2: {=IFERROR(INDEX('extraction données'!$E$2:$R$30,ROW(C1),COLUMN(C1))+ INDEX('extraction données'!$T$2:$AG$30,ROW(C1),COLUMN(C1))+ INDEX('extraction données'!$AI$2:$AV$30,ROW(C1),COLUMN(C1)),"")} -> 38.253 | H2: {=IFERROR(INDEX('extraction données'!$E$2:$R$30,ROW(D1),COLUMN(D1))+ INDEX('extraction données'!$T$2:$AG$30,ROW(D1),COLUMN(D1))+ INDEX('extraction données'!$AI$2:$AV$30,ROW(D1),COLUMN(D1)),"")} -> 363.035 | I2: {=IFERROR(INDEX('extraction données'!$E$2:$R$30,ROW(E1),COLUMN(E1))+ INDEX('extraction données'!$T$2:$AG$30,ROW(E1),COLUMN(E1))+ INDEX('extraction données'!$AI$2:$AV$30,ROW(E1),COLUMN(E1)),"")} -> 992.783 | J2: {=IFERROR(INDEX('extraction données'!$E$2:$R$30,ROW(F1),COLUMN(F1))+ INDEX('extraction données'!$T$2:$AG$30,ROW(F1),COLUMN(F1))+ INDEX('extraction données'!$AI$2:$AV$30,ROW(F1),COLUMN(F1)),"")} -> 2370.598 | K2: {=IFERROR(INDEX('extraction données'!$E$2:$R$30,ROW(G1),COLUMN(G1))+ INDEX('extraction données'!$T$2:$AG$30,ROW(G1),COLUMN(G1))+ INDEX('extraction données'!$AI$2:$AV$30,ROW(G1),COLUMN(G1)),"")} -> 3565.7 | L2: {=IFERROR(INDEX('extraction données'!$E$2:$R$30,ROW(H1),COLUMN(H1))+ INDEX('extraction données'!$T$2:$AG$30,ROW(H1),COLUMN(H1))+ INDEX('extraction données'!$AI$2:$AV$30,ROW(H1),COLUMN(H1)),"")} -> 3338.775 | ... S2: {=IFERROR(INDEX('extraction données'!$E$2:$R$30,ROW(O1),COLUMN(O1))+ INDEX('extraction données'!$T$2:$AG$30,ROW(O1),COLUMN(O1))+ INDEX('extraction données'!$AI$2:$AV$30,ROW(O1),COLUMN(O1)),"")}
A3: ='extraction données'!A3 -> ABBONDIO | B3: ='extraction données'!B3 -> GALA | C3: ='extraction données'!C3 -> GALAVAL | D3: ='extraction données'!D3 -> 1 pass smart fresh | E3: {=IFERROR(INDEX('extraction données'!$E$2:$R$30,ROW(A2),COLUMN(A2))+ INDEX('extraction données'!$T$2:$AG$30,ROW(A2),COLUMN(A2))+ INDEX('extraction données'!$AI$2:$AV$30,ROW(A2),COLUMN(A2)),"")} -> 0 | F3: {=IFERROR(INDEX('extraction données'!$E$2:$R$30,ROW(B2),COLUMN(B2))+ INDEX('extraction données'!$T$2:$AG$30,ROW(B2),COLUMN(B2))+ INDEX('extraction données'!$AI$2:$AV$30,ROW(B2),COLUMN(B2)),"")} -> 0 | G3: {=IFERROR(INDEX('extraction données'!$E$2:$R$30,ROW(C2),COLUMN(C2))+ INDEX('extraction données'!$T$2:$AG$30,ROW(C2),COLUMN(C2))+ INDEX('extraction données'!$AI$2:$AV$30,ROW(C2),COLUMN(C2)),"")} -> 321.005 | H3: {=IFERROR(INDEX('extraction données'!$E$2:$R$30,ROW(D2),COLUMN(D2))+ INDEX('extraction données'!$T$2:$AG$30,ROW(D2),COLUMN(D2))+ INDEX('extraction données'!$AI$2:$AV$30,ROW(D2),COLUMN(D2)),"")} -> 1523.054 | I3: {=IFERROR(INDEX('extraction données'!$E$2:$R$30,ROW(E2),COLUMN(E2))+ INDEX('extraction données'!$T$2:$AG$30,ROW(E2),COLUMN(E2))+ INDEX('extraction données'!$AI$2:$AV$30,ROW(E2),COLUMN(E2)),"")} -> 2719.162 | J3: {=IFERROR(INDEX('extraction données'!$E$2:$R$30,ROW(F2),COLUMN(F2))+ INDEX('extraction données'!$T$2:$AG$30,ROW(F2),COLUMN(F2))+ INDEX('extraction données'!$AI$2:$AV$30,ROW(F2),COLUMN(F2)),"")} -> 4331.626 | K3: {=IFERROR(INDEX('extraction données'!$E$2:$R$30,ROW(G2),COLUMN(G2))+ INDEX('extraction données'!$T$2:$AG$30,ROW(G2),COLUMN(G2))+ INDEX('extraction données'!$AI$2:$AV$30,ROW(G2),COLUMN(G2)),"")} -> 4545.39 | L3: {=IFERROR(INDEX('extraction données'!$E$2:$R$30,ROW(H2),COLUMN(H2))+ INDEX('extraction données'!$T$2:$AG$30,ROW(H2),COLUMN(H2))+ INDEX('extraction données'!$AI$2:$AV$30,ROW(H2),COLUMN(H2)),"")} -> 3168.237 | ... S3: {=IFERROR(INDEX('extraction données'!$E$2:$R$30,ROW(O2),COLUMN(O2))+ INDEX('extraction données'!$T$2:$AG$30,ROW(O2),COLUMN(O2))+ INDEX('extraction données'!$AI$2:$AV$30,ROW(O2),COLUMN(O2)),"")}
A4: ='extraction données'!A4 -> ABBONDIO | B4: ='extraction données'!B4 -> GALA | C4: ='extraction données'!C4 -> GALAVAL | D4: ='extraction données'!D4 -> 1 pass smart fresh | E4: {=IFERROR(INDEX('extraction données'!$E$2:$R$30,ROW(A3),COLUMN(A3))+ INDEX('extraction données'!$T$2:$AG$30,ROW(A3),COLUMN(A3))+ INDEX('extraction données'!$AI$2:$AV$30,ROW(A3),COLUMN(A3)),"")} -> 0 | F4: {=IFERROR(INDEX('extraction données'!$E$2:$R$30,ROW(B3),COLUMN(B3))+ INDEX('extraction données'!$T$2:$AG$30,ROW(B3),COLUMN(B3))+ INDEX('extraction données'!$AI$2:$AV$30,ROW(B3),COLUMN(B3)),"")} -> 0 | G4: {=IFERROR(INDEX('extraction données'!$E$2:$R$30,ROW(C3),COLUMN(C3))+ INDEX('extraction données'!$T$2:$AG$30,ROW(C3),COLUMN(C3))+ INDEX('extraction données'!$AI$2:$AV$30,ROW(C3),COLUMN(C3)),"")} -> 186.598 | H4: {=IFERROR(INDEX('extraction données'!$E$2:$R$30,ROW(D3),COLUMN(D3))+ INDEX('extraction données'!$T$2:$AG$30,ROW(D3),COLUMN(D3))+ INDEX('extraction données'!$AI$2:$AV$30,ROW(D3),COLUMN(D3)),"")} -> 1025.387 | I4: {=IFERROR(INDEX('extraction données'!$E$2:$R$30,ROW(E3),COLUMN(E3))+ INDEX('extraction données'!$T$2:$AG$30,ROW(E3),COLUMN(E3))+ INDEX('extraction données'!$AI$2:$AV$30,ROW(E3),COLUMN(E3)),"")} -> 1963.219 | J4: {=IFERROR(INDEX('extraction données'!$E$2:$R$30,ROW(F3),COLUMN(F3))+ INDEX('extraction données'!$T$2:$AG$30,ROW(F3),COLUMN(F3))+ INDEX('extraction données'!$AI$2:$AV$30,ROW(F3),COLUMN(F3)),"")} -> 3435.267 | K4: {=IFERROR(INDEX('extraction données'!$E$2:$R$30,ROW(G3),COLUMN(G3))+ INDEX('extraction données'!$T$2:$AG$30,ROW(G3),COLUMN(G3))+ INDEX('extraction données'!$AI$2:$AV$30,ROW(G3),COLUMN(G3)),"")} -> 3894.907 | L4: {=IFERROR(INDEX('extraction données'!$E$2:$R$30,ROW(H3),COLUMN(H3))+ INDEX('extraction données'!$T$2:$AG$30,ROW(H3),COLUMN(H3))+ INDEX('extraction données'!$AI$2:$AV$30,ROW(H3),COLUMN(H3)),"")} -> 3083.788 | ... S4: {=IFERROR(INDEX('extraction données'!$E$2:$R$30,ROW(O3),COLUMN(O3))+ INDEX('extraction données'!$T$2:$AG$30,ROW(O3),COLUMN(O3))+ INDEX('extraction données'!$AI$2:$AV$30,ROW(O3),COLUMN(O3)),"")}
A5: ='extraction données'!A5 -> ABBOUS | B5: ='extraction données'!B5 -> GALA | C5: ='extraction données'!C5 -> BROOKFIELD | D5: ='extraction données'!D5 -> 1 pass | E5: {=IFERROR(INDEX('extraction données'!$E$2:$R$30,ROW(A4),COLUMN(A4))+ INDEX('extraction données'!$T$2:$AG$30,ROW(A4),COLUMN(A4))+ INDEX('extraction données'!$AI$2:$AV$30,ROW(A4),COLUMN(A4)),"")} -> 2.855 | F5: {=IFERROR(INDEX('extraction données'!$E$2:$R$30,ROW(B4),COLUMN(B4))+ INDEX('extraction données'!$T$2:$AG$30,ROW(B4),COLUMN(B4))+ INDEX('extraction données'!$AI$2:$AV$30,ROW(B4),COLUMN(B4)),"")} -> 18.673 | G5: {=IFERROR(INDEX('extraction données'!$E$2:$R$30,ROW(C4),COLUMN(C4))+ INDEX('extraction données'!$T$2:$AG$30,ROW(C4),COLUMN(C4))+ INDEX('extraction données'!$AI$2:$AV$30,ROW(C4),COLUMN(C4)),"")} -> 0 | H5: {=IFERROR(INDEX('extraction données'!$E$2:$R$30,ROW(D4),COLUMN(D4))+ INDEX('extraction données'!$T$2:$AG$30,ROW(D4),COLUMN(D4))+ INDEX('extraction données'!$AI$2:$AV$30,ROW(D4),COLUMN(D4)),"")} -> 228.981 | I5: {=IFERROR(INDEX('extraction données'!$E$2:$R$30,ROW(E4),COLUMN(E4))+ INDEX('extraction données'!$T$2:$AG$30,ROW(E4),COLUMN(E4))+ INDEX('extraction données'!$AI$2:$AV$30,ROW(E4),COLUMN(E4)),"")} -> 824.017 | J5: {=IFERROR(INDEX('extraction données'!$E$2:$R$30,ROW(F4),COLUMN(F4))+ INDEX('extraction données'!$T$2:$AG$30,ROW(F4),COLUMN(F4))+ INDEX('extraction données'!$AI$2:$AV$30,ROW(F4),COLUMN(F4)),"")} -> 2465.828 | K5: {=IFERROR(INDEX('extraction données'!$E$2:$R$30,ROW(G4),COLUMN(G4))+ INDEX('extraction données'!$T$2:$AG$30,ROW(G4),COLUMN(G4))+ INDEX('extraction données'!$AI$2:$AV$30,ROW(G4),COLUMN(G4)),"")} -> 4670.715 | L5: {=IFERROR(INDEX('extraction données'!$E$2:$R$30,ROW(H4),COLUMN(H4))+ INDEX('extraction données'!$T$2:$AG$30,ROW(H4),COLUMN(H4))+ INDEX('extraction données'!$AI$2:$AV$30,ROW(H4),COLUMN(H4)),"")} -> 5286.544 | ... S5: {=IFERROR(INDEX('extraction données'!$E$2:$R$30,ROW(O4),COLUMN(O4))+ INDEX('extraction données'!$T$2:$AG$30,ROW(O4),COLUMN(O4))+ INDEX('extraction données'!$AI$2:$AV$30,ROW(O4),COLUMN(O4)),"")}
A6: ='extraction données'!A6 -> ABBOUS | B6: ='extraction données'!B6 -> GALA | C6: ='extraction données'!C6 -> BROOKFIELD | D6: ='extraction données'!D6 -> 1 pass | E6: {=IFERROR(INDEX('extraction données'!$E$2:$R$30,ROW(A5),COLUMN(A5))+ INDEX('extraction données'!$T$2:$AG$30,ROW(A5),COLUMN(A5))+ INDEX('extraction données'!$AI$2:$AV$30,ROW(A5),COLUMN(A5)),"")} -> 3.241 | F6: {=IFERROR(INDEX('extraction données'!$E$2:$R$30,ROW(B5),COLUMN(B5))+ INDEX('extraction données'!$T$2:$AG$30,ROW(B5),COLUMN(B5))+ INDEX('extraction données'!$AI$2:$AV$30,ROW(B5),COLUMN(B5)),"")} -> 19.754 | G6: {=IFERROR(INDEX('extraction données'!$E$2:$R$30,ROW(C5),COLUMN(C5))+ INDEX('extraction données'!$T$2:$AG$30,ROW(C5),COLUMN(C5))+ INDEX('extraction données'!$AI$2:$AV$30,ROW(C5),COLUMN(C5)),"")} -> 0 | H6: {=IFERROR(INDEX('extraction données'!$E$2:$R$30,ROW(D5),COLUMN(D5))+ INDEX('extraction données'!$T$2:$AG$30,ROW(D5),COLUMN(D5))+ INDEX('extraction données'!$AI$2:$AV$30,ROW(D5),COLUMN(D5)),"")} -> 213.629 | I6: {=IFERROR(INDEX('extraction données'!$E$2:$R$30,ROW(E5),COLUMN(E5))+ INDEX('extraction données'!$T$2:$AG$30,ROW(E5),COLUMN(E5))+ INDEX('extraction données'!$AI$2:$AV$30,ROW(E5),COLUMN(E5)),"")} -> 754.545 | J6: {=IFERROR(INDEX('extraction données'!$E$2:$R$30,ROW(F5),COLUMN(F5))+ INDEX('extraction données'!$T$2:$AG$30,ROW(F5),COLUMN(F5))+ INDEX('extraction données'!$AI$2:$AV$30,ROW(F5),COLUMN(F5)),"")} -> 2284.785 | K6: {=IFERROR(INDEX('extraction données'!$E$2:$R$30,ROW(G5),COLUMN(G5))+ INDEX('extraction données'!$T$2:$AG$30,ROW(G5),COLUMN(G5))+ INDEX('extraction données'!$AI$2:$AV$30,ROW(G5),COLUMN(G5)),"")} -> 4212.653 | L6: {=IFERROR(INDEX('extraction données'!$E$2:$R$30,ROW(H5),COLUMN(H5))+ INDEX('extraction données'!$T$2:$AG$30,ROW(H5),COLUMN(H5))+ INDEX('extraction données'!$AI$2:$AV$30,ROW(H5),COLUMN(H5)),"")} -> 4302.744 | ... S6: {=IFERROR(INDEX('extraction données'!$E$2:$R$30,ROW(O5),COLUMN(O5))+ INDEX('extraction données'!$T$2:$AG$30,ROW(O5),COLUMN(O5))+ INDEX('extraction données'!$AI$2:$AV$30,ROW(O5),COLUMN(O5)),"")}
A7: ='extraction données'!A7 -> ABBOUS | B7: ='extraction données'!B7 -> GALA | C7: ='extraction données'!C7 -> BUCKEYE | D7: ='extraction données'!D7 -> 2 pass | E7: {=IFERROR(INDEX('extraction données'!$E$2:$R$30,ROW(A6),COLUMN(A6))+ INDEX('extraction données'!$T$2:$AG$30,ROW(A6),COLUMN(A6))+ INDEX('extraction données'!$AI$2:$AV$30,ROW(A6),COLUMN(A6)),"")} -> 4.62 | F7: {=IFERROR(INDEX('extraction données'!$E$2:$R$30,ROW(B6),COLUMN(B6))+ INDEX('extraction données'!$T$2:$AG$30,ROW(B6),COLUMN(B6))+ INDEX('extraction données'!$AI$2:$AV$30,ROW(B6),COLUMN(B6)),"")} -> 3.162 | G7: {=IFERROR(INDEX('extraction données'!$E$2:$R$30,ROW(C6),COLUMN(C6))+ INDEX('extraction données'!$T$2:$AG$30,ROW(C6),COLUMN(C6))+ INDEX('extraction données'!$AI$2:$AV$30,ROW(C6),COLUMN(C6)),"")} -> 0 | H7: {=IFERROR(INDEX('extraction données'!$E$2:$R$30,ROW(D6),COLUMN(D6))+ INDEX('extraction données'!$T$2:$AG$30,ROW(D6),COLUMN(D6))+ INDEX('extraction données'!$AI$2:$AV$30,ROW(D6),COLUMN(D6)),"")} -> 50.711 | I7: {=IFERROR(INDEX('extraction données'!$E$2:$R$30,ROW(E6),COLUMN(E6))+ INDEX('extraction données'!$T$2:$AG$30,ROW(E6),COLUMN(E6))+ INDEX('extraction données'!$AI$2:$AV$30,ROW(E6),COLUMN(E6)),"")} -> 202.783 | J7: {=IFERROR(INDEX('extraction données'!$E$2:$R$30,ROW(F6),COLUMN(F6))+ INDEX('extraction données'!$T$2:$AG$30,ROW(F6),COLUMN(F6))+ INDEX('extraction données'!$AI$2:$AV$30,ROW(F6),COLUMN(F6)),"")} -> 667.696 | K7: {=IFERROR(INDEX('extraction données'!$E$2:$R$30,ROW(G6),COLUMN(G6))+ INDEX('extraction données'!$T$2:$AG$30,ROW(G6),COLUMN(G6))+ INDEX('extraction données'!$AI$2:$AV$30,ROW(G6),COLUMN(G6)),"")} -> 1382.358 | L7: {=IFERROR(INDEX('extraction données'!$E$2:$R$30,ROW(H6),COLUMN(H6))+ INDEX('extraction données'!$T$2:$AG$30,ROW(H6),COLUMN(H6))+ INDEX('extraction données'!$AI$2:$AV$30,ROW(H6),COLUMN(H6)),"")} -> 1642.386 | ... S7: {=IFERROR(INDEX('extraction données'!$E$2:$R$30,ROW(O6),COLUMN(O6))+ INDEX('extraction données'!$T$2:$AG$30,ROW(O6),COLUMN(O6))+ INDEX('extraction données'!$AI$2:$AV$30,ROW(O6),COLUMN(O6)),"")}
A8: ='extraction données'!A8 -> ABBOUS | B8: ='extraction données'!B8 -> GALA | C8: ='extraction données'!C8 -> BROOKFIELD | D8: ='extraction données'!D8 -> 2 pass | E8: {=IFERROR(INDEX('extraction données'!$E$2:$R$30,ROW(A7),COLUMN(A7))+ INDEX('extraction données'!$T$2:$AG$30,ROW(A7),COLUMN(A7))+ INDEX('extraction données'!$AI$2:$AV$30,ROW(A7),COLUMN(A7)),"")} -> 0.847 | F8: {=IFERROR(INDEX('extraction données'!$E$2:$R$30,ROW(B7),COLUMN(B7))+ INDEX('extraction données'!$T$2:$AG$30,ROW(B7),COLUMN(B7))+ INDEX('extraction données'!$AI$2:$AV$30,ROW(B7),COLUMN(B7)),"")} -> 2.677 | G8: {=IFERROR(INDEX('extraction données'!$E$2:$R$30,ROW(C7),COLUMN(C7))+ INDEX('extraction données'!$T$2:$AG$30,ROW(C7),COLUMN(C7))+ INDEX('extraction données'!$AI$2:$AV$30,ROW(C7),COLUMN(C7)),"")} -> 0 | H8: {=IFERROR(INDEX('extraction données'!$E$2:$R$30,ROW(D7),COLUMN(D7))+ INDEX('extraction données'!$T$2:$AG$30,ROW(D7),COLUMN(D7))+ INDEX('extraction données'!$AI$2:$AV$30,ROW(D7),COLUMN(D7)),"")} -> 66.637 | I8: {=IFERROR(INDEX('extraction données'!$E$2:$R$30,ROW(E7),COLUMN(E7))+ INDEX('extraction données'!$T$2:$AG$30,ROW(E7),COLUMN(E7))+ INDEX('extraction données'!$AI$2:$AV$30,ROW(E7),COLUMN(E7)),"")} -> 258.566 | J8: {=IFERROR(INDEX('extraction données'!$E$2:$R$30,ROW(F7),COLUMN(F7))+ INDEX('extraction données'!$T$2:$AG$30,ROW(F7),COLUMN(F7))+ INDEX('extraction données'!$AI$2:$AV$30,ROW(F7),COLUMN(F7)),"")} -> 878.057 | K8: {=IFERROR(INDEX('extraction données'!$E$2:$R$30,ROW(G7),COLUMN(G7))+ INDEX('extraction données'!$T$2:$AG$30,ROW(G7),COLUMN(G7))+ INDEX('extraction données'!$AI$2:$AV$30,ROW(G7),COLUMN(G7)),"")} -> 1739.95 | L8: {=IFERROR(INDEX('extraction données'!$E$2:$R$30,ROW(H7),COLUMN(H7))+ INDEX('extraction données'!$T$2:$AG$30,ROW(H7),COLUMN(H7))+ INDEX('extraction données'!$AI$2:$AV$30,ROW(H7),COLUMN(H7)),"")} -> 1942.821 | ... S8: {=IFERROR(INDEX('extraction données'!$E$2:$R$30,ROW(O7),COLUMN(O7))+ INDEX('extraction données'!$T$2:$AG$30,ROW(O7),COLUMN(O7))+ INDEX('extraction données'!$AI$2:$AV$30,ROW(O7),COLUMN(O7)),"")}
A9: ='extraction données'!A9 -> ABBOUS | B9: ='extraction données'!B9 -> GALA | C9: ='extraction données'!C9 -> BROOKFIELD | D9: ='extraction données'!D9 -> 3 pass | E9: {=IFERROR(INDEX('extraction données'!$E$2:$R$30,ROW(A8),COLUMN(A8))+ INDEX('extraction données'!$T$2:$AG$30,ROW(A8),COLUMN(A8))+ INDEX('extraction données'!$AI$2:$AV$30,ROW(A8),COLUMN(A8)),"")} -> 0 | F9: {=IFERROR(INDEX('extraction données'!$E$2:$R$30,ROW(B8),COLUMN(B8))+ INDEX('extraction données'!$T$2:$AG$30,ROW(B8),COLUMN(B8))+ INDEX('extraction données'!$AI$2:$AV$30,ROW(B8),COLUMN(B8)),"")} -> 0.255 | G9: {=IFERROR(INDEX('extraction données'!$E$2:$R$30,ROW(C8),COLUMN(C8))+ INDEX('extraction données'!$T$2:$AG$30,ROW(C8),COLUMN(C8))+ INDEX('extraction données'!$AI$2:$AV$30,ROW(C8),COLUMN(C8)),"")} -> 0 | H9: {=IFERROR(INDEX('extraction données'!$E$2:$R$30,ROW(D8),COLUMN(D8))+ INDEX('extraction données'!$T$2:$AG$30,ROW(D8),COLUMN(D8))+ INDEX('extraction données'!$AI$2:$AV$30,ROW(D8),COLUMN(D8)),"")} -> 2.544 | I9: {=IFERROR(INDEX('extraction données'!$E$2:$R$30,ROW(E8),COLUMN(E8))+ INDEX('extraction données'!$T$2:$AG$30,ROW(E8),COLUMN(E8))+ INDEX('extraction données'!$AI$2:$AV$30,ROW(E8),COLUMN(E8)),"")} -> 16.241 | J9: {=IFERROR(INDEX('extraction données'!$E$2:$R$30,ROW(F8),COLUMN(F8))+ INDEX('extraction données'!$T$2:$AG$30,ROW(F8),COLUMN(F8))+ INDEX('extraction données'!$AI$2:$AV$30,ROW(F8),COLUMN(F8)),"")} -> 69.541 | K9: {=IFERROR(INDEX('extraction données'!$E$2:$R$30,ROW(G8),COLUMN(G8))+ INDEX('extraction données'!$T$2:$AG$30,ROW(G8),COLUMN(G8))+ INDEX('extraction données'!$AI$2:$AV$30,ROW(G8),COLUMN(G8)),"")} -> 184.605 | L9: {=IFERROR(INDEX('extraction données'!$E$2:$R$30,ROW(H8),COLUMN(H8))+ INDEX('extraction données'!$T$2:$AG$30,ROW(H8),COLUMN(H8))+ INDEX('extraction données'!$AI$2:$AV$30,ROW(H8),COLUMN(H8)),"")} -> 271.074 | ... S9: {=IFERROR(INDEX('extraction données'!$E$2:$R$30,ROW(O8),COLUMN(O8))+ INDEX('extraction données'!$T$2:$AG$30,ROW(O8),COLUMN(O8))+ INDEX('extraction données'!$AI$2:$AV$30,ROW(O8),COLUMN(O8)),"")}
A10: ='extraction données'!A10 -> ABBOUS | B10: ='extraction données'!B10 -> GRANNY | C10: ='extraction données'!C10 -> STANDAR | D10: ='extraction données'!D10 -> 1 pass smart fresh | E10: {=IFERROR(INDEX('extraction données'!$E$2:$R$30,ROW(A9),COLUMN(A9))+ INDEX('extraction données'!$T$2:$AG$30,ROW(A9),COLUMN(A9))+ INDEX('extraction données'!$AI$2:$AV$30,ROW(A9),COLUMN(A9)),"")} -> 15.958 | F10: {=IFERROR(INDEX('extraction données'!$E$2:$R$30,ROW(B9),COLUMN(B9))+ INDEX('extraction données'!$T$2:$AG$30,ROW(B9),COLUMN(B9))+ INDEX('extraction données'!$AI$2:$AV$30,ROW(B9),COLUMN(B9)),"")} -> 97.462 | G10: {=IFERROR(INDEX('extraction données'!$E$2:$R$30,ROW(C9),COLUMN(C9))+ INDEX('extraction données'!$T$2:$AG$30,ROW(C9),COLUMN(C9))+ INDEX('extraction données'!$AI$2:$AV$30,ROW(C9),COLUMN(C9)),"")} -> 0 | H10: {=IFERROR(INDEX('extraction données'!$E$2:$R$30,ROW(D9),COLUMN(D9))+ INDEX('extraction données'!$T$2:$AG$30,ROW(D9),COLUMN(D9))+ INDEX('extraction données'!$AI$2:$AV$30,ROW(D9),COLUMN(D9)),"")} -> 331.056 | I10: {=IFERROR(INDEX('extraction données'!$E$2:$R$30,ROW(E9),COLUMN(E9))+ INDEX('extraction données'!$T$2:$AG$30,ROW(E9),COLUMN(E9))+ INDEX('extraction données'!$AI$2:$AV$30,ROW(E9),COLUMN(E9)),"")} -> 711.69 | J10: {=IFERROR(INDEX('extraction données'!$E$2:$R$30,ROW(F9),COLUMN(F9))+ INDEX('extraction données'!$T$2:$AG$30,ROW(F9),COLUMN(F9))+ INDEX('extraction données'!$AI$2:$AV$30,ROW(F9),COLUMN(F9)),"")} -> 1492.643 | K10: {=IFERROR(INDEX('extraction données'!$E$2:$R$30,ROW(G9),COLUMN(G9))+ INDEX('extraction données'!$T$2:$AG$30,ROW(G9),COLUMN(G9))+ INDEX('extraction données'!$AI$2:$AV$30,ROW(G9),COLUMN(G9)),"")} -> 2080.914 | L10: {=IFERROR(INDEX('extraction données'!$E$2:$R$30,ROW(H9),COLUMN(H9))+ INDEX('extraction données'!$T$2:$AG$30,ROW(H9),COLUMN(H9))+ INDEX('extraction données'!$AI$2:$AV$30,ROW(H9),COLUMN(H9)),"")} -> 1901.033 | ... S10: {=IFERROR(INDEX('extraction données'!$E$2:$R$30,ROW(O9),COLUMN(O9))+ INDEX('extraction données'!$T$2:$AG$30,ROW(O9),COLUMN(O9))+ INDEX('extraction données'!$AI$2:$AV$30,ROW(O9),COLUMN(O9)),"")}
A11: ='extraction données'!A11 -> ABBOUS | B11: ='extraction données'!B11 -> GRANNY | C11: ='extraction données'!C11 -> STANDAR | D11: ='extraction données'!D11 -> 1 pass smart fresh | E11: {=IFERROR(INDEX('extraction données'!$E$2:$R$30,ROW(A10),COLUMN(A10))+ INDEX('extraction données'!$T$2:$AG$30,ROW(A10),COLUMN(A10))+ INDEX('extraction données'!$AI$2:$AV$30,ROW(A10),COLUMN(A10)),"")} -> 13.21 | F11: {=IFERROR(INDEX('extraction données'!$E$2:$R$30,ROW(B10),COLUMN(B10))+ INDEX('extraction données'!$T$2:$AG$30,ROW(B10),COLUMN(B10))+ INDEX('extraction données'!$AI$2:$AV$30,ROW(B10),COLUMN(B10)),"")} -> 60.922 | G11: {=IFERROR(INDEX('extraction données'!$E$2:$R$30,ROW(C10),COLUMN(C10))+ INDEX('extraction données'!$T$2:$AG$30,ROW(C10),COLUMN(C10))+ INDEX('extraction données'!$AI$2:$AV$30,ROW(C10),COLUMN(C10)),"")} -> 0 | H11: {=IFERROR(INDEX('extraction données'!$E$2:$R$30,ROW(D10),COLUMN(D10))+ INDEX('extraction données'!$T$2:$AG$30,ROW(D10),COLUMN(D10))+ INDEX('extraction données'!$AI$2:$AV$30,ROW(D10),COLUMN(D10)),"")} -> 471.161 | I11: {=IFERROR(INDEX('extraction données'!$E$2:$R$30,ROW(E10),COLUMN(E10))+ INDEX('extraction données'!$T$2:$AG$30,ROW(E10),COLUMN(E10))+ INDEX('extraction données'!$AI$2:$AV$30,ROW(E10),COLUMN(E10)),"")} -> 1236.103 | J11: {=IFERROR(INDEX('extraction données'!$E$2:$R$30,ROW(F10),COLUMN(F10))+ INDEX('extraction données'!$T$2:$AG$30,ROW(F10),COLUMN(F10))+ INDEX('extraction données'!$AI$2:$AV$30,ROW(F10),COLUMN(F10)),"")} -> 2761.74 | K11: {=IFERROR(INDEX('extraction données'!$E$2:$R$30,ROW(G10),COLUMN(G10))+ INDEX('extraction données'!$T$2:$AG$30,ROW(G10),COLUMN(G10))+ INDEX('extraction données'!$AI$2:$AV$30,ROW(G10),COLUMN(G10)),"")} -> 4015.524 | L11: {=IFERROR(INDEX('extraction données'!$E$2:$R$30,ROW(H10),COLUMN(H10))+ INDEX('extraction données'!$T$2:$AG$30,ROW(H10),COLUMN(H10))+ INDEX('extraction données'!$AI$2:$AV$30,ROW(H10),COLUMN(H10)),"")} -> 3633.963 | ... S11: {=IFERROR(INDEX('extraction données'!$E$2:$R$30,ROW(O10),COLUMN(O10))+ INDEX('extraction données'!$T$2:$AG$30,ROW(O10),COLUMN(O10))+ INDEX('extraction données'!$AI$2:$AV$30,ROW(O10),COLUMN(O10)),"")}
A12: ='extraction données'!A12 -> ABBOUS | B12: ='extraction données'!B12 -> GRANNY | C12: ='extraction données'!C12 -> STANDAR | D12: ='extraction données'!D12 -> 1 pass smart fresh | E12: {=IFERROR(INDEX('extraction données'!$E$2:$R$30,ROW(A11),COLUMN(A11))+ INDEX('extraction données'!$T$2:$AG$30,ROW(A11),COLUMN(A11))+ INDEX('extraction données'!$AI$2:$AV$30,ROW(A11),COLUMN(A11)),"")} -> 13.13 | F12: {=IFERROR(INDEX('extraction données'!$E$2:$R$30,ROW(B11),COLUMN(B11))+ INDEX('extraction données'!$T$2:$AG$30,ROW(B11),COLUMN(B11))+ INDEX('extraction données'!$AI$2:$AV$30,ROW(B11),COLUMN(B11)),"")} -> 26.106 | G12: {=IFERROR(INDEX('extraction données'!$E$2:$R$30,ROW(C11),COLUMN(C11))+ INDEX('extraction données'!$T$2:$AG$30,ROW(C11),COLUMN(C11))+ INDEX('extraction données'!$AI$2:$AV$30,ROW(C11),COLUMN(C11)),"")} -> 0 | H12: {=IFERROR(INDEX('extraction données'!$E$2:$R$30,ROW(D11),COLUMN(D11))+ INDEX('extraction données'!$T$2:$AG$30,ROW(D11),COLUMN(D11))+ INDEX('extraction données'!$AI$2:$AV$30,ROW(D11),COLUMN(D11)),"")} -> 98.551 | I12: {=IFERROR(INDEX('extraction données'!$E$2:$R$30,ROW(E11),COLUMN(E11))+ INDEX('extraction données'!$T$2:$AG$30,ROW(E11),COLUMN(E11))+ INDEX('extraction données'!$AI$2:$AV$30,ROW(E11),COLUMN(E11)),"")} -> 169.126 | J12: {=IFERROR(INDEX('extraction données'!$E$2:$R$30,ROW(F11),COLUMN(F11))+ INDEX('extraction données'!$T$2:$AG$30,ROW(F11),COLUMN(F11))+ INDEX('extraction données'!$AI$2:$AV$30,ROW(F11),COLUMN(F11)),"")} -> 270.189 | K12: {=IFERROR(INDEX('extraction données'!$E$2:$R$30,ROW(G11),COLUMN(G11))+ INDEX('extraction données'!$T$2:$AG$30,ROW(G11),COLUMN(G11))+ INDEX('extraction données'!$AI$2:$AV$30,ROW(G11),COLUMN(G11)),"")} -> 305.24 | L12: {=IFERROR(INDEX('extraction données'!$E$2:$R$30,ROW(H11),COLUMN(H11))+ INDEX('extraction données'!$T$2:$AG$30,ROW(H11),COLUMN(H11))+ INDEX('extraction données'!$AI$2:$AV$30,ROW(H11),COLUMN(H11)),"")} -> 260.516 | ... S12: {=IFERROR(INDEX('extraction données'!$E$2:$R$30,ROW(O11),COLUMN(O11))+ INDEX('extraction données'!$T$2:$AG$30,ROW(O11),COLUMN(O11))+ INDEX('extraction données'!$AI$2:$AV$30,ROW(O11),COLUMN(O11)),"")}
A13: ='extraction données'!A13 -> ABEL | B13: ='extraction données'!B13 -> FUJI | C13: ='extraction données'!C13 -> ASTECK | D13: ='extraction données'!D13 -> 2 pass dallacosta | E13: {=IFERROR(INDEX('extraction données'!$E$2:$R$30,ROW(A12),COLUMN(A12))+ INDEX('extraction données'!$T$2:$AG$30,ROW(A12),COLUMN(A12))+ INDEX('extraction données'!$AI$2:$AV$30,ROW(A12),COLUMN(A12)),"")} -> 97.037 | F13: {=IFERROR(INDEX('extraction données'!$E$2:$R$30,ROW(B12),COLUMN(B12))+ INDEX('extraction données'!$T$2:$AG$30,ROW(B12),COLUMN(B12))+ INDEX('extraction données'!$AI$2:$AV$30,ROW(B12),COLUMN(B12)),"")} -> 255.035 | G13: {=IFERROR(INDEX('extraction données'!$E$2:$R$30,ROW(C12),COLUMN(C12))+ INDEX('extraction données'!$T$2:$AG$30,ROW(C12),COLUMN(C12))+ INDEX('extraction données'!$AI$2:$AV$30,ROW(C12),COLUMN(C12)),"")} -> 0 | H13: {=IFERROR(INDEX('extraction données'!$E$2:$R$30,ROW(D12),COLUMN(D12))+ INDEX('extraction données'!$T$2:$AG$30,ROW(D12),COLUMN(D12))+ INDEX('extraction données'!$AI$2:$AV$30,ROW(D12),COLUMN(D12)),"")} -> 570.784 | I13: {=IFERROR(INDEX('extraction données'!$E$2:$R$30,ROW(E12),COLUMN(E12))+ INDEX('extraction données'!$T$2:$AG$30,ROW(E12),COLUMN(E12))+ INDEX('extraction données'!$AI$2:$AV$30,ROW(E12),COLUMN(E12)),"")} -> 1553.564 | J13: {=IFERROR(INDEX('extraction données'!$E$2:$R$30,ROW(F12),COLUMN(F12))+ INDEX('extraction données'!$T$2:$AG$30,ROW(F12),COLUMN(F12))+ INDEX('extraction données'!$AI$2:$AV$30,ROW(F12),COLUMN(F12)),"")} -> 1533.794 | K13: {=IFERROR(INDEX('extraction données'!$E$2:$R$30,ROW(G12),COLUMN(G12))+ INDEX('extraction données'!$T$2:$AG$30,ROW(G12),COLUMN(G12))+ INDEX('extraction données'!$AI$2:$AV$30,ROW(G12),COLUMN(G12)),"")} -> 2644.867 | L13: {=IFERROR(INDEX('extraction données'!$E$2:$R$30,ROW(H12),COLUMN(H12))+ INDEX('extraction données'!$T$2:$AG$30,ROW(H12),COLUMN(H12))+ INDEX('extraction données'!$AI$2:$AV$30,ROW(H12),COLUMN(H12)),"")} -> 1215.802 | ... S13: {=IFERROR(INDEX('extraction données'!$E$2:$R$30,ROW(O12),COLUMN(O12))+ INDEX('extraction données'!$T$2:$AG$30,ROW(O12),COLUMN(O12))+ INDEX('extraction données'!$AI$2:$AV$30,ROW(O12),COLUMN(O12)),"")}
... A39: ='extraction données'!A39 -> 0 | B39: ='extraction données'!B39 -> 0 | C39: ='extraction données'!C39 -> 0 | D39: ='extraction données'!D39 -> 0 | E39: {=IFERROR(INDEX('extraction données'!$E$2:$R$30,ROW(A38),COLUMN(A38))+ INDEX('extraction données'!$T$2:$AG$30,ROW(A38),COLUMN(A38))+ INDEX('extraction données'!$AI$2:$AV$30,ROW(A38),COLUMN(A38)),"")} | F39: {=IFERROR(INDEX('extraction données'!$E$2:$R$30,ROW(B38),COLUMN(B38))+ INDEX('extraction données'!$T$2:$AG$30,ROW(B38),COLUMN(B38))+ INDEX('extraction données'!$AI$2:$AV$30,ROW(B38),COLUMN(B38)),"")} | G39: {=IFERROR(INDEX('extraction données'!$E$2:$R$30,ROW(C38),COLUMN(C38))+ INDEX('extraction données'!$T$2:$AG$30,ROW(C38),COLUMN(C38))+ INDEX('extraction données'!$AI$2:$AV$30,ROW(C38),COLUMN(C38)),"")} | H39: {=IFERROR(INDEX('extraction données'!$E$2:$R$30,ROW(D38),COLUMN(D38))+ INDEX('extraction données'!$T$2:$AG$30,ROW(D38),COLUMN(D38))+ INDEX('extraction données'!$AI$2:$AV$30,ROW(D38),COLUMN(D38)),"")} | I39: {=IFERROR(INDEX('extraction données'!$E$2:$R$30,ROW(E38),COLUMN(E38))+ INDEX('extraction données'!$T$2:$AG$30,ROW(E38),COLUMN(E38))+ INDEX('extraction données'!$AI$2:$AV$30,ROW(E38),COLUMN(E38)),"")} | J39: {=IFERROR(INDEX('extraction données'!$E$2:$R$30,ROW(F38),COLUMN(F38))+ INDEX('extraction données'!$T$2:$AG$30,ROW(F38),COLUMN(F38))+ INDEX('extraction données'!$AI$2:$AV$30,ROW(F38),COLUMN(F38)),"")} | K39: {=IFERROR(INDEX('extraction données'!$E$2:$R$30,ROW(G38),COLUMN(G38))+ INDEX('extraction données'!$T$2:$AG$30,ROW(G38),COLUMN(G38))+ INDEX('extraction données'!$AI$2:$AV$30,ROW(G38),COLUMN(G38)),"")} | L39: {=IFERROR(INDEX('extraction données'!$E$2:$R$30,ROW(H38),COLUMN(H38))+ INDEX('extraction données'!$T$2:$AG$30,ROW(H38),COLUMN(H38))+ INDEX('extraction données'!$AI$2:$AV$30,ROW(H38),COLUMN(H38)),"")} | ... S39: {=IFERROR(INDEX('extraction données'!$E$2:$R$30,ROW(O38),COLUMN(O38))+ INDEX('extraction données'!$T$2:$AG$30,ROW(O38),COLUMN(O38))+ INDEX('extraction données'!$AI$2:$AV$30,ROW(O38),COLUMN(O38)),"")}
A40: ='extraction données'!A40 -> 0 | B40: ='extraction données'!B40 -> 0 | C40: ='extraction données'!C40 -> 0 | D40: ='extraction données'!D40 -> 0
A41: ='extraction données'!A41 -> 0 | B41: ='extraction données'!B41 -> 0 | C41: ='extraction données'!C41 -> 0 | D41: ='extraction données'!D41 -> 0
A42: ='extraction données'!A42 -> 0 | B42: ='extraction données'!B42 -> 0 | C42: ='extraction données'!C42 -> 0 | D42: ='extraction données'!D42 -> 0
A43: ='extraction données'!A43 -> 0 | B43: ='extraction données'!B43 -> 0 | C43: ='extraction données'!C43 -> 0 | D43: ='extraction données'!D43 -> 0
A44: ='extraction données'!A44 -> 0 | B44: ='extraction données'!B44 -> 0 | C44: ='extraction données'!C44 -> 0 | D44: ='extraction données'!D44 -> 0
A45: ='extraction données'!A45 -> 0 | B45: ='extraction données'!B45 -> 0 | C45: ='extraction données'!C45 -> 0 | D45: ='extraction données'!D45 -> 0
A46: ='extraction données'!A46 -> 0 | B46: ='extraction données'!B46 -> 0 | C46: ='extraction données'!C46 -> 0 | D46: ='extraction données'!D46 -> 0
A47: ='extraction données'!A47 -> 0 | B47: ='extraction données'!B47 -> 0 | C47: ='extraction données'!C47 -> 0 | D47: ='extraction données'!D47 -> 0
A48: ='extraction données'!A48 -> 0 | B48: ='extraction données'!B48 -> 0 | C48: ='extraction données'!C48 -> 0 | D48: ='extraction données'!D48 -> 0
A49: ='extraction données'!A49 -> 0 | B49: ='extraction données'!B49 -> 0 | C49: ='extraction données'!C49 -> 0 | D49: ='extraction données'!D49 -> 0
A50: ='extraction données'!A50 -> 0 | B50: ='extraction données'!B50 -> 0 | C50: ='extraction données'!C50 -> 0 | D50: ='extraction données'!D50 -> 0
A51: ='extraction données'!A51 -> 0 | B51: ='extraction données'!B51 -> 0 | C51: ='extraction données'!C51 -> 0 | D51: ='extraction données'!D51 -> 0
... A141: ='extraction données'!A141 -> 0 | B141: ='extraction données'!B141 -> 0 | C141: ='extraction données'!C141 -> 0 | D141: ='extraction données'!D141 -> 0
