Workbook
Name Segment_Update_user: #N/A

Sheet NOVEMBRE 2024
A1: 11 | B1: ESFBE | C1: CHILLOW | D1: TABLES | E1: ENCEINTES | F1: A0101 | G1: NOVIGO | H1: ES216 UPS | I1: ES216 AMAZON | J1: puppysafe | K1: BELL & ROSS | L1: IZYBABY | M1: TOTAL | N1: MOYENNE | O1: LIVRAISON | P1: RETOUR | Q1: REASSORT | R1: CONTENEUR | S1: YUN EXPRESS | Y1: il y a des fautes | AB1: pour eviter procéder par copier coller des vals de Données
B2: Angélique LANGLOIS
A3: 45597 | B3: {=SUMPRODUCT((DONNEES!$A$2:$A$5120=B$1)*(DONNEES!$B$2:$B$5120=$B$2)*(INT(DONNEES!$C$2:$C$5120)=$A3))} -> 0 | C3: {=SUMPRODUCT((DONNEES!$A$2:$A$5120=C$1)*(DONNEES!$B$2:$B$5120=$B$2)*(INT(DONNEES!$C$2:$C$5120)=$A3))} -> 0 | D3: {=SUMPRODUCT((DONNEES!$A$2:$A$5120=D$1)*(DONNEES!$B$2:$B$5120=$B$2)*(INT(DONNEES!$C$2:$C$5120)=$A3))} -> 0 | E3: {=SUMPRODUCT((DONNEES!$A$2:$A$5120=E$1)*(DONNEES!$B$2:$B$5120=$B$2)*(INT(DONNEES!$C$2:$C$5120)=$A3))} -> 0 | F3: {=SUMPRODUCT((DONNEES!$A$2:$A$5120=F$1)*(DONNEES!$B$2:$B$5120=$B$2)*(INT(DONNEES!$C$2:$C$5120)=$A3))} -> 0 | G3: {=SUMPRODUCT((DONNEES!$A$2:$A$5120=G$1)*(DONNEES!$B$2:$B$5120=$B$2)*(INT(DONNEES!$C$2:$C$5120)=$A3))} -> 0 | H3: {=SUMPRODUCT((DONNEES!$A$2:$A$5120=H$1)*(DONNEES!$B$2:$B$5120=$B$2)*(INT(DONNEES!$C$2:$C$5120)=$A3))} -> 0 | I3: {=SUMPRODUCT((DONNEES!$A$2:$A$5120=I$1)*(DONNEES!$B$2:$B$5120=$B$2)*(INT(DONNEES!$C$2:$C$5120)=$A3))} -> 0 | ... S3: {=SUMPRODUCT((DONNEES!$A$2:$A$5120=S$1)*(DONNEES!$B$2:$B$5120=$B$2)*(INT(DONNEES!$C$2:$C$5120)=$A3))} -> 0
A4: 45598 | B4: {=SUMPRODUCT((DONNEES!$A$2:$A$5120=B$1)*(DONNEES!$B$2:$B$5120=$B$2)*(INT(DONNEES!$C$2:$C$5120)=$A4))} -> 0 | C4: {=SUMPRODUCT((DONNEES!$A$2:$A$5120=C$1)*(DONNEES!$B$2:$B$5120=$B$2)*(INT(DONNEES!$C$2:$C$5120)=$A4))} -> 0 | D4: {=SUMPRODUCT((DONNEES!$A$2:$A$5120=D$1)*(DONNEES!$B$2:$B$5120=$B$2)*(INT(DONNEES!$C$2:$C$5120)=$A4))} -> 0 | E4: {=SUMPRODUCT((DONNEES!$A$2:$A$5120=E$1)*(DONNEES!$B$2:$B$5120=$B$2)*(INT(DONNEES!$C$2:$C$5120)=$A4))} -> 0 | F4: {=SUMPRODUCT((DONNEES!$A$2:$A$5120=F$1)*(DONNEES!$B$2:$B$5120=$B$2)*(INT(DONNEES!$C$2:$C$5120)=$A4))} -> 0 | G4: {=SUMPRODUCT((DONNEES!$A$2:$A$5120=G$1)*(DONNEES!$B$2:$B$5120=$B$2)*(INT(DONNEES!$C$2:$C$5120)=$A4))} -> 0 | H4: {=SUMPRODUCT((DONNEES!$A$2:$A$5120=H$1)*(DONNEES!$B$2:$B$5120=$B$2)*(INT(DONNEES!$C$2:$C$5120)=$A4))} -> 0 | I4: {=SUMPRODUCT((DONNEES!$A$2:$A$5120=I$1)*(DONNEES!$B$2:$B$5120=$B$2)*(INT(DONNEES!$C$2:$C$5120)=$A4))} -> 0 | ... S4: {=SUMPRODUCT((DONNEES!$A$2:$A$5120=S$1)*(DONNEES!$B$2:$B$5120=$B$2)*(INT(DONNEES!$C$2:$C$5120)=$A4))} -> 0
A5: 45599 | B5: {=SUMPRODUCT((DONNEES!$A$2:$A$5120=B$1)*(DONNEES!$B$2:$B$5120=$B$2)*(INT(DONNEES!$C$2:$C$5120)=$A5))} -> 0 | C5: {=SUMPRODUCT((DONNEES!$A$2:$A$5120=C$1)*(DONNEES!$B$2:$B$5120=$B$2)*(INT(DONNEES!$C$2:$C$5120)=$A5))} -> 0 | D5: {=SUMPRODUCT((DONNEES!$A$2:$A$5120=D$1)*(DONNEES!$B$2:$B$5120=$B$2)*(INT(DONNEES!$C$2:$C$5120)=$A5))} -> 0 | E5: {=SUMPRODUCT((DONNEES!$A$2:$A$5120=E$1)*(DONNEES!$B$2:$B$5120=$B$2)*(INT(DONNEES!$C$2:$C$5120)=$A5))} -> 0 | F5: {=SUMPRODUCT((DONNEES!$A$2:$A$5120=F$1)*(DONNEES!$B$2:$B$5120=$B$2)*(INT(DONNEES!$C$2:$C$5120)=$A5))} -> 0 | G5: {=SUMPRODUCT((DONNEES!$A$2:$A$5120=G$1)*(DONNEES!$B$2:$B$5120=$B$2)*(INT(DONNEES!$C$2:$C$5120)=$A5))} -> 0 | H5: {=SUMPRODUCT((DONNEES!$A$2:$A$5120=H$1)*(DONNEES!$B$2:$B$5120=$B$2)*(INT(DONNEES!$C$2:$C$5120)=$A5))} -> 0 | I5: {=SUMPRODUCT((DONNEES!$A$2:$A$5120=I$1)*(DONNEES!$B$2:$B$5120=$B$2)*(INT(DONNEES!$C$2:$C$5120)=$A5))} -> 0 | ... S5: {=SUMPRODUCT((DONNEES!$A$2:$A$5120=S$1)*(DONNEES!$B$2:$B$5120=$B$2)*(INT(DONNEES!$C$2:$C$5120)=$A5))} -> 0
A6: 45600 | B6: {=SUMPRODUCT((DONNEES!$A$2:$A$5120=B$1)*(DONNEES!$B$2:$B$5120=$B$2)*(INT(DONNEES!$C$2:$C$5120)=$A6))} -> 292 | C6: {=SUMPRODUCT((DONNEES!$A$2:$A$5120=C$1)*(DONNEES!$B$2:$B$5120=$B$2)*(INT(DONNEES!$C$2:$C$5120)=$A6))} -> 15 | D6: {=SUMPRODUCT((DONNEES!$A$2:$A$5120=D$1)*(DONNEES!$B$2:$B$5120=$B$2)*(INT(DONNEES!$C$2:$C$5120)=$A6))} -> 0 | E6: {=SUMPRODUCT((DONNEES!$A$2:$A$5120=E$1)*(DONNEES!$B$2:$B$5120=$B$2)*(INT(DONNEES!$C$2:$C$5120)=$A6))} -> 0 | F6: {=SUMPRODUCT((DONNEES!$A$2:$A$5120=F$1)*(DONNEES!$B$2:$B$5120=$B$2)*(INT(DONNEES!$C$2:$C$5120)=$A6))} -> 0 | G6: {=SUMPRODUCT((DONNEES!$A$2:$A$5120=G$1)*(DONNEES!$B$2:$B$5120=$B$2)*(INT(DONNEES!$C$2:$C$5120)=$A6))} -> 0 | H6: {=SUMPRODUCT((DONNEES!$A$2:$A$5120=H$1)*(DONNEES!$B$2:$B$5120=$B$2)*(INT(DONNEES!$C$2:$C$5120)=$A6))} -> 0 | I6: {=SUMPRODUCT((DONNEES!$A$2:$A$5120=I$1)*(DONNEES!$B$2:$B$5120=$B$2)*(INT(DONNEES!$C$2:$C$5120)=$A6))} -> 0 | ... S6: {=SUMPRODUCT((DONNEES!$A$2:$A$5120=S$1)*(DONNEES!$B$2:$B$5120=$B$2)*(INT(DONNEES!$C$2:$C$5120)=$A6))} -> 0
A7: 45601 | B7: {=SUMPRODUCT((DONNEES!$A$2:$A$5120=B$1)*(DONNEES!$B$2:$B$5120=$B$2)*(INT(DONNEES!$C$2:$C$5120)=$A7))} -> 157 | C7: {=SUMPRODUCT((DONNEES!$A$2:$A$5120=C$1)*(DONNEES!$B$2:$B$5120=$B$2)*(INT(DONNEES!$C$2:$C$5120)=$A7))} -> 0 | D7: {=SUMPRODUCT((DONNEES!$A$2:$A$5120=D$1)*(DONNEES!$B$2:$B$5120=$B$2)*(INT(DONNEES!$C$2:$C$5120)=$A7))} -> 0 | E7: {=SUMPRODUCT((DONNEES!$A$2:$A$5120=E$1)*(DONNEES!$B$2:$B$5120=$B$2)*(INT(DONNEES!$C$2:$C$5120)=$A7))} -> 0 | F7: {=SUMPRODUCT((DONNEES!$A$2:$A$5120=F$1)*(DONNEES!$B$2:$B$5120=$B$2)*(INT(DONNEES!$C$2:$C$5120)=$A7))} -> 0 | G7: {=SUMPRODUCT((DONNEES!$A$2:$A$5120=G$1)*(DONNEES!$B$2:$B$5120=$B$2)*(INT(DONNEES!$C$2:$C$5120)=$A7))} -> 0 | H7: {=SUMPRODUCT((DONNEES!$A$2:$A$5120=H$1)*(DONNEES!$B$2:$B$5120=$B$2)*(INT(DONNEES!$C$2:$C$5120)=$A7))} -> 0 | I7: {=SUMPRODUCT((DONNEES!$A$2:$A$5120=I$1)*(DONNEES!$B$2:$B$5120=$B$2)*(INT(DONNEES!$C$2:$C$5120)=$A7))} -> 0 | ... S7: {=SUMPRODUCT((DONNEES!$A$2:$A$5120=S$1)*(DONNEES!$B$2:$B$5120=$B$2)*(INT(DONNEES!$C$2:$C$5120)=$A7))} -> 0
A8: 45602 | B8: {=SUMPRODUCT((DONNEES!$A$2:$A$5120=B$1)*(DONNEES!$B$2:$B$5120=$B$2)*(INT(DONNEES!$C$2:$C$5120)=$A8))} -> 140 | C8: {=SUMPRODUCT((DONNEES!$A$2:$A$5120=C$1)*(DONNEES!$B$2:$B$5120=$B$2)*(INT(DONNEES!$C$2:$C$5120)=$A8))} -> 0 | D8: {=SUMPRODUCT((DONNEES!$A$2:$A$5120=D$1)*(DONNEES!$B$2:$B$5120=$B$2)*(INT(DONNEES!$C$2:$C$5120)=$A8))} -> 0 | E8: {=SUMPRODUCT((DONNEES!$A$2:$A$5120=E$1)*(DONNEES!$B$2:$B$5120=$B$2)*(INT(DONNEES!$C$2:$C$5120)=$A8))} -> 0 | F8: {=SUMPRODUCT((DONNEES!$A$2:$A$5120=F$1)*(DONNEES!$B$2:$B$5120=$B$2)*(INT(DONNEES!$C$2:$C$5120)=$A8))} -> 0 | G8: {=SUMPRODUCT((DONNEES!$A$2:$A$5120=G$1)*(DONNEES!$B$2:$B$5120=$B$2)*(INT(DONNEES!$C$2:$C$5120)=$A8))} -> 0 | H8: {=SUMPRODUCT((DONNEES!$A$2:$A$5120=H$1)*(DONNEES!$B$2:$B$5120=$B$2)*(INT(DONNEES!$C$2:$C$5120)=$A8))} -> 0 | I8: {=SUMPRODUCT((DONNEES!$A$2:$A$5120=I$1)*(DONNEES!$B$2:$B$5120=$B$2)*(INT(DONNEES!$C$2:$C$5120)=$A8))} -> 0 | ... S8: {=SUMPRODUCT((DONNEES!$A$2:$A$5120=S$1)*(DONNEES!$B$2:$B$5120=$B$2)*(INT(DONNEES!$C$2:$C$5120)=$A8))} -> 0
A9: 45603 | B9: {=SUMPRODUCT((DONNEES!$A$2:$A$5120=B$1)*(DONNEES!$B$2:$B$5120=$B$2)*(INT(DONNEES!$C$2:$C$5120)=$A9))} -> 179 | C9: {=SUMPRODUCT((DONNEES!$A$2:$A$5120=C$1)*(DONNEES!$B$2:$B$5120=$B$2)*(INT(DONNEES!$C$2:$C$5120)=$A9))} -> 0 | D9: {=SUMPRODUCT((DONNEES!$A$2:$A$5120=D$1)*(DONNEES!$B$2:$B$5120=$B$2)*(INT(DONNEES!$C$2:$C$5120)=$A9))} -> 0 | E9: {=SUMPRODUCT((DONNEES!$A$2:$A$5120=E$1)*(DONNEES!$B$2:$B$5120=$B$2)*(INT(DONNEES!$C$2:$C$5120)=$A9))} -> 0 | F9: {=SUMPRODUCT((DONNEES!$A$2:$A$5120=F$1)*(DONNEES!$B$2:$B$5120=$B$2)*(INT(DONNEES!$C$2:$C$5120)=$A9))} -> 0 | G9: {=SUMPRODUCT((DONNEES!$A$2:$A$5120=G$1)*(DONNEES!$B$2:$B$5120=$B$2)*(INT(DONNEES!$C$2:$C$5120)=$A9))} -> 0 | H9: {=SUMPRODUCT((DONNEES!$A$2:$A$5120=H$1)*(DONNEES!$B$2:$B$5120=$B$2)*(INT(DONNEES!$C$2:$C$5120)=$A9))} -> 0 | I9: {=SUMPRODUCT((DONNEES!$A$2:$A$5120=I$1)*(DONNEES!$B$2:$B$5120=$B$2)*(INT(DONNEES!$C$2:$C$5120)=$A9))} -> 0 | ... S9: {=SUMPRODUCT((DONNEES!$A$2:$A$5120=S$1)*(DONNEES!$B$2:$B$5120=$B$2)*(INT(DONNEES!$C$2:$C$5120)=$A9))} -> 0
A10: 45604 | B10: {=SUMPRODUCT((DONNEES!$A$2:$A$5120=B$1)*(DONNEES!$B$2:$B$5120=$B$2)*(INT(DONNEES!$C$2:$C$5120)=$A10))} -> 0 | C10: {=SUMPRODUCT((DONNEES!$A$2:$A$5120=C$1)*(DONNEES!$B$2:$B$5120=$B$2)*(INT(DONNEES!$C$2:$C$5120)=$A10))} -> 0 | D10: {=SUMPRODUCT((DONNEES!$A$2:$A$5120=D$1)*(DONNEES!$B$2:$B$5120=$B$2)*(INT(DONNEES!$C$2:$C$5120)=$A10))} -> 0 | E10: {=SUMPRODUCT((DONNEES!$A$2:$A$5120=E$1)*(DONNEES!$B$2:$B$5120=$B$2)*(INT(DONNEES!$C$2:$C$5120)=$A10))} -> 0 | F10: {=SUMPRODUCT((DONNEES!$A$2:$A$5120=F$1)*(DONNEES!$B$2:$B$5120=$B$2)*(INT(DONNEES!$C$2:$C$5120)=$A10))} -> 0 | G10: {=SUMPRODUCT((DONNEES!$A$2:$A$5120=G$1)*(DONNEES!$B$2:$B$5120=$B$2)*(INT(DONNEES!$C$2:$C$5120)=$A10))} -> 0 | H10: {=SUMPRODUCT((DONNEES!$A$2:$A$5120=H$1)*(DONNEES!$B$2:$B$5120=$B$2)*(INT(DONNEES!$C$2:$C$5120)=$A10))} -> 0 | I10: {=SUMPRODUCT((DONNEES!$A$2:$A$5120=I$1)*(DONNEES!$B$2:$B$5120=$B$2)*(INT(DONNEES!$C$2:$C$5120)=$A10))} -> 0 | ... S10: {=SUMPRODUCT((DONNEES!$A$2:$A$5120=S$1)*(DONNEES!$B$2:$B$5120=$B$2)*(INT(DONNEES!$C$2:$C$5120)=$A10))} -> 0
A11: 45605 | B11: {=SUMPRODUCT((DONNEES!$A$2:$A$5120=B$1)*(DONNEES!$B$2:$B$5120=$B$2)*(INT(DONNEES!$C$2:$C$5120)=$A11))} -> 0 | C11: {=SUMPRODUCT((DONNEES!$A$2:$A$5120=C$1)*(DONNEES!$B$2:$B$5120=$B$2)*(INT(DONNEES!$C$2:$C$5120)=$A11))} -> 0 | D11: {=SUMPRODUCT((DONNEES!$A$2:$A$5120=D$1)*(DONNEES!$B$2:$B$5120=$B$2)*(INT(DONNEES!$C$2:$C$5120)=$A11))} -> 0 | E11: {=SUMPRODUCT((DONNEES!$A$2:$A$5120=E$1)*(DONNEES!$B$2:$B$5120=$B$2)*(INT(DONNEES!$C$2:$C$5120)=$A11))} -> 0 | F11: {=SUMPRODUCT((DONNEES!$A$2:$A$5120=F$1)*(DONNEES!$B$2:$B$5120=$B$2)*(INT(DONNEES!$C$2:$C$5120)=$A11))} -> 0 | G11: {=SUMPRODUCT((DONNEES!$A$2:$A$5120=G$1)*(DONNEES!$B$2:$B$5120=$B$2)*(INT(DONNEES!$C$2:$C$5120)=$A11))} -> 0 | H11: {=SUMPRODUCT((DONNEES!$A$2:$A$5120=H$1)*(DONNEES!$B$2:$B$5120=$B$2)*(INT(DONNEES!$C$2:$C$5120)=$A11))} -> 0 | I11: {=SUMPRODUCT((DONNEES!$A$2:$A$5120=I$1)*(DONNEES!$B$2:$B$5120=$B$2)*(INT(DONNEES!$C$2:$C$5120)=$A11))} -> 0 | ... S11: {=SUMPRODUCT((DONNEES!$A$2:$A$5120=S$1)*(DONNEES!$B$2:$B$5120=$B$2)*(INT(DONNEES!$C$2:$C$5120)=$A11))} -> 0
A12: 45606 | B12: {=SUMPRODUCT((DONNEES!$A$2:$A$5120=B$1)*(DONNEES!$B$2:$B$5120=$B$2)*(INT(DONNEES!$C$2:$C$5120)=$A12))} -> 0 | C12: {=SUMPRODUCT((DONNEES!$A$2:$A$5120=C$1)*(DONNEES!$B$2:$B$5120=$B$2)*(INT(DONNEES!$C$2:$C$5120)=$A12))} -> 0 | D12: {=SUMPRODUCT((DONNEES!$A$2:$A$5120=D$1)*(DONNEES!$B$2:$B$5120=$B$2)*(INT(DONNEES!$C$2:$C$5120)=$A12))} -> 0 | E12: {=SUMPRODUCT((DONNEES!$A$2:$A$5120=E$1)*(DONNEES!$B$2:$B$5120=$B$2)*(INT(DONNEES!$C$2:$C$5120)=$A12))} -> 0 | F12: {=SUMPRODUCT((DONNEES!$A$2:$A$5120=F$1)*(DONNEES!$B$2:$B$5120=$B$2)*(INT(DONNEES!$C$2:$C$5120)=$A12))} -> 0 | G12: {=SUMPRODUCT((DONNEES!$A$2:$A$5120=G$1)*(DONNEES!$B$2:$B$5120=$B$2)*(INT(DONNEES!$C$2:$C$5120)=$A12))} -> 0 | H12: {=SUMPRODUCT((DONNEES!$A$2:$A$5120=H$1)*(DONNEES!$B$2:$B$5120=$B$2)*(INT(DONNEES!$C$2:$C$5120)=$A12))} -> 0 | I12: {=SUMPRODUCT((DONNEES!$A$2:$A$5120=I$1)*(DONNEES!$B$2:$B$5120=$B$2)*(INT(DONNEES!$C$2:$C$5120)=$A12))} -> 0 | ... S12: {=SUMPRODUCT((DONNEES!$A$2:$A$5120=S$1)*(DONNEES!$B$2:$B$5120=$B$2)*(INT(DONNEES!$C$2:$C$5120)=$A12))} -> 0
A13: 45607 | B13: {=SUMPRODUCT((DONNEES!$A$2:$A$5120=B$1)*(DONNEES!$B$2:$B$5120=$B$2)*(INT(DONNEES!$C$2:$C$5120)=$A13))} -> 0 | C13: {=SUMPRODUCT((DONNEES!$A$2:$A$5120=C$1)*(DONNEES!$B$2:$B$5120=$B$2)*(INT(DONNEES!$C$2:$C$5120)=$A13))} -> 0 | D13: {=SUMPRODUCT((DONNEES!$A$2:$A$5120=D$1)*(DONNEES!$B$2:$B$5120=$B$2)*(INT(DONNEES!$C$2:$C$5120)=$A13))} -> 0 | E13: {=SUMPRODUCT((DONNEES!$A$2:$A$5120=E$1)*(DONNEES!$B$2:$B$5120=$B$2)*(INT(DONNEES!$C$2:$C$5120)=$A13))} -> 0 | F13: {=SUMPRODUCT((DONNEES!$A$2:$A$5120=F$1)*(DONNEES!$B$2:$B$5120=$B$2)*(INT(DONNEES!$C$2:$C$5120)=$A13))} -> 0 | G13: {=SUMPRODUCT((DONNEES!$A$2:$A$5120=G$1)*(DONNEES!$B$2:$B$5120=$B$2)*(INT(DONNEES!$C$2:$C$5120)=$A13))} -> 0 | H13: {=SUMPRODUCT((DONNEES!$A$2:$A$5120=H$1)*(DONNEES!$B$2:$B$5120=$B$2)*(INT(DONNEES!$C$2:$C$5120)=$A13))} -> 0 | I13: {=SUMPRODUCT((DONNEES!$A$2:$A$5120=I$1)*(DONNEES!$B$2:$B$5120=$B$2)*(INT(DONNEES!$C$2:$C$5120)=$A13))} -> 0 | ... S13: {=SUMPRODUCT((DONNEES!$A$2:$A$5120=S$1)*(DONNEES!$B$2:$B$5120=$B$2)*(INT(DONNEES!$C$2:$C$5120)=$A13))} -> 0
A14: 45608 | B14: {=SUMPRODUCT((DONNEES!$A$2:$A$5120=B$1)*(DONNEES!$B$2:$B$5120=$B$2)*(INT(DONNEES!$C$2:$C$5120)=$A14))} -> 0 | C14: {=SUMPRODUCT((DONNEES!$A$2:$A$5120=C$1)*(DONNEES!$B$2:$B$5120=$B$2)*(INT(DONNEES!$C$2:$C$5120)=$A14))} -> 0 | D14: {=SUMPRODUCT((DONNEES!$A$2:$A$5120=D$1)*(DONNEES!$B$2:$B$5120=$B$2)*(INT(DONNEES!$C$2:$C$5120)=$A14))} -> 0 | E14: {=SUMPRODUCT((DONNEES!$A$2:$A$5120=E$1)*(DONNEES!$B$2:$B$5120=$B$2)*(INT(DONNEES!$C$2:$C$5120)=$A14))} -> 0 | F14: {=SUMPRODUCT((DONNEES!$A$2:$A$5120=F$1)*(DONNEES!$B$2:$B$5120=$B$2)*(INT(DONNEES!$C$2:$C$5120)=$A14))} -> 0 | G14: {=SUMPRODUCT((DONNEES!$A$2:$A$5120=G$1)*(DONNEES!$B$2:$B$5120=$B$2)*(INT(DONNEES!$C$2:$C$5120)=$A14))} -> 0 | H14: {=SUMPRODUCT((DONNEES!$A$2:$A$5120=H$1)*(DONNEES!$B$2:$B$5120=$B$2)*(INT(DONNEES!$C$2:$C$5120)=$A14))} -> 0 | I14: {=SUMPRODUCT((DONNEES!$A$2:$A$5120=I$1)*(DONNEES!$B$2:$B$5120=$B$2)*(INT(DONNEES!$C$2:$C$5120)=$A14))} -> 0 | ... S14: {=SUMPRODUCT((DONNEES!$A$2:$A$5120=S$1)*(DONNEES!$B$2:$B$5120=$B$2)*(INT(DONNEES!$C$2:$C$5120)=$A14))} -> 0
... A29: 45623 | B29: {=SUMPRODUCT((DONNEES!$A$2:$A$5120=B$1)*(DONNEES!$B$2:$B$5120=$B$2)*(INT(DONNEES!$C$2:$C$5120)=$A29))} -> 0 | C29: {=SUMPRODUCT((DONNEES!$A$2:$A$5120=C$1)*(DONNEES!$B$2:$B$5120=$B$2)*(INT(DONNEES!$C$2:$C$5120)=$A29))} -> 0 | D29: {=SUMPRODUCT((DONNEES!$A$2:$A$5120=D$1)*(DONNEES!$B$2:$B$5120=$B$2)*(INT(DONNEES!$C$2:$C$5120)=$A29))} -> 0 | E29: {=SUMPRODUCT((DONNEES!$A$2:$A$5120=E$1)*(DONNEES!$B$2:$B$5120=$B$2)*(INT(DONNEES!$C$2:$C$5120)=$A29))} -> 0 | F29: {=SUMPRODUCT((DONNEES!$A$2:$A$5120=F$1)*(DONNEES!$B$2:$B$5120=$B$2)*(INT(DONNEES!$C$2:$C$5120)=$A29))} -> 0 | G29: {=SUMPRODUCT((DONNEES!$A$2:$A$5120=G$1)*(DONNEES!$B$2:$B$5120=$B$2)*(INT(DONNEES!$C$2:$C$5120)=$A29))} -> 0 | H29: {=SUMPRODUCT((DONNEES!$A$2:$A$5120=H$1)*(DONNEES!$B$2:$B$5120=$B$2)*(INT(DONNEES!$C$2:$C$5120)=$A29))} -> 0 | I29: {=SUMPRODUCT((DONNEES!$A$2:$A$5120=I$1)*(DONNEES!$B$2:$B$5120=$B$2)*(INT(DONNEES!$C$2:$C$5120)=$A29))} -> 0 | ... S29: {=SUMPRODUCT((DONNEES!$A$2:$A$5120=S$1)*(DONNEES!$B$2:$B$5120=$B$2)*(INT(DONNEES!$C$2:$C$5120)=$A29))} -> 0
A30: 45624
A31: 45625
A32: 45626
A33: TOTAL | B33: =COUNTIFS(DONNEES!B:B,"Angélique LANGLOIS",DONNEES!A:A,"ESFBE") -> 768

Sheet DONNEES
A1: Customer Code | B1: Update user | C1: Update time | G1: Nombre de Update user
A2: ESFBE | B2: Adam EVE | C2: 45603.695 | H2: chillow | I2: ESFBE | J2: IZYBABY | K2: puppysafe | L2: Total général
A3: ESFBE | B3: Adam EVE | C3: 45603.695 | G3: 04-nov | H3: 15 | I3: 292 | L3: 307
A4: ESFBE | B4: Adam EVE | C4: 45603.695 | G4: 05-nov | I4: 157 | K4: 23 | L4: 180
A5: ESFBE | B5: Adam EVE | C5: 45603.696 | G5: 06-nov | I5: 140 | K5: 33 | L5: 173
A6: ESFBE | B6: Adam EVE | C6: 45603.696 | G6: 07-nov | I6: 179 | J6: 1 | K6: 21 | L6: 201
A7: ESFBE | B7: Angélique LANGLOIS | C7: 45603.679 | G7: Total général | H7: 15 | I7: 768 | J7: 1 | K7: 77 | L7: 861
A8: ESFBE | B8: Angélique LANGLOIS | C8: 45603.679
A9: ESFBE | B9: Angélique LANGLOIS | C9: 45603.667
A10: ESFBE | B10: Lea DEUX | C10: 45603.667
A11: puppysafe | B11: Sebastien DUMONT | C11: 45603.667
A12: puppysafe | B12: Sebastien DUMONT | C12: 45603.666
A13: puppysafe | B13: Sebastien DUMONT | C13: 45603.667
A14: ESFBE | B14: Angélique LANGLOIS | C14: 45603.68
A15: puppysafe | B15: Sebastien DUMONT | C15: 45603.666
A16: ESFBE | B16: Angélique LANGLOIS | C16: 45603.667
A17: ESFBE | B17: Angélique LANGLOIS | C17: 45603.679
A18: ESFBE | B18: Angélique LANGLOIS | C18: 45603.679
A19: ESFBE | B19: Lea DEUX | C19: 45603.66
... A5120: IZYBABY | B5120: frederic | C5120: 45601.484
