Workbook

Sheet SYNTHESE SEMAINES
A1: S1 | M1: S2 | Y1: S3 | AK1: S4
A2: Produit 1 | B2: Produit 2 | C2: Produit 3 | D2: Produit 4 | E2: Produit 5 | F2: Produit 7 | G2: Produit 8 | H2: Produit 9 | I2: Produit 10 | J2: Produit 11 | K2: Produit 12 | L2: Produit 13 | M2: Produit 1 | N2: Produit 2 | O2: Produit 3 | P2: Produit 4 | Q2: Produit 5 | R2: Produit 7 | S2: Produit 8 | T2: Produit 9 | U2: Produit 10 | V2: Produit 11 | W2: Produit 12 | X2: Produit 13 | Y2: Produit 1 | Z2: Produit 2 | AA2: Produit 3 | AB2: Produit 4 | AC2: Produit 5 | AD2: Produit 7 | AE2: Produit 8 | AF2: Produit 9 | AG2: Produit 10 | AH2: Produit 11 | AI2: Produit 12 | AJ2: Produit 13 | AK2: Produit 1 | AL2: Produit 2 | AM2: Produit 3 | AN2: Produit 4 | AO2: Produit 5 | AP2: Produit 7 | AQ2: Produit 8 | AR2: Produit 9 | AS2: Produit 10 | AT2: Produit 11 | AU2: Produit 12 | AV2: Produit 13
A3: {=INDIRECT(TEXT(RIGHT(M1,LEN(M1)-1),"00") & "!$A3")} -> 1 | B3: {=INDIRECT(TEXT(RIGHT(N1,LEN(N1)-1),"00") & "!$A3")} -> #VALUE! | C3: {=INDIRECT(TEXT(RIGHT(O1,LEN(O1)-1),"00") & "!$A3")} -> #VALUE! | D3: {=INDIRECT(TEXT(RIGHT(P1,LEN(P1)-1),"00") & "!$A3")} -> #VALUE! | E3: ='01'!$E3 -> 13 | F3: ='01'!$F3 -> 35 | G3: ='01'!$G3 -> 24 | H3: ='01'!$H3 -> 45 | I3: ='01'!$I3 -> 57 | J3: ='01'!$J3 -> 56 | K3: ='01'!$K3 -> 57 | L3: ='01'!$L3 -> 68 | M3: ='01'!$A3 -> 1 | N3: ='01'!$B3 -> 22 | O3: ='01'!$C3 -> 13 | P3: ='01'!$D3 -> 24 | Q3: ='01'!$E3 -> 13 | R3: ='01'!$F3 -> 35 | S3: ='01'!$G3 -> 24 | T3: ='01'!$H3 -> 45 | U3: ='01'!$I3 -> 57 | V3: ='01'!$J3 -> 56 | W3: ='01'!$K3 -> 57 | X3: ='01'!$L3 -> 68 | Y3: ='[1]01'!$AE2 -> 0 | Z3: ='[1]01'!$AF2 -> 0 | AA3: ='[1]01'!$AG2 -> 0 | AB3: ='[1]01'!$AH2 -> 0 | AC3: ='[1]01'!$AI2 -> 0 | AD3: ='[1]01'!$AJ2 -> 0 | AE3: ='[1]01'!$AK2 -> 0 | AF3: ='[1]01'!$AL2 -> 0 | AG3: ='[1]01'!$AM2 -> 0 | AH3: ='[1]01'!$AN2 -> 0 | AI3: ='[1]01'!$AO2 -> 0 | AJ3: ='[1]01'!$AP2 -> 0 | AK3: ='[1]01'!$AE2 -> 0 | AL3: ='[1]01'!$AF2 -> 0 | AM3: ='[1]01'!$AG2 -> 0 | AN3: ='[1]01'!$AH2 -> 0 | AO3: ='[1]01'!$AI2 -> 0 | AP3: ='[1]01'!$AJ2 -> 0 | AQ3: ='[1]01'!$AK2 -> 0 | AR3: ='[1]01'!$AL2 -> 0 | AS3: ='[1]01'!$AM2 -> 0 | AT3: ='[1]01'!$AN2 -> 0 | AU3: ='[1]01'!$AO2 -> 0 | AV3: ='[1]01'!$AP2 -> 0
M4: Comment je peux passer de '01' à '02' sans toucher aux $ des cellules qui seront toujours les mêmes sur toutes les autres feuilles ?
A8: {=_xlfn.HSTACK('01:04'!A1:L3)} -> SEMAINE 1 | B8: 0 | C8: 0 | D8: 0 | E8: 0 | F8: 0 | G8: 0 | H8: 0 | I8: 0 | J8: 0 | K8: 0 | L8: 0 | M8: SEMAINE 2 | N8: 0 | O8: 0 | P8: 0 | Q8: 0 | R8: 0 | S8: 0 | T8: 0 | U8: 0 | V8: 0 | W8: 0 | X8: 0 | Y8: SEMAINE 3 | Z8: 0 | AA8: 0 | AB8: 0 | AC8: 0 | AD8: 0 | AE8: 0 | AF8: 0 | AG8: 0 | AH8: 0 | AI8: 0 | AJ8: 0 | AK8: SEMAINE 4 | AL8: 0 | AM8: 0 | AN8: 0 | AO8: 0 | AP8: 0 | AQ8: 0 | AR8: 0 | AS8: 0 | AT8: 0 | AU8: 0 | AV8: 0
A9: Produit 1 | B9: Produit 2 | C9: Produit 3 | D9: Produit 4 | E9: Produit 5 | F9: Produit 7 | G9: Produit 8 | H9: Produit 9 | I9: Produit 10 | J9: Produit 11 | K9: Produit 12 | L9: Produit 13 | M9: Produit 1 | N9: Produit 2 | O9: Produit 3 | P9: Produit 4 | Q9: Produit 5 | R9: Produit 7 | S9: Produit 8 | T9: Produit 9 | U9: Produit 10 | V9: Produit 11 | W9: Produit 12 | X9: Produit 13 | Y9: Produit 1 | Z9: Produit 2 | AA9: Produit 3 | AB9: Produit 4 | AC9: Produit 5 | AD9: Produit 7 | AE9: Produit 8 | AF9: Produit 9 | AG9: Produit 10 | AH9: Produit 11 | AI9: Produit 12 | AJ9: Produit 13 | AK9: Produit 1 | AL9: Produit 2 | AM9: Produit 3 | AN9: Produit 4 | AO9: Produit 5 | AP9: Produit 7 | AQ9: Produit 8 | AR9: Produit 9 | AS9: Produit 10 | AT9: Produit 11 | AU9: Produit 12 | AV9: Produit 13
A10: 1 | B10: 22 | C10: 13 | D10: 24 | E10: 13 | F10: 35 | G10: 24 | H10: 45 | I10: 57 | J10: 56 | K10: 57 | L10: 68 | M10: 1 | N10: 1 | O10: 1 | P10: 1 | Q10: 1 | R10: 1 | S10: 1 | T10: 1 | U10: 1 | V10: 1 | W10: 1 | X10: 1 | Y10: 3 | Z10: 3 | AA10: 3 | AB10: 3 | AC10: 3 | AD10: 3 | AE10: 3 | AF10: 1 | AG10: 1 | AH10: 1 | AI10: 1 | AJ10: 1 | AK10: 1 | AL10: 6 | AM10: 5 | AN10: 24 | AO10: 13 | AP10: 1 | AQ10: 1 | AR10: 89 | AS10: 54 | AT10: 1 | AU10: 1 | AV10: 1

Sheet 01
A1: SEMAINE 1
A2: Produit 1 | B2: Produit 2 | C2: Produit 3 | D2: Produit 4 | E2: Produit 5 | F2: Produit 7 | G2: Produit 8 | H2: Produit 9 | I2: Produit 10 | J2: Produit 11 | K2: Produit 12 | L2: Produit 13
A3: 1 | B3: 22 | C3: 13 | D3: 24 | E3: 13 | F3: 35 | G3: 24 | H3: 45 | I3: 57 | J3: 56 | K3: 57 | L3: 68

Sheet 02
A1: SEMAINE 2
A2: Produit 1 | B2: Produit 2 | C2: Produit 3 | D2: Produit 4 | E2: Produit 5 | F2: Produit 7 | G2: Produit 8 | H2: Produit 9 | I2: Produit 10 | J2: Produit 11 | K2: Produit 12 | L2: Produit 13
A3: ='01'!$A3 -> 1 | B3: 1 | C3: 1 | D3: 1 | E3: 1 | F3: ='01'!$A3 -> 1 | G3: ='01'!$A3 -> 1 | H3: ='01'!$A3 -> 1 | I3: ='01'!$A3 -> 1 | J3: ='01'!$A3 -> 1 | K3: ='01'!$A3 -> 1 | L3: ='01'!$A3 -> 1

Sheet 03
A1: SEMAINE 3
A2: Produit 1 | B2: Produit 2 | C2: Produit 3 | D2: Produit 4 | E2: Produit 5 | F2: Produit 7 | G2: Produit 8 | H2: Produit 9 | I2: Produit 10 | J2: Produit 11 | K2: Produit 12 | L2: Produit 13
A3: 3 | B3: 3 | C3: 3 | D3: 3 | E3: 3 | F3: 3 | G3: 3 | H3: ='01'!$A3 -> 1 | I3: ='01'!$A3 -> 1 | J3: ='01'!$A3 -> 1 | K3: ='01'!$A3 -> 1 | L3: ='01'!$A3 -> 1

Sheet 04
A1: SEMAINE 4
A2: Produit 1 | B2: Produit 2 | C2: Produit 3 | D2: Produit 4 | E2: Produit 5 | F2: Produit 7 | G2: Produit 8 | H2: Produit 9 | I2: Produit 10 | J2: Produit 11 | K2: Produit 12 | L2: Produit 13
A3: ='01'!$A3 -> 1 | B3: 6 | C3: 5 | D3: ='01'!$D3 -> 24 | E3: ='01'!$E3 -> 13 | F3: ='01'!$A3 -> 1 | G3: ='01'!$A3 -> 1 | H3: 89 | I3: 54 | J3: ='01'!$A3 -> 1 | K3: ='01'!$A3 -> 1 | L3: ='01'!$A3 -> 1
