Workbook

Sheet Feuil1
A1: Nom | B1: Adresse | C1: Code Postal | D1: Ville
A2: 1 | B2: 2 rue | C2: 75 | D2: paris
A3: 2 | B3: 3 rue | C3: 76 | D3: lyon
A4: 3 | B4: 4 rue | C4: 77 | D4: marseille
A5: 4 | B5: 5 rue | C5: 78 | D5: toulouse
A6: 5 | B6: 6 rue | C6: 79 | D6: nancy
A7: 6 | B7: 7 rue | C7: 80 | D7: strasbourg
A8: 7 | B8: 8 rue | C8: 81
A9: 8 | B9: 9 rue | C9: 82
A10: 9 | B10: 10 rue | C10: 83
A11: 10 | B11: 11 rue | C11: 84
A12: 11 | B12: 12 rue | C12: 85
A13: 12 | B13: 13 rue | C13: 86
A14: 13 | B14: 14 rue | C14: 87
A15: 14 | B15: 15 rue | C15: 88
A16: 15 | B16: 16 rue | C16: 89
A17: 16 | B17: 17 rue | C17: 90
A18: 17 | B18: 18 rue | C18: 91
A19: 18 | B19: 19 rue | C19: 92
... A21: 20 | B21: 21 rue | C21: 94

Sheet Feuil2
A1: Nom | B1: Adresse | C1: Code Postal | D1: Ville
A2: 1 | B2: =INDEX(Feuil1!B$2:B$21,MATCH(Feuil2!$A$2:$A$9,Feuil1!$A$2:$A$21,0)) -> 2 rue | C2: =INDEX(Feuil1!C$2:C$21,MATCH(Feuil2!$A$2:$A$9,Feuil1!$A$2:$A$21,0)) -> 75 | D2: =INDEX(Feuil1!D$2:D$21,MATCH(Feuil2!$A$2:$A$9,Feuil1!$A$2:$A$21,0)) -> paris
A3: 5 | B3: =INDEX(Feuil1!B$2:B$21,MATCH(Feuil2!$A$2:$A$9,Feuil1!$A$2:$A$21,0)) -> 6 rue | C3: =INDEX(Feuil1!C$2:C$21,MATCH(Feuil2!$A$2:$A$9,Feuil1!$A$2:$A$21,0)) -> 79 | D3: =INDEX(Feuil1!D$2:D$21,MATCH(Feuil2!$A$2:$A$9,Feuil1!$A$2:$A$21,0)) -> nancy
A4: 4 | B4: =INDEX(Feuil1!B$2:B$21,MATCH(Feuil2!$A$2:$A$9,Feuil1!$A$2:$A$21,0)) -> 5 rue | C4: =INDEX(Feuil1!C$2:C$21,MATCH(Feuil2!$A$2:$A$9,Feuil1!$A$2:$A$21,0)) -> 78 | D4: =INDEX(Feuil1!D$2:D$21,MATCH(Feuil2!$A$2:$A$9,Feuil1!$A$2:$A$21,0)) -> toulouse
A5: 8 | B5: =INDEX(Feuil1!B$2:B$21,MATCH(Feuil2!$A$2:$A$9,Feuil1!$A$2:$A$21,0)) -> 9 rue | C5: =INDEX(Feuil1!C$2:C$21,MATCH(Feuil2!$A$2:$A$9,Feuil1!$A$2:$A$21,0)) -> 82 | D5: =INDEX(Feuil1!D$2:D$21,MATCH(Feuil2!$A$2:$A$9,Feuil1!$A$2:$A$21,0)) -> 0
A6: 6 | B6: =INDEX(Feuil1!B$2:B$21,MATCH(Feuil2!$A$2:$A$9,Feuil1!$A$2:$A$21,0)) -> 7 rue | C6: =INDEX(Feuil1!C$2:C$21,MATCH(Feuil2!$A$2:$A$9,Feuil1!$A$2:$A$21,0)) -> 80 | D6: =INDEX(Feuil1!D$2:D$21,MATCH(Feuil2!$A$2:$A$9,Feuil1!$A$2:$A$21,0)) -> strasbourg
A7: 14 | B7: =INDEX(Feuil1!B$2:B$21,MATCH(Feuil2!$A$2:$A$9,Feuil1!$A$2:$A$21,0)) -> 15 rue | C7: =INDEX(Feuil1!C$2:C$21,MATCH(Feuil2!$A$2:$A$9,Feuil1!$A$2:$A$21,0)) -> 88 | D7: =INDEX(Feuil1!D$2:D$21,MATCH(Feuil2!$A$2:$A$9,Feuil1!$A$2:$A$21,0)) -> 0
A8: 18 | B8: =INDEX(Feuil1!B$2:B$21,MATCH(Feuil2!$A$2:$A$9,Feuil1!$A$2:$A$21,0)) -> 19 rue | C8: =INDEX(Feuil1!C$2:C$21,MATCH(Feuil2!$A$2:$A$9,Feuil1!$A$2:$A$21,0)) -> 92 | D8: =INDEX(Feuil1!D$2:D$21,MATCH(Feuil2!$A$2:$A$9,Feuil1!$A$2:$A$21,0)) -> 0
A9: 13 | B9: =INDEX(Feuil1!B$2:B$21,MATCH(Feuil2!$A$2:$A$9,Feuil1!$A$2:$A$21,0)) -> 14 rue | C9: =INDEX(Feuil1!C$2:C$21,MATCH(Feuil2!$A$2:$A$9,Feuil1!$A$2:$A$21,0)) -> 87 | D9: =INDEX(Feuil1!D$2:D$21,MATCH(Feuil2!$A$2:$A$9,Feuil1!$A$2:$A$21,0)) -> 0
