Workbook

Sheet Relevé détaillé
A1: Projet | B1: Tartenpion
A2: 21-1234 | C2: Position 1 | E2: Position 2 | G2: Position 3 | I2: Position 4 | K2: Position 5
B3: Réf. Interne | C3: C0.01 | E3: C0.02 | G3: C0.03 | I3: C0.04 | K3: C0.05
B4: Localisation | Réf. Plan | C4: RDC | D4: 0.01 | E4: RDC | F4: 0.05 | G4: RDC | H4: 0.04 | I4: ETAGE 1 | J4: 0.02 | K4: ETAGE 1 | L4: 0.03
B5: Type | C5: PORTE | E5: OB | G5: LC | I5: PF | K5: OB
A6: Données :
A7: Largeur (mm) | C7: 900 | E7: 1000 | G7: 1510 | I7: 1510 | K7: 1200
A8: Hauteur (mm) | C8: 2050 | E8: 500 | G8: 2440 | I8: 2050 | K8: 800
A9: Quantité | C9: 2 | E9: 1 | G9: 1 | I9: 1 | K9: 2
A10: Type de pose | POIDS | C10: P4 | D10: 84 | E10: P4 | F10: 62 | G10: P4 | H10: 132 | I10: P4 | J10: 89 | K10: P4 | L10: 77
A11: Surface unitaire | Tot | B11: (m²) | C11: =SUM((C7*C8/1000000)) -> 1.845 | D11: =SUM((C11*C9)) -> 3.69 | E11: =SUM((E7*E8/1000000)) -> 0.5 | F11: =SUM((E11*E9)) -> 0.5 | G11: =SUM((G7*G8/1000000)) -> 3.6844 | H11: =SUM((G11*G9)) -> 3.6844 | I11: =SUM((I7*I8/1000000)) -> 3.0955 | J11: =SUM((I11*I9)) -> 3.0955 | K11: =SUM((K7*K8/1000000)) -> 0.96 | L11: =SUM((K11*K9)) -> 1.92
A12: Périm. unitaire | Tot. | B12: (ml) | C12: =SUM((C7+C8)*2)/1000 -> 5.9 | D12: =SUM((C12*C9)) -> 11.8 | E12: =SUM((E7+E8)*2)/1000 -> 3 | F12: =SUM((E12*E9)) -> 3 | G12: =SUM((G7+G8)*2)/1000 -> 7.9 | H12: =SUM((G12*G9)) -> 7.9 | I12: =SUM((I7+I8)*2)/1000 -> 7.12 | J12: =SUM((I12*I9)) -> 7.12 | K12: =SUM((K7+K8)*2)/1000 -> 4 | L12: =SUM((K12*K9)) -> 8
A13: Poids unitaire indic. DV/TV
A14: MENUISERIES :
A15: P.R.Unitaire Menuiserie
A16: Calcul Unitaire chassis | D16: 100 | F16: 100 | H16: 100 | J16: 100 | L16: 100
A17: P.R.Unitaire Remplissage
A18: Remplissages | C18: NON | D18: 0 | E18: NON | F18: 0 | G18: NON | H18: 0 | I18: NON | J18: 0 | K18: NON | L18: 0
A19: P.R. Unitaire Finitions
A20: Données des PURINIT (Ep. | Hauteur) | C20: 70 | D20: 250 | E20: 50 | F20: 100 | G20: 200 | H20: 250 | I20: 200 | J20: 250 | K20: 70 | L20: 50
A21: P.R.U. Purinit | B21: =SUM(C21:EV21) -> 75 | C21: OUI | D21: 15 | E21: OUI | F21: 15 | G21: OUI | H21: 15 | I21: OUI | J21: 15 | K21: OUI | L21: 15
A22: P.R.U. Seuils & embouts (mm) | B22: =SUM(C22:EV22) -> 0 | C22: OUI | D22: 0 | E22: OUI | F22: 0 | G22: OUI | H22: 0 | I22: OUI | J22: 0 | K22: OUI | L22: 0
A23: P.R.U. Support seuils (mm) | B23: =SUM(C23:EV23) -> 0 | C23: NON | D23: 0 | E23: NON | F23: 0 | G23: NON | H23: 0 | I23: NON | J23: 0 | K23: NON | L23: 0
A24: P.R.U. Memb. Anti-bruit seuil | B24: =SUM(C24:F24) -> 20 | C24: OUI | D24: 10 | E24: OUI | F24: 10 | G24: OUI | H24: 10 | I24: OUI | J24: 10 | K24: OUI | L24: 10
A25: P.R.U. Etanch. Membr. INT | B25: =SUM(C25:F25) -> 10 | C25: OUI | D25: 5 | E25: OUI | F25: 5 | G25: OUI | H25: 5 | I25: OUI | J25: 5 | K25: OUI | L25: 5
A26: P.R.U. Etanch. Membr. EXT | B26: =SUM(C26:F26) -> 10 | C26: OUI | D26: 5 | E26: OUI | F26: 5 | G26: OUI | H26: 5 | I26: OUI | J26: 5 | K26: OUI | L26: 5
A27: P.R.U. Mousse exp. PU /mc | B27: =SUM(C27:F27) -> 4 | C27: OUI | D27: 2 | E27: OUI | F27: 2 | G27: OUI | H27: 2 | I27: OUI | J27: 2 | K27: OUI | L27: 2
A28: P.R.U. Petit materiel consom. | B28: =SUM(C28:F28) -> 2 | C28: OUI | D28: 1 | E28: OUI | F28: 1 | G28: OUI | H28: 1 | I28: OUI | J28: 1 | K28: OUI | L28: 1
A29: P.R.U. Fixations : | B29: =SUM(C29:F29) -> 2 | C29: OUI | D29: 1 | E29: OUI | F29: 1 | G29: OUI | H29: 1 | I29: OUI | J29: 1 | K29: OUI | L29: 1
A30: P.R.U. Autre 1 : | B30: =SUM(C30:F30) -> 0 | C30: NON | D30: 0 | E30: NON | F30: 0 | G30: NON | H30: 0 | I30: NON | J30: 0 | K30: NON | L30: 0
A31: P.R.U. Autre 2 : | B31: =SUM(C31:F31) -> 0 | C31: NON | D31: 0 | E31: NON | F31: 0 | G31: NON | H31: 0 | I31: NON | J31: 0 | K31: NON | L31: 0
A32: Total / unité | Total | C32: =SUM(D16:D31) -> 389 | D32: =SUM(C32*C9) -> 778 | E32: =SUM(F16:F31) -> 239 | F32: =SUM(E32*E9) -> 239 | G32: =SUM(H16:H31) -> 389 | H32: =SUM(G32*G9) -> 389 | I32: =SUM(J16:J31) -> 389 | J32: =SUM(I32*I9) -> 389 | K32: =SUM(L16:L31) -> 189 | L32: =SUM(K32*K9) -> 378
A33: Ratio chassis du projet | B33: =AVERAGE(C33:EV33) -> 223.39234 | C33: =SUM(C32/C11) -> 210.84011 | E33: =SUM(E32/E11) -> 478 | G33: =SUM(G32/G11) -> 105.58028 | I33: =SUM(I32/I11) -> 125.66629 | K33: =SUM(K32/K11) -> 196.875
A34: Marge brute | B34: 20 | C34: =SUM(C32/100*$B$34) -> 77.8 | D34: =SUM(C34*C9) -> 155.6 | E34: =SUM(E32/100*$B$34) -> 47.8 | F34: =SUM(E34*E9) -> 47.8 | G34: =SUM(G32/100*$B$34) -> 77.8 | H34: =SUM(G34*G9) -> 77.8 | I34: =SUM(I32/100*$B$34) -> 77.8 | J34: =SUM(I34*I9) -> 77.8 | K34: =SUM(K32/100*$B$34) -> 37.8 | L34: =SUM(K34*K9) -> 75.6
A35: Prix de vente | C35: =SUM(C32+C34) -> 466.8 | D35: =SUM(D32+D34) -> 933.6 | E35: =SUM(E32+E34) -> 286.8 | F35: =SUM(F32+F34) -> 286.8 | G35: =SUM(G32+G34) -> 466.8 | H35: =SUM(H32+H34) -> 466.8 | I35: =SUM(I32+I34) -> 466.8 | J35: =SUM(J32+J34) -> 466.8 | ... L35: =SUM(L32+L34) -> 453.6
A37: P.V. ACCESSOIRES -> bordereaux détaillés | D37: P.Tot | F37: P.Tot | H37: P.Tot | J37: P.Tot | L37: P.Tot
A38: P.V.U. BSO | C38: NON | E38: NON | G38: OUI | I38: OUI | K38: NON
A39: P.V.U. Volets | C39: OUI | E39: OUI | G39: NON | I39: NON | K39: OUI
A40: P.V.U. Screens | C40: NON | E40: OUI | G40: NON | I40: NON | K40: OUI
A41: P.V.U. Garde-corps | C41: NON | E41: NON | G41: NON | I41: OUI | K41: NON
...

Sheet Bord. BSO
A1: Projet : | B1: ='Relevé détaillé'!B1 -> Tartenpion
A2: Calcul détaillé des BSO
K3: MATÉRIEL : | M3: =SUM(N6:N24) -> 0 | O3: MAIN D'ŒUVRE : | Q3: =SUM(R6:R20) -> 0 | S3: AUTRE: | V3: =SUM(V6:V27) -> 0
E4: Largeur | F4: Hauteur | G4: Surface | H4: Périm. | J4: Poids | K4: P.A. | L4: Marge (%) | M4: P.V. | N4: PV. | O4: P.A. | P4: Marge (%) | Q4: P.V. | R4: P.V. | S4: DEPL. | V4: TOTAL
A5: Position | B5: Ref. interne | C5: Localisation | D5: Qté | E5: (mm) | F5: (mm) | G5: Unitaire | H5: Unitaire | I5: Pose | J5: Unitaire | K5: Unitaire | L5: 20 | M5: Unitaire | N5: Total | O5: Unitaire | P5: 20 | Q5: unitaire | R5: TOTAL
K6: 100 | L6: =SUM(K6/100*$L$5) -> 20 | M6: =SUM(K6+L6) -> 120 | N6: =SUM(M6*D6) -> 0 | O6: 20 | P6: =SUM(O6/100*$P$5) -> 4 | Q6: =SUM(O6+P6) -> 24 | R6: =SUM(Q6*D6) -> 0 | V6: =SUM(N6+R6+S6) -> 0

Sheet Bord. VOLETS
A1: Projet : | B1: ='Relevé détaillé'!B1 -> Tartenpion
A2: Calcul détaillé des VOLETS
K3: MATÉRIEL : | M3: =SUM(N6:N24) -> 0 | O3: MAIN D'ŒUVRE : | Q3: =SUM(R6:R20) -> 0 | S3: AUTRE: | V3: =SUM(V6:V27) -> 0
E4: Largeur | F4: Hauteur | G4: Surface | H4: Périm. | J4: Poids | K4: P.A. | L4: Marge (%) | M4: P.V. | N4: PV. | O4: P.A. | P4: Marge (%) | Q4: P.V. | R4: P.V. | S4: DEPL. | V4: TOTAL
A5: Position | B5: Ref. interne | C5: Localisation | D5: Qté | E5: (mm) | F5: (mm) | G5: Unitaire | H5: Unitaire | I5: Pose | J5: Unitaire | K5: Unitaire | L5: 20 | M5: Unitaire | N5: Total | O5: Unitaire | P5: 20 | Q5: unitaire | R5: TOTAL
K6: 100 | L6: =SUM(K6/100*$L$5) -> 20 | M6: =SUM(K6+L6) -> 120 | N6: =SUM(M6*D6) -> 0 | O6: 20 | P6: =SUM(O6/100*$P$5) -> 4 | Q6: =SUM(O6+P6) -> 24 | R6: =SUM(Q6*D6) -> 0 | V6: =SUM(N6+R6+S6) -> 0

Sheet Bord. SCREENS
A1: Projet : | B1: ='Relevé détaillé'!B1 -> Tartenpion
A2: Calcul détaillé des SCREENS
K3: MATÉRIEL : | M3: =SUM(N6:N24) -> 0 | O3: MAIN D'ŒUVRE : | Q3: =SUM(R6:R20) -> 0 | S3: AUTRE: | V3: =SUM(V6:V27) -> 0
E4: Largeur | F4: Hauteur | G4: Surface | H4: Périm. | J4: Poids | K4: P.A. | L4: Marge (%) | M4: P.V. | N4: PV. | O4: P.A. | P4: Marge (%) | Q4: P.V. | R4: P.V. | S4: DEPL. | V4: TOTAL
A5: Position | B5: Ref. interne | C5: Localisation | D5: Qté | E5: (mm) | F5: (mm) | G5: Unitaire | H5: Unitaire | I5: Pose | J5: Unitaire | K5: Unitaire | L5: 20 | M5: Unitaire | N5: Total | O5: Unitaire | P5: 20 | Q5: unitaire | R5: TOTAL
K6: 100 | L6: =SUM(K6/100*$L$5) -> 20 | M6: =SUM(K6+L6) -> 120 | N6: =SUM(M6*D6) -> 0 | O6: 20 | P6: =SUM(O6/100*$P$5) -> 4 | Q6: =SUM(O6+P6) -> 24 | R6: =SUM(Q6*D6) -> 0 | V6: =SUM(N6+R6+S6) -> 0

Sheet Bord. GCF
A1: Projet : | B1: ='Relevé détaillé'!B1 -> Tartenpion
A2: Calcul détaillé des GARDE-CORPS FENETRE (GCF)
K3: MATÉRIEL : | M3: =SUM(N6:N24) -> 0 | O3: MAIN D'ŒUVRE : | Q3: =SUM(R6:R20) -> 0 | S3: AUTRE: | V3: =SUM(V6:V27) -> 0
E4: Largeur | F4: Hauteur | G4: Surface | H4: Périm. | J4: Poids | K4: P.A. | L4: Marge (%) | M4: P.V. | N4: PV. | O4: P.A. | P4: Marge (%) | Q4: P.V. | R4: P.V. | S4: DEPL. | V4: TOTAL
A5: Position | B5: Ref. interne | C5: Localisation | D5: Qté | E5: (mm) | F5: (mm) | G5: Unitaire | H5: Unitaire | I5: Pose | J5: Unitaire | K5: Unitaire | L5: 20 | M5: Unitaire | N5: Total | O5: Unitaire | P5: 20 | Q5: unitaire | R5: TOTAL
K6: 100 | L6: =SUM(K6/100*$L$5) -> 20 | M6: =SUM(K6+L6) -> 120 | N6: =SUM(M6*D6) -> 0 | O6: 20 | P6: =SUM(O6/100*$P$5) -> 4 | Q6: =SUM(O6+P6) -> 24 | R6: =SUM(Q6*D6) -> 0 | V6: =SUM(N6+R6+S6) -> 0

Sheet Bord. MOUSTIQUAIRES
A1: Projet : | B1: ='Relevé détaillé'!B1 -> Tartenpion
A2: Calcul détaillé des MOUSTIQUAIRES
K3: MATÉRIEL : | M3: =SUM(N6:N24) -> 0 | O3: MAIN D'ŒUVRE : | Q3: =SUM(R6:R20) -> 0 | S3: AUTRE: | V3: =SUM(V6:V27) -> 0
E4: Largeur | F4: Hauteur | G4: Surface | H4: Périm. | J4: Poids | K4: P.A. | L4: Marge (%) | M4: P.V. | N4: PV. | O4: P.A. | P4: Marge (%) | Q4: P.V. | R4: P.V. | S4: DEPL. | V4: TOTAL
A5: Position | B5: Ref. interne | C5: Localisation | D5: Qté | E5: (mm) | F5: (mm) | G5: Unitaire | H5: Unitaire | I5: Pose | J5: Unitaire | K5: Unitaire | L5: 20 | M5: Unitaire | N5: Total | O5: Unitaire | P5: 20 | Q5: unitaire | R5: TOTAL
K6: 100 | L6: =SUM(K6/100*$L$5) -> 20 | M6: =SUM(K6+L6) -> 120 | N6: =SUM(M6*D6) -> 0 | O6: 20 | P6: =SUM(O6/100*$P$5) -> 4 | Q6: =SUM(O6+P6) -> 24 | R6: =SUM(Q6*D6) -> 0 | V6: =SUM(N6+R6+S6) -> 0

Sheet Bord. TOLERIES
A1: Projet : | B1: ='Relevé détaillé'!B1 -> Tartenpion
A2: Calcul détaillé des TOLERIES
K3: MATÉRIEL : | M3: =SUM(N6:N24) -> 0 | O3: MAIN D'ŒUVRE : | Q3: =SUM(R6:R20) -> 0 | S3: AUTRE: | V3: =SUM(V6:V27) -> 0
E4: Largeur | F4: Hauteur | G4: Surface | H4: Périm. | J4: Poids | K4: P.A. | L4: Marge (%) | M4: P.V. | N4: PV. | O4: P.A. | P4: Marge (%) | Q4: P.V. | R4: P.V. | S4: DEPL. | V4: TOTAL
A5: Position | B5: Ref. interne | C5: Localisation | D5: Qté | E5: (mm) | F5: (mm) | G5: Unitaire | H5: Unitaire | I5: Pose | J5: Unitaire | K5: Unitaire | L5: 20 | M5: Unitaire | N5: Total | O5: Unitaire | P5: 20 | Q5: unitaire | R5: TOTAL
K6: 100 | L6: =SUM(K6/100*$L$5) -> 20 | M6: =SUM(K6+L6) -> 120 | N6: =SUM(M6*D6) -> 0 | O6: 20 | P6: =SUM(O6/100*$P$5) -> 4 | Q6: =SUM(O6+P6) -> 24 | R6: =SUM(Q6*D6) -> 0 | V6: =SUM(N6+R6+S6) -> 0

Sheet Bord. AUTRE1
A1: Projet : | B1: ='Relevé détaillé'!B1 -> Tartenpion
A2: Calcul détaillé de AUTRE 1
K3: MATÉRIEL : | M3: =SUM(N6:N24) -> 0 | O3: MAIN D'ŒUVRE : | Q3: =SUM(R6:R20) -> 0 | S3: AUTRE: | V3: =SUM(V6:V27) -> 0
E4: Largeur | F4: Hauteur | G4: Surface | H4: Périm. | J4: Poids | K4: P.A. | L4: Marge (%) | M4: P.V. | N4: PV. | O4: P.A. | P4: Marge (%) | Q4: P.V. | R4: P.V. | S4: DEPL. | V4: TOTAL
A5: Position | B5: Ref. interne | C5: Localisation | D5: Qté | E5: (mm) | F5: (mm) | G5: Unitaire | H5: Unitaire | I5: Pose | J5: Unitaire | K5: Unitaire | L5: 20 | M5: Unitaire | N5: Total | O5: Unitaire | P5: 20 | Q5: unitaire | R5: TOTAL
K6: 100 | L6: =SUM(K6/100*$L$5) -> 20 | M6: =SUM(K6+L6) -> 120 | N6: =SUM(M6*D6) -> 0 | O6: 20 | P6: =SUM(O6/100*$P$5) -> 4 | Q6: =SUM(O6+P6) -> 24 | R6: =SUM(Q6*D6) -> 0 | V6: =SUM(N6+R6+S6) -> 0

Sheet Bord. AUTRE2
A1: Projet : | B1: ='Relevé détaillé'!B1 -> Tartenpion
A2: Calcul détaillé de AUTRE 2
K3: MATÉRIEL : | M3: =SUM(N6:N24) -> 0 | O3: MAIN D'ŒUVRE : | Q3: =SUM(R6:R20) -> 0 | S3: AUTRE: | V3: =SUM(V6:V27) -> 0
E4: Largeur | F4: Hauteur | G4: Surface | H4: Périm. | J4: Poids | K4: P.A. | L4: Marge (%) | M4: P.V. | N4: PV. | O4: P.A. | P4: Marge (%) | Q4: P.V. | R4: P.V. | S4: DEPL. | V4: TOTAL
A5: Position | B5: Ref. interne | C5: Localisation | D5: Qté | E5: (mm) | F5: (mm) | G5: Unitaire | H5: Unitaire | I5: Pose | J5: Unitaire | K5: Unitaire | L5: 20 | M5: Unitaire | N5: Total | O5: Unitaire | P5: 20 | Q5: unitaire | R5: TOTAL
K6: 100 | L6: =SUM(K6/100*$L$5) -> 20 | M6: =SUM(K6+L6) -> 120 | N6: =SUM(M6*D6) -> 0 | O6: 20 | P6: =SUM(O6/100*$P$5) -> 4 | Q6: =SUM(O6+P6) -> 24 | R6: =SUM(Q6*D6) -> 0 | V6: =SUM(N6+R6+S6) -> 0
