Workbook
Name TitreColonne1: #REF!
Name TitreColonne1: #REF!
Name TitreColonne1: #REF!
Name TitreColonne1: #REF!

Sheet Suivi
A2: Nom du client | B2: Chantier | C2: N° chantier | D2: Type de doc. | E2: N° doc | F2: Statut | G2: Date 1 envoi | H2: Échéance paiement | I2: Relance à faire | J2: Date paiement | K2: Montant HT CHF | L2: Montant TTC CHF | M2: Total payé CHF | N2: Solde CHF | O2: Observations : Relances, RDV, discussions clients…
D3: Facture | F3: Payé | G3: 44155 | H3: =IF(AND(Factures3[[#This Row],[Type de doc.]]="Facture", Factures3[[#This Row],[Date 1 envoi]]<>"", Factures3[[#This Row],[Date paiement]]=""), EDATE(Factures3[[#This Row],[Date 1 envoi]],1), "") | I3: =IF(Factures3[[#This Row],[Type de doc.]]="Facture", IF(Factures3[[#This Row],[Date paiement]]<Factures3[[#This Row],[Date 1 envoi]], EDATE(Factures3[[#This Row],[Date 1 envoi]], 2), ""), IF(Factures3[[#This Row],[Type de doc.]]="Devis", IF(Factures3[[#This Row],[Statut]]="Envoyé ", EDATE(Factures3[[#This Row],[Date 1 envoi]], 1), ""), "")) | J3: 44185 | K3: 1690 | L3: =IF(Factures3[[#This Row],[Montant HT CHF]]>0, CEILING(Factures3[[#This Row],[Montant HT CHF]]*1.077, 0.05), "") -> 1820.15 | M3: =IF(Factures3[[#This Row],[Statut]]="Payé ", Factures3[[#This Row],[Montant HT CHF]], 0) -> 1690 | N3: =IF(Factures3[[#This Row],[Type de doc.]]="Facture", Factures3[[#This Row],[Total payé CHF]]-Factures3[[#This Row],[Montant HT CHF]], "") -> 0
D4: Devis | F4: Accepté | G4: 44162 | H4: =IF(AND(Factures3[[#This Row],[Type de doc.]]="Facture", Factures3[[#This Row],[Date 1 envoi]]<>"", Factures3[[#This Row],[Date paiement]]=""), EDATE(Factures3[[#This Row],[Date 1 envoi]],1), "") | I4: =IF(Factures3[[#This Row],[Type de doc.]]="Facture", IF(Factures3[[#This Row],[Date paiement]]<Factures3[[#This Row],[Date 1 envoi]], EDATE(Factures3[[#This Row],[Date 1 envoi]], 2), ""), IF(Factures3[[#This Row],[Type de doc.]]="Devis", IF(Factures3[[#This Row],[Statut]]="Envoyé ", EDATE(Factures3[[#This Row],[Date 1 envoi]], 1), ""), "")) | K4: 3370 | L4: =IF(Factures3[[#This Row],[Montant HT CHF]]>0, CEILING(Factures3[[#This Row],[Montant HT CHF]]*1.077, 0.05), "") -> 3629.5 | M4: =IF(Factures3[[#This Row],[Statut]]="Payé ", Factures3[[#This Row],[Montant HT CHF]], 0) -> 0 | N4: =IF(Factures3[[#This Row],[Type de doc.]]="Facture", Factures3[[#This Row],[Total payé CHF]]-Factures3[[#This Row],[Montant HT CHF]], "")
D5: Facture | F5: Payé | G5: 44194 | H5: =IF(AND(Factures3[[#This Row],[Type de doc.]]="Facture", Factures3[[#This Row],[Date 1 envoi]]<>"", Factures3[[#This Row],[Date paiement]]=""), EDATE(Factures3[[#This Row],[Date 1 envoi]],1), "") | I5: =IF(Factures3[[#This Row],[Type de doc.]]="Facture", IF(Factures3[[#This Row],[Date paiement]]<Factures3[[#This Row],[Date 1 envoi]], EDATE(Factures3[[#This Row],[Date 1 envoi]], 2), ""), IF(Factures3[[#This Row],[Type de doc.]]="Devis", IF(Factures3[[#This Row],[Statut]]="Envoyé ", EDATE(Factures3[[#This Row],[Date 1 envoi]], 1), ""), "")) | J5: 44194 | K5: 1757.5 | L5: =IF(Factures3[[#This Row],[Montant HT CHF]]>0, CEILING(Factures3[[#This Row],[Montant HT CHF]]*1.077, 0.05), "") -> 1892.85 | M5: =IF(Factures3[[#This Row],[Statut]]="Payé ", Factures3[[#This Row],[Montant HT CHF]], 0) -> 1757.5 | N5: =IF(Factures3[[#This Row],[Type de doc.]]="Facture", Factures3[[#This Row],[Total payé CHF]]-Factures3[[#This Row],[Montant HT CHF]], "") -> 0
D6: Facture | F6: Payé | G6: 44194 | H6: =IF(AND(Factures3[[#This Row],[Type de doc.]]="Facture", Factures3[[#This Row],[Date 1 envoi]]<>"", Factures3[[#This Row],[Date paiement]]=""), EDATE(Factures3[[#This Row],[Date 1 envoi]],1), "") -> 44225 | I6: =IF(Factures3[[#This Row],[Type de doc.]]="Facture", IF(Factures3[[#This Row],[Date paiement]]<Factures3[[#This Row],[Date 1 envoi]], EDATE(Factures3[[#This Row],[Date 1 envoi]], 2), ""), IF(Factures3[[#This Row],[Type de doc.]]="Devis", IF(Factures3[[#This Row],[Statut]]="Envoyé ", EDATE(Factures3[[#This Row],[Date 1 envoi]], 1), ""), "")) -> 44255 | K6: 1757.5 | L6: =IF(Factures3[[#This Row],[Montant HT CHF]]>0, CEILING(Factures3[[#This Row],[Montant HT CHF]]*1.077, 0.05), "") -> 1892.85 | M6: =IF(Factures3[[#This Row],[Statut]]="Payé ", Factures3[[#This Row],[Montant HT CHF]], 0) -> 1757.5 | N6: =IF(Factures3[[#This Row],[Type de doc.]]="Facture", Factures3[[#This Row],[Total payé CHF]]-Factures3[[#This Row],[Montant HT CHF]], "") -> 0
D7: Devis | F7: Refusé | G7: 44198 | H7: =IF(AND(Factures3[[#This Row],[Type de doc.]]="Facture", Factures3[[#This Row],[Date 1 envoi]]<>"", Factures3[[#This Row],[Date paiement]]=""), EDATE(Factures3[[#This Row],[Date 1 envoi]],1), "") | I7: =IF(Factures3[[#This Row],[Type de doc.]]="Facture", IF(Factures3[[#This Row],[Date paiement]]<Factures3[[#This Row],[Date 1 envoi]], EDATE(Factures3[[#This Row],[Date 1 envoi]], 2), ""), IF(Factures3[[#This Row],[Type de doc.]]="Devis", IF(Factures3[[#This Row],[Statut]]="Envoyé ", EDATE(Factures3[[#This Row],[Date 1 envoi]], 1), ""), "")) | K7: 5600.5 | L7: =IF(Factures3[[#This Row],[Montant HT CHF]]>0, CEILING(Factures3[[#This Row],[Montant HT CHF]]*1.077, 0.05), "") -> 6031.75 | M7: =IF(Factures3[[#This Row],[Statut]]="Payé ", Factures3[[#This Row],[Montant HT CHF]], 0) -> 0 | N7: =IF(Factures3[[#This Row],[Type de doc.]]="Facture", Factures3[[#This Row],[Total payé CHF]]-Factures3[[#This Row],[Montant HT CHF]], "")
D8: Devis | F8: Refusé | G8: 44198 | H8: =IF(AND(Factures3[[#This Row],[Type de doc.]]="Facture", Factures3[[#This Row],[Date 1 envoi]]<>"", Factures3[[#This Row],[Date paiement]]=""), EDATE(Factures3[[#This Row],[Date 1 envoi]],1), "") | I8: =IF(Factures3[[#This Row],[Type de doc.]]="Facture", IF(Factures3[[#This Row],[Date paiement]]<Factures3[[#This Row],[Date 1 envoi]], EDATE(Factures3[[#This Row],[Date 1 envoi]], 2), ""), IF(Factures3[[#This Row],[Type de doc.]]="Devis", IF(Factures3[[#This Row],[Statut]]="Envoyé ", EDATE(Factures3[[#This Row],[Date 1 envoi]], 1), ""), "")) | K8: 2020 | L8: =IF(Factures3[[#This Row],[Montant HT CHF]]>0, CEILING(Factures3[[#This Row],[Montant HT CHF]]*1.077, 0.05), "") -> 2175.55 | M8: =IF(Factures3[[#This Row],[Statut]]="Payé ", Factures3[[#This Row],[Montant HT CHF]], 0) -> 0 | N8: =IF(Factures3[[#This Row],[Type de doc.]]="Facture", Factures3[[#This Row],[Total payé CHF]]-Factures3[[#This Row],[Montant HT CHF]], "")
D9: Devis | F9: Accepté | G9: 44236 | H9: =IF(AND(Factures3[[#This Row],[Type de doc.]]="Facture", Factures3[[#This Row],[Date 1 envoi]]<>"", Factures3[[#This Row],[Date paiement]]=""), EDATE(Factures3[[#This Row],[Date 1 envoi]],1), "") | I9: =IF(Factures3[[#This Row],[Type de doc.]]="Facture", IF(Factures3[[#This Row],[Date paiement]]<Factures3[[#This Row],[Date 1 envoi]], EDATE(Factures3[[#This Row],[Date 1 envoi]], 2), ""), IF(Factures3[[#This Row],[Type de doc.]]="Devis", IF(Factures3[[#This Row],[Statut]]="Envoyé ", EDATE(Factures3[[#This Row],[Date 1 envoi]], 1), ""), "")) | K9: 9538 | L9: =IF(Factures3[[#This Row],[Montant HT CHF]]>0, CEILING(Factures3[[#This Row],[Montant HT CHF]]*1.077, 0.05), "") -> 10272.45 | M9: =IF(Factures3[[#This Row],[Statut]]="Payé ", Factures3[[#This Row],[Montant HT CHF]], 0) -> 0 | N9: =IF(Factures3[[#This Row],[Type de doc.]]="Facture", Factures3[[#This Row],[Total payé CHF]]-Factures3[[#This Row],[Montant HT CHF]], "")
K10: =SUBTOTAL(109,Factures3[Montant HT CHF]) -> 25733.5 | L10: =SUBTOTAL(109,Factures3[Montant TTC CHF]) -> 27715.1 | M10: =SUBTOTAL(109,Factures3[Total payé CHF]) -> 5205 | N10: =SUBTOTAL(109,Factures3[Solde CHF]) -> 0

Sheet Récap général
A2: Type de doc. | B2: Nombre | C2: Statut | D2: Montant HT CHF | E2: Montant TTC CHF | F2: Total payé CHF | G2: Solde CHF
A3: Facture | B3: =COUNTIFS(Factures3[Type de doc.],"Facture") -> 3 | D3: =SUMIF(Factures3[Type de doc.],"Facture",Factures3[Montant HT CHF]) -> 5205 | E3: =IF(Nombre[[#This Row],[Montant HT CHF]]>0, CEILING(Nombre[[#This Row],[Montant HT CHF]]*1.077, 0.05), "") -> 5605.8 | F3: =SUMIF(Factures3[Type de doc.], "Facture",Factures3[Total payé CHF]) -> 5205 | G3: =IF(Nombre[[#This Row],[Type de doc.]]="Facture", Nombre[[#This Row],[Total payé CHF]]-Nombre[[#This Row],[Montant TTC CHF]], " ") -> -400.8
A4: Devis | B4: =COUNTIFS(Factures3[Type de doc.],"Devis") -> 4 | D4: =SUMIF(Factures3[Type de doc.],"Devis",Factures3[Montant HT CHF]) -> 20528.5 | E4: =IF(Nombre[[#This Row],[Montant HT CHF]]>0, CEILING(Nombre[[#This Row],[Montant HT CHF]]*1.077, 0.05), "") -> 22109.2 | G4: =IF(Nombre[[#This Row],[Type de doc.]]="Facture", Nombre[[#This Row],[Total payé CHF]]-Nombre[[#This Row],[Montant TTC CHF]], " ")
D5: =SUBTOTAL(109,Nombre[Montant HT CHF]) -> 25733.5 | E5: =SUBTOTAL(109,Nombre[Montant TTC CHF]) -> 27715 | F5: =SUBTOTAL(109,Nombre[Total payé CHF]) -> 5205 | G5: =SUBTOTAL(109,Nombre[Solde CHF]) -> -400.8

Sheet Récap 2020
A1: 2020
A2: Mois | B2: Nombre de devis | C2: Montant devis HT | D2: Nombre de facture | E2: Montant facture HT | F2: Total payé HT | G2: Solde CHF
A3: Janvier
A4: Février
A5: Mars
A6: Avril
A7: Mai
A8: Juin
A9: Juillet
A10: Août
A11: Septembre
A12: Octobre
A13: Novembre
A14: Décembre
B15: =SUBTOTAL(109,'Récap 2020'!$B$3:$B$14) -> 0 | C15: =SUBTOTAL(109,'Récap 2020'!$C$3:$C$14) -> 0 | D15: =SUBTOTAL(109,'Récap 2020'!$D$3:$D$14) -> 0 | E15: =SUBTOTAL(109,'Récap 2020'!$E$3:$E$14) -> 0 | F15: =SUBTOTAL(109,'Récap 2020'!$F$3:$F$14) -> 0 | G15: =SUBTOTAL(109,'Récap 2020'!$G$3:$G$14) -> 0

Sheet Récap 2021
A1: 2021
A2: Mois | B2: Nombre de devis | C2: Montant devis HT | D2: Nombre de facture | E2: Montant facture HT | F2: Total payé HT | G2: Solde CHF
A3: Janvier | B3: =COUNTIFS(Factures3[Type de doc.],"Devis",Factures3[Échéance paiement],Factures3[Échéance paiement]>=DATEVALUE(1/1/2021)) -> 0 | G3: =IF('Récap 2021'!$A3="Facture", 'Récap 2021'!$F3-'Récap 2021'!$E3, " ") | I3: 44197 | J3: 44227
A4: Février | E4: =IF('Récap 2021'!$D4>0, CEILING('Récap 2021'!$D4*1.077, 0.05), "") | G4: =IF('Récap 2021'!$A4="Facture", 'Récap 2021'!$F4-'Récap 2021'!$E4, " ") | I4: 44228 | J4: 44255
A5: Mars | E5: =IF('Récap 2021'!$D5>0, CEILING('Récap 2021'!$D5*1.077, 0.05), "") | G5: =IF('Récap 2021'!$A5="Facture", 'Récap 2021'!$F5-'Récap 2021'!$E5, " ") | I5: 44256 | J5: 44286
A6: Avril | E6: =IF('Récap 2021'!$D6>0, CEILING('Récap 2021'!$D6*1.077, 0.05), "") | G6: =IF('Récap 2021'!$A6="Facture", 'Récap 2021'!$F6-'Récap 2021'!$E6, " ") | I6: 44287 | J6: 44316
A7: Mai | E7: =IF('Récap 2021'!$D7>0, CEILING('Récap 2021'!$D7*1.077, 0.05), "") | G7: =IF('Récap 2021'!$A7="Facture", 'Récap 2021'!$F7-'Récap 2021'!$E7, " ") | I7: 44317 | J7: 44347
A8: Juin | E8: =IF('Récap 2021'!$D8>0, CEILING('Récap 2021'!$D8*1.077, 0.05), "") | G8: =IF('Récap 2021'!$A8="Facture", 'Récap 2021'!$F8-'Récap 2021'!$E8, " ") | I8: 44348 | J8: 44377
A9: Juillet | E9: =IF('Récap 2021'!$D9>0, CEILING('Récap 2021'!$D9*1.077, 0.05), "") | G9: =IF('Récap 2021'!$A9="Facture", 'Récap 2021'!$F9-'Récap 2021'!$E9, " ") | I9: 44378 | J9: 44408
A10: Août | E10: =IF('Récap 2021'!$D10>0, CEILING('Récap 2021'!$D10*1.077, 0.05), "") | G10: =IF('Récap 2021'!$A10="Facture", 'Récap 2021'!$F10-'Récap 2021'!$E10, " ") | I10: 44409 | J10: 44439
A11: Septembre | I11: 44440 | J11: 44469
A12: Octobre | I12: 44470 | J12: 44500
A13: Novembre | I13: 44501 | J13: 44530
A14: Décembre | G14: =IF('Récap 2021'!$A14="Facture", 'Récap 2021'!$F14-'Récap 2021'!$E14, " ") | I14: 44531 | J14: 44561
B15: =SUBTOTAL(109,'Récap 2021'!$B$3:$B$14) -> 0 | C15: =SUBTOTAL(109,'Récap 2021'!$C$3:$C$14) -> 0 | D15: =SUBTOTAL(109,'Récap 2021'!$D$3:$D$14) -> 0 | E15: =SUBTOTAL(109,'Récap 2021'!$E$3:$E$14) -> 0 | F15: =SUBTOTAL(109,'Récap 2021'!$F$3:$F$14) -> 0 | G15: =SUBTOTAL(109,'Récap 2021'!$G$3:$G$14) -> 0
