Workbook

Sheet graph
B3: famille | C3: Rang | D3: Rang magasin
B4: Famille 1 | C4: =chiffres!C4 -> 12 | D4: 5
B5: Famille 2 | C5: =chiffres!C5 -> 120 | D5: 5
B6: Famille 3 | C6: =chiffres!C6 -> 30 | D6: 5
B7: Famille 4 | C7: =chiffres!C7 -> 7 | D7: 5
B8: Famille 5 | C8: =chiffres!C8 -> 2 | D8: 5
B9: Famille 6 | C9: =chiffres!C9 -> 5 | D9: 5
B10: Famille 7 | C10: =chiffres!C10 -> 21 | D10: 5
B11: Famille 8 | C11: =chiffres!C11 -> 18 | D11: 5
B12: Famille 9 | C12: =chiffres!C12 -> 2000 | D12: 5
B13: Famille 10 | C13: =chiffres!C13 -> 51 | D13: 5
B14: Famille 11 | C14: =chiffres!C14 -> 2 | D14: 5
B15: Famille 12 | C15: =chiffres!C15 -> 1 | D15: 5
... B19: Famille 16 | C19: =chiffres!C19 -> 6 | D19: 5

Sheet swot

Sheet chiffres
C3: rang | E3: CA | F3: CA N-1 | G3: Progression
B4: Famille 1 | C4: 12 | E4: 150 | F4: 120 | G4: =(E4-F4)/F4 -> 0.25
B5: Famille 2 | C5: 120 | E5: 0 | F5: 140 | G5: =(E5-F5)/F5 -> -1
B6: Famille 3 | C6: 30 | E6: 250 | F6: 200 | G6: =(E6-F6)/F6 -> 0.25
B7: Famille 4 | C7: 7 | E7: 300 | F7: 200 | G7: =(E7-F7)/F7 -> 0.5
B8: Famille 5 | C8: 2 | E8: 350 | F8: 0 | G8: =(E8-F8)/F8 -> #DIV/0!
B9: Famille 6 | C9: 5 | E9: 400 | F9: 200 | G9: =(E9-F9)/F9 -> 1
B10: Famille 7 | C10: 21 | E10: 450 | F10: 200 | G10: =(E10-F10)/F10 -> 1.25
B11: Famille 8 | C11: 18 | E11: 500 | F11: 700 | G11: =(E11-F11)/F11 -> -0.28571429
B12: Famille 9 | C12: 2000 | E12: -100 | F12: 200 | G12: =(E12-F12)/F12 -> -1.5
B13: Famille 10 | C13: 51 | E13: 600 | F13: 200 | G13: =(E13-F13)/F13 -> 2
B14: Famille 11 | C14: 2 | E14: 650 | F14: 200 | G14: =(E14-F14)/F14 -> 2.25
B15: Famille 12 | C15: 1 | E15: 700 | F15: 200 | G15: =(E15-F15)/F15 -> 2.5
... B19: Famille 16 | C19: 6 | E19: 900 | F19: 200 | G19: =(E19-F19)/F19 -> 3.5
