Workbook

Sheet analyse chiffres
F2: mag1
C6: N
D8: Choix mag
D9: choix rang cible | E9: 1
B14: Arborescence | C14: classement | D14: MARGE | E14: pdm | F14: magasin cible | G14: evol € | H14: evol | I14: poids
B15: Magasin | D15: =D16+D26+D39 -> 2646 | F15: ,
B16: Univers 1 | D16: =D17 -> 1500 | E16: =D16/$D$15 -> 0.56689342
B17: Rayon 1 | D17: 1500 | E17: =D17/$D$15 -> 0.56689342 | G17: =D17-F17 -> 1500
A18: fam1 | B18: famille 1 | D18: 1000 | E18: =D18/$D$15 -> 0.37792895 | G18: =D18-F18 -> 1000 | H18: =LOOKUP(A18,Feuil1!B2:Y136,Feuil1!U2:U90)/100 -> #N/A | I18: {=IFERROR(INDEX(Feuil1!$I$2:$I$20996,MATCH($F$2&$A18,Feuil1!$A$2:$A$20996&Feuil1!$B$2:$B$20996,0)),0)} -> 14217.11 | J18: =IFERROR(INDEX(Feuil1!$I$2:$I$20996,_xlfn.AGGREGATE(15,6,(1/((Feuil1!$A$2:$A$20996=$F$2)*(Feuil1!$B$2:$B$20996=$A18)))*(ROW(Feuil1!$A$2:$A$20996)-1),ROW($A$1))),"") -> 14217.11
A19: fam2 | B19: famille 2 | D19: 100 | E19: =D19/$D$15 -> 0.037792895 | G19: =D19-F19 -> 100 | H19: =LOOKUP(A19,Feuil1!B2:Y136,Feuil1!U2:U91)/100 -> #N/A | I19: {=IFERROR(INDEX(Feuil1!$I$2:$I$20996,MATCH($F$2&$A19,Feuil1!$A$2:$A$20996&Feuil1!$B$2:$B$20996,0)),0)} -> 1282 | J19: =IFERROR(INDEX(Feuil1!$I$2:$I$20996,_xlfn.AGGREGATE(15,6,(1/((Feuil1!$A$2:$A$20996=$F$2)*(Feuil1!$B$2:$B$20996=$A19)))*(ROW(Feuil1!$A$2:$A$20996)-1),ROW($A$1))),"") -> 1282
A20: fam3 | B20: famille 3 | D20: 50 | E20: =D20/$D$15 -> 0.018896447 | G20: =D20-F20 -> 50 | H20: =LOOKUP(A20,Feuil1!B2:Y136,Feuil1!U2:U92)/100 -> #N/A | I20: {=IFERROR(INDEX(Feuil1!$I$2:$I$20996,MATCH($F$2&$A20,Feuil1!$A$2:$A$20996&Feuil1!$B$2:$B$20996,0)),0)} -> 0 | J20: =IFERROR(INDEX(Feuil1!$I$2:$I$20996,_xlfn.AGGREGATE(15,6,(1/((Feuil1!$A$2:$A$20996=$F$2)*(Feuil1!$B$2:$B$20996=$A20)))*(ROW(Feuil1!$A$2:$A$20996)-1),ROW($A$1))),"")
A21: fam4 | B21: famille 4 | D21: 10 | E21: =D21/$D$15 -> 0.0037792895 | G21: =D21-F21 -> 10 | H21: =LOOKUP(A21,Feuil1!B2:Y136,Feuil1!U2:U93)/100 -> #N/A | I21: {=IFERROR(INDEX(Feuil1!$I$2:$I$20996,MATCH($F$2&$A21,Feuil1!$A$2:$A$20996&Feuil1!$B$2:$B$20996,0)),0)} -> 0 | J21: =IFERROR(INDEX(Feuil1!$I$2:$I$20996,_xlfn.AGGREGATE(15,6,(1/((Feuil1!$A$2:$A$20996=$F$2)*(Feuil1!$B$2:$B$20996=$A21)))*(ROW(Feuil1!$A$2:$A$20996)-1),ROW($A$1))),"")
A22: fam5 | B22: famille 5 | D22: 10 | E22: =D22/$D$15 -> 0.0037792895 | G22: =D22-F22 -> 10 | H22: =LOOKUP(A22,Feuil1!B2:Y136,Feuil1!U2:U94)/100 -> #N/A | I22: {=IFERROR(INDEX(Feuil1!$I$2:$I$20996,MATCH($F$2&$A22,Feuil1!$A$2:$A$20996&Feuil1!$B$2:$B$20996,0)),0)} -> 1354.12 | J22: =IFERROR(INDEX(Feuil1!$I$2:$I$20996,_xlfn.AGGREGATE(15,6,(1/((Feuil1!$A$2:$A$20996=$F$2)*(Feuil1!$B$2:$B$20996=$A22)))*(ROW(Feuil1!$A$2:$A$20996)-1),ROW($A$1))),"") -> 1354.12
A23: fam6 | B23: famille 6 | D23: 10 | E23: =D23/$D$15 -> 0.0037792895 | G23: =D23-F23 -> 10 | H23: =LOOKUP(A23,Feuil1!B3:Y137,Feuil1!U3:U95)/100 -> #N/A | I23: {=IFERROR(INDEX(Feuil1!$I$2:$I$20996,MATCH($F$2&$A23,Feuil1!$A$2:$A$20996&Feuil1!$B$2:$B$20996,0)),0)} -> 0 | J23: =IFERROR(INDEX(Feuil1!$I$2:$I$20996,_xlfn.AGGREGATE(15,6,(1/((Feuil1!$A$2:$A$20996=$F$2)*(Feuil1!$B$2:$B$20996=$A23)))*(ROW(Feuil1!$A$2:$A$20996)-1),ROW($A$1))),"")
A24: fam7 | B24: famille 7 | D24: 10 | E24: =D24/$D$15 -> 0.0037792895 | G24: =D24-F24 -> 10 | H24: =LOOKUP(A24,Feuil1!B4:Y138,Feuil1!U4:U96)/100 -> #N/A | I24: {=IFERROR(INDEX(Feuil1!$I$2:$I$20996,MATCH($F$2&$A24,Feuil1!$A$2:$A$20996&Feuil1!$B$2:$B$20996,0)),0)} -> 0 | J24: =IFERROR(INDEX(Feuil1!$I$2:$I$20996,_xlfn.AGGREGATE(15,6,(1/((Feuil1!$A$2:$A$20996=$F$2)*(Feuil1!$B$2:$B$20996=$A24)))*(ROW(Feuil1!$A$2:$A$20996)-1),ROW($A$1))),"")
A25: fam8 | B25: famille 8 | D25: 10 | E25: =D25/$D$15 -> 0.0037792895 | G25: =D25-F25 -> 10 | H25: =LOOKUP(A25,Feuil1!B5:Y139,Feuil1!U5:U97)/100 -> #N/A | I25: {=IFERROR(INDEX(Feuil1!$I$2:$I$20996,MATCH($F$2&$A25,Feuil1!$A$2:$A$20996&Feuil1!$B$2:$B$20996,0)),0)} -> 0 | J25: =IFERROR(INDEX(Feuil1!$I$2:$I$20996,_xlfn.AGGREGATE(15,6,(1/((Feuil1!$A$2:$A$20996=$F$2)*(Feuil1!$B$2:$B$20996=$A25)))*(ROW(Feuil1!$A$2:$A$20996)-1),ROW($A$1))),"")
B26: Univers 2 | D26: =D27+D33+D34+D37+D38 -> 946 | E26: =D26/$D$15 -> 0.35752079 | G26: =D26-F26 -> 946 | I26: {=IFERROR(INDEX(Feuil1!$I$2:$I$20996,MATCH($F$2&$A26,Feuil1!$A$2:$A$20996&Feuil1!$B$2:$B$20996,0)),0)} -> 0 | J26: =IFERROR(INDEX(Feuil1!$I$2:$I$20996,_xlfn.AGGREGATE(15,6,(1/((Feuil1!$A$2:$A$20996=$F$2)*(Feuil1!$B$2:$B$20996=$A26)))*(ROW(Feuil1!$A$2:$A$20996)-1),ROW($A$1))),"")
B27: Rayon 2 | D27: =D28+D29+D30+D31+D32 -> 100 | E27: =D27/$D$15 -> 0.037792895 | G27: =D27-F27 -> 100 | I27: {=IFERROR(INDEX(Feuil1!$I$2:$I$20996,MATCH($F$2&$A27,Feuil1!$A$2:$A$20996&Feuil1!$B$2:$B$20996,0)),0)} -> 0 | J27: =IFERROR(INDEX(Feuil1!$I$2:$I$20996,_xlfn.AGGREGATE(15,6,(1/((Feuil1!$A$2:$A$20996=$F$2)*(Feuil1!$B$2:$B$20996=$A27)))*(ROW(Feuil1!$A$2:$A$20996)-1),ROW($A$1))),"")
A28: Fam9 | B28: famille 9 | D28: 20 | E28: =D28/$D$15 -> 0.007558579 | G28: =D28-F28 -> 20 | H28: =LOOKUP(A28,Feuil1!B8:Y142,Feuil1!U8:U100)/100 -> #N/A | I28: {=IFERROR(INDEX(Feuil1!$I$2:$I$20996,MATCH($F$2&$A28,Feuil1!$A$2:$A$20996&Feuil1!$B$2:$B$20996,0)),0)} -> 0 | J28: =IFERROR(INDEX(Feuil1!$I$2:$I$20996,_xlfn.AGGREGATE(15,6,(1/((Feuil1!$A$2:$A$20996=$F$2)*(Feuil1!$B$2:$B$20996=$A28)))*(ROW(Feuil1!$A$2:$A$20996)-1),ROW($A$1))),"")
A29: Fam10 | B29: famille 10 | D29: 20 | E29: =D29/$D$15 -> 0.007558579 | G29: =D29-F29 -> 20 | H29: =LOOKUP(A29,Feuil1!B9:Y143,Feuil1!U9:U101)/100 -> #N/A | I29: {=IFERROR(INDEX(Feuil1!$I$2:$I$20996,MATCH($F$2&$A29,Feuil1!$A$2:$A$20996&Feuil1!$B$2:$B$20996,0)),0)} -> 0 | J29: =IFERROR(INDEX(Feuil1!$I$2:$I$20996,_xlfn.AGGREGATE(15,6,(1/((Feuil1!$A$2:$A$20996=$F$2)*(Feuil1!$B$2:$B$20996=$A29)))*(ROW(Feuil1!$A$2:$A$20996)-1),ROW($A$1))),"")
A30: Fam11 | B30: famille 11 | D30: 20 | E30: =D30/$D$15 -> 0.007558579 | G30: =D30-F30 -> 20 | H30: =LOOKUP(A30,Feuil1!B10:Y144,Feuil1!U10:U102)/100 -> #N/A | I30: {=IFERROR(INDEX(Feuil1!$I$2:$I$20996,MATCH($F$2&$A30,Feuil1!$A$2:$A$20996&Feuil1!$B$2:$B$20996,0)),0)} -> 0 | J30: =IFERROR(INDEX(Feuil1!$I$2:$I$20996,_xlfn.AGGREGATE(15,6,(1/((Feuil1!$A$2:$A$20996=$F$2)*(Feuil1!$B$2:$B$20996=$A30)))*(ROW(Feuil1!$A$2:$A$20996)-1),ROW($A$1))),"")
A31: Fam12 | B31: famille 12 | D31: 20 | E31: =D31/$D$15 -> 0.007558579 | G31: =D31-F31 -> 20 | H31: =LOOKUP(A31,Feuil1!B11:Y145,Feuil1!U11:U103)/100 -> #N/A | I31: {=IFERROR(INDEX(Feuil1!$I$2:$I$20996,MATCH($F$2&$A31,Feuil1!$A$2:$A$20996&Feuil1!$B$2:$B$20996,0)),0)} -> 0 | J31: =IFERROR(INDEX(Feuil1!$I$2:$I$20996,_xlfn.AGGREGATE(15,6,(1/((Feuil1!$A$2:$A$20996=$F$2)*(Feuil1!$B$2:$B$20996=$A31)))*(ROW(Feuil1!$A$2:$A$20996)-1),ROW($A$1))),"")
A32: Fam13 | B32: famille 13 | D32: 20 | E32: =D32/$D$15 -> 0.007558579 | G32: =D32-F32 -> 20 | H32: =LOOKUP(A32,Feuil1!B12:Y146,Feuil1!U12:U104)/100 -> #N/A | I32: {=IFERROR(INDEX(Feuil1!$I$2:$I$20996,MATCH($F$2&$A32,Feuil1!$A$2:$A$20996&Feuil1!$B$2:$B$20996,0)),0)} -> 0 | J32: =IFERROR(INDEX(Feuil1!$I$2:$I$20996,_xlfn.AGGREGATE(15,6,(1/((Feuil1!$A$2:$A$20996=$F$2)*(Feuil1!$B$2:$B$20996=$A32)))*(ROW(Feuil1!$A$2:$A$20996)-1),ROW($A$1))),"")
B33: Rayon 3 | D33: 50 | E33: =D33/$D$15 -> 0.018896447 | G33: =D33-F33 -> 50 | H33: =LOOKUP(A33,Feuil1!B13:Y147,Feuil1!U13:U105)/100 -> #N/A | I33: {=IFERROR(INDEX(Feuil1!$I$2:$I$20996,MATCH($F$2&$A33,Feuil1!$A$2:$A$20996&Feuil1!$B$2:$B$20996,0)),0)} -> 0 | J33: =IFERROR(INDEX(Feuil1!$I$2:$I$20996,_xlfn.AGGREGATE(15,6,(1/((Feuil1!$A$2:$A$20996=$F$2)*(Feuil1!$B$2:$B$20996=$A33)))*(ROW(Feuil1!$A$2:$A$20996)-1),ROW($A$1))),"")
B34: Rayon 4 | D34: 100 | E34: =D34/$D$15 -> 0.037792895 | G34: =D34-F34 -> 100 | I34: {=IFERROR(INDEX(Feuil1!$I$2:$I$20996,MATCH($F$2&$A34,Feuil1!$A$2:$A$20996&Feuil1!$B$2:$B$20996,0)),0)} -> 0 | J34: =IFERROR(INDEX(Feuil1!$I$2:$I$20996,_xlfn.AGGREGATE(15,6,(1/((Feuil1!$A$2:$A$20996=$F$2)*(Feuil1!$B$2:$B$20996=$A34)))*(ROW(Feuil1!$A$2:$A$20996)-1),ROW($A$1))),"")
A35: Fam14 | B35: Famille 14 | D35: 0 | E35: =D35/$D$15 -> 0 | G35: =D35-F35 -> 0 | H35: =LOOKUP(A35,Feuil1!B15:Y149,Feuil1!U15:U107)/100 -> #N/A | I35: {=IFERROR(INDEX(Feuil1!$I$2:$I$20996,MATCH($F$2&$A35,Feuil1!$A$2:$A$20996&Feuil1!$B$2:$B$20996,0)),0)} -> 0 | J35: =IFERROR(INDEX(Feuil1!$I$2:$I$20996,_xlfn.AGGREGATE(15,6,(1/((Feuil1!$A$2:$A$20996=$F$2)*(Feuil1!$B$2:$B$20996=$A35)))*(ROW(Feuil1!$A$2:$A$20996)-1),ROW($A$1))),"")
A36: Fam15 | B36: Famille 15 | D36: 0 | E36: =D36/$D$15 -> 0 | G36: =D36-F36 -> 0 | H36: =LOOKUP(A36,Feuil1!B16:Y150,Feuil1!U16:U108)/100 -> #N/A | I36: {=IFERROR(INDEX(Feuil1!$I$2:$I$20996,MATCH($F$2&$A36,Feuil1!$A$2:$A$20996&Feuil1!$B$2:$B$20996,0)),0)} -> 0 | J36: =IFERROR(INDEX(Feuil1!$I$2:$I$20996,_xlfn.AGGREGATE(15,6,(1/((Feuil1!$A$2:$A$20996=$F$2)*(Feuil1!$B$2:$B$20996=$A36)))*(ROW(Feuil1!$A$2:$A$20996)-1),ROW($A$1))),"")
A37: TTV | B37: Rayon 5 | D37: 100 | E37: =D37/$D$15 -> 0.037792895 | G37: =D37-F37 -> 100 | H37: =LOOKUP(A37,Feuil1!B17:Y151,Feuil1!U17:U109)/100 -> #N/A | I37: {=IFERROR(INDEX(Feuil1!$I$2:$I$20996,MATCH($F$2&$A37,Feuil1!$A$2:$A$20996&Feuil1!$B$2:$B$20996,0)),0)} -> 0 | J37: =IFERROR(INDEX(Feuil1!$I$2:$I$20996,_xlfn.AGGREGATE(15,6,(1/((Feuil1!$A$2:$A$20996=$F$2)*(Feuil1!$B$2:$B$20996=$A37)))*(ROW(Feuil1!$A$2:$A$20996)-1),ROW($A$1))),"")
B38: Rayon 6 | D38: 596 | E38: =D38/$D$15 -> 0.22524565 | G38: =D38-F38 -> 596 | H38: =LOOKUP(A38,Feuil1!B18:Y152,Feuil1!U18:U110)/100 -> #N/A | I38: {=IFERROR(INDEX(Feuil1!$I$2:$I$20996,MATCH($F$2&$A38,Feuil1!$A$2:$A$20996&Feuil1!$B$2:$B$20996,0)),0)} -> 0 | J38: =IFERROR(INDEX(Feuil1!$I$2:$I$20996,_xlfn.AGGREGATE(15,6,(1/((Feuil1!$A$2:$A$20996=$F$2)*(Feuil1!$B$2:$B$20996=$A38)))*(ROW(Feuil1!$A$2:$A$20996)-1),ROW($A$1))),"")
B39: Univers 3 | D39: 200 | E39: =D39/$D$15 -> 0.07558579 | G39: =D39-F39 -> 200 | I39: {=IFERROR(INDEX(Feuil1!$I$2:$I$20996,MATCH($F$2&$A39,Feuil1!$A$2:$A$20996&Feuil1!$B$2:$B$20996,0)),0)} -> 0 | J39: =IFERROR(INDEX(Feuil1!$I$2:$I$20996,_xlfn.AGGREGATE(15,6,(1/((Feuil1!$A$2:$A$20996=$F$2)*(Feuil1!$B$2:$B$20996=$A39)))*(ROW(Feuil1!$A$2:$A$20996)-1),ROW($A$1))),"")
B40: Rayon 7 | D40: =D41+D42+D43+D44 -> 80 | E40: =D40/$D$15 -> 0.030234316 | G40: =D40-F40 -> 80 | I40: {=IFERROR(INDEX(Feuil1!$I$2:$I$20996,MATCH($F$2&$A40,Feuil1!$A$2:$A$20996&Feuil1!$B$2:$B$20996,0)),0)} -> 0 | J40: =IFERROR(INDEX(Feuil1!$I$2:$I$20996,_xlfn.AGGREGATE(15,6,(1/((Feuil1!$A$2:$A$20996=$F$2)*(Feuil1!$B$2:$B$20996=$A40)))*(ROW(Feuil1!$A$2:$A$20996)-1),ROW($A$1))),"")
A41: Fam16 | B41: famille 16 | D41: 20 | E41: =D41/$D$15 -> 0.007558579 | G41: =D41-F41 -> 20 | H41: =LOOKUP(A41,Feuil1!B21:Y155,Feuil1!U21:U113)/100 -> #N/A | I41: {=IFERROR(INDEX(Feuil1!$I$2:$I$20996,MATCH($F$2&$A41,Feuil1!$A$2:$A$20996&Feuil1!$B$2:$B$20996,0)),0)} -> 0 | J41: =IFERROR(INDEX(Feuil1!$I$2:$I$20996,_xlfn.AGGREGATE(15,6,(1/((Feuil1!$A$2:$A$20996=$F$2)*(Feuil1!$B$2:$B$20996=$A41)))*(ROW(Feuil1!$A$2:$A$20996)-1),ROW($A$1))),"")
A42: Fam17 | B42: famille 17 | D42: 20 | E42: =D42/$D$15 -> 0.007558579 | G42: =D42-F42 -> 20 | H42: =LOOKUP(A42,Feuil1!B22:Y156,Feuil1!U22:U114)/100 -> #N/A | I42: {=IFERROR(INDEX(Feuil1!$I$2:$I$20996,MATCH($F$2&$A42,Feuil1!$A$2:$A$20996&Feuil1!$B$2:$B$20996,0)),0)} -> 0 | J42: =IFERROR(INDEX(Feuil1!$I$2:$I$20996,_xlfn.AGGREGATE(15,6,(1/((Feuil1!$A$2:$A$20996=$F$2)*(Feuil1!$B$2:$B$20996=$A42)))*(ROW(Feuil1!$A$2:$A$20996)-1),ROW($A$1))),"")
A43: Fam18 | B43: famille 18 | D43: 20 | E43: =D43/$D$15 -> 0.007558579 | G43: =D43-F43 -> 20 | H43: =LOOKUP(A43,Feuil1!B23:Y157,Feuil1!U23:U115)/100 -> #N/A | I43: {=IFERROR(INDEX(Feuil1!$I$2:$I$20996,MATCH($F$2&$A43,Feuil1!$A$2:$A$20996&Feuil1!$B$2:$B$20996,0)),0)} -> 0 | J43: =IFERROR(INDEX(Feuil1!$I$2:$I$20996,_xlfn.AGGREGATE(15,6,(1/((Feuil1!$A$2:$A$20996=$F$2)*(Feuil1!$B$2:$B$20996=$A43)))*(ROW(Feuil1!$A$2:$A$20996)-1),ROW($A$1))),"")
A44: Fam19 | B44: famille 19 | D44: 20 | E44: =D44/$D$15 -> 0.007558579 | G44: =D44-F44 -> 20 | H44: =LOOKUP(A44,Feuil1!B24:Y158,Feuil1!U24:U116)/100 -> #N/A | I44: {=IFERROR(INDEX(Feuil1!$I$2:$I$20996,MATCH($F$2&$A44,Feuil1!$A$2:$A$20996&Feuil1!$B$2:$B$20996,0)),0)} -> 0 | J44: =IFERROR(INDEX(Feuil1!$I$2:$I$20996,_xlfn.AGGREGATE(15,6,(1/((Feuil1!$A$2:$A$20996=$F$2)*(Feuil1!$B$2:$B$20996=$A44)))*(ROW(Feuil1!$A$2:$A$20996)-1),ROW($A$1))),"")
B45: Rayon 8 | D45: =D46+D48 -> 60 | E45: =D45/$D$15 -> 0.022675737 | G45: =D45-F45 -> 60 | I45: {=IFERROR(INDEX(Feuil1!$I$2:$I$20996,MATCH($F$2&$A45,Feuil1!$A$2:$A$20996&Feuil1!$B$2:$B$20996,0)),0)} -> 0 | J45: =IFERROR(INDEX(Feuil1!$I$2:$I$20996,_xlfn.AGGREGATE(15,6,(1/((Feuil1!$A$2:$A$20996=$F$2)*(Feuil1!$B$2:$B$20996=$A45)))*(ROW(Feuil1!$A$2:$A$20996)-1),ROW($A$1))),"")
A46: Fam20 | B46: Famille 20 | D46: 30 | E46: =D46/$D$15 -> 0.011337868 | G46: =D46-F46 -> 30 | H46: =LOOKUP(A46,Feuil1!$B$1:$Y$160,Feuil1!$U$1:$U$118)/100 -> #N/A | I46: {=IFERROR(INDEX(Feuil1!$I$2:$I$20996,MATCH($F$2&$A46,Feuil1!$A$2:$A$20996&Feuil1!$B$2:$B$20996,0)),0)} -> 1951.06 | J46: =IFERROR(INDEX(Feuil1!$I$2:$I$20996,_xlfn.AGGREGATE(15,6,(1/((Feuil1!$A$2:$A$20996=$F$2)*(Feuil1!$B$2:$B$20996=$A46)))*(ROW(Feuil1!$A$2:$A$20996)-1),ROW($A$1))),"") -> 1951.06
A47: Fam21 | B47: Famille 21 | D47: 30 | E47: =D47/$D$15 -> 0.011337868 | G47: =D47-F47 -> 30 | H47: =LOOKUP(A47,Feuil1!B1:Y161,Feuil1!U1:U119)/100 -> #N/A | I47: {=IFERROR(INDEX(Feuil1!$I$2:$I$20996,MATCH($F$2&$A47,Feuil1!$A$2:$A$20996&Feuil1!$B$2:$B$20996,0)),0)} -> 0 | J47: =IFERROR(INDEX(Feuil1!$I$2:$I$20996,_xlfn.AGGREGATE(15,6,(1/((Feuil1!$A$2:$A$20996=$F$2)*(Feuil1!$B$2:$B$20996=$A47)))*(ROW(Feuil1!$A$2:$A$20996)-1),ROW($A$1))),"")
A48: Fam22 | B48: Famille 22 | D48: 30 | E48: =D48/$D$15 -> 0.011337868 | G48: =D48-F48 -> 30 | H48: =LOOKUP(A48,Feuil1!B1:Y162,Feuil1!U1:U120)/100 -> #N/A | I48: {=IFERROR(INDEX(Feuil1!$I$2:$I$20996,MATCH($F$2&$A48,Feuil1!$A$2:$A$20996&Feuil1!$B$2:$B$20996,0)),0)} -> 0 | J48: =IFERROR(INDEX(Feuil1!$I$2:$I$20996,_xlfn.AGGREGATE(15,6,(1/((Feuil1!$A$2:$A$20996=$F$2)*(Feuil1!$B$2:$B$20996=$A48)))*(ROW(Feuil1!$A$2:$A$20996)-1),ROW($A$1))),"")
B49: Rayon 9 | D49: =D50+D51+D52 -> 120 | E49: =D49/$D$15 -> 0.045351474 | G49: =D49-F49 -> 120 | I49: {=IFERROR(INDEX(Feuil1!$I$2:$I$20996,MATCH($F$2&$A49,Feuil1!$A$2:$A$20996&Feuil1!$B$2:$B$20996,0)),0)} -> 0 | J49: =IFERROR(INDEX(Feuil1!$I$2:$I$20996,_xlfn.AGGREGATE(15,6,(1/((Feuil1!$A$2:$A$20996=$F$2)*(Feuil1!$B$2:$B$20996=$A49)))*(ROW(Feuil1!$A$2:$A$20996)-1),ROW($A$1))),"")
A50: Fam23 | B50: Famille 23 | D50: 40 | E50: =D50/$D$15 -> 0.015117158 | G50: =D50-F50 -> 40 | H50: =LOOKUP(A50,Feuil1!B2:Y164,Feuil1!U2:U122)/100 -> #N/A | I50: {=IFERROR(INDEX(Feuil1!$I$2:$I$20996,MATCH($F$2&$A50,Feuil1!$A$2:$A$20996&Feuil1!$B$2:$B$20996,0)),0)} -> 0 | J50: =IFERROR(INDEX(Feuil1!$I$2:$I$20996,_xlfn.AGGREGATE(15,6,(1/((Feuil1!$A$2:$A$20996=$F$2)*(Feuil1!$B$2:$B$20996=$A50)))*(ROW(Feuil1!$A$2:$A$20996)-1),ROW($A$1))),"")
A51: Fam24 | B51: Famille 24 | D51: 40 | E51: =D51/$D$15 -> 0.015117158 | G51: =D51-F51 -> 40 | H51: =LOOKUP(A51,Feuil1!B2:Y165,Feuil1!U2:U123)/100 -> #N/A | I51: {=IFERROR(INDEX(Feuil1!$I$2:$I$20996,MATCH($F$2&$A51,Feuil1!$A$2:$A$20996&Feuil1!$B$2:$B$20996,0)),0)} -> 0 | J51: =IFERROR(INDEX(Feuil1!$I$2:$I$20996,_xlfn.AGGREGATE(15,6,(1/((Feuil1!$A$2:$A$20996=$F$2)*(Feuil1!$B$2:$B$20996=$A51)))*(ROW(Feuil1!$A$2:$A$20996)-1),ROW($A$1))),"")
A52: Fam25 | B52: Famille 25 | D52: 40 | E52: =D52/$D$15 -> 0.015117158 | G52: =D52-F52 -> 40 | H52: =LOOKUP(A52,Feuil1!B2:Y166,Feuil1!U2:U124)/100 -> #N/A | I52: {=IFERROR(INDEX(Feuil1!$I$2:$I$20996,MATCH($F$2&$A52,Feuil1!$A$2:$A$20996&Feuil1!$B$2:$B$20996,0)),0)} -> 0 | J52: =IFERROR(INDEX(Feuil1!$I$2:$I$20996,_xlfn.AGGREGATE(15,6,(1/((Feuil1!$A$2:$A$20996=$F$2)*(Feuil1!$B$2:$B$20996=$A52)))*(ROW(Feuil1!$A$2:$A$20996)-1),ROW($A$1))),"")

Sheet Feuil1
C1: indicateur 2 | D1: indicateur 3 | E1: indicateur 4 | F1: indicateur 5 | G1: indicateur 6 | H1: indicateur 7 | I1: indicateur 8
I548: 398.99
I549: 476.2
I551: 373.2
I552: 265.91
I553: 579.71
I554: 372.43
I555: 527.58
I556: 89.39
I557: 110.6
I559: 178
I560: 685.67
I561: 572.97
... I888: 0.1
A947: mag1 | B947: fam20 | I947: 1951.06
A948: mag2 | B948: fam20 | I948: 1833.44
A949: mag3 | B949: fam20 | I949: 2612.35
A950: mag4 | B950: fam20 | I950: 1480.92
I951: 2753.33
I952: 952.46
I953: 2326.35
I957: 4460.65
I958: 3388.93
I960: 1728.75
I961: 2104.66
I962: 3099.12
I963: 2536.97
I964: 929.5
I965: 870.38
I966: 1805.99
... I1775: 471.52
A1781: mag5 | B1781: fam20 | I1781: 1000
A1782: mag6 | B1782: fam20 | I1782: 1001
A1783: mag7 | B1783: fam20 | I1783: 1002
A1784: mag8 | B1784: fam20 | I1784: 1003
A1785: mag9 | B1785: fam20 | I1785: 1004
A1786: mag10 | B1786: fam20 | I1786: 1005
A1787: mag1 | B1787: fam5 | I1787: 1354.12
A1788: mag2 | B1788: fam5 | I1788: 1285.43
A1789: mag3 | B1789: fam5 | I1789: 3465.69
A1790: mag4 | B1790: fam5 | I1790: 1664.76
I1791: 645.81
I1792: 1369.51
I1793: 1306.9
I1797: 2657.76
I1798: 1531.52
I1800: 844.23
I1801: 770.48
I1802: 633.24
I1803: 1949.83
I1804: 982.44
I1805: 1028.99
I1806: 787.7
... I2620: 2829.7
A2621: mag5 | B2621: fam5 | I2621: 1100
A2622: mag6 | B2622: fam5 | I2622: 1001
A2623: mag7 | B2623: fam5 | I2623: 1102
A2624: mag8 | B2624: fam5 | I2624: 1103
A2625: mag9 | B2625: fam5 | I2625: 1104
A2626: mag10 | B2626: fam5 | I2626: 1105
A2627: mag1 | B2627: fam2 | I2627: 1282
A2628: mag2 | B2628: fam2 | I2628: 3760.89
A2629: mag3 | B2629: fam2 | I2629: 204.63
A2630: mag4 | B2630: fam2 | I2630: 5411.8
I2632: 706
I2633: 830
I2637: 2150
I2638: 5420.08
I2640: 1787
I2641: 931.6
I2642: 4835.73
I2643: 2452.32
I2644: 3984
I2645: 2211.69
I2646: 897.77
I2648: 5487.93
... I2765: 1672.2
A2766: mag5 | B2766: fam2 | I2766: 600
A2767: mag6 | B2767: fam2 | I2767: 601
A2768: mag7 | B2768: fam2 | I2768: 602
A2769: mag8 | B2769: fam2 | I2769: 603
A2770: mag9 | B2770: fam2 | I2770: 604
A2771: mag10 | B2771: fam2 | I2771: 605
A2772: mag1 | B2772: fam1 | I2772: 14217.11
A2773: mag2 | B2773: fam1 | I2773: 12137.95
A2774: mag3 | B2774: fam1 | I2774: 8715.37
A2775: mag4 | B2775: fam1 | I2775: 44034
I2776: 12374.9
I2777: 6162.18
I2778: 5835
I2782: 7832
I2783: 6898.8
I2785: 9233
I2786: 10747.28
I2787: 5067.57
I2788: 5331.44
I2789: 18816
I2790: 6541.07
I2791: 8273.64
... I2910: 25067.43
...

Sheet données
C4: mag1 | E4: 1
C5: mag2 | E5: 2
C6: mag3 | E6: 3
C7: mag4 | E7: 4
C8: mag5 | E8: 5
C9: mag6 | E9: 6
C10: mag7 | E10: 7
C11: mag8 | E11: 8
C12: mag9 | E12: 9
C13: mag10 | E13: 10
