Workbook
Name autoclave: [1]DataQC!$O$2:$O$14
Name Banque: #REF!
Name Carrelage: #REF!
Name Date: #REF!
Name dgj: [2]DataQC!$N$2:$N$14
Name Dilution: [1]DataQC!$K$2:$K$19
Name DO: [1]DataQC!$D$2:$D$92
Name dtwu: [3]DataQC!$M$2:$M$14
Name fsthstr: [2]DataQC!$O$2:$O$14
Name ftyuj: [3]DataQC!$H$2:$H$13
Name fui: [2]Liste!$A$2:$A$15
Name fyikj: [3]DataQC!$F$2:$F$6
Name fyiuk: [4]DataQC!$E$2:$E$31
Name fykij: [4]DataQC!$N$2:$N$10
Name fyul: [2]DataQC!$F$2:$F$6
Name gfdg: [5]Liste!$N$2:$N$5
Name ghk: [2]DataQC!$E$2:$E$35
Name gku: [2]Liste!$R$2:$R$5
Name gl: [2]Liste!$O$2:$O$10
Name guki: [2]Liste!$Q$2:$Q$10
Name guky: [2]DataQC!$J$2:$J$32
Name gulk: [2]DataQC!$K$2:$K$19
Name gyk: [3]Liste!$Q$2:$Q$10
Name hgjul: [2]DataQC!$M$2:$M$14
Name hià: [2]Liste!$B$2:$B$15
Name hiço: [3]DataQC!$G$2:$G$6
Name hil: [2]DataQC!$D$2:$D$92
Name ilp: [2]Liste!$N$2:$N$5
Name incub: #REF!
Name Incubateur: [1]DataQC!$H$2:$H$13
Name Inoculum: [1]DataQC!$F$2:$F$6
Name io: [2]Liste!$Q$2:$Q$10
Name iol: [2]DataQC!$J$2:$J$32
Name iolf: [2]DataQC!$C$2:$C$22
Name ip: [4]DataQC!$G$2:$G$6
Name jhg: [4]DataQC!$A$2:$A$15
Name jxgf: [2]DataQC!$C$2:$C$22
Name Morphologie: [1]DataQC!$N$2:$N$14
Name Morphologiea: [4]DataQC!$N$2:$N$10
Name o: [4]DataQC!$A$2:$A$15
Name Opérateur: [1]DataQC!$A$2:$A$19
Name operateurboite: #REF!
Name Operator: [1]Liste!$A$2:$A$15
Name p: [4]DataQC!$E$2:$E$31
Name pH: [1]DataQC!$E$2:$E$35
Name Project: [1]Liste!$B$2:$B$15
Name projet: #REF!
Name qery: [2]DataQC!$G$2:$G$6
Name QExportAvExcel: [6]QExportAvExcel!$A$1:$G$82
Name rew: [3]Liste!$M$2:$M$6
Name rj: [2]Liste!$O$2:$O$10
Name rtjh: [2]Liste!$R$2:$R$5
Name ryj: [2]DataQC!$K$2:$K$19
Name sd: [4]DataQC!$C$2:$C$18
Name st: [2]DataQC!$G$2:$G$6
Name Statut: #REF!
Name t: [4]DataQC!$C$2:$C$18
Name taille: [1]DataQC!$M$2:$M$14
Name tèi: [2]Liste!$P$2:$P$7
Name Température: #REF!

Sheet main
A1: Arrondi G | K1: Arrondi D | L1: Données consolidées
A2: Age (h) | B2: Val1 | C2: Val2 | D2: Val3 | J2: Age (h) | K2: Age (h) | M2: Val1 | N2: Val2 | O2: Val3 | P2: Val4
A3: =MROUND(Feuil8!A2,0.1) -> 0.4 | B3: 0.183 | C3: 0 | D3: -3.4 | J3: 0.0044444444 | K3: =FLOOR(MROUND(J3,1/60),0.00005) -> 0 | L3: 0
A4: =MROUND(Feuil8!A3,0.1) -> 0.9 | B4: 0.19 | C4: 47 | D4: -2.8 | J4: 0.021111111 | K4: =FLOOR(MROUND(J4,1/60),0.0005) -> 0.0165 | L4: 0.0165
A5: =MROUND(Feuil8!A4,0.1) -> 1.4 | B5: 0.192 | C5: =C4+15 -> 62 | D5: 2.1 | J5: 0.037777778 | K5: =FLOOR(MROUND(J5,1/60),0.00005) -> 0.0333 | L5: 0.0333
A6: =MROUND(Feuil8!A5,0.1) -> 1.9 | B6: 0.193 | C6: 145 | D6: 1.3 | J6: 0.054444444 | K6: =FLOOR(MROUND(J6,1/60),0.0005) -> 0.05 | L6: 0.05
A7: =MROUND(Feuil8!A6,0.1) -> 2.4 | B7: 0.207 | C7: 151 | D7: 1.1 | J7: 0.071111111 | K7: =FLOOR(MROUND(J7,1/60),0.00005) -> 0.06665 | L7: 0.06665
A8: =MROUND(Feuil8!A7,0.1) -> 2.9 | B8: 0.234 | C8: 155 | D8: 1.1 | J8: 0.087777778 | K8: =FLOOR(MROUND(J8,1/60),0.0005) -> 0.083 | L8: 0.083
A9: =MROUND(Feuil8!A8,0.1) -> 3.4 | B9: 0.275 | C9: 156 | D9: 1.2 | J9: 0.10444444 | K9: =FLOOR(MROUND(J9,1/60),0.00005) -> 0.1 | L9: 0.1
A10: =MROUND(Feuil8!A9,0.1) -> 3.9 | B10: 0.325 | C10: 161 | D10: 1.3 | J10: 0.12111111 | K10: =FLOOR(MROUND(J10,1/60),0.0005) -> 0.1165 | L10: 0.1165
A11: =MROUND(Feuil8!A10,0.1) -> 4.4 | B11: 0.454 | C11: 167 | D11: 1.1 | J11: 0.13777778 | K11: =FLOOR(MROUND(J11,1/60),0.00005) -> 0.1333 | L11: 0.1333
A12: =MROUND(Feuil8!A11,0.1) -> 4.9 | B12: 0.673 | C12: 177 | D12: 1.1 | J12: 0.15444444 | K12: =FLOOR(MROUND(J12,1/60),0.0005) -> 0.15 | L12: 0.15
A13: =MROUND(Feuil8!A12,0.1) -> 5.4 | B13: 0.713 | C13: 201 | D13: 1.1 | J13: 0.17111111 | K13: =FLOOR(MROUND(J13,1/60),0.00005) -> 0.16665 | L13: 0.16665
A14: =MROUND(Feuil8!A13,0.1) -> 5.9 | B14: 0.765 | C14: 281 | D14: 1.3 | J14: 0.18777778 | K14: =FLOOR(MROUND(J14,1/60),0.0005) -> 0.183 | L14: 0.183
A15: =MROUND(Feuil8!A14,0.1) -> 6.4 | B15: 0.849 | C15: 348 | D15: 1.5 | J15: 0.20444444 | K15: =FLOOR(MROUND(J15,1/60),0.00005) -> 0.2 | L15: 0.2
A16: =MROUND(Feuil8!A15,0.1) -> 6.9 | B16: 0.929 | C16: 398 | D16: 1.3 | J16: 0.22111111 | K16: =FLOOR(MROUND(J16,1/60),0.0005) -> 0.2165 | L16: 0.2165
A17: =MROUND(Feuil8!A16,0.1) -> 7.4 | B17: 0.951 | C17: 425 | D17: 1.1 | J17: 0.23777778 | K17: =FLOOR(MROUND(J17,1/60),0.00005) -> 0.2333 | L17: 0.2333
A18: =MROUND(Feuil8!A17,0.1) -> 7.9 | B18: 0.946 | C18: 454 | D18: 1.1 | J18: 0.25444444 | K18: =FLOOR(MROUND(J18,1/60),0.0005) -> 0.25 | L18: 0.25
A19: =MROUND(Feuil8!A18,0.1) -> 8.4 | B19: 0.933 | C19: 458 | D19: 1 | J19: 0.27111111 | K19: =FLOOR(MROUND(J19,1/60),0.00005) -> 0.26665 | L19: 0.26665
A20: =MROUND(Feuil8!A19,0.1) -> 8.9 | B20: 0.925 | C20: 458 | D20: 1 | J20: 0.27388889 | K20: =FLOOR(MROUND(J20,1/60),0.0005) -> 0.2665 | L20: 0.2665
A21: =MROUND(Feuil8!A20,0.1) -> 9.4 | B21: 0.941 | C21: 474 | D21: 1 | J21: 0.28777778 | K21: =FLOOR(MROUND(J21,1/60),0.00005) -> 0.2833 | L21: 0.2833
A22: =MROUND(Feuil8!A21,0.1) -> 9.9 | B22: 0.956 | C22: 487 | D22: 1 | J22: 0.30444444 | K22: =FLOOR(MROUND(J22,1/60),0.0005) -> 0.3 | L22: 0.3
A23: =MROUND(Feuil8!A22,0.1) -> 10.4 | B23: 0.984 | C23: 539 | D23: 1 | J23: 0.32111111 | K23: =FLOOR(MROUND(J23,1/60),0.00005) -> 0.31665 | L23: 0.31665
A24: =MROUND(Feuil8!A23,0.1) -> 10.9 | B24: 0.994 | C24: 565 | D24: 1 | J24: 0.33777778 | K24: =FLOOR(MROUND(J24,1/60),0.0005) -> 0.333 | L24: 0.333
A25: =MROUND(Feuil8!A24,0.1) -> 11.4 | B25: 1.018 | C25: 604 | D25: 1 | J25: 0.35444444 | K25: =FLOOR(MROUND(J25,1/60),0.00005) -> 0.35 | L25: 0.35
A26: =MROUND(Feuil8!A25,0.1) -> 11.9 | B26: 1.036 | C26: 626 | D26: 1 | J26: 0.37111111 | K26: =FLOOR(MROUND(J26,1/60),0.0005) -> 0.3665 | L26: 0.3665
A27: =MROUND(Feuil8!A26,0.1) -> 12.4 | B27: 1.05 | C27: 651 | D27: 1 | J27: 0.38777778 | K27: =FLOOR(MROUND(J27,1/60),0.00005) -> 0.3833 | L27: 0.3833
A28: =MROUND(Feuil8!A27,0.1) -> 12.9 | B28: 1.057 | C28: 669 | D28: 1 | J28: 0.40444444 | K28: =FLOOR(MROUND(J28,1/60),0.0005) -> 0.4 | L28: 0.4 | M28: 0.183 | N28: 0 | O28: -3.4 | P28: -0.2
A29: =MROUND(Feuil8!A28,0.1) -> 13.4 | B29: 1.077 | C29: 718 | D29: 1 | J29: 0.42111111 | K29: =FLOOR(MROUND(J29,1/60),0.00005) -> 0.41665 | L29: 0.41665
A30: =MROUND(Feuil8!A29,0.1) -> 13.9 | B30: 1.093 | C30: 736 | D30: 1 | J30: 0.43777778 | K30: =FLOOR(MROUND(J30,1/60),0.0005) -> 0.433 | L30: 0.433
A31: =MROUND(Feuil8!A30,0.1) -> 14.4 | B31: 1.102 | C31: 749 | D31: 1 | J31: 0.45444444 | K31: =FLOOR(MROUND(J31,1/60),0.00005) -> 0.45 | L31: 0.45
A32: =MROUND(Feuil8!A31,0.1) -> 14.9 | B32: 1.11 | C32: 760 | D32: 1 | J32: 0.47111111 | K32: =FLOOR(MROUND(J32,1/60),0.0005) -> 0.4665 | L32: 0.4665
A33: =MROUND(Feuil8!A32,0.1) -> 15.4 | B33: 1.126 | C33: 784 | D33: 0.9 | J33: 0.48777778 | K33: =FLOOR(MROUND(J33,1/60),0.00005) -> 0.4833 | L33: 0.4833
A34: =MROUND(Feuil8!A33,0.1) -> 15.9 | B34: 1.141 | C34: 817 | D34: 0.9 | J34: 0.50444444 | K34: =FLOOR(MROUND(J34,1/60),0.0005) -> 0.5 | L34: 0.5
A35: =MROUND(Feuil8!A34,0.1) -> 16.4 | B35: 1.151 | C35: 840 | D35: 0.9 | J35: 0.52111111 | K35: =FLOOR(MROUND(J35,1/60),0.00005) -> 0.51665 | L35: 0.51665
A36: =MROUND(Feuil8!A35,0.1) -> 16.9 | B36: 1.155 | C36: 855 | D36: 0.9 | J36: 0.53777778 | K36: =FLOOR(MROUND(J36,1/60),0.0005) -> 0.533 | L36: 0.533
A37: =MROUND(Feuil8!A36,0.1) -> 17.4 | B37: 1.159 | C37: 889 | D37: 1 | J37: 0.55444444 | K37: =FLOOR(MROUND(J37,1/60),0.00005) -> 0.55 | L37: 0.55
A38: =MROUND(Feuil8!A37,0.1) -> 17.9 | B38: 1.165 | C38: 900 | D38: 1 | J38: 0.57111111 | K38: =FLOOR(MROUND(J38,1/60),0.0005) -> 0.5665 | L38: 0.5665
A39: =MROUND(Feuil8!A38,0.1) -> 18.4 | B39: 1.163 | C39: 902 | D39: 1 | J39: 0.58777778 | K39: =FLOOR(MROUND(J39,1/60),0.00005) -> 0.5833 | L39: 0.5833
A40: =MROUND(Feuil8!A39,0.1) -> 18.9 | B40: 1.161 | C40: 900 | D40: 1 | J40: 0.60444444 | K40: =FLOOR(MROUND(J40,1/60),0.0005) -> 0.6 | L40: 0.6
...

Sheet Feuil8
A1: Age
A2: 0.35416667
A3: 0.85416667
A4: 1.3541667
A5: 1.8541667
A6: 2.3541667
A7: 2.8541667
A8: 3.3541667
A9: 3.8541667
A10: 4.3541667
A11: 4.8541667
A12: 5.3541667
A13: 5.8541667
... A90: 44.354167
