Workbook
Name autoclave: [1]DataQC!$O$2:$O$14
Name Banque: #REF!
Name Carrelage: #REF!
Name Date: #REF!
Name dgj: [2]DataQC!$N$2:$N$14
Name Dilution: [1]DataQC!$K$2:$K$19
Name DO: [1]DataQC!$D$2:$D$92
Name dtwu: [3]DataQC!$M$2:$M$14
Name fsthstr: [2]DataQC!$O$2:$O$14
Name ftyuj: [3]DataQC!$H$2:$H$13
Name fui: [2]Liste!$A$2:$A$15
Name fyikj: [3]DataQC!$F$2:$F$6
Name fyiuk: [4]DataQC!$E$2:$E$31
Name fykij: [4]DataQC!$N$2:$N$10
Name fyul: [2]DataQC!$F$2:$F$6
Name gfdg: [5]Liste!$N$2:$N$5
Name ghk: [2]DataQC!$E$2:$E$35
Name gku: [2]Liste!$R$2:$R$5
Name gl: [2]Liste!$O$2:$O$10
Name guki: [2]Liste!$Q$2:$Q$10
Name guky: [2]DataQC!$J$2:$J$32
Name gulk: [2]DataQC!$K$2:$K$19
Name gyk: [3]Liste!$Q$2:$Q$10
Name hgjul: [2]DataQC!$M$2:$M$14
Name hià: [2]Liste!$B$2:$B$15
Name hiço: [3]DataQC!$G$2:$G$6
Name hil: [2]DataQC!$D$2:$D$92
Name ilp: [2]Liste!$N$2:$N$5
Name incub: #REF!
Name Incubateur: [1]DataQC!$H$2:$H$13
Name Inoculum: [1]DataQC!$F$2:$F$6
Name io: [2]Liste!$Q$2:$Q$10
Name iol: [2]DataQC!$J$2:$J$32
Name iolf: [2]DataQC!$C$2:$C$22
Name ip: [4]DataQC!$G$2:$G$6
Name jhg: [4]DataQC!$A$2:$A$15
Name jxgf: [2]DataQC!$C$2:$C$22
Name Morphologie: [1]DataQC!$N$2:$N$14
Name Morphologiea: [4]DataQC!$N$2:$N$10
Name o: [4]DataQC!$A$2:$A$15
Name Opérateur: [1]DataQC!$A$2:$A$19
Name operateurboite: #REF!
Name Operator: [1]Liste!$A$2:$A$15
Name p: [4]DataQC!$E$2:$E$31
Name pH: [1]DataQC!$E$2:$E$35
Name Project: [1]Liste!$B$2:$B$15
Name projet: #REF!
Name qery: [2]DataQC!$G$2:$G$6
Name QExportAvExcel: [6]QExportAvExcel!$A$1:$G$82
Name rew: [3]Liste!$M$2:$M$6
Name rj: [2]Liste!$O$2:$O$10
Name rtjh: [2]Liste!$R$2:$R$5
Name ryj: [2]DataQC!$K$2:$K$19
Name sd: [4]DataQC!$C$2:$C$18
Name st: [2]DataQC!$G$2:$G$6
Name Statut: #REF!
Name t: [4]DataQC!$C$2:$C$18
Name taille: [1]DataQC!$M$2:$M$14
Name tèi: [2]Liste!$P$2:$P$7
Name Température: #REF!

Sheet main
A1: Arrondi G | K1: Arrondi D | L1: Données consolidées
A2: Age (h) | B2: Val1 | C2: Val2 | D2: Val3 | J2: Age (h) | K2: Age (h) | M2: Val1 | N2: Val2 | O2: Val3 | P2: Val4
A3: =MROUND(Feuil8!A2,0.1) -> 0.4 | B3: 0.183 | C3: 0 | D3: -3.4 | J3: 0.0044444444 | K3: =FLOOR(MROUND(J3,1/60),0.00005) -> 0 | L3: 0
A4: =MROUND(Feuil8!A3,0.1) -> 0.9 | B4: 0.19 | C4: 47 | D4: -2.8 | J4: 0.021111111 | K4: =FLOOR(MROUND(J4,1/60),0.0005) -> 0.0165 | L4: 0.0165
A5: =MROUND(Feuil8!A4,0.1) -> 1.4 | B5: 0.192 | C5: =C4+15 -> 62 | D5: 2.1 | J5: 0.037777778 | K5: =FLOOR(MROUND(J5,1/60),0.00005) -> 0.0333 | L5: 0.0333
A6: =MROUND(Feuil8!A5,0.1) -> 1.9 | B6: 0.193 | C6: 145 | D6: 1.3 | J6: 0.054444444 | K6: =FLOOR(MROUND(J6,1/60),0.0005) -> 0.05 | L6: 0.05
A7: =MROUND(Feuil8!A6,0.1) -> 2.4 | B7: 0.207 | C7: 151 | D7: 1.1 | J7: 0.071111111 | K7: =FLOOR(MROUND(J7,1/60),0.00005) -> 0.06665 | L7: 0.06665
A8: =MROUND(Feuil8!A7,0.1) -> 2.9 | B8: 0.234 | C8: 155 | D8: 1.1 | J8: 0.087777778 | K8: =FLOOR(MROUND(J8,1/60),0.0005) -> 0.083 | L8: 0.083
A9: =MROUND(Feuil8!A8,0.1) -> 3.4 | B9: 0.275 | C9: 156 | D9: 1.2 | J9: 0.10444444 | K9: =FLOOR(MROUND(J9,1/60),0.00005) -> 0.1 | L9: 0.1
A10: =MROUND(Feuil8!A9,0.1) -> 3.9 | B10: 0.325 | C10: 161 | D10: 1.3 | J10: 0.12111111 | K10: =FLOOR(MROUND(J10,1/60),0.0005) -> 0.1165 | L10: 0.1165
A11: =MROUND(Feuil8!A10,0.1) -> 4.4 | B11: 0.454 | C11: 167 | D11: 1.1 | J11: 0.13777778 | K11: =FLOOR(MROUND(J11,1/60),0.00005) -> 0.1333 | L11: 0.1333
A12: =MROUND(Feuil8!A11,0.1) -> 4.9 | B12: 0.673 | C12: 177 | D12: 1.1 | J12: 0.15444444 | K12: =FLOOR(MROUND(J12,1/60),0.0005) -> 0.15 | L12: 0.15
A13: =MROUND(Feuil8!A12,0.1) -> 5.4 | B13: 0.713 | C13: 201 | D13: 1.1 | J13: 0.17111111 | K13: =FLOOR(MROUND(J13,1/60),0.00005) -> 0.16665 | L13: 0.16665
A14: =MROUND(Feuil8!A13,0.1) -> 5.9 | B14: 0.765 | C14: 281 | D14: 1.3 | J14: 0.18777778 | K14: =FLOOR(MROUND(J14,1/60),0.0005) -> 0.183 | L14: 0.183
A15: =MROUND(Feuil8!A14,0.1) -> 6.4 | B15: 0.849 | C15: 348 | D15: 1.5 | J15: 0.20444444 | K15: =FLOOR(MROUND(J15,1/60),0.00005) -> 0.2 | L15: 0.2
A16: =MROUND(Feuil8!A15,0.1) -> 6.9 | B16: 0.929 | C16: 398 | D16: 1.3 | J16: 0.22111111 | K16: =FLOOR(MROUND(J16,1/60),0.0005) -> 0.2165 | L16: 0.2165
A17: =MROUND(Feuil8!A16,0.1) -> 7.4 | B17: 0.951 | C17: 425 | D17: 1.1 | J17: 0.23777778 | K17: =FLOOR(MROUND(J17,1/60),0.00005) -> 0.2333 | L17: 0.2333
A18: =MROUND(Feuil8!A17,0.1) -> 7.9 | B18: 0.946 | C18: 454 | D18: 1.1 | J18: 0.25444444 | K18: =FLOOR(MROUND(J18,1/60),0.0005) -> 0.25 | L18: 0.25
A19: =MROUND(Feuil8!A18,0.1) -> 8.4 | B19: 0.933 | C19: 458 | D19: 1 | J19: 0.27111111 | K19: =FLOOR(MROUND(J19,1/60),0.00005) -> 0.26665 | L19: 0.26665
A20: =MROUND(Feuil8!A19,0.1) -> 8.9 | B20: 0.925 | C20: 458 | D20: 1 | J20: 0.27388889 | K20: =FLOOR(MROUND(J20,1/60),0.0005) -> 0.2665 | L20: 0.2665
A21: =MROUND(Feuil8!A20,0.1) -> 9.4 | B21: 0.941 | C21: 474 | D21: 1 | J21: 0.28777778 | K21: =FLOOR(MROUND(J21,1/60),0.00005) -> 0.2833 | L21: 0.2833
A22: =MROUND(Feuil8!A21,0.1) -> 9.9 | B22: 0.956 | C22: 487 | D22: 1 | J22: 0.30444444 | K22: =FLOOR(MROUND(J22,1/60),0.0005) -> 0.3 | L22: 0.3
A23: =MROUND(Feuil8!A22,0.1) -> 10.4 | B23: 0.984 | C23: 539 | D23: 1 | J23: 0.32111111 | K23: =FLOOR(MROUND(J23,1/60),0.00005) -> 0.31665 | L23: 0.31665
A24: =MROUND(Feuil8!A23,0.1) -> 10.9 | B24: 0.994 | C24: 565 | D24: 1 | J24: 0.33777778 | K24: =FLOOR(MROUND(J24,1/60),0.0005) -> 0.333 | L24: 0.333
A25: =MROUND(Feuil8!A24,0.1) -> 11.4 | B25: 1.018 | C25: 604 | D25: 1 | J25: 0.35444444 | K25: =FLOOR(MROUND(J25,1/60),0.00005) -> 0.35 | L25: 0.35
A26: =MROUND(Feuil8!A25,0.1) -> 11.9 | B26: 1.036 | C26: 626 | D26: 1 | J26: 0.37111111 | K26: =FLOOR(MROUND(J26,1/60),0.0005) -> 0.3665 | L26: 0.3665
A27: =MROUND(Feuil8!A26,0.1) -> 12.4 | B27: 1.05 | C27: 651 | D27: 1 | J27: 0.38777778 | K27: =FLOOR(MROUND(J27,1/60),0.00005) -> 0.3833 | L27: 0.3833
A28: =MROUND(Feuil8!A27,0.1) -> 12.9 | B28: 1.057 | C28: 669 | D28: 1 | J28: 0.40444444 | K28: =FLOOR(MROUND(J28,1/60),0.0005) -> 0.4 | L28: 0.4 | M28: 0.183 | N28: 0 | O28: -3.4 | P28: -0.2
A29: =MROUND(Feuil8!A28,0.1) -> 13.4 | B29: 1.077 | C29: 718 | D29: 1 | J29: 0.42111111 | K29: =FLOOR(MROUND(J29,1/60),0.00005) -> 0.41665 | L29: 0.41665
A30: =MROUND(Feuil8!A29,0.1) -> 13.9 | B30: 1.093 | C30: 736 | D30: 1 | J30: 0.43777778 | K30: =FLOOR(MROUND(J30,1/60),0.0005) -> 0.433 | L30: 0.433
A31: =MROUND(Feuil8!A30,0.1) -> 14.4 | B31: 1.102 | C31: 749 | D31: 1 | J31: 0.45444444 | K31: =FLOOR(MROUND(J31,1/60),0.00005) -> 0.45 | L31: 0.45
A32: =MROUND(Feuil8!A31,0.1) -> 14.9 | B32: 1.11 | C32: 760 | D32: 1 | J32: 0.47111111 | K32: =FLOOR(MROUND(J32,1/60),0.0005) -> 0.4665 | L32: 0.4665
A33: =MROUND(Feuil8!A32,0.1) -> 15.4 | B33: 1.126 | C33: 784 | D33: 0.9 | J33: 0.48777778 | K33: =FLOOR(MROUND(J33,1/60),0.00005) -> 0.4833 | L33: 0.4833
A34: =MROUND(Feuil8!A33,0.1) -> 15.9 | B34: 1.141 | C34: 817 | D34: 0.9 | J34: 0.50444444 | K34: =FLOOR(MROUND(J34,1/60),0.0005) -> 0.5 | L34: 0.5
A35: =MROUND(Feuil8!A34,0.1) -> 16.4 | B35: 1.151 | C35: 840 | D35: 0.9 | J35: 0.52111111 | K35: =FLOOR(MROUND(J35,1/60),0.00005) -> 0.51665 | L35: 0.51665
A36: =MROUND(Feuil8!A35,0.1) -> 16.9 | B36: 1.155 | C36: 855 | D36: 0.9 | J36: 0.53777778 | K36: =FLOOR(MROUND(J36,1/60),0.0005) -> 0.533 | L36: 0.533
A37: =MROUND(Feuil8!A36,0.1) -> 17.4 | B37: 1.159 | C37: 889 | D37: 1 | J37: 0.55444444 | K37: =FLOOR(MROUND(J37,1/60),0.00005) -> 0.55 | L37: 0.55
A38: =MROUND(Feuil8!A37,0.1) -> 17.9 | B38: 1.165 | C38: 900 | D38: 1 | J38: 0.57111111 | K38: =FLOOR(MROUND(J38,1/60),0.0005) -> 0.5665 | L38: 0.5665
A39: =MROUND(Feuil8!A38,0.1) -> 18.4 | B39: 1.163 | C39: 902 | D39: 1 | J39: 0.58777778 | K39: =FLOOR(MROUND(J39,1/60),0.00005) -> 0.5833 | L39: 0.5833
A40: =MROUND(Feuil8!A39,0.1) -> 18.9 | B40: 1.161 | C40: 900 | D40: 1 | J40: 0.60444444 | K40: =FLOOR(MROUND(J40,1/60),0.0005) -> 0.6 | L40: 0.6
A41: =MROUND(Feuil8!A40,0.1) -> 19.4 | B41: 1.162 | C41: 898 | D41: 1 | J41: 0.62111111 | K41: =FLOOR(MROUND(J41,1/60),0.00005) -> 0.61665 | L41: 0.61665
A42: =MROUND(Feuil8!A41,0.1) -> 19.9 | B42: 1.164 | C42: 897 | D42: 1 | J42: 0.63777778 | K42: =FLOOR(MROUND(J42,1/60),0.0005) -> 0.633 | L42: 0.633
A43: =MROUND(Feuil8!A42,0.1) -> 20.4 | B43: 1.176 | C43: 949 | D43: 0.9 | J43: 0.65444444 | K43: =FLOOR(MROUND(J43,1/60),0.00005) -> 0.65 | L43: 0.65
A44: =MROUND(Feuil8!A43,0.1) -> 20.9 | B44: 1.178 | C44: 1021 | D44: 1 | J44: 0.67111111 | K44: =FLOOR(MROUND(J44,1/60),0.0005) -> 0.6665 | L44: 0.6665
A45: =MROUND(Feuil8!A44,0.1) -> 21.4 | B45: 1.174 | C45: 1101 | D45: 1 | J45: 0.68777778 | K45: =FLOOR(MROUND(J45,1/60),0.00005) -> 0.6833 | L45: 0.6833
A46: =MROUND(Feuil8!A45,0.1) -> 21.9 | B46: 1.167 | C46: 1150 | D46: 1 | J46: 0.70444444 | K46: =FLOOR(MROUND(J46,1/60),0.0005) -> 0.7 | L46: 0.7
A47: =MROUND(Feuil8!A46,0.1) -> 22.4 | B47: 1.165 | C47: 1153 | D47: 1 | J47: 0.72111111 | K47: =FLOOR(MROUND(J47,1/60),0.00005) -> 0.71665 | L47: 0.71665
A48: =MROUND(Feuil8!A47,0.1) -> 22.9 | B48: 1.166 | C48: 1151 | D48: 0.9 | J48: 0.73777778 | K48: =FLOOR(MROUND(J48,1/60),0.0005) -> 0.733 | L48: 0.733
A49: =MROUND(Feuil8!A48,0.1) -> 23.4 | B49: 1.167 | C49: 1153 | D49: 1 | J49: 0.75444444 | K49: =FLOOR(MROUND(J49,1/60),0.00005) -> 0.75 | L49: 0.75
A50: =MROUND(Feuil8!A49,0.1) -> 23.9 | B50: 1.168 | C50: 1153 | D50: 1 | J50: 0.77111111 | K50: =FLOOR(MROUND(J50,1/60),0.0005) -> 0.7665 | L50: 0.7665
A51: =MROUND(Feuil8!A50,0.1) -> 24.4 | B51: 1.167 | C51: 1153 | D51: 1 | J51: 0.77388889 | K51: =FLOOR(MROUND(J51,1/60),0.00005) -> 0.76665 | L51: 0.76665
A52: =MROUND(Feuil8!A51,0.1) -> 24.9 | B52: 1.167 | C52: 1162 | D52: 1 | J52: 0.78777778 | K52: =FLOOR(MROUND(J52,1/60),0.0005) -> 0.783 | L52: 0.783
A53: =MROUND(Feuil8!A52,0.1) -> 25.4 | B53: 1.169 | C53: 1178 | D53: 1 | J53: 0.80444444 | K53: =FLOOR(MROUND(J53,1/60),0.00005) -> 0.8 | L53: 0.8
A54: =MROUND(Feuil8!A53,0.1) -> 25.9 | B54: 1.17 | C54: 1198 | D54: 1 | J54: 0.82111111 | K54: =FLOOR(MROUND(J54,1/60),0.0005) -> 0.8165 | L54: 0.8165
A55: =MROUND(Feuil8!A54,0.1) -> 26.4 | B55: 1.173 | C55: 1243 | D55: 0.9 | J55: 0.83777778 | K55: =FLOOR(MROUND(J55,1/60),0.00005) -> 0.8333 | L55: 0.8333
A56: =MROUND(Feuil8!A55,0.1) -> 26.9 | B56: 1.168 | C56: 1301 | D56: 1 | J56: 0.85444444 | K56: =FLOOR(MROUND(J56,1/60),0.0005) -> 0.85 | L56: 0.85
A57: =MROUND(Feuil8!A56,0.1) -> 27.4 | B57: 1.159 | C57: 1369 | D57: 1 | J57: 0.87111111 | K57: =FLOOR(MROUND(J57,1/60),0.00005) -> 0.86665 | L57: 0.86665
A58: =MROUND(Feuil8!A57,0.1) -> 27.9 | B58: 1.159 | C58: 1400 | D58: 1 | J58: 0.88777778 | K58: =FLOOR(MROUND(J58,1/60),0.0005) -> 0.883 | L58: 0.883
A59: =MROUND(Feuil8!A58,0.1) -> 28.4 | B59: 1.155 | C59: 1404 | D59: 0.9 | J59: 0.90444444 | K59: =FLOOR(MROUND(J59,1/60),0.00005) -> 0.9 | L59: 0.9 | M59: 0.19 | N59: 47 | O59: -2.8 | P59: 0.1
A60: =MROUND(Feuil8!A59,0.1) -> 28.9 | B60: 1.151 | C60: 1417 | D60: 1 | J60: 0.92111111 | K60: =FLOOR(MROUND(J60,1/60),0.0005) -> 0.9165 | L60: 0.9165
A61: =MROUND(Feuil8!A60,0.1) -> 29.4 | B61: 1.151 | C61: 1433 | D61: 1 | J61: 0.93777778 | K61: =FLOOR(MROUND(J61,1/60),0.00005) -> 0.9333 | L61: 0.9333
A62: =MROUND(Feuil8!A61,0.1) -> 29.9 | B62: 1.152 | C62: 1441 | D62: 0.9 | J62: 0.95444444 | K62: =FLOOR(MROUND(J62,1/60),0.0005) -> 0.95 | L62: 0.95
A63: =MROUND(Feuil8!A62,0.1) -> 30.4 | B63: 1.15 | C63: 1445 | D63: 1 | J63: 0.97111111 | K63: =FLOOR(MROUND(J63,1/60),0.00005) -> 0.96665 | L63: 0.96665
A64: =MROUND(Feuil8!A63,0.1) -> 30.9 | B64: 1.149 | C64: 1461 | D64: 1 | J64: 0.98777778 | K64: =FLOOR(MROUND(J64,1/60),0.0005) -> 0.983 | L64: 0.983
A65: =MROUND(Feuil8!A64,0.1) -> 31.4 | B65: 1.15 | C65: 1494 | D65: 1 | J65: 1.0044444 | K65: =FLOOR(MROUND(J65,1/60),0.00005) -> 1 | L65: 1
A66: =MROUND(Feuil8!A65,0.1) -> 31.9 | B66: 1.151 | C66: 1529 | D66: 1 | J66: 1.0211111 | K66: =FLOOR(MROUND(J66,1/60),0.0005) -> 1.0165 | L66: 1.0165
A67: =MROUND(Feuil8!A66,0.1) -> 32.4 | B67: 1.145 | C67: 1571 | D67: 1 | J67: 1.0377778 | K67: =FLOOR(MROUND(J67,1/60),0.00005) -> 1.0333 | L67: 1.0333
A68: =MROUND(Feuil8!A67,0.1) -> 32.9 | B68: 1.145 | C68: 1595 | D68: 1 | J68: 1.0544444 | K68: =FLOOR(MROUND(J68,1/60),0.0005) -> 1.05 | L68: 1.05
A69: =MROUND(Feuil8!A68,0.1) -> 33.4 | B69: 1.141 | C69: 1609 | D69: 0.9 | J69: 1.0711111 | K69: =FLOOR(MROUND(J69,1/60),0.00005) -> 1.06665 | L69: 1.06665
A70: =MROUND(Feuil8!A69,0.1) -> 33.9 | B70: 1.139 | C70: 1628 | D70: 1 | J70: 1.0877778 | K70: =FLOOR(MROUND(J70,1/60),0.0005) -> 1.083 | L70: 1.083
A71: =MROUND(Feuil8!A70,0.1) -> 34.4 | B71: 1.14 | C71: 1652 | D71: 1 | J71: 1.1044444 | K71: =FLOOR(MROUND(J71,1/60),0.00005) -> 1.1 | L71: 1.1
A72: =MROUND(Feuil8!A71,0.1) -> 34.9 | B72: 1.141 | C72: 1672 | D72: 1 | J72: 1.1211111 | K72: =FLOOR(MROUND(J72,1/60),0.0005) -> 1.1165 | L72: 1.1165
A73: =MROUND(Feuil8!A72,0.1) -> 35.4 | B73: 1.14 | C73: 1699 | D73: 1 | J73: 1.1377778 | K73: =FLOOR(MROUND(J73,1/60),0.00005) -> 1.1333 | L73: 1.1333
A74: =MROUND(Feuil8!A73,0.1) -> 35.9 | B74: 1.139 | C74: 1733 | D74: 1 | J74: 1.1544444 | K74: =FLOOR(MROUND(J74,1/60),0.0005) -> 1.15 | L74: 1.15
A75: =MROUND(Feuil8!A74,0.1) -> 36.4 | B75: 1.14 | C75: 1770 | D75: 1 | J75: 1.1711111 | K75: =FLOOR(MROUND(J75,1/60),0.00005) -> 1.16665 | L75: 1.16665
A76: =MROUND(Feuil8!A75,0.1) -> 36.9 | B76: 1.141 | C76: 1783 | D76: 1 | J76: 1.1877778 | K76: =FLOOR(MROUND(J76,1/60),0.0005) -> 1.183 | L76: 1.183
A77: =MROUND(Feuil8!A76,0.1) -> 37.4 | B77: 1.14 | C77: 1808 | D77: 0.9 | J77: 1.2044444 | K77: =FLOOR(MROUND(J77,1/60),0.00005) -> 1.2 | L77: 1.2
A78: =MROUND(Feuil8!A77,0.1) -> 37.9 | B78: 1.14 | C78: 1837 | D78: 1 | J78: 1.2211111 | K78: =FLOOR(MROUND(J78,1/60),0.0005) -> 1.2165 | L78: 1.2165
A79: =MROUND(Feuil8!A78,0.1) -> 38.4 | B79: 1.138 | C79: 1868 | D79: 1 | J79: 1.2377778 | K79: =FLOOR(MROUND(J79,1/60),0.00005) -> 1.2333 | L79: 1.2333
A80: =MROUND(Feuil8!A79,0.1) -> 38.9 | B80: 1.142 | C80: 1902 | D80: 0.9 | J80: 1.2544444 | K80: =FLOOR(MROUND(J80,1/60),0.0005) -> 1.25 | L80: 1.25
A81: =MROUND(Feuil8!A80,0.1) -> 39.4 | B81: 1.142 | C81: 1922 | D81: 1 | J81: 1.2711111 | K81: =FLOOR(MROUND(J81,1/60),0.00005) -> 1.26665 | L81: 1.26665
A82: =MROUND(Feuil8!A81,0.1) -> 39.9 | B82: 1.143 | C82: 1947 | D82: 1 | J82: 1.2738889 | K82: =FLOOR(MROUND(J82,1/60),0.0005) -> 1.2665 | L82: 1.2665
A83: =MROUND(Feuil8!A82,0.1) -> 40.4 | B83: 1.143 | C83: 1964 | D83: 1 | J83: 1.2877778 | K83: =FLOOR(MROUND(J83,1/60),0.00005) -> 1.2833 | L83: 1.2833
A84: =MROUND(Feuil8!A83,0.1) -> 40.9 | B84: 1.144 | C84: 1976 | D84: 1 | J84: 1.3044444 | K84: =FLOOR(MROUND(J84,1/60),0.0005) -> 1.3 | L84: 1.3
A85: =MROUND(Feuil8!A84,0.1) -> 41.4 | B85: 1.144 | C85: 2009 | D85: 0.9 | J85: 1.3211111 | K85: =FLOOR(MROUND(J85,1/60),0.00005) -> 1.31665 | L85: 1.31665
A86: =MROUND(Feuil8!A85,0.1) -> 41.9 | B86: 1.148 | C86: 2029 | D86: 1 | J86: 1.3377778 | K86: =FLOOR(MROUND(J86,1/60),0.0005) -> 1.333 | L86: 1.333
A87: =MROUND(Feuil8!A86,0.1) -> 42.4 | B87: 1.15 | C87: 2075 | D87: 1 | J87: 1.3544444 | K87: =FLOOR(MROUND(J87,1/60),0.00005) -> 1.35 | L87: 1.35
A88: =MROUND(Feuil8!A87,0.1) -> 42.9 | B88: 1.154 | C88: 2096 | D88: 1 | J88: 1.3711111 | K88: =FLOOR(MROUND(J88,1/60),0.0005) -> 1.3665 | L88: 1.3665
A89: =MROUND(Feuil8!A88,0.1) -> 43.4 | B89: 1.132 | C89: 2105 | D89: 0 | J89: 1.3877778 | K89: =FLOOR(MROUND(J89,1/60),0.00005) -> 1.3833 | L89: 1.3833
A90: =MROUND(Feuil8!A89,0.1) -> 43.9 | B90: 1.307 | C90: 4482 | D90: 0 | J90: 1.4044444 | K90: =FLOOR(MROUND(J90,1/60),0.0005) -> 1.4 | L90: 1.4 | M90: 0.192 | N90: 85 | O90: 2.1 | P90: 1.3
A91: =MROUND(Feuil8!A90,0.1) -> 44.4 | B91: 1.117 | C91: 4702 | D91: 0 | J91: 1.4211111 | K91: =FLOOR(MROUND(J91,1/60),0.00005) -> 1.41665 | L91: 1.41665
J92: 1.4377778 | K92: =FLOOR(MROUND(J92,1/60),0.0005) -> 1.433 | L92: 1.433
J93: 1.4544444 | K93: =FLOOR(MROUND(J93,1/60),0.00005) -> 1.45 | L93: 1.45
J94: 1.4711111 | K94: =FLOOR(MROUND(J94,1/60),0.0005) -> 1.4665 | L94: 1.4665
J95: 1.4877778 | K95: =FLOOR(MROUND(J95,1/60),0.00005) -> 1.4833 | L95: 1.4833
J96: 1.5044444 | K96: =FLOOR(MROUND(J96,1/60),0.0005) -> 1.5 | L96: 1.5
J97: 1.5211111 | K97: =FLOOR(MROUND(J97,1/60),0.00005) -> 1.51665 | L97: 1.51665
J98: 1.5377778 | K98: =FLOOR(MROUND(J98,1/60),0.0005) -> 1.533 | L98: 1.533
J99: 1.5544444 | K99: =FLOOR(MROUND(J99,1/60),0.00005) -> 1.55 | L99: 1.55
J100: 1.5711111 | K100: =FLOOR(MROUND(J100,1/60),0.0005) -> 1.5665 | L100: 1.5665
...

Sheet Feuil8
A1: Age
A2: 0.35416667
A3: 0.85416667
A4: 1.3541667
A5: 1.8541667
A6: 2.3541667
A7: 2.8541667
A8: 3.3541667
A9: 3.8541667
A10: 4.3541667
A11: 4.8541667
A12: 5.3541667
A13: 5.8541667
... A90: 44.354167
