Workbook
Name CATA: [1]VP!#REF!
Name CATA: VOITURES!#REF!
Name CATA: [1]VP!#REF!
Name CATB: [1]VP!#REF!
Name CATB: VOITURES!#REF!
Name CATB: [1]VP!#REF!
Name CATC: [1]VP!#REF!
Name CATC: VOITURES!#REF!
Name CATC: [1]VP!#REF!
Name CATD: [1]VP!#REF!
Name CATD: VOITURES!#REF!
Name CATD: [1]VP!#REF!
Name CATE: [1]VP!#REF!
Name CATE: VOITURES!#REF!
Name CATE: [1]VP!#REF!
Name CATEGORIEORANGE: [1]VP!#REF!
Name CATEGORIEORANGE: VOITURES!#REF!
Name CATEGORIEORANGE: [1]VP!#REF!
Name CATF: [1]VP!#REF!
Name CATF: VOITURES!#REF!
Name CATF: [1]VP!#REF!
Name CIGAREUSB: VOITURES!$C$94:$D$96
Name DVD: VOITURES!$C$94:$C$96
Name FRADOM: [1]VP!#REF!
Name FRADOM: VOITURES!#REF!
Name FRADOM: [1]VP!#REF!
Name FRAVOL: [1]VP!#REF!
Name FRAVOL: VOITURES!#REF!
Name FRAVOL: [1]VP!#REF!
Name GPS: VOITURES!$C$94:$C$96
Name JOURSORANGE: [1]VP!#REF!
Name JOURSORANGE: VOITURES!#REF!
Name JOURSORANGE: [1]VP!#REF!
Name KMS: [1]VP!#REF!
Name KMS: VOITURES!#REF!
Name KMS: [1]VP!#REF!
Name KMSORANGE: [1]VP!#REF!
Name KMSORANGE: VOITURES!#REF!
Name KMSORANGE: [1]VP!#REF!
Name KMSUP: [1]VP!#REF!
Name KMSUP: VOITURES!#REF!
Name KMSUP: [1]VP!#REF!
Name RECHERCHE1: [1]VP!#REF!
Name RECHERCHE1: VOITURES!#REF!
Name RECHERCHE1: [1]VP!#REF!
Name RECHERCHE10: [1]VP!#REF!
Name RECHERCHE10: VOITURES!#REF!
Name RECHERCHE10: [1]VP!#REF!
Name RECHERCHE2: CALCULVOITURES!$B$12:$C$17
Name RECHERCHE3: CALCULVOITURES!#REF!
Name RECHERCHE3: [1]CALCULVP!#REF!
Name RECHERCHE3: [1]CALCULVP!#REF!
Name RECHERCHE4: [1]VP!#REF!
Name RECHERCHE4: VOITURES!#REF!
Name RECHERCHE4: [1]VP!#REF!
Name RECHERCHE5: [1]VP!#REF!
Name RECHERCHE5: VOITURES!#REF!
Name RECHERCHE5: [1]VP!#REF!
Name RECHERCHE6: VOITURES!$C$97:$C$97
Name RECHERCHE7: [1]VP!#REF!

Sheet VOITURES
A1: VOITURE
C3: liste déroulante
C5: saisie manuelle
B7: VEHICULE | C7: Jaguar F-Type S Cabriolet
B9: WEEK-END
C10: =IF(C9="OUI","saisir 1 ou 3 jours","")
B11: JOURS | C11: 20 | E11: TARIF DE BASE | F11: =IF(AND(C9="OUI",C11=1),CALCULVOITURES!B31,CALCULVOITURES!B11)+D15*C11+D17*C11+D19*C11 -> #N/A
B13: KMS
B15: PACK ASSURANCE | D15: =IF(C15="PACK 1",25,IF(C15="PACK 2",50,IF(C15="PACK 3",100,0))) -> 0
C16: =IF(C15="PACK 1","1 conducteur supplémentaire inclus",IF(C15="PACK 2","1 conducteur supplémentaire inclus",IF(C15="PACK 3","2 conducteurs supplémentaires inclus","")))
B17: CONDUCTEUR SUPP | D17: =IF(C17=1,15,IF(C17=2,30,IF(C17=3,45,0))) -> 0
B19: =IF(C7="Piaggio Calessino","N/A","JEUNE CONDUCTEUR") -> JEUNE CONDUCTEUR | D19: =IF(C19=1,50,IF(C19=2,100,IF(C19=3,150,0))) -> 0
B21: AGE | C21: =IF(C7="Piaggio Calessino",21,30) -> 30 | D21: =IF(C21=30,"minimum 25 ans",IF(C21=25,"minimum 21 ans","")) -> minimum 25 ans
B23: ANNEES DE PERMIS | C23: =IF(C7="Piaggio Calessino",1,10) -> 10 | D23: =IF(C23=10,"minimum 5 ans",IF(C23=5,"minimum 1 an","")) -> minimum 5 ans

Sheet CALCULVOITURES
B1: TARIF
B2: PRIX PAR VOITURE EN FONCTION DU NOMBRE DE JOURS | J2: =MIN(B19,K19) -> #N/A
B3: Piaggio Calessino | C3: =LOOKUP(VOITURES!C11,BASEVOITURES!A7:C36) -> 1150 | D3: km sup | E3: =BASEVOITURES!C3 -> 0
B4: Ford Mustang GT | C4: =LOOKUP(VOITURES!C11,BASEVOITURES!A7:D36) -> 1920 | D4: km sup | E4: =BASEVOITURES!D3 -> 1
B5: Tesla Model S P85D | C5: =LOOKUP(VOITURES!C11,BASEVOITURES!A7:E36) -> 2300 | D5: km sup | E5: =BASEVOITURES!E3 -> 1
B6: Chevrolet Camaro Cabriolet | C6: =LOOKUP(VOITURES!C11,BASEVOITURES!A7:F36) -> 3450 | D6: km sup | E6: =BASEVOITURES!F3 -> 2
B7: Jaguar F-Type S Cabriolet | C7: =LOOKUP(VOITURES!C11,BASEVOITURES!A7:G36) -> 3830 | D7: km sup | E7: =BASEVOITURES!G3 -> 2
B8: Aston Martin Vantage | C8: =LOOKUP(VOITURES!C11,BASEVOITURES!A7:H36) -> 4600 | D8: km sup | E8: =BASEVOITURES!H3 -> 3
B10: PRIX DE LA VOITURE
B11: =LOOKUP(VOITURES!C7,CALCULVOITURES!B3:C8) -> #N/A
B12: KMS INCLUS EN FONCTION DU NOMBRE DE JOURS
B13: =LOOKUP(VOITURES!C11,BASEVOITURES!A7:B36) -> 1500
B14: PRIX DU KM SUP EN FONCTION DE LA VOITURE
B15: =LOOKUP(VOITURES!C7,B3:E8) -> #N/A
B16: KMS SUP A FACTURER
B17: =IF(VOITURES!C13>B13,VOITURES!C13-B13,0) -> 0
B18: PRIX TOTAL
B19: =B11+B17*B15 -> #N/A

Sheet BASEVOITURES
A1: VEHICULE | C1: Piaggio Calessino | D1: Ford Mustang GT | E1: Tesla Model S P85D | F1: Chevrolet Camaro Cabriolet | G1: Jaguar F-Type S Cabriolet | H1: Aston Martin Vantage
A2: JOURS | B2: KMS
A3: KM SUPP | C3: 0 | D3: 1 | E3: 1 | F3: 2 | G3: 2 | H3: 3
A4: FRANCHISE | C4: 2000 | D4: 4000 | E4: 6000 | F4: 6000 | G4: 8000 | H4: 10000
A5: AGE | C5: 21 | D5: 30 | E5: 30 | F5: 30 | G5: 30 | H5: 30
A6: ANNEES DE PERMIS | C6: 1 | D6: 10 | E6: 10 | F6: 10 | G6: 10 | H6: 10
A7: 1 | B7: 200 | C7: 100 | D7: 170 | E7: 200 | F7: 300 | G7: 330 | H7: 400
A8: 2 | B8: 400 | C8: 200 | D8: 330 | E8: 400 | F8: 600 | G8: 670 | H8: 800
A9: 3 | B9: 600 | C9: 300 | D9: 500 | E9: 600 | F9: 900 | G9: 1000 | H9: 1200
A10: 4 | B10: 700 | C10: 350 | D10: 580 | E10: 700 | F10: 1050 | G10: 1170 | H10: 1400
A11: 5 | B11: 750 | C11: 400 | D11: 670 | E11: 800 | F11: 1200 | G11: 1330 | H11: 1600
A12: 6 | B12: 800 | C12: 450 | D12: 750 | E12: 900 | F12: 1350 | G12: 1500 | H12: 1800
A13: 7 | B13: 850 | C13: 500 | D13: 830 | E13: 1000 | F13: 1500 | G13: 1670 | H13: 2000
A14: 8 | B14: 900 | C14: 550 | D14: 920 | E14: 1100 | F14: 1650 | G14: 1830 | H14: 2200
A15: 9 | B15: 950 | C15: 600 | D15: 1000 | E15: 1200 | F15: 1800 | G15: 2000 | H15: 2400
A16: 10 | B16: 1000 | C16: 650 | D16: 1080 | E16: 1300 | F16: 1950 | G16: 2170 | H16: 2600
A17: 11 | B17: 1050 | C17: 700 | D17: 1170 | E17: 1400 | F17: 2100 | G17: 2330 | H17: 2800
A18: 12 | B18: 1100 | C18: 750 | D18: 1250 | E18: 1500 | F18: 2250 | G18: 2500 | H18: 3000
... A36: 30 | B36: 2000 | C36: 1650 | D36: 2750 | E36: 3300 | F36: 4950 | G36: 5500 | H36: 6600
A38: jour week-end | B38: 300 | C38: 200 | D38: 330 | E38: 400 | F38: 600 | G38: 670 | H38: 800
