Workbook

Sheet Base
A1: Fison recherche | B1: N°séjour | C1: Date de l'acte | D1: Unité de soins
A2: =B2&" "&TEXT(DATE(YEAR(C2),MONTH(C2),DAY(C2)),"jj.mm.aaaa") -> 519361628 01.01.2020 | B2: 519361628 | C2: 01/01/20 00:02 | D2: =IFERROR(VLOOKUP(A2,'Base séjour'!$A$1:$E$113,5,FALSE),"Pas de correspondance") -> UUA
A3: =B3&" "&TEXT(DATE(YEAR(C3),MONTH(C3),DAY(C3)),"jj.mm.aaaa") -> 519361628 01.01.2020 | B3: 519361628 | C3: 01/01/20 00:02 | D3: =IFERROR(VLOOKUP(A3,'Base séjour'!$A$1:$E$113,5,FALSE),"Pas de correspondance") -> UUA
A4: =B4&" "&TEXT(DATE(YEAR(C4),MONTH(C4),DAY(C4)),"jj.mm.aaaa") -> 520361648 01.01.2020 | B4: 520361648 | C4: 01/01/20 00:41 | D4: =IFERROR(VLOOKUP(A4,'Base séjour'!$A$1:$E$113,5,FALSE),"Pas de correspondance") -> UUA
A5: =B5&" "&TEXT(DATE(YEAR(C5),MONTH(C5),DAY(C5)),"jj.mm.aaaa") -> 520361652 01.01.2020 | B5: 520361652 | C5: 01/01/20 01:58 | D5: =IFERROR(VLOOKUP(A5,'Base séjour'!$A$1:$E$113,5,FALSE),"Pas de correspondance") -> Pas de correspondance
A6: =B6&" "&TEXT(DATE(YEAR(C6),MONTH(C6),DAY(C6)),"jj.mm.aaaa") -> 520361737 01.01.2020 | B6: 520361737 | C6: 01/01/20 09:43 | D6: =IFERROR(VLOOKUP(A6,'Base séjour'!$A$1:$E$113,5,FALSE),"Pas de correspondance") -> Pas de correspondance
A7: =B7&" "&TEXT(DATE(YEAR(C7),MONTH(C7),DAY(C7)),"jj.mm.aaaa") -> 520361669 01.01.2020 | B7: 520361669 | C7: 01/01/20 09:54 | D7: =IFERROR(VLOOKUP(A7,'Base séjour'!$A$1:$E$113,5,FALSE),"Pas de correspondance") -> UUA
A8: =B8&" "&TEXT(DATE(YEAR(C8),MONTH(C8),DAY(C8)),"jj.mm.aaaa") -> 520361669 01.01.2020 | B8: 520361669 | C8: 01/01/20 09:54 | D8: =IFERROR(VLOOKUP(A8,'Base séjour'!$A$1:$E$113,5,FALSE),"Pas de correspondance") -> UUA
A9: =B9&" "&TEXT(DATE(YEAR(C9),MONTH(C9),DAY(C9)),"jj.mm.aaaa") -> 520361681 01.01.2020 | B9: 520361681 | C9: 01/01/20 10:29 | D9: =IFERROR(VLOOKUP(A9,'Base séjour'!$A$1:$E$113,5,FALSE),"Pas de correspondance") -> UUA
A10: =B10&" "&TEXT(DATE(YEAR(C10),MONTH(C10),DAY(C10)),"jj.mm.aaaa") -> 520361681 01.01.2020 | B10: 520361681 | C10: 01/01/20 10:29 | D10: =IFERROR(VLOOKUP(A10,'Base séjour'!$A$1:$E$113,5,FALSE),"Pas de correspondance") -> UUA
A11: =B11&" "&TEXT(DATE(YEAR(C11),MONTH(C11),DAY(C11)),"jj.mm.aaaa") -> 519361628 01.01.2020 | B11: 519361628 | C11: 01/01/20 10:44 | D11: =IFERROR(VLOOKUP(A11,'Base séjour'!$A$1:$E$113,5,FALSE),"Pas de correspondance") -> UUA
A12: =B12&" "&TEXT(DATE(YEAR(C12),MONTH(C12),DAY(C12)),"jj.mm.aaaa") -> 519361628 01.01.2020 | B12: 519361628 | C12: 01/01/20 10:44 | D12: =IFERROR(VLOOKUP(A12,'Base séjour'!$A$1:$E$113,5,FALSE),"Pas de correspondance") -> UUA
A13: =B13&" "&TEXT(DATE(YEAR(C13),MONTH(C13),DAY(C13)),"jj.mm.aaaa") -> 520361749 01.01.2020 | B13: 520361749 | C13: 01/01/20 10:57 | D13: =IFERROR(VLOOKUP(A13,'Base séjour'!$A$1:$E$113,5,FALSE),"Pas de correspondance") -> Pas de correspondance
... A242: =B242&" "&TEXT(DATE(YEAR(C242),MONTH(C242),DAY(C242)),"jj.mm.aaaa") -> 520513476 01.05.2020 | B242: 520513476 | C242: 01/05/20 21:37 | D242: =IFERROR(VLOOKUP(A242,'Base séjour'!$A$1:$E$113,5,FALSE),"Pas de correspondance") -> Pas de correspondance

Sheet Base séjour
A1: Fusion recherche | B1: N°séjour | C1: Date entrée unité de soins | D1: Date sortie unité de soins | E1: Unité de soins
A2: =B2&" "&TEXT(DATE(YEAR(D2),MONTH(D2),DAY(D2)),"jj.mm.aaaa") -> 519361628 01.01.2020 | B2: 519361628 | C2: 43830.966 | D2: 43831.756 | E2: UUA
A3: =B3&" "&TEXT(DATE(YEAR(D3),MONTH(D3),DAY(D3)),"jj.mm.aaaa") -> 520361648 01.01.2020 | B3: 520361648 | C3: 43831.013 | D3: 43831.346 | E3: UUA
A4: =B4&" "&TEXT(DATE(YEAR(D4),MONTH(D4),DAY(D4)),"jj.mm.aaaa") -> 520361652 02.01.2020 | B4: 520361652 | C4: 43831.022 | D4: 43832.443 | E4: MMH
A5: =B5&" "&TEXT(DATE(YEAR(D5),MONTH(D5),DAY(D5)),"jj.mm.aaaa") -> 520361737 02.01.2020 | B5: 520361737 | C5: 43831.393 | D5: 43832.517 | E5: UUA
A6: =B6&" "&TEXT(DATE(YEAR(D6),MONTH(D6),DAY(D6)),"jj.mm.aaaa") -> 520361669 01.01.2020 | B6: 520361669 | C6: 43831.34 | D6: 43831.46 | E6: UUA
A7: =B7&" "&TEXT(DATE(YEAR(D7),MONTH(D7),DAY(D7)),"jj.mm.aaaa") -> 520361681 01.01.2020 | B7: 520361681 | C7: 43831.346 | D7: 43831.762 | E7: UUA
A8: =B8&" "&TEXT(DATE(YEAR(D8),MONTH(D8),DAY(D8)),"jj.mm.aaaa") -> 520361749 02.01.2020 | B8: 520361749 | C8: 43831.403 | D8: 43832.485 | E8: MLH
A9: =B9&" "&TEXT(DATE(YEAR(D9),MONTH(D9),DAY(D9)),"jj.mm.aaaa") -> 520361725 02.01.2020 | B9: 520361725 | C9: 43831.388 | D9: 43832.465 | E9: UUA
A10: =B10&" "&TEXT(DATE(YEAR(D10),MONTH(D10),DAY(D10)),"jj.mm.aaaa") -> 520361761 02.01.2020 | B10: 520361761 | C10: 43831.407 | D10: 43832.457 | E10: MGH
A11: =B11&" "&TEXT(DATE(YEAR(D11),MONTH(D11),DAY(D11)),"jj.mm.aaaa") -> 519339840 23.01.2020 | B11: 519339840 | C11: 43822.622 | D11: 43853.586 | E11: MNH
A12: =B12&" "&TEXT(DATE(YEAR(D12),MONTH(D12),DAY(D12)),"jj.mm.aaaa") -> 520361817 02.01.2020 | B12: 520361817 | C12: 43831.757 | D12: 43832.462 | E12: MGH
A13: =B13&" "&TEXT(DATE(YEAR(D13),MONTH(D13),DAY(D13)),"jj.mm.aaaa") -> 519340537 11.01.2020 | B13: 519340537 | C13: 43815.54 | D13: 43841.014 | E13: MHH
... A113: =B113&" "&TEXT(DATE(YEAR(D113),MONTH(D113),DAY(D113)),"jj.mm.aaaa") -> 520513476 02.05.2020 | B113: 520513476 | C113: 43952.887 | D113: 43953.435 | E113: UUA
