Workbook

Sheet SANTANDER
A1: PERFORMANCE | I1: CREDIT CLASSIQUE | M1: LOA
A2: Partenaire | B2: Marque | C2: Modèle | D2: Immat | E2: Nom client | F2: Date facturation | G2: Mois de vente | H2: Montant du financement | I2: SANS ASSURANCE 0.10 % | J2: 1 ASSURANCE 0.20 % | K2: 2 ASSURANCES 0.30 % | L2: 3 ASSURANCES 0.40 % | M2: SANS ASSURANCE 0.20 % | N2: 1 ASSURANCE 0.30 % | O2: 2 ASSURANCES 0.40 % | P2: 3 ASSURANCES 0.50 % | Q2: Vendeur | R2: CVO | S2: Prime vendeur
H3: 10000 | I3: 1 | Q3: SYLVAIN | R3: =IF(Q3="SACHA","BOURGES",IF(Q3="sylvain","BOURGES",IF(Q3="freddy","CLERMONT",IF(Q3="remi","CLERMONT",IF(Q3="clement","WISSOUS",IF(Q3="patrice","CHARTRES",IF(Q3="david","WISSOUS",IF(Q3="bernard","DREUX",IF(Q3="laurent","TROYES",IF(Q3="abdelkader","TROYES",IF(Q3="faycal","ORLEANS",IF(Q3="aissame","ORLEANS",IF(Q3="AURORE","RAMBOUILLET","ERREUR"))))))))))))) -> BOURGES | S3: =+IF($I3=1,$H3*'TAUX PRIME ASSURANCE'!$B$8,0)+IF(SANTANDER!$J3=1,SANTANDER!$H3*'TAUX PRIME ASSURANCE'!$C$8,0)+IF(SANTANDER!$K3=1,SANTANDER!$H3*'TAUX PRIME ASSURANCE'!$D$8,0)+IF(SANTANDER!$L3=1,SANTANDER!$H3*'TAUX PRIME ASSURANCE'!$E$8,0)+IF(SANTANDER!$M3=1,SANTANDER!$H3*'TAUX PRIME ASSURANCE'!$F$8,0)+IF(SANTANDER!$O3=1,SANTANDER!$H3*'TAUX PRIME ASSURANCE'!$H$8,0)+IF(SANTANDER!$P3=1,SANTANDER!$H3*'TAUX PRIME ASSURANCE'!$I$8,0)+IF(SANTANDER!$N3=1,SANTANDER!$H3*'TAUX PRIME ASSURANCE'!$G$8,0) -> 10
H4: 10000 | I4: 1 | S4: =+IF($I4=1,$H4*'TAUX PRIME ASSURANCE'!$B$8,0)+IF(SANTANDER!$J4=1,SANTANDER!$H4*'TAUX PRIME ASSURANCE'!$C$8,0)+IF(SANTANDER!$K4=1,SANTANDER!$H4*'TAUX PRIME ASSURANCE'!$D$8,0)+IF(SANTANDER!$L4=1,SANTANDER!$H4*'TAUX PRIME ASSURANCE'!$E$8,0)+IF(SANTANDER!$M4=1,SANTANDER!$H4*'TAUX PRIME ASSURANCE'!$F$8,0)+IF(SANTANDER!$O4=1,SANTANDER!$H4*'TAUX PRIME ASSURANCE'!$H$8,0)+IF(SANTANDER!$P4=1,SANTANDER!$H4*'TAUX PRIME ASSURANCE'!$I$8,0)+IF(SANTANDER!$N4=1,SANTANDER!$H4*'TAUX PRIME ASSURANCE'!$G$8,0) -> 10
H5: 10000 | J5: 1 | S5: =+IF($I5=1,$H5*'TAUX PRIME ASSURANCE'!$B$8,0)+IF(SANTANDER!$J5=1,SANTANDER!$H5*'TAUX PRIME ASSURANCE'!$C$8,0)+IF(SANTANDER!$K5=1,SANTANDER!$H5*'TAUX PRIME ASSURANCE'!$D$8,0)+IF(SANTANDER!$L5=1,SANTANDER!$H5*'TAUX PRIME ASSURANCE'!$E$8,0)+IF(SANTANDER!$M5=1,SANTANDER!$H5*'TAUX PRIME ASSURANCE'!$F$8,0)+IF(SANTANDER!$O5=1,SANTANDER!$H5*'TAUX PRIME ASSURANCE'!$H$8,0)+IF(SANTANDER!$P5=1,SANTANDER!$H5*'TAUX PRIME ASSURANCE'!$I$8,0)+IF(SANTANDER!$N5=1,SANTANDER!$H5*'TAUX PRIME ASSURANCE'!$G$8,0) -> 20
H6: 10000 | K6: 1 | S6: =+IF($I6=1,$H6*'TAUX PRIME ASSURANCE'!$B$8,0)+IF(SANTANDER!$J6=1,SANTANDER!$H6*'TAUX PRIME ASSURANCE'!$C$8,0)+IF(SANTANDER!$K6=1,SANTANDER!$H6*'TAUX PRIME ASSURANCE'!$D$8,0)+IF(SANTANDER!$L6=1,SANTANDER!$H6*'TAUX PRIME ASSURANCE'!$E$8,0)+IF(SANTANDER!$M6=1,SANTANDER!$H6*'TAUX PRIME ASSURANCE'!$F$8,0)+IF(SANTANDER!$O6=1,SANTANDER!$H6*'TAUX PRIME ASSURANCE'!$H$8,0)+IF(SANTANDER!$P6=1,SANTANDER!$H6*'TAUX PRIME ASSURANCE'!$I$8,0)+IF(SANTANDER!$N6=1,SANTANDER!$H6*'TAUX PRIME ASSURANCE'!$G$8,0) -> 30
H7: 10000 | L7: 1 | S7: =+IF($I7=1,$H7*'TAUX PRIME ASSURANCE'!$B$8,0)+IF(SANTANDER!$J7=1,SANTANDER!$H7*'TAUX PRIME ASSURANCE'!$C$8,0)+IF(SANTANDER!$K7=1,SANTANDER!$H7*'TAUX PRIME ASSURANCE'!$D$8,0)+IF(SANTANDER!$L7=1,SANTANDER!$H7*'TAUX PRIME ASSURANCE'!$E$8,0)+IF(SANTANDER!$M7=1,SANTANDER!$H7*'TAUX PRIME ASSURANCE'!$F$8,0)+IF(SANTANDER!$O7=1,SANTANDER!$H7*'TAUX PRIME ASSURANCE'!$H$8,0)+IF(SANTANDER!$P7=1,SANTANDER!$H7*'TAUX PRIME ASSURANCE'!$I$8,0)+IF(SANTANDER!$N7=1,SANTANDER!$H7*'TAUX PRIME ASSURANCE'!$G$8,0) -> 40
H8: 10000 | M8: 1 | S8: =+IF($I8=1,$H8*'TAUX PRIME ASSURANCE'!$B$8,0)+IF(SANTANDER!$J8=1,SANTANDER!$H8*'TAUX PRIME ASSURANCE'!$C$8,0)+IF(SANTANDER!$K8=1,SANTANDER!$H8*'TAUX PRIME ASSURANCE'!$D$8,0)+IF(SANTANDER!$L8=1,SANTANDER!$H8*'TAUX PRIME ASSURANCE'!$E$8,0)+IF(SANTANDER!$M8=1,SANTANDER!$H8*'TAUX PRIME ASSURANCE'!$F$8,0)+IF(SANTANDER!$O8=1,SANTANDER!$H8*'TAUX PRIME ASSURANCE'!$H$8,0)+IF(SANTANDER!$P8=1,SANTANDER!$H8*'TAUX PRIME ASSURANCE'!$I$8,0)+IF(SANTANDER!$N8=1,SANTANDER!$H8*'TAUX PRIME ASSURANCE'!$G$8,0) -> 20
H9: 10000 | N9: 1 | S9: =+IF($I9=1,$H9*'TAUX PRIME ASSURANCE'!$B$8,0)+IF(SANTANDER!$J9=1,SANTANDER!$H9*'TAUX PRIME ASSURANCE'!$C$8,0)+IF(SANTANDER!$K9=1,SANTANDER!$H9*'TAUX PRIME ASSURANCE'!$D$8,0)+IF(SANTANDER!$L9=1,SANTANDER!$H9*'TAUX PRIME ASSURANCE'!$E$8,0)+IF(SANTANDER!$M9=1,SANTANDER!$H9*'TAUX PRIME ASSURANCE'!$F$8,0)+IF(SANTANDER!$O9=1,SANTANDER!$H9*'TAUX PRIME ASSURANCE'!$H$8,0)+IF(SANTANDER!$P9=1,SANTANDER!$H9*'TAUX PRIME ASSURANCE'!$I$8,0)+IF(SANTANDER!$N9=1,SANTANDER!$H9*'TAUX PRIME ASSURANCE'!$G$8,0) -> 30
H10: 10000 | O10: 1 | S10: =+IF($I10=1,$H10*'TAUX PRIME ASSURANCE'!$B$8,0)+IF(SANTANDER!$J10=1,SANTANDER!$H10*'TAUX PRIME ASSURANCE'!$C$8,0)+IF(SANTANDER!$K10=1,SANTANDER!$H10*'TAUX PRIME ASSURANCE'!$D$8,0)+IF(SANTANDER!$L10=1,SANTANDER!$H10*'TAUX PRIME ASSURANCE'!$E$8,0)+IF(SANTANDER!$M10=1,SANTANDER!$H10*'TAUX PRIME ASSURANCE'!$F$8,0)+IF(SANTANDER!$O10=1,SANTANDER!$H10*'TAUX PRIME ASSURANCE'!$H$8,0)+IF(SANTANDER!$P10=1,SANTANDER!$H10*'TAUX PRIME ASSURANCE'!$I$8,0)+IF(SANTANDER!$N10=1,SANTANDER!$H10*'TAUX PRIME ASSURANCE'!$G$8,0) -> 40
H11: 10000 | P11: 1 | S11: =+IF($I11=1,$H11*'TAUX PRIME ASSURANCE'!$B$8,0)+IF(SANTANDER!$J11=1,SANTANDER!$H11*'TAUX PRIME ASSURANCE'!$C$8,0)+IF(SANTANDER!$K11=1,SANTANDER!$H11*'TAUX PRIME ASSURANCE'!$D$8,0)+IF(SANTANDER!$L11=1,SANTANDER!$H11*'TAUX PRIME ASSURANCE'!$E$8,0)+IF(SANTANDER!$M11=1,SANTANDER!$H11*'TAUX PRIME ASSURANCE'!$F$8,0)+IF(SANTANDER!$O11=1,SANTANDER!$H11*'TAUX PRIME ASSURANCE'!$H$8,0)+IF(SANTANDER!$P11=1,SANTANDER!$H11*'TAUX PRIME ASSURANCE'!$I$8,0)+IF(SANTANDER!$N11=1,SANTANDER!$H11*'TAUX PRIME ASSURANCE'!$G$8,0) -> 50
A16: DYNAMIQUE | I16: CREDIT CLASSIQUE | M16: LOA
A17: Partenaire | B17: Marque | C17: Modèle | D17: Immat | E17: Nom client | F17: Date facturation | G17: Mois de vente | H17: Montant du financement | I17: SANS ASSURANCE 0.20 % | J17: 1 ASSURANCE 0.50 % | K17: 2 ASSURANCES 0.80 % | L17: 3 ASSURANCES 1 % | M17: SANS ASSURANCE 0.40 % | N17: 1 ASSURANCE 0.60 % | O17: 2 ASSURANCES 1 % | P17: 3 ASSURANCES 1.20 % | Q17: Vendeur | R17: CVO | S17: Prime vendeur
H18: 10000 | I18: 1 | S18: =+IF($I18=1,$H18*'TAUX PRIME ASSURANCE'!$B$14,0)+IF(SANTANDER!$J18=1,SANTANDER!$H18*'TAUX PRIME ASSURANCE'!$C$14,0)+IF(SANTANDER!$K18=1,SANTANDER!$H18*'TAUX PRIME ASSURANCE'!$D$14,0)+IF(SANTANDER!$L18=1,SANTANDER!$H18*'TAUX PRIME ASSURANCE'!$E$14,0)+IF(SANTANDER!$M18=1,SANTANDER!$H18*'TAUX PRIME ASSURANCE'!$F$14,0)+IF(SANTANDER!$O18=1,SANTANDER!$H18*'TAUX PRIME ASSURANCE'!$H$14,0)+IF(SANTANDER!$P18=1,SANTANDER!$H18*'TAUX PRIME ASSURANCE'!$I$14,0)+IF(SANTANDER!$N18=1,SANTANDER!$H18*'TAUX PRIME ASSURANCE'!$G$14,0) -> 20
H19: 10000 | J19: 1 | S19: =+IF($I19=1,$H19*'TAUX PRIME ASSURANCE'!$B$14,0)+IF(SANTANDER!$J19=1,SANTANDER!$H19*'TAUX PRIME ASSURANCE'!$C$14,0)+IF(SANTANDER!$K19=1,SANTANDER!$H19*'TAUX PRIME ASSURANCE'!$D$14,0)+IF(SANTANDER!$L19=1,SANTANDER!$H19*'TAUX PRIME ASSURANCE'!$E$14,0)+IF(SANTANDER!$M19=1,SANTANDER!$H19*'TAUX PRIME ASSURANCE'!$F$14,0)+IF(SANTANDER!$O19=1,SANTANDER!$H19*'TAUX PRIME ASSURANCE'!$H$14,0)+IF(SANTANDER!$P19=1,SANTANDER!$H19*'TAUX PRIME ASSURANCE'!$I$14,0)+IF(SANTANDER!$N19=1,SANTANDER!$H19*'TAUX PRIME ASSURANCE'!$G$14,0) -> 50
H20: 10000 | K20: 1 | S20: =+IF($I20=1,$H20*'TAUX PRIME ASSURANCE'!$B$14,0)+IF(SANTANDER!$J20=1,SANTANDER!$H20*'TAUX PRIME ASSURANCE'!$C$14,0)+IF(SANTANDER!$K20=1,SANTANDER!$H20*'TAUX PRIME ASSURANCE'!$D$14,0)+IF(SANTANDER!$L20=1,SANTANDER!$H20*'TAUX PRIME ASSURANCE'!$E$14,0)+IF(SANTANDER!$M20=1,SANTANDER!$H20*'TAUX PRIME ASSURANCE'!$F$14,0)+IF(SANTANDER!$O20=1,SANTANDER!$H20*'TAUX PRIME ASSURANCE'!$H$14,0)+IF(SANTANDER!$P20=1,SANTANDER!$H20*'TAUX PRIME ASSURANCE'!$I$14,0)+IF(SANTANDER!$N20=1,SANTANDER!$H20*'TAUX PRIME ASSURANCE'!$G$14,0) -> 80
H21: 10000 | L21: 1 | S21: =+IF($I21=1,$H21*'TAUX PRIME ASSURANCE'!$B$14,0)+IF(SANTANDER!$J21=1,SANTANDER!$H21*'TAUX PRIME ASSURANCE'!$C$14,0)+IF(SANTANDER!$K21=1,SANTANDER!$H21*'TAUX PRIME ASSURANCE'!$D$14,0)+IF(SANTANDER!$L21=1,SANTANDER!$H21*'TAUX PRIME ASSURANCE'!$E$14,0)+IF(SANTANDER!$M21=1,SANTANDER!$H21*'TAUX PRIME ASSURANCE'!$F$14,0)+IF(SANTANDER!$O21=1,SANTANDER!$H21*'TAUX PRIME ASSURANCE'!$H$14,0)+IF(SANTANDER!$P21=1,SANTANDER!$H21*'TAUX PRIME ASSURANCE'!$I$14,0)+IF(SANTANDER!$N21=1,SANTANDER!$H21*'TAUX PRIME ASSURANCE'!$G$14,0) -> 100
H22: 10000 | M22: 1 | S22: =+IF($I22=1,$H22*'TAUX PRIME ASSURANCE'!$B$14,0)+IF(SANTANDER!$J22=1,SANTANDER!$H22*'TAUX PRIME ASSURANCE'!$C$14,0)+IF(SANTANDER!$K22=1,SANTANDER!$H22*'TAUX PRIME ASSURANCE'!$D$14,0)+IF(SANTANDER!$L22=1,SANTANDER!$H22*'TAUX PRIME ASSURANCE'!$E$14,0)+IF(SANTANDER!$M22=1,SANTANDER!$H22*'TAUX PRIME ASSURANCE'!$F$14,0)+IF(SANTANDER!$O22=1,SANTANDER!$H22*'TAUX PRIME ASSURANCE'!$H$14,0)+IF(SANTANDER!$P22=1,SANTANDER!$H22*'TAUX PRIME ASSURANCE'!$I$14,0)+IF(SANTANDER!$N22=1,SANTANDER!$H22*'TAUX PRIME ASSURANCE'!$G$14,0) -> 40
H23: 10000 | N23: 1 | S23: =+IF($I23=1,$H23*'TAUX PRIME ASSURANCE'!$B$14,0)+IF(SANTANDER!$J23=1,SANTANDER!$H23*'TAUX PRIME ASSURANCE'!$C$14,0)+IF(SANTANDER!$K23=1,SANTANDER!$H23*'TAUX PRIME ASSURANCE'!$D$14,0)+IF(SANTANDER!$L23=1,SANTANDER!$H23*'TAUX PRIME ASSURANCE'!$E$14,0)+IF(SANTANDER!$M23=1,SANTANDER!$H23*'TAUX PRIME ASSURANCE'!$F$14,0)+IF(SANTANDER!$O23=1,SANTANDER!$H23*'TAUX PRIME ASSURANCE'!$H$14,0)+IF(SANTANDER!$P23=1,SANTANDER!$H23*'TAUX PRIME ASSURANCE'!$I$14,0)+IF(SANTANDER!$N23=1,SANTANDER!$H23*'TAUX PRIME ASSURANCE'!$G$14,0) -> 60
H24: 10000 | O24: 1 | S24: =+IF($I24=1,$H24*'TAUX PRIME ASSURANCE'!$B$14,0)+IF(SANTANDER!$J24=1,SANTANDER!$H24*'TAUX PRIME ASSURANCE'!$C$14,0)+IF(SANTANDER!$K24=1,SANTANDER!$H24*'TAUX PRIME ASSURANCE'!$D$14,0)+IF(SANTANDER!$L24=1,SANTANDER!$H24*'TAUX PRIME ASSURANCE'!$E$14,0)+IF(SANTANDER!$M24=1,SANTANDER!$H24*'TAUX PRIME ASSURANCE'!$F$14,0)+IF(SANTANDER!$O24=1,SANTANDER!$H24*'TAUX PRIME ASSURANCE'!$H$14,0)+IF(SANTANDER!$P24=1,SANTANDER!$H24*'TAUX PRIME ASSURANCE'!$I$14,0)+IF(SANTANDER!$N24=1,SANTANDER!$H24*'TAUX PRIME ASSURANCE'!$G$14,0) -> 100
H25: 10000 | P25: 1 | S25: =+IF($I25=1,$H25*'TAUX PRIME ASSURANCE'!$B$14,0)+IF(SANTANDER!$J25=1,SANTANDER!$H25*'TAUX PRIME ASSURANCE'!$C$14,0)+IF(SANTANDER!$K25=1,SANTANDER!$H25*'TAUX PRIME ASSURANCE'!$D$14,0)+IF(SANTANDER!$L25=1,SANTANDER!$H25*'TAUX PRIME ASSURANCE'!$E$14,0)+IF(SANTANDER!$M25=1,SANTANDER!$H25*'TAUX PRIME ASSURANCE'!$F$14,0)+IF(SANTANDER!$O25=1,SANTANDER!$H25*'TAUX PRIME ASSURANCE'!$H$14,0)+IF(SANTANDER!$P25=1,SANTANDER!$H25*'TAUX PRIME ASSURANCE'!$I$14,0)+IF(SANTANDER!$N25=1,SANTANDER!$H25*'TAUX PRIME ASSURANCE'!$G$14,0) -> 120
A30: GAMME + | I30: CREDIT CLASSIQUE Jusqu'à 10 000€ | L30: CREDIT CLASSIQUE 10 001 à 15 000 €
A31: Partenaire | B31: Marque | C31: Modèle | D31: Immat | E31: Nom client | F31: Date facturation | G31: Mois de vente | H31: Montant du financement | I31: 1 ASSURANCE 0.60 % | J31: 2 ASSURANCES 1 % | K31: 3 ASSURANCES 1.20 % | L31: 1 ASSURANCE 0.20 % | M31: 2 ASSURANCES 0.30 % | N31: 3 ASSURANCES 0.40 % | O31: Vendeur | P31: CVO | Q31: Prime vendeur
H32: 15000 | I32: 1 | R32: =+IF($I32=1,$H32*'TAUX PRIME ASSURANCE'!$B$3,0)+IF(SANTANDER!$J37=1,SANTANDER!$H37*'TAUX PRIME ASSURANCE'!$C$3,0)+IF(SANTANDER!$K37=1,SANTANDER!$H37*'TAUX PRIME ASSURANCE'!$D$3,0)+IF(SANTANDER!$M37=1,SANTANDER!$H37*'TAUX PRIME ASSURANCE'!$E$3,0)+IF(SANTANDER!$N37=1,SANTANDER!$H37*'TAUX PRIME ASSURANCE'!$F$3,0)+IF(SANTANDER!$O37=1,SANTANDER!$H37*'TAUX PRIME ASSURANCE'!$G$3) -> 375 | S32: =R32-Q32 -> 375
H33: 15000 | J33: 1 | R33: =+IF($I33=1,$H33*'TAUX PRIME ASSURANCE'!$B$3,0)+IF(SANTANDER!$J39=1,SANTANDER!$H39*'TAUX PRIME ASSURANCE'!$C$3,0)+IF(SANTANDER!$K39=1,SANTANDER!$H39*'TAUX PRIME ASSURANCE'!$D$3,0)+IF(SANTANDER!$M39=1,SANTANDER!$H39*'TAUX PRIME ASSURANCE'!$E$3,0)+IF(SANTANDER!$N39=1,SANTANDER!$H39*'TAUX PRIME ASSURANCE'!$F$3,0)+IF(SANTANDER!$O39=1,SANTANDER!$H39*'TAUX PRIME ASSURANCE'!$G$3) -> 0 | S33: =R33-Q33 -> 0
H34: 15000 | K34: 1
H35: 15000 | L35: 1
H36: 15000 | M36: 1
N37: 1
E38: SOLUTION ENVISAGEE
A40: GAMME + | I40: CREDIT CLASSIQUE Jusqu'à 10 000€ | L40: CREDIT CLASSIQUE 10 001 à 15 000 €
A41: Partenaire | B41: Marque | C41: Modèle | D41: Immat | E41: Nom client | F41: Date facturation | G41: Mois de vente | H41: Montant du financement | I41: Montant du financement 2 | J41: 1 ASSURANCE 0.60 % | K41: 2 ASSURANCES 1 % | L41: 3 ASSURANCES 1.20 % | M41: 1 ASSURANCE 0.20 % | N41: 2 ASSURANCES 0.30 % | O41: 3 ASSURANCES 0.40 % | P41: Vendeur | Q41: CVO | R41: Prime vendeur | S41: Prime vendeur (Tranche 2) | T41: Cumul des primes
H42: 10000 | I42: 15000 | J42: 1
H43: 10000 | I43: 12000 | K43: 1
H44: 10000 | I44: 14584 | L44: 1
H45: 10000 | I45: 11005 | M45: 1
H46: 10000 | I46: 10654 | N46: 1
H47: 10000 | I47: 13486 | O47: 1

Sheet TAUX PRIME ASSURANCE
B1: Assurance CAPITAL (0.5) | C1: Assurance CAPITAL + ADE (Aide à la Personne) | D1: Assurance CAPITAL + EXTENSION DE GARANTIE | E1: Assurance LEASE | F1: Assurance LEASE + ADE (Aide à la Personne) | G1: Assurance LEASE + ASSISTANCE
A2: Vendeur | B2: 0.005 | C2: 0.008 | D2: 0.008 | E2: 0.006 | F2: 0.012 | G2: 0.01
A3: Massoutre | B3: 0.025 | C3: 0.05 | D3: 0.05 | E3: 0.02 | F3: 0.06 | G3: 0.04
A6: PERFORMANCE | B6: CREDIT CLASSIQUE | F6: LOA
B7: SANS ASSURANCE 0.10 % | C7: 1 ASSURANCE 0.20 % | D7: 2 ASSURANCES 0.30 % | E7: 3 ASSURANCES 0.40 % | F7: SANS ASSURANCE 0.20 % | G7: 1 ASSURANCE 0.30 % | H7: 2 ASSURANCES 0.40 % | I7: 3 ASSURANCES 0.50 %
B8: 0.001 | C8: 0.002 | D8: 0.003 | E8: 0.004 | F8: 0.002 | G8: 0.003 | H8: 0.004 | I8: 0.005
B9: 0.02 | C9: 0.025 | D9: 0.03 | E9: 0.035 | F9: 0.02 | G9: 0.025 | H9: 0.3 | I9: 0.35
A12: DYNAMIQUE | B12: CREDIT CLASSIQUE | F12: LOA
B13: SANS ASSURANCE 0.20 % | C13: 1 ASSURANCE 0.50 % | D13: 2 ASSURANCES 0.80 % | E13: 3 ASSURANCES 1 % | F13: SANS ASSURANCE 0.40 % | G13: 1 ASSURANCE 0.60 % | H13: 2 ASSURANCES 1 % | I13: 3 ASSURANCES 1.20 %
B14: 0.002 | C14: 0.005 | D14: 0.008 | E14: 0.01 | F14: 0.004 | G14: 0.006 | H14: 0.01 | I14: 0.012
B15: 0.04 | C15: 0.045 | D15: 0.05 | E15: 0.055 | F15: 0.04 | G15: 0.045 | H15: 0.05 | I15: 0.055
A18: GAMME + | B18: CREDIT CLASSIQUE Jusqu'à 10 000€ | E18: CREDIT CLASSIQUE 10 001 à 15 000 €
B19: 1 ASSURANCE 0.60 % | C19: 2 ASSURANCES 1 % | D19: 3 ASSURANCES 1.20 % | E19: 1 ASSURANCE 0.20 % | F19: 2 ASSURANCES 0.30 % | G19: 3 ASSURANCES 0.40 %
B20: 0.006 | C20: 0.01 | D20: 0.012 | E20: 0.002 | F20: 0.003 | G20: 0.004
B21: 0.06 | C21: 0.065 | D21: 0.07 | E21: 0.04 | F21: 0.045 | G21: 0.05
