Workbook
Name BPI: '[1]Caché - Sources'!$I$22:$J$22
Name Droits_sociaux: '[1]Caché - Sources'!$D$2:$D$13
Name Piece_justif: '[1]Caché - Sources'!$F$17:$F$18
Name Roles: '[1]Caché - Sources'!$I$2:$I$8
Name Scolarisation: '[1]Caché - Sources'!$H$2:$H$3
Name Sexe: '[1]Caché - Sources'!$B$2:$B$3
Name Sit_fam: '[1]Caché - Sources'!$C$2:$C$7

Sheet hébergement
A1: Site | B1: Hébergés | C1: Date de Naissance (remplir au format jj/mois/année) | D1: Nationalité (liste déroulante) | E1: Sexe (liste déroulante) | F1: Age (calcul automatique) | G1: Situation familiale (liste déroulante) | H1: Rôle ménage (liste déroulante) | I1: Scolarisation (liste déroulante) | J1: Francophonie (liste déroulante) | K1: Admission (liste déroulante) | L1: Date d'entrée (remplir au format jj/mois/année) | M1: Procédure (liste déroulante) | N1: Date notification OFPRA (remplir au format jj/mois/année) | O1: Réponse OFPRA (liste déroulante) | P1: Date notification CNDA (remplir au format jj/mois/année) | Q1: Réponse CNDA (liste déroulante) | R1: Bénéficiaire d'une protection internationale (liste déroulante) | S1: Date Notification sortie (remplir au format jj/mois/année) | T1: Date de sortie hébergement (remplir au format jj/mois/année) | U1: Sortie hébergement (liste déroulante)
C2: 20/02/1994 | D2: ALBANAISE | E2: M | F2: =(YEAR(NOW())-YEAR(C2)) -> 27 | G2: Couple avec enfant | I2: Maternelle | J2: OUI | K2: Nationale | M2: Procédure normale | O2: Rejet | Q2: Rejet | R2: Statut de réfugié | U2: logement autonome
C3: 10/09/1978 | D3: AMERICAINE | E3: F | F3: =(YEAR(NOW())-YEAR(C3)) -> 43 | G3: Couple avec enfant | I3: Maternelle | J3: NON | K3: Nationale | M3: Procédure normale | O3: Rejet | Q3: Rejet | R3: Protection subsidiaire | U3: CHRS /CHU…
C4: 17/05/2004 | D4: AFGHANE | E4: M | F4: =(YEAR(NOW())-YEAR(C4)) -> 17 | G4: Personne seule | I4: Primaire | J4: OUI | K4: Locale | M4: Procédure normale | O4: Protection subsidiaire | Q4: Rejet | R4: Statut de réfugié | U4: Départ volontaire vers un pays tiers
C5: 01/01/1984 | D5: AFGHANE | E5: F | F5: =(YEAR(NOW())-YEAR(C5)) -> 37 | G5: Personne seule | I5: Collège | J5: NON | K5: Locale | M5: Procédure accélérée | O5: Protection subsidiaire | Q5: Protection subsidiaire | R5: Statut de réfugié | U5: Départ volontaire vers un pays tiers
C6: 23/10/2017 | D6: ANDORRANE | E6: F | F6: =(YEAR(NOW())-YEAR(C6)) -> 4 | G6: Couple sans enfant | I6: Lycée | J6: NON | K6: Locale | M6: Procédure accélérée | O6: Statut de réfugié | Q6: Protection subsidiaire | R6: Protection subsidiaire | U6: Sortie débouté
C7: 31/10/1993 | D7: ANDORRANE | E7: M | F7: =(YEAR(NOW())-YEAR(C7)) -> 28 | G7: Couple sans enfant | I7: Enseignement supérieur | J7: NON | K7: Transfert | M7: Procédure accélérée | O7: Statut de réfugié | Q7: Protection subsidiaire | R7: Protection subsidiaire | U7: Sortie débouté
C8: 20/09/2019 | D8: IVOIRIENNE | E8: F | F8: =(YEAR(NOW())-YEAR(C8)) -> 2 | G8: Couple sans enfant | I8: Enseignement spécialisé | J8: OUI | K8: Transfert | M8: Dublin | Q8: Statut de réfugié | U8: Sortie débouté
C9: 06/01/1980 | D9: ANGOLAISE | E9: F | F9: =(YEAR(NOW())-YEAR(C9)) -> 41 | G9: Enfant majeur accompagnant | I9: Non scolarisé | J9: OUI | K9: Transfert | M9: Dublin | Q9: Statut de réfugié | U9: Transfert
C10: 30/06/1993 | D10: ANTIGUAISE ET BARBUDIENNE | F10: =(YEAR(NOW())-YEAR(C10)) -> 28 | G10: Enfant majeur accompagnant | I10: Maternelle | J10: OUI | K10: Transfert | M10: Dublin | Q10: Statut de réfugié | U10: Transfert
C11: 01/01/2000 | D11: AMERICAINE | F11: =(YEAR(NOW())-YEAR(C11)) -> 21 | G11: Enfant mineur accompagnant | I11: Collège | J11: OUI | K11: Naissance | M11: Dédubliné | U11: logement autonome
C12: 19/10/1981 | D12: UKRAINIENNE | F12: =(YEAR(NOW())-YEAR(C12)) -> 40 | G12: Enfant mineur accompagnant | I12: Primaire | J12: OUI | K12: Naissance | M12: Dédubliné | U12: Reconduite à la frontière
C13: 18/05/1985 | D13: ANDORRANE | F13: =(YEAR(NOW())-YEAR(C13)) -> 36 | G13: Enfant mineur accompagnant | I13: Enseignement spécialisé | J13: OUI | K13: Rejoignant | M13: Dédubliné | U13: Transfert
C14: 26/06/2009 | D14: ANDORRANE | F14: =(YEAR(NOW())-YEAR(C14)) -> 12 | G14: Famille élargie | I14: Non scolarisé | J14: OUI | K14: Rejoignant | M14: Procédure accélérée | U14: Sortie débouté
C15: 23/07/2013 | D15: ANDORRANE | F15: =(YEAR(NOW())-YEAR(C15)) -> 8 | G15: Famille élargie | J15: OUI | K15: Rejoignant | M15: Procédure accélérée | U15: Sortie débouté
C16: 16/09/2018 | D16: ANTIGUAISE ET BARBUDIENNE | F16: =(YEAR(NOW())-YEAR(C16)) -> 3 | G16: Famille monoparentale | J16: OUI | K16: Rejoignant | M16: Procédure accélérée | U16: Départ volontaire vers un pays tiers
C17: 01/01/1996 | D17: ANDORRANE | F17: =(YEAR(NOW())-YEAR(C17)) -> 25 | G17: Famille monoparentale | J17: OUI | K17: Nationale | M17: Procédure accélérée | U17: Expulsion
C18: 01/01/1988 | D18: ANGOLAISE | F18: =(YEAR(NOW())-YEAR(C18)) -> 33 | G18: Famille monoparentale | J18: OUI | K18: Nationale | M18: Procédure normale | U18: Exclusion
C19: 22/04/1986 | D19: ANGOLAISE | F19: =(YEAR(NOW())-YEAR(C19)) -> 35 | G19: Fraterie | J19: OUI | K19: Nationale | M19: Procédure normale | U19: Abandon de la procédure
C20: 24/05/1964 | D20: YEMENITE | F20: =(YEAR(NOW())-YEAR(C20)) -> 57 | G20: Fraterie | J20: OUI | K20: Nationale | M20: Procédure accélérée | U20: Retour volontaire
C21: 05/02/1962 | D21: GRENADIENNE | F21: =(YEAR(NOW())-YEAR(C21)) -> 59 | G21: Personne seule | K21: Nationale | M21: Procédure accélérée | U21: Abandon de la procédure
C22: 22/11/1988 | D22: AFGHANE | F22: =(YEAR(NOW())-YEAR(C22)) -> 33 | G22: Personne seule | K22: Transfert | M22: Procédure accélérée | U22: Abandon de la procédure
C23: 09/08/2010 | D23: AFGHANE | F23: =(YEAR(NOW())-YEAR(C23)) -> 11 | G23: Personne seule | K23: Naissance | M23: Attente de procédure | U23: Solution individuelle (115/ hôtel …)
C24: 07/06/2012 | D24: ALBANAISE | F24: =(YEAR(NOW())-YEAR(C24)) -> 9 | G24: Personne seule | K24: Naissance | M24: Attente de procédure | U24: Solution individuelle (115/ hôtel …)
C25: 22/04/2014 | D25: ALBANAISE | F25: =(YEAR(NOW())-YEAR(C25)) -> 7 | G25: Personne seule | K25: Rejoignant | M25: Attente de procédure | U25: Décès
C26: 13/06/1995 | D26: ALBANAISE | F26: =(YEAR(NOW())-YEAR(C26)) -> 26 | G26: Personne seule | K26: Rejoignant | M26: Procédure accélérée | O26: Rejet
C27: 11/10/1994 | D27: ALBANAISE | F27: =(YEAR(NOW())-YEAR(C27)) -> 27 | G27: Personne seule | K27: Rejoignant
C28: 03/11/1997 | F28: =(YEAR(NOW())-YEAR(C28)) -> 24 | G28: Couple sans enfant | K28: Nationale
C29: 23/05/1984 | F29: =(YEAR(NOW())-YEAR(C29)) -> 37 | G29: Famille élargie | K29: Nationale
C30: 28/09/2001 | F30: =(YEAR(NOW())-YEAR(C30)) -> 20 | G30: Famille élargie | K30: Nationale
C31: 03/04/1984 | F31: =(YEAR(NOW())-YEAR(C31)) -> 37 | G31: Couple avec enfant | K31: Locale
C32: 01/01/2002 | F32: =(YEAR(NOW())-YEAR(C32)) -> 19 | G32: Famille élargie | K32: Locale
C33: 20/12/1992 | F33: =(YEAR(NOW())-YEAR(C33)) -> 29 | G33: Famille élargie | K33: Locale
C34: 16/06/2000 | F34: =(YEAR(NOW())-YEAR(C34)) -> 21 | G34: Famille monoparentale | K34: Locale
C35: 01/01/2000 | F35: =(YEAR(NOW())-YEAR(C35)) -> 21 | G35: Fraterie | K35: Locale
C36: 11/08/2009 | F36: =(YEAR(NOW())-YEAR(C36)) -> 12 | G36: Couple avec enfant | K36: Naissance
C37: 18/06/2007 | F37: =(YEAR(NOW())-YEAR(C37)) -> 14 | G37: Famille monoparentale | K37: Naissance
C38: 10/03/2005 | F38: =(YEAR(NOW())-YEAR(C38)) -> 16 | G38: Personne seule | U38: logement autonome
C39: 03/10/1988 | F39: =(YEAR(NOW())-YEAR(C39)) -> 33 | G39: Personne seule | U39: Transfert
C40: 07/10/1991 | F40: =(YEAR(NOW())-YEAR(C40)) -> 30 | G40: Personne seule | U40: CHRS /CHU…
C41: 19/06/2016 | F41: =(YEAR(NOW())-YEAR(C41)) -> 5 | G41: Personne seule | U41: Transfert
C42: 03/01/1997 | F42: =(YEAR(NOW())-YEAR(C42)) -> 24 | G42: Personne seule | U42: Résidence sociale
C43: 05/04/1999 | F43: =(YEAR(NOW())-YEAR(C43)) -> 22 | G43: Personne seule | U43: Expulsion
C44: 10/04/2001 | F44: =(YEAR(NOW())-YEAR(C44)) -> 20 | G44: Personne seule | U44: Exclusion
C45: 05/08/1993 | F45: =(YEAR(NOW())-YEAR(C45)) -> 28 | G45: Personne seule | U45: Reconduite à la frontière
C46: 10/06/2001 | F46: =(YEAR(NOW())-YEAR(C46)) -> 20 | G46: Personne seule | U46: Retour volontaire
C47: 25/05/2002 | F47: =(YEAR(NOW())-YEAR(C47)) -> 19 | G47: Personne seule | U47: Transfert
C48: 05/03/1998 | F48: =(YEAR(NOW())-YEAR(C48)) -> 23 | G48: Personne seule | U48: CPH
C49: 26/10/1991 | F49: =(YEAR(NOW())-YEAR(C49)) -> 30 | G49: Personne seule | U49: Transfert
C50: 01/01/1995 | F50: =(YEAR(NOW())-YEAR(C50)) -> 26
C51: 01/01/2012 | F51: =(YEAR(NOW())-YEAR(C51)) -> 9
C52: 12/03/2019 | F52: =(YEAR(NOW())-YEAR(C52)) -> 2
C53: 18/07/1999 | F53: =(YEAR(NOW())-YEAR(C53)) -> 22
C54: 09/02/1989 | F54: =(YEAR(NOW())-YEAR(C54)) -> 32
C55: 28/06/2020 | F55: =(YEAR(NOW())-YEAR(C55)) -> 1
C56: 23/07/2020 | F56: =(YEAR(NOW())-YEAR(C56)) -> 1
C57: 02/01/1998 | F57: =(YEAR(NOW())-YEAR(C57)) -> 23
C58: 01/01/1991 | F58: =(YEAR(NOW())-YEAR(C58)) -> 30
C59: 15/07/1987 | F59: =(YEAR(NOW())-YEAR(C59)) -> 34
C60: 16/11/2016 | F60: =(YEAR(NOW())-YEAR(C60)) -> 5
C61: 05/04/2019 | F61: =(YEAR(NOW())-YEAR(C61)) -> 2
... C106: 10/02/1994 | F106: =(YEAR(NOW())-YEAR(C106)) -> 27

Sheet rapport d'activité
B2: Typologie de la population hébergée | F2: Admission
B3: Champ : Sur l'ensemble des personnes hébergées | C3: Effectif | D3: % | F3: Champ : Ensemble des isolés et familles hébergés | G3: Effectif famille | H3: % | I3: Effectif isolé | J3: %
B4: Hommes | C4: =COUNTIF(hébergement!E:E,"M") -> 3 | D4: =(C4/C8) -> #DIV/0! | F4: Nationale | G4: =SUM(cache!L1:L5) -> 9 | H4: =G4/C16 -> 0.24324324 | I4: =COUNTIFS(hébergement!K:K,"Nationale",hébergement!G:G,"Personne seule") -> 1 | J4: =I4/C16 -> 0.027027027
B5: Femmes | C5: =COUNTIF(hébergement!E:E,"F") -> 5 | D5: =C5/C8 -> #DIV/0! | F5: Locale | G5: =SUM(cache!M1:M5) -> 6 | H5: =G5/C16 -> 0.16216216 | I5: =COUNTIFS(hébergement!K:K,"Locale",hébergement!G:G,"Personne seule") -> 2 | J5: =I5/C16 -> 0.054054054
B6: Majeurs | C6: =COUNTIF(hébergement!F:F,">18") -> 73 | D6: =C6/C8 -> #DIV/0! | F6: Transfert | G6: =SUM(cache!N1:N5) -> 2 | H6: =G6/C16 -> 0.054054054 | I6: =COUNTIFS(hébergement!K:K,"Transfert",hébergement!G:G,"Personne seule") -> 1 | J6: =I6/C16 -> 0.027027027
B7: Mineurs | C7: =COUNTIF(hébergement!F:F,"<18") -> 31 | D7: =C7/C8 -> #DIV/0! | F7: Naissance | G7: =SUM(cache!O1:O5) -> 2 | H7: =G7/C16 -> 0.054054054 | I7: =COUNTIFS(hébergement!K:K,"Naissance",hébergement!G:G,"Personne seule") -> 2 | J7: =I7/C16 -> 0.054054054
B8: Total personnes | C8: =COUNTA(hébergement!B:B)-1 -> 0 | F8: Rejoignant | G8: =SUM(cache!P1:P5) -> 3 | H8: =G8/C16 -> 0.081081081 | I8: =COUNTIFS(hébergement!K:K,"Rejoignant",hébergement!G:G,"Personne seule") -> 3 | J8: =I8/C16 -> 0.081081081
B9: Champ : Sur l'ensemble des ménages hébergés | C9: Effectif | D9: % | F9: Total | G9: =SUM(G4:G8) -> 22 | I9: =SUM(I4:I8) -> 9
B10: Adultes seuls | C10: =C45 -> 15 | D10: =C10/C16 -> 0.40540541
B11: Famille monoparentale | C11: =COUNTIF(hébergement!G:G,"Famille monoparentale") -> 5 | D11: =C11/C16 -> 0.13513514 | F11: Procédure / BPI / rejet / débouté
B12: Couple sans enfant | C12: =COUNTIF(hébergement!G:G,"Couple sans enfant") -> 4 | D12: =C12/C16 -> 0.10810811 | F12: Champ : BPI / PN / PA / Dublin au cours de l'année | G12: Effectif | H12: %
B13: Couple avec enfant | C13: =COUNTIF(hébergement!G:G,"Couple avec enfant") -> 4 | D13: =C13/C16 -> 0.10810811 | F13: Nb de procédure normale | G13: =COUNTIF(hébergement!M:MI,"Procédure normale") -> 5 | H13: =G13/G28 -> 0.12820513
B14: Famille élargie | C14: =COUNTIF(hébergement!G:G,"Famille élargie") -> 6 | D14: =C14/C16 -> 0.16216216 | F14: Nb de procédure procédure accélérée | G14: =COUNTIF(hébergement!M:MI,"Procédure accélérée") -> 5 | H14: =G14/G28 -> 0.12820513
B15: Fraterie | C15: =COUNTIF(hébergement!G:G,"Fraterie") -> 3 | D15: =C15/C16 -> 0.081081081 | F15: Nb de procédure dublin | G15: =COUNTIF(hébergement!M:MI,"Dublin") -> 3 | H15: =G15/G28 -> 0.076923077
B16: Total ménages | C16: =SUM(C10:C15) -> 37 | F16: Nb de procédure dédublinée | G16: =COUNTIF(hébergement!M:MI,"Dédubliné") -> 3 | H16: =G16/G28 -> 0.076923077
F17: Nb en attente de dépôt d'asile | G17: =COUNTIF(hébergement!M:MI,"Attente de procédure") -> 3 | H17: =G17/G28 -> 0.076923077
B18: Répartition des hébergés par tranches d'âges | F18: Nb de statut de réfugié délivré par l'OFPRA | G18: =COUNTIF(hébergement!O:O,"Statut de réfugié") -> 2 | H18: =G18/G28 -> 0.051282051
B19: Champ : Sur l'ensemble des personnes hébergées | C19: Effectif | D19: % | F19: Nb de protection subsidiaire par l'OFPRA | G19: =COUNTIF(hébergement!O:O,"Protection subsidiaire") -> 2 | H19: =G19/G28 -> 0.051282051
B20: -2 ans | C20: =COUNTIF(hébergement!F:F,"<=2") -> 10 | D20: =(C20/C24) -> 0.4 | F20: Nb de statut de réfugié délivré par la CNDA | G20: =COUNTIF(hébergement!Q:Q,"Statut de réfugié") -> 3 | H20: =G20/G28 -> 0.076923077
B21: 3-5 ans | C21: =SUMPRODUCT((hébergement!F:F>=3)*(hébergement!F:F<=5)) -> 6 | D21: =C21/C24 -> 0.24 | F21: Nb de protection subsidiaire délivré par la CNDA | G21: =COUNTIF(hébergement!Q:Q,"Protection subsidiaire") -> 3 | H21: =G21/G28 -> 0.076923077
B22: 6-10 ans | C22: =SUMPRODUCT((hébergement!F:F>=6)*(hébergement!F:F<=10)) -> 8 | D22: =C22/C24 -> 0.32 | F22: Rejet OFPRA | G22: =COUNTIF(hébergement!O:O,"Rejet") -> 3 | H22: =G22/G28 -> 0.076923077
B23: 11-16 ans | C23: =SUMPRODUCT((hébergement!F:F>=11)*(hébergement!F:F<=16)) -> 6 | D23: =C23/C24 -> 0.24 | F23: Rejet CNDA | G23: =COUNTIF(hébergement!Q:Q,"Rejet") -> 3 | H23: =G23/G28 -> 0.076923077
B24: 18-24 ans | C24: =SUMPRODUCT((hébergement!F:F>=18)*(hébergement!F:F<=24)) -> 25 | D24: =C24/C29 -> #DIV/0! | F24: Débouté par suite rejet OFPRA | G24: =COUNTIFS(hébergement!M:M,"Procédure accélérée",hébergement!O:O,"Rejet") -> 1 | H24: =G24/G28 -> 0.025641026
B25: 25-34 ans | C25: =SUMPRODUCT((hébergement!F:F>=25)*(hébergement!F:F<=34)) -> 31 | D25: =C25/C29 -> #DIV/0! | F25: Débouté par suite rejet CNDA | G25: =COUNTIFS(hébergement!Q:Q,"Rejet") -> 3 | H25: =G25/G28 -> 0.076923077
B26: 35-44 ans | C26: =SUMPRODUCT((hébergement!F:F>=35)*(hébergement!F:F<=44)) -> 11 | D26: =C26/C29 -> #DIV/0! | F26: Régularisés | H26: =G26/G28 -> 0
B27: 45-54 ans | C27: =SUMPRODUCT((hébergement!F:F>=44)*(hébergement!F:F<=54)) -> 2 | D27: =C27/C29 -> #DIV/0! | F27: Fin CMA suite au rejet OFPRA | H27: =G27/G28 -> 0
B28: 55-64 ans | C28: =SUMPRODUCT((hébergement!F:F>=55)*(hébergement!F:F<=64)) -> 4 | D28: =C28/C29 -> #DIV/0! | F28: Total | G28: =SUM(G13:G27) -> 39
C29: =COUNTA(hébergement!B:B)-1 -> 0
F30: Sorties
B31: Scolarisation | F31: Champ : Ensemble des isolés et familles hébergés | G31: Effectif famille | H31: % | I31: Effectif isolé | J31: %
B32: Champ: sur l'ensemble des enfants et adultes scolarisés | C32: Effectif | D32: % | F32: Accès à un logement autonome | I32: =COUNTIFS(hébergement!U:U,"Logement autonome",hébergement!G:G,"Personne seule") -> 1
B33: Maternelle | C33: =COUNTIF(hébergement!I:I,"maternelle") -> 3 | D33: =C33/C40 -> 0.27272727 | F33: Admis dans un CPH | I33: =COUNTIFS(hébergement!U:U,"CPH",hébergement!G:G,"Personne seule") -> 1
B34: Primaire | C34: =COUNTIF(hébergement!I:I,"primaire") -> 2 | D34: =C34/C40 -> 0.18181818 | F34: Accès à un hébergement (CHRS /CHU..) | I34: =COUNTIFS(hébergement!U:U,"CHRS /CHU…",hébergement!G:G,"Personne seule") -> 1
B35: Collège | C35: =COUNTIF(hébergement!I:I,"Collège") -> 2 | D35: =C35/C40 -> 0.18181818 | F35: Résidence sociale | I35: =COUNTIFS(hébergement!U:U,"Résidence sociale",hébergement!G:G,"Personne seule") -> 1
B36: Lycée | C36: =COUNTIF(hébergement!I:I,"Lycée") -> 1 | D36: =C36/C40 -> 0.090909091 | F36: Transfert vers un autre centre | I36: =COUNTIFS(hébergement!U:U,"Transfert",hébergement!G:G,"Personne seule") -> 0
B37: Enseignement supérieur | C37: =COUNTIF(hébergement!I:I,"Enseignement supérieur") -> 1 | D37: =C37/C40 -> 0.090909091 | F37: Retour volontaire | I37: =COUNTIFS(hébergement!U:U,"Retour volontaire",hébergement!G:G,"Personne seule") -> 0
B38: Enseignement spécialisé | C38: =COUNTIF(hébergement!I:I,"Enseignement spécialisé") -> 2 | D38: =C38/C40 -> 0.18181818 | F38: Solution individuelle (115/ hôtel, …) | I38: =COUNTIFS(hébergement!U:U,"Solution individuelle (115/ hôtel …)",hébergement!G:G,"Personne seule") -> 2
B39: Non scolarisé | C39: =COUNTIF(hébergement!I:I,"Non scolarisé") -> 2 | D39: =C39/C40 -> 0.18181818 | F39: Reconduite à la frontière | I39: =COUNTIFS(hébergement!U:U,"Reconduite à la frontière",hébergement!G:G,"Personne seule") -> 1
B40: Total scolarisés | C40: =SUM(C33:C38) -> 11 | F40: Expulsion | I40: =COUNTIFS(hébergement!U:U,"Expulsion",hébergement!G:G,"Personne seule") -> 1
B41: Total non scolarisés | C41: =C39 -> 2 | F41: Exclusion | I41: =COUNTIFS(hébergement!U:U,"Exclusion",hébergement!G:G,"Personne seule") -> 1
F42: Abandon de la procédure | I42: =COUNTIFS(hébergement!U:U,"Abandon de la procédure",hébergement!G:G,"Personne seule") -> 2
B43: Francophonie | F43: Décès | I43: =COUNTIFS(hébergement!U:U,"Décès",hébergement!G:G,"Personne seule") -> 1
B44: Champ : Sur l'ensemble des personnes hébergées | C44: Effectif | D44: % | F44: Total
B45: Total | C45: =COUNTIF(hébergement!J:J,"OUI") -> 15 | D45: =C45/C29 -> #DIV/0!
F46: Etat des présences post procédure
B47: Nationalités les plus présentes | F47: Champ : Ensemble des isolés et familles hébergés | G47: Effectif famille | H47: % | I47: Effectif isolé | J47: %
B48: Champ : Sur l'ensemble des personnes hébergées | C48: Effectif | D48: % | F48: Réfugiés + PS < 6 mois
C49: =LARGE(C55:C254, 1) -> 6 | D49: =C49/C8 -> #DIV/0! | F49: Réfugiés +PS > 6 mois
C50: =LARGE(C55:C254, 2) -> 5 | D50: =C50/C8 -> #DIV/0! | F50: Fin CMA suite au rejet OFPRA
C51: =LARGE(C55:C254, 3) -> 4 | D51: =C51/C8 -> #DIV/0! | F51: Déboutés < 1 mois
C52: =LARGE(C55:C254, 4) -> 3 | D52: =C52/C8 -> #DIV/0! | F52: Déboutés > 1 mois
C53: =LARGE(C55:C254, 5) -> 2 | D53: =C53/C8 -> #DIV/0! | F53: Dont Régularisés > 1 mois
B54: Nationalité | F54: Total
B55: AFGHANE | C55: =COUNTIF(hébergement!D:D,"AFGHANE") -> 4 | D55: =C55/C29 -> #DIV/0!
B56: ALBANAISE | C56: =COUNTIF(hébergement!D:D,"ALBANAISE") -> 5 | D56: =C56/C29 -> #DIV/0! | F56: Signature d'un projet personnalisé
B57: ALGERIENNE | C57: =COUNTIF(hébergement!D:D,"ALGERIENNE") -> 0 | D57: =C57/C29 -> #DIV/0! | F57: Champ : + de 18 ans présents depuis plus de 31 jours | G57: Effectif | H57: %
B58: ALLEMANDE | C58: =COUNTIF(hébergement!D:D,"ALLEMANDE") -> 0 | D58: =C58/C29 -> #DIV/0! | F58: Nb de personnes adultes BPI
B59: AMERICAINE | C59: =COUNTIF(hébergement!D:D,"AMERICAINE") -> 2 | D59: =C59/C29 -> #DIV/0! | F59: Nb de personnes adultes BPI ayant signé un PPA
B60: ANDORRANE | C60: =COUNTIF(hébergement!D:D,"ANDORRANE") -> 6 | D60: =C60/C29 -> #DIV/0! | F60: Nb de personnes adultes ayant signé un PPA
B61: ANGOLAISE | C61: =COUNTIF(hébergement!D:D,"ANGOLAISE") -> 3 | D61: =C61/C29 -> #DIV/0! | F61: Total
B62: ANTIGUAISE ET BARBUDIENNE | C62: =COUNTIF(hébergement!D:D,"ANTIGUAISE ET BARUDIENNE") -> 0 | D62: =C62/C29 -> #DIV/0!
B63: ARGENTINE | C63: =COUNTIF(hébergement!D:D,"ARGENTINE") -> 0 | D63: =C63/C29 -> #DIV/0!
B64: ARMENIENNE | C64: =COUNTIF(hébergement!D:D,"ARMENIENNE") -> 0 | D64: =C64/C29 -> #DIV/0!
B65: AUSTRALIENNE | C65: =COUNTIF(hébergement!D:D,"AUSTRALIENNE") -> 0 | D65: =C65/C29 -> #DIV/0!
B66: AUTRICHIENNE | C66: =COUNTIF(hébergement!D:D,"AUTRICHIENNE") -> 0 | D66: =C66/C29 -> #DIV/0!
B67: AZERBAÏDJANAISE | C67: =COUNTIF(hébergement!D:D,"AZERBAÏDJANAISE") -> 0 | D67: =C67/C29 -> #DIV/0!
B68: BAHAMIENNE | C68: =COUNTIF(hébergement!D:D,"BAHAMIENNE") -> 0 | D68: =C68/C29 -> #DIV/0!
B69: BAHREÏNIENNE | C69: =COUNTIF(hébergement!D:D,"BAHREÏNIENNE") -> 0 | D69: =C69/29 -> 0
B70: BANGLADAISE | C70: =COUNTIF(hébergement!D:D,"BANGLADAISE") -> 0 | D70: =C70/C29 -> #DIV/0!
B71: BARBADIENNE | C71: =COUNTIF(hébergement!D:D,"BARBADIENNE") -> 0 | D71: =C71/C29 -> #DIV/0!
B72: BELGE | C72: =COUNTIF(hébergement!D:D,"BELGE") -> 0 | D72: =C72/C29 -> #DIV/0!
B73: BELIZIENNE | C73: =COUNTIF(hébergement!D:D,"BELIZIENNE") -> 0 | D73: =C73/C29 -> #DIV/0!
B74: BENINOISE | C74: =COUNTIF(hébergement!D:D,"BENINOISE") -> 0 | D74: =C74/C29 -> #DIV/0!
B75: BHOUTANAISE | C75: =COUNTIF(hébergement!D:D,"BHOUTANAISE") -> 0 | D75: =C75/C29 -> #DIV/0!
B76: BIELORUSSE | C76: =COUNTIF(hébergement!D:D,"BIELORUSSE") -> 0 | D76: =C76/C29 -> #DIV/0!
B77: BIRMANE | C77: =COUNTIF(hébergement!D:D,"BIRMANE") -> 0 | D77: =C77/C29 -> #DIV/0!
B78: BISSAU-GUINEENNE | C78: =COUNTIF(hébergement!D:D,"BISSAU-GUINEENNE") -> 0 | D78: =C78/C29 -> #DIV/0!
B79: BOLIVIENNE | C79: =COUNTIF(hébergement!D:D,"BOLIVIENNE") -> 0 | D79: =C79/C29 -> #DIV/0!
B80: BOSNIENNE | C80: =COUNTIF(hébergement!D:D,"BOSNIENNE") -> 0 | D80: =C80/C29 -> #DIV/0!
B81: BOTSWANAISE | C81: =COUNTIF(hébergement!D:D,"BOTSWANAISE") -> 0 | D81: =C81/C29 -> #DIV/0!
B82: BRESILIENNE | C82: =COUNTIF(hébergement!D:D,"BRESILIENNE") -> 0 | D82: =C82/C29 -> #DIV/0!
B83: BRITANNIQUE | C83: =COUNTIF(hébergement!D:D,"BRITANNIQUE") -> 0 | D83: =C83/C29 -> #DIV/0!
B84: BRUNEIENNE | C84: =COUNTIF(hébergement!D:D,"BRUNEIENNE") -> 0 | D84: =C84/C29 -> #DIV/0!
B85: BULGARE | C85: =COUNTIF(hébergement!D:D,"BULGARE") -> 0 | D85: =C85/C29 -> #DIV/0!
B86: BURKINABE | C86: =COUNTIF(hébergement!D:D,"BURKINABE") -> 0 | D86: =C86/C29 -> #DIV/0!
B87: BURUNDAISE | C87: =COUNTIF(hébergement!D:D,"BURUNDAISE") -> 0 | D87: =C87/C29 -> #DIV/0!
B88: CAMBODGIENNE | C88: =COUNTIF(hébergement!D:D,"CAMBODGIENNE") -> 0 | D88: =C88/C29 -> #DIV/0!
B89: CAMEROUNAISE | C89: =COUNTIF(hébergement!D:D,"CAMEROUNAISE") -> 0 | D89: =C89/C29 -> #DIV/0!
B90: CANADIENNE | C90: =COUNTIF(hébergement!D:D,"CANADIENNE") -> 0 | D90: =C90/C29 -> #DIV/0!
B91: CAP-VERDIENNE | C91: =COUNTIF(hébergement!D:D,"CAP-VERDIENNE") -> 0 | D91: =C91/C29 -> #DIV/0!
B92: CENTRAFRICAINE | C92: =COUNTIF(hébergement!D:D,"CENTRAFRICAINE") -> 0 | D92: =C92/C29 -> #DIV/0!
B93: CHILIENNE | C93: =COUNTIF(hébergement!D:D,"CHILIENNE") -> 0 | D93: =C93/C29 -> #DIV/0!
B94: CHINOISE | C94: =COUNTIF(hébergement!D:D,"CHINOISE") -> 0 | D94: =C94/C29 -> #DIV/0!
B95: CHINOISE (TAIWAN) | C95: =COUNTIF(hébergement!D:D,"CHINOISE (TAIWAN)") -> 0 | D95: =C95/C29 -> #DIV/0!
B96: CHYPRIOTE | C96: =COUNTIF(hébergement!D:D,"CHYPRIOTE") -> 0 | D96: =C96/C29 -> #DIV/0!
B97: COLOMBIENNE | C97: =COUNTIF(hébergement!D:D,"COLOMBIENNE") -> 0 | D97: =C97/C29 -> #DIV/0!
B98: COMORIENNE | C98: =COUNTIF(hébergement!D:D,"COMORIENNE") -> 0 | D98: =C98/C29 -> #DIV/0!
B99: CONGOLAISE | C99: =COUNTIF(hébergement!D:D,"CONGOLAISE") -> 0 | D99: =C99/C29 -> #DIV/0!
B100: CONGOLAISE (R.D.) | C100: =COUNTIF(hébergement!D:D,"CONGOLAISE (R.D.") -> 0 | D100: =C100/C29 -> #DIV/0!
B101: COSTARICAINE | C101: =COUNTIF(hébergement!D:D,"COSTARICAINE") -> 0 | D101: =C101/C29 -> #DIV/0!
...

Sheet cache
A1: M | B1: Personne seule | C1: Référent | D1: Procédure normale | E1: logement autonome | F1: Nationale | G1: Maternelle | H1: OUI | I1: AFGHANE | J1: Statut de réfugié | K1: Rejet | L1: =COUNTIFS(hébergement!K:K,"Nationale",hébergement!G:G,"Couple avec enfant") -> 2 | M1: =COUNTIFS(hébergement!K:K,"Locale",hébergement!G:G,"Couple avec enfant") -> 1 | N1: =COUNTIFS(hébergement!K:K,"Transfert",hébergement!G:G,"Couple avec enfant") -> 0 | O1: =COUNTIFS(hébergement!K:K,"Naissance",hébergement!G:G,"Couple avec enfant") -> 1 | P1: =COUNTIFS(hébergement!K:K,"Rejoignant",hébergement!G:G,"Couple sans enfant") -> 0
A2: F | B2: Couple avec enfant | C2: Conjoint | D2: Procédure accélérée | E2: CPH | F2: Locale | G2: Primaire | H2: NON | I2: ALBANAISE | J2: Protection subsidiaire | K2: Protection subsidiaire | L2: =COUNTIFS(hébergement!K:K,"Nationale",hébergement!G:G,"Couple sans enfant") -> 1 | M2: =COUNTIFS(hébergement!K:K,"Locale",hébergement!G:G,"Couple sans enfant") -> 1 | N2: =COUNTIFS(hébergement!K:K,"Transfert",hébergement!G:G,"Couple sans enfant") -> 2 | O2: =COUNTIFS(hébergement!K:K,"Naissance",hébergement!G:G,"Couple sans enfant") -> 0 | P2: =COUNTIFS(hébergement!K:K,"Rejoignant",hébergement!G:G,"Couple avec enfant") -> 0
B3: Couple sans enfant | C3: Enfant | D3: Dublin | E3: CHRS /CHU… | F3: Transfert | G3: Collège | I3: ALGERIENNE | K3: Statut de réfugié | L3: =COUNTIFS(hébergement!K:K,"Nationale",hébergement!G:G,"Famille élargie") -> 2 | M3: =COUNTIFS(hébergement!K:K,"Locale",hébergement!G:G,"Famille élargie") -> 2 | N3: =COUNTIFS(hébergement!K:K,"Transfert",hébergement!G:G,"Famille élargie") -> 0 | O3: =COUNTIFS(hébergement!K:K,"Naissance",hébergement!G:G,"Famille élargie") -> 0 | P3: =COUNTIFS(hébergement!K:K,"Rejoignant",hébergement!G:G,"Famille élargie") -> 2
B4: Enfant majeur accompagnant | C4: Ascendant | D4: Dédubliné | E4: Résidence sociale | F4: Naissance | G4: Lycée | I4: ALLEMANDE | L4: =COUNTIFS(hébergement!K:K,"Nationale",hébergement!G:G,"Famille monoparentale") -> 2 | M4: =COUNTIFS(hébergement!K:K,"Locale",hébergement!G:G,"Famille monoparentale") -> 1 | N4: =COUNTIFS(hébergement!K:K,"Transfert",hébergement!G:G,"Famille monoparentale") -> 0 | O4: =COUNTIFS(hébergement!K:K,"Naissance",hébergement!G:G,"Famille monoparentale") -> 1 | P4: =COUNTIFS(hébergement!K:K,"Rejoignant",hébergement!G:G,"Famille monoparentale") -> 1
B5: Enfant mineur accompagnant | D5: Attente de procédure | E5: Transfert | F5: Rejoignant | G5: Enseignement supérieur | I5: AMERICAINE | L5: =COUNTIFS(hébergement!K:K,"Nationale",hébergement!G:G,"Fraterie") -> 2 | M5: =COUNTIFS(hébergement!K:K,"Locale",hébergement!G:G,"Fraterie") -> 1 | N5: =COUNTIFS(hébergement!K:K,"Transfert",hébergement!G:G,"Fraterie") -> 0 | O5: =COUNTIFS(hébergement!K:K,"Naissance",hébergement!G:G,"Fraterie") -> 0 | P5: =COUNTIFS(hébergement!K:K,"Rejoignant",hébergement!G:G,"Fraterie") -> 0
B6: Famille élargie | E6: Sortie débouté | G6: Enseignement spécialisé | I6: ANDORRANE
B7: Famille monoparentale | E7: Retour volontaire | G7: Non scolarisé | I7: ANGOLAISE
B8: Fraterie | E8: Départ volontaire vers un pays tiers | I8: ANTIGUAISE ET BARBUDIENNE
E9: Reconduite à la frontière | I9: ARGENTINE
E10: Expulsion | I10: ARMENIENNE
E11: Exclusion | I11: AUSTRALIENNE
E12: Abandon de la procédure | I12: AUTRICHIENNE
E13: Solution individuelle (115/ hôtel …) | I13: AZERBAÏDJANAISE
E14: Décès | I14: BAHAMIENNE
I15: BAHREÏNIENNE
I16: BANGLADAISE
I17: BARBADIENNE
I18: BELGE
I19: BELIZIENNE
I20: BENINOISE
I21: BHOUTANAISE
I22: BIELORUSSE
I23: BIRMANE
I24: BISSAU-GUINEENNE
I25: BOLIVIENNE
I26: BOSNIENNE
... I200: ZIMBABWEENNE
