Workbook
Name action: Paramètres!$B$4:$B$15
Name Action2: Paramètres!$B$4:$B$14
Name AO: Paramètres!$C$4:$C$5
Name contact: Paramètres!$F$3:$F$13
Name CP: Paramètres!$C$9:$C$12
Name OUI: Paramètres!$D$4:$D$5
Name prov: Paramètres!$F$3:$F$10
Name statut: Paramètres!$H$3:$H$4

Sheet BASE
A1: Clients/Prospects | B1: Date | C1: Nom & Prénom | D1: Entreprise | E1: Département | F1: Adresse | G1: Contact Tèl | H1: Contact Mail | I1: Action | J1: Provenance du contact | K1: Type | L1: effectif | M1: Prochaine action | N1: Statut | O1: Commentaire | P1: Réponse
A2: Clients Important | B2: 44333 | C2: M. Dupont | D2: entreprise X | E2: 80 | F2: RUE JACK | G2: xxxxxxx | H2: xx@mail.com | I2: Premier contact | J2: Contact Web | K2: PAS AO | L2: 995 | M2: En attente de réponse | N2: Fait | O2: Juste mailing | P2: NON
A3: Prospect Important | B3: 44333 | C3: M. Dupont | D3: entreprise X | E3: 80 | F3: RUE JACK | G3: xxxxxxx | H3: xx@mail.com | I3: Premier contact | J3: Contact Web | K3: PAS AO | L3: 58 | M3: En attente de réponse | N3: Fait | O3: Juste mailing | P3: NON
A4: Prospect | B4: 44333 | C4: M. Dupont | D4: entreprise X | E4: 80 | F4: RUE JACK | G4: xxxxxxx | H4: xx@mail.com | I4: Premier contact | J4: Contact Web | K4: PAS AO | L4: 436 | M4: En attente de réponse | N4: Fait | O4: Juste mailing | P4: NON
A5: Clients Important | B5: 44257 | C5: M. Dupont | D5: entreprise X | E5: 59 | F5: RUE JACK | G5: xxxxxxx | H5: xx@mail.com | I5: Refus | J5: Contact Web | K5: PAS AO | M5: En attente de réponse | N5: Fait | O5: Juste mailing | P5: NON
A6: Prospect | B6: 44256 | C6: M. Dupont | D6: entreprise X | E6: 76 | F6: RUE JACK | G6: xxxxxxx | H6: xx@mail.com | I6: Envoi Grille tarifaire | J6: Bouche à oreille | K6: PAS AO | M6: envoie tarif | N6: Fait | O6: Juste mailing | P6: OUI
A7: clients | B7: 44229 | C7: M. Dupont | D7: entreprise X | E7: 76 | F7: RUE JACK | G7: xxxxxxx | H7: xx@mail.com | I7: Relance | J7: Démarchage | K7: AO | L7: 550 | M7: envoie tarif | N7: Fait | O7: Juste mailing | P7: OUI
A8: Clients Important | B8: 44206 | C8: M. Dupont | D8: entreprise N | E8: 76 | F8: RUE JACK | G8: xxxxxxx | H8: xx@mail.com | I8: Négociation | J8: Campagne de com | K8: AO | L8: 1700 | M8: envoie tarif | N8: Fait | O8: Juste mailing | P8: OUI
A9: Clients Important | B9: 44296 | C9: M. Dupont | D9: entreprise a | E9: 59 | F9: RUE JACK | G9: xxxxxxx | H9: xx@mail.com | I9: Négociation | J9: Campagne de com | K9: PAS AO | L9: 700 | M9: En attente de réponse | N9: Fait | O9: Juste mailing | P9: NON
A10: clients | B10: 44306 | C10: M. Dupont | D10: entreprise B | E10: 80 | F10: RUE JACK | G10: xxxxxxx | H10: xx@mail.com | I10: Premier contact | J10: Démarchage | K10: PAS AO | M10: En attente de réponse | N10: Fait | O10: Juste mailing | P10: NON
A11: Clients Important | B11: 44177 | C11: M. Dupont | D11: entreprise B | E11: 59 | F11: RUE JACK | G11: xxxxxxx | H11: xx@mail.com | I11: Premier contact | J11: Contact Web | K11: PAS AO | M11: envoie proposition | N11: Fait | O11: Juste mailing | P11: OUI
A12: Clients Important | B12: 44146 | C12: M. Dupont | D12: entreprise X | E12: 59 | F12: RUE JACK | G12: xxxxxxx | H12: xx@mail.com | I12: Envoi Grille tarifaire | J12: Contact Web | K12: PAS AO | M12: envoie tarif | N12: Fait | O12: Juste mailing | P12: OUI
B13: 44080 | C13: M. Dupont | D13: entreprise X | E13: 27 | F13: RUE JACK | G13: xxxxxxx | H13: xx@mail.com | I13: Envoi d'une proposition | J13: Contact Web | K13: PAS AO | M13: En attente de réponse | N13: Fait | O13: Juste mailing | P13: NON
B14: 44239 | C14: M. Dupont | D14: entreprise Y | E14: 59 | F14: RUE JACK | G14: xxxxxxx | H14: xx@mail.com | I14: Envoi d'une proposition | J14: Contact Web | K14: AO | M14: En attente de réponse | N14: Fait | O14: Juste mailing | P14: NON
B15: 44145 | C15: M. Dupont | D15: Bentreprise B | E15: 59 | F15: RUE JACK | G15: xxxxxxx | H15: xx@mail.com | I15: Premier contact | J15: Démarchage | K15: PAS AO | M15: En attente de réponse | N15: Fait | O15: Juste mailing | P15: NON
B16: 44210 | C16: M. Dupont | D16: entreprise X | E16: 80 | F16: RUE JACK | G16: xxxxxxx | H16: xx@mail.com | I16: Premier contact | J16: Partenariat actif/inactif | K16: PAS AO | M16: envoie contrat | N16: Fait | O16: Juste mailing | P16: OUI
B17: 44261 | C17: M. Dupont | D17: entrepise XV | E17: 62 | F17: RUE JACK | G17: xxxxxxx | H17: xx@mail.com | I17: Acceptation de l'offre | J17: Partenariat actif/inactif | K17: PAS AO | M17: En attente de réponse | N17: Fait | O17: Juste mailing | P17: NON
B18: 44292 | C18: M. Dupont | D18: entreprise W | E18: 59 | F18: RUE JACK | G18: xxxxxxx | H18: xx@mail.com | I18: Premier contact | J18: Renouvellement de nouveaux/Anciens clients | K18: PAS AO | M18: envoie tarif | N18: Fait | O18: Juste mailing | P18: OUI
B19: 44176 | C19: M. Dupont | D19: entreprise X | E19: 59 | F19: RUE JACK | G19: xxxxxxx | H19: xx@mail.com | I19: Premier contact | J19: Démarchage | K19: PAS AO | M19: En attente de réponse | N19: Fait | O19: Juste mailing | P19: NON
B20: 44229 | C20: M. Dupont | D20: entreprise X | E20: 59 | F20: RUE JACK | G20: xxxxxxx | H20: xx@mail.com | I20: Premier contact | J20: Contact Web | K20: AO | M20: En attente de réponse | N20: Fait | O20: Juste mailing | P20: NON

Sheet Paramètres
F3: Démarchage | H3: Fait
B4: Premier contact | C4: AO | D4: OUI | F4: Bouche à oreille | H4: A faire
B5: Envoi d'une proposition | C5: PAS AO | D5: NON | F5: Contact Web
B6: Relance | F6: Campagne de com
B7: Négociation | F7: Partenariat actif/inactif
B8: Refus | F8: Renouvellement de nouveaux/Anciens clients
B9: Abandon | C9: clients
B10: Acceptation de l'offre | C10: Clients Important
B11: Envoi Grille tarifaire | C11: Prospect
B12: Envoi PowerPoint | C12: Prospect Important

Sheet Synthèse
D2: Synthèse GLOBALE
A5: Mois 2021 | B5: 44075 | C5: 44105 | D5: 44136 | E5: 44166 | F5: 44197 | G5: 44228 | H5: 44256 | I5: 44287 | J5: 44317 | K5: 44348 | L5: 44378 | M5: 44409 | N5: 44440
A6: Nbre de contact envoyé | B6: =COUNTIFS(BASE!$N:$N,"Fait",BASE!$B:$B,">="&B$5,BASE!$B:$B,"<="&EDATE(B$5,1)) -> 1 | C6: =COUNTIFS(BASE!$N:$N,"Fait",BASE!$B:$B,">="&C$5,BASE!$B:$B,"<="&EDATE(C$5,1)) -> 0 | D6: =COUNTIFS(BASE!$N:$N,"Fait",BASE!$B:$B,">="&D$5,BASE!$B:$B,"<="&EDATE(D$5,1)) -> 2 | E6: =COUNTIFS(BASE!$N:$N,"Fait",BASE!$B:$B,">="&E$5,BASE!$B:$B,"<="&EDATE(E$5,1)) -> 2 | F6: =COUNTIFS(BASE!$N:$N,"Fait",BASE!$B:$B,">="&F$5,BASE!$B:$B,"<="&EDATE(F$5,1)) -> 2 | G6: =COUNTIFS(BASE!$N:$N,"Fait",BASE!$B:$B,">="&G$5,BASE!$B:$B,"<="&EDATE(G$5,1)) -> 4 | H6: =COUNTIFS(BASE!$N:$N,"Fait",BASE!$B:$B,">="&H$5,BASE!$B:$B,"<="&EDATE(H$5,1)) -> 3 | I6: =COUNTIFS(BASE!$N:$N,"Fait",BASE!$B:$B,">="&I$5,BASE!$B:$B,"<="&EDATE(I$5,1)) -> 3 | ... N6: =COUNTIFS(BASE!$N:$N,"Fait",BASE!$B:$B,">="&N$5,BASE!$B:$B,"<="&EDATE(N$5,1)) -> 0
A7: Nbre de prospect
A8: Nbre de réponses | B8: =COUNTIFS(BASE!$P:$P,"OUI",BASE!$B:$B,">="&B$5,BASE!$B:$B,"<="&EDATE(B$5,1)) -> 0 | C8: =COUNTIFS(BASE!$P:$P,"OUI",BASE!$B:$B,">="&C$5,BASE!$B:$B,"<="&EDATE(C$5,1)) -> 0 | D8: =COUNTIFS(BASE!$P:$P,"OUI",BASE!$B:$B,">="&D$5,BASE!$B:$B,"<="&EDATE(D$5,1)) -> 1 | E8: =COUNTIFS(BASE!$P:$P,"OUI",BASE!$B:$B,">="&E$5,BASE!$B:$B,"<="&EDATE(E$5,1)) -> 1 | F8: =COUNTIFS(BASE!$P:$P,"OUI",BASE!$B:$B,">="&F$5,BASE!$B:$B,"<="&EDATE(F$5,1)) -> 2 | G8: =COUNTIFS(BASE!$P:$P,"OUI",BASE!$B:$B,">="&G$5,BASE!$B:$B,"<="&EDATE(G$5,1)) -> 2 | H8: =COUNTIFS(BASE!$P:$P,"OUI",BASE!$B:$B,">="&H$5,BASE!$B:$B,"<="&EDATE(H$5,1)) -> 1 | I8: =COUNTIFS(BASE!$P:$P,"OUI",BASE!$B:$B,">="&I$5,BASE!$B:$B,"<="&EDATE(I$5,1)) -> 1 | ... N8: =COUNTIFS(BASE!$P:$P,"OUI",BASE!$B:$B,">="&N$5,BASE!$B:$B,"<="&EDATE(N$5,1)) -> 0
A9: Nbre de non-réponses | B9: =COUNTIFS(BASE!$P:$P,"NON",BASE!$B:$B,">="&B$5,BASE!$B:$B,"<="&EDATE(B$5,1)) -> 1 | C9: =COUNTIFS(BASE!$P:$P,"NON",BASE!$B:$B,">="&C$5,BASE!$B:$B,"<="&EDATE(C$5,1)) -> 0 | D9: =COUNTIFS(BASE!$P:$P,"NON",BASE!$B:$B,">="&D$5,BASE!$B:$B,"<="&EDATE(D$5,1)) -> 1 | E9: =COUNTIFS(BASE!$P:$P,"NON",BASE!$B:$B,">="&E$5,BASE!$B:$B,"<="&EDATE(E$5,1)) -> 1 | F9: =COUNTIFS(BASE!$P:$P,"NON",BASE!$B:$B,">="&F$5,BASE!$B:$B,"<="&EDATE(F$5,1)) -> 0 | G9: =COUNTIFS(BASE!$P:$P,"NON",BASE!$B:$B,">="&G$5,BASE!$B:$B,"<="&EDATE(G$5,1)) -> 2 | H9: =COUNTIFS(BASE!$P:$P,"NON",BASE!$B:$B,">="&H$5,BASE!$B:$B,"<="&EDATE(H$5,1)) -> 2 | I9: =COUNTIFS(BASE!$P:$P,"NON",BASE!$B:$B,">="&I$5,BASE!$B:$B,"<="&EDATE(I$5,1)) -> 2 | ... N9: =COUNTIFS(BASE!$P:$P,"NON",BASE!$B:$B,">="&N$5,BASE!$B:$B,"<="&EDATE(N$5,1)) -> 0
D12: Synthèse précise
A15: Mois 2021 | B15: 44075 | C15: 44105 | D15: 44136 | E15: 44166 | F15: 44197 | G15: 44228 | H15: 44256 | I15: 44287 | J15: 44317 | K15: 44348 | L15: 44378 | M15: 44409 | N15: 44440
A16: Premier contact | B16: =COUNTIFS(BASE!$I:$I,$A16,BASE!$B:$B,">="&B$15,BASE!$B:$B,"<="&EDATE(B$15,1)) -> 0 | C16: =COUNTIFS(BASE!$I:$I,$A16,BASE!$B:$B,">="&C$15,BASE!$B:$B,"<="&EDATE(C$15,1)) -> 0 | D16: =COUNTIFS(BASE!$I:$I,$A16,BASE!$B:$B,">="&D$15,BASE!$B:$B,"<="&EDATE(D$15,1)) -> 1 | E16: =COUNTIFS(BASE!$I:$I,$A16,BASE!$B:$B,">="&E$15,BASE!$B:$B,"<="&EDATE(E$15,1)) -> 2 | F16: =COUNTIFS(BASE!$I:$I,$A16,BASE!$B:$B,">="&F$15,BASE!$B:$B,"<="&EDATE(F$15,1)) -> 1 | G16: =COUNTIFS(BASE!$I:$I,$A16,BASE!$B:$B,">="&G$15,BASE!$B:$B,"<="&EDATE(G$15,1)) -> 1 | H16: =COUNTIFS(BASE!$I:$I,$A16,BASE!$B:$B,">="&H$15,BASE!$B:$B,"<="&EDATE(H$15,1)) -> 0 | I16: =COUNTIFS(BASE!$I:$I,$A16,BASE!$B:$B,">="&I$15,BASE!$B:$B,"<="&EDATE(I$15,1)) -> 2 | ... N16: =COUNTIFS(BASE!$I:$I,$A16,BASE!$B:$B,">="&N$15,BASE!$B:$B,"<="&EDATE(N$15,1)) -> 0
A17: Envoie d'offre | B17: =COUNTIFS(BASE!$I:$I,$A17,BASE!$B:$B,">="&B$15,BASE!$B:$B,"<="&EDATE(B$15,1)) -> 0 | C17: =COUNTIFS(BASE!$I:$I,$A17,BASE!$B:$B,">="&C$15,BASE!$B:$B,"<="&EDATE(C$15,1)) -> 0 | D17: =COUNTIFS(BASE!$I:$I,$A17,BASE!$B:$B,">="&D$15,BASE!$B:$B,"<="&EDATE(D$15,1)) -> 0 | E17: =COUNTIFS(BASE!$I:$I,$A17,BASE!$B:$B,">="&E$15,BASE!$B:$B,"<="&EDATE(E$15,1)) -> 0 | F17: =COUNTIFS(BASE!$I:$I,$A17,BASE!$B:$B,">="&F$15,BASE!$B:$B,"<="&EDATE(F$15,1)) -> 0 | G17: =COUNTIFS(BASE!$I:$I,$A17,BASE!$B:$B,">="&G$15,BASE!$B:$B,"<="&EDATE(G$15,1)) -> 0 | H17: =COUNTIFS(BASE!$I:$I,$A17,BASE!$B:$B,">="&H$15,BASE!$B:$B,"<="&EDATE(H$15,1)) -> 0 | I17: =COUNTIFS(BASE!$I:$I,$A17,BASE!$B:$B,">="&I$15,BASE!$B:$B,"<="&EDATE(I$15,1)) -> 0 | ... N17: =COUNTIFS(BASE!$I:$I,$A17,BASE!$B:$B,">="&N$15,BASE!$B:$B,"<="&EDATE(N$15,1)) -> 0
A18: Relance | B18: =COUNTIFS(BASE!$I:$I,$A18,BASE!$B:$B,">="&B$15,BASE!$B:$B,"<="&EDATE(B$15,1)) -> 0 | C18: =COUNTIFS(BASE!$I:$I,$A18,BASE!$B:$B,">="&C$15,BASE!$B:$B,"<="&EDATE(C$15,1)) -> 0 | D18: =COUNTIFS(BASE!$I:$I,$A18,BASE!$B:$B,">="&D$15,BASE!$B:$B,"<="&EDATE(D$15,1)) -> 0 | E18: =COUNTIFS(BASE!$I:$I,$A18,BASE!$B:$B,">="&E$15,BASE!$B:$B,"<="&EDATE(E$15,1)) -> 0 | F18: =COUNTIFS(BASE!$I:$I,$A18,BASE!$B:$B,">="&F$15,BASE!$B:$B,"<="&EDATE(F$15,1)) -> 0 | G18: =COUNTIFS(BASE!$I:$I,$A18,BASE!$B:$B,">="&G$15,BASE!$B:$B,"<="&EDATE(G$15,1)) -> 1 | H18: =COUNTIFS(BASE!$I:$I,$A18,BASE!$B:$B,">="&H$15,BASE!$B:$B,"<="&EDATE(H$15,1)) -> 0 | I18: =COUNTIFS(BASE!$I:$I,$A18,BASE!$B:$B,">="&I$15,BASE!$B:$B,"<="&EDATE(I$15,1)) -> 0 | ... N18: =COUNTIFS(BASE!$I:$I,$A18,BASE!$B:$B,">="&N$15,BASE!$B:$B,"<="&EDATE(N$15,1)) -> 0
A19: Négociation | B19: =COUNTIFS(BASE!$I:$I,$A19,BASE!$B:$B,">="&B$15,BASE!$B:$B,"<="&EDATE(B$15,1)) -> 0 | C19: =COUNTIFS(BASE!$I:$I,$A19,BASE!$B:$B,">="&C$15,BASE!$B:$B,"<="&EDATE(C$15,1)) -> 0 | D19: =COUNTIFS(BASE!$I:$I,$A19,BASE!$B:$B,">="&D$15,BASE!$B:$B,"<="&EDATE(D$15,1)) -> 0 | E19: =COUNTIFS(BASE!$I:$I,$A19,BASE!$B:$B,">="&E$15,BASE!$B:$B,"<="&EDATE(E$15,1)) -> 0 | F19: =COUNTIFS(BASE!$I:$I,$A19,BASE!$B:$B,">="&F$15,BASE!$B:$B,"<="&EDATE(F$15,1)) -> 1 | G19: =COUNTIFS(BASE!$I:$I,$A19,BASE!$B:$B,">="&G$15,BASE!$B:$B,"<="&EDATE(G$15,1)) -> 0 | H19: =COUNTIFS(BASE!$I:$I,$A19,BASE!$B:$B,">="&H$15,BASE!$B:$B,"<="&EDATE(H$15,1)) -> 0 | I19: =COUNTIFS(BASE!$I:$I,$A19,BASE!$B:$B,">="&I$15,BASE!$B:$B,"<="&EDATE(I$15,1)) -> 1 | ... N19: =COUNTIFS(BASE!$I:$I,$A19,BASE!$B:$B,">="&N$15,BASE!$B:$B,"<="&EDATE(N$15,1)) -> 0
A20: Refus | B20: =COUNTIFS(BASE!$I:$I,$A20,BASE!$B:$B,">="&B$15,BASE!$B:$B,"<="&EDATE(B$15,1)) -> 0 | C20: =COUNTIFS(BASE!$I:$I,$A20,BASE!$B:$B,">="&C$15,BASE!$B:$B,"<="&EDATE(C$15,1)) -> 0 | D20: =COUNTIFS(BASE!$I:$I,$A20,BASE!$B:$B,">="&D$15,BASE!$B:$B,"<="&EDATE(D$15,1)) -> 0 | E20: =COUNTIFS(BASE!$I:$I,$A20,BASE!$B:$B,">="&E$15,BASE!$B:$B,"<="&EDATE(E$15,1)) -> 0 | F20: =COUNTIFS(BASE!$I:$I,$A20,BASE!$B:$B,">="&F$15,BASE!$B:$B,"<="&EDATE(F$15,1)) -> 0 | G20: =COUNTIFS(BASE!$I:$I,$A20,BASE!$B:$B,">="&G$15,BASE!$B:$B,"<="&EDATE(G$15,1)) -> 0 | H20: =COUNTIFS(BASE!$I:$I,$A20,BASE!$B:$B,">="&H$15,BASE!$B:$B,"<="&EDATE(H$15,1)) -> 1 | I20: =COUNTIFS(BASE!$I:$I,$A20,BASE!$B:$B,">="&I$15,BASE!$B:$B,"<="&EDATE(I$15,1)) -> 0 | ... N20: =COUNTIFS(BASE!$I:$I,$A20,BASE!$B:$B,">="&N$15,BASE!$B:$B,"<="&EDATE(N$15,1)) -> 0
A21: Abandon | B21: =COUNTIFS(BASE!$I:$I,$A21,BASE!$B:$B,">="&B$15,BASE!$B:$B,"<="&EDATE(B$15,1)) -> 0 | C21: =COUNTIFS(BASE!$I:$I,$A21,BASE!$B:$B,">="&C$15,BASE!$B:$B,"<="&EDATE(C$15,1)) -> 0 | D21: =COUNTIFS(BASE!$I:$I,$A21,BASE!$B:$B,">="&D$15,BASE!$B:$B,"<="&EDATE(D$15,1)) -> 0 | E21: =COUNTIFS(BASE!$I:$I,$A21,BASE!$B:$B,">="&E$15,BASE!$B:$B,"<="&EDATE(E$15,1)) -> 0 | F21: =COUNTIFS(BASE!$I:$I,$A21,BASE!$B:$B,">="&F$15,BASE!$B:$B,"<="&EDATE(F$15,1)) -> 0 | G21: =COUNTIFS(BASE!$I:$I,$A21,BASE!$B:$B,">="&G$15,BASE!$B:$B,"<="&EDATE(G$15,1)) -> 0 | H21: =COUNTIFS(BASE!$I:$I,$A21,BASE!$B:$B,">="&H$15,BASE!$B:$B,"<="&EDATE(H$15,1)) -> 0 | I21: =COUNTIFS(BASE!$I:$I,$A21,BASE!$B:$B,">="&I$15,BASE!$B:$B,"<="&EDATE(I$15,1)) -> 0 | ... N21: =COUNTIFS(BASE!$I:$I,$A21,BASE!$B:$B,">="&N$15,BASE!$B:$B,"<="&EDATE(N$15,1)) -> 0
A22: Acceptation de l'offre | B22: =COUNTIFS(BASE!$I:$I,$A22,BASE!$B:$B,">="&B$15,BASE!$B:$B,"<="&EDATE(B$15,1)) -> 0 | C22: =COUNTIFS(BASE!$I:$I,$A22,BASE!$B:$B,">="&C$15,BASE!$B:$B,"<="&EDATE(C$15,1)) -> 0 | D22: =COUNTIFS(BASE!$I:$I,$A22,BASE!$B:$B,">="&D$15,BASE!$B:$B,"<="&EDATE(D$15,1)) -> 0 | E22: =COUNTIFS(BASE!$I:$I,$A22,BASE!$B:$B,">="&E$15,BASE!$B:$B,"<="&EDATE(E$15,1)) -> 0 | F22: =COUNTIFS(BASE!$I:$I,$A22,BASE!$B:$B,">="&F$15,BASE!$B:$B,"<="&EDATE(F$15,1)) -> 0 | G22: =COUNTIFS(BASE!$I:$I,$A22,BASE!$B:$B,">="&G$15,BASE!$B:$B,"<="&EDATE(G$15,1)) -> 0 | H22: =COUNTIFS(BASE!$I:$I,$A22,BASE!$B:$B,">="&H$15,BASE!$B:$B,"<="&EDATE(H$15,1)) -> 1 | I22: =COUNTIFS(BASE!$I:$I,$A22,BASE!$B:$B,">="&I$15,BASE!$B:$B,"<="&EDATE(I$15,1)) -> 0 | ... N22: =COUNTIFS(BASE!$I:$I,$A22,BASE!$B:$B,">="&N$15,BASE!$B:$B,"<="&EDATE(N$15,1)) -> 0
D25: Synthèse nombre de contact par secteur
A28: Mois 2021 | B28: 44075 | C28: 44105 | D28: 44136 | E28: 44166 | F28: 44197 | G28: 44228 | H28: 44256 | I28: 44287 | J28: 44317 | K28: 44348 | L28: 44378 | M28: 44409 | N28: 44440
A29: Département de l'eure | B29: =COUNTIFS(BASE!$E:$E,"27",BASE!$B:$B,">="&B$28,BASE!$B:$B,"<="&EDATE(B$28,1)) -> 1 | C29: =COUNTIFS(BASE!$E:$E,"27",BASE!$B:$B,">="&C$28,BASE!$B:$B,"<="&EDATE(C$28,1)) -> 0 | D29: =COUNTIFS(BASE!$E:$E,"27",BASE!$B:$B,">="&D$28,BASE!$B:$B,"<="&EDATE(D$28,1)) -> 0 | E29: =COUNTIFS(BASE!$E:$E,"27",BASE!$B:$B,">="&E$28,BASE!$B:$B,"<="&EDATE(E$28,1)) -> 0 | F29: =COUNTIFS(BASE!$E:$E,"27",BASE!$B:$B,">="&F$28,BASE!$B:$B,"<="&EDATE(F$28,1)) -> 0 | G29: =COUNTIFS(BASE!$E:$E,"27",BASE!$B:$B,">="&G$28,BASE!$B:$B,"<="&EDATE(G$28,1)) -> 0 | H29: =COUNTIFS(BASE!$E:$E,"27",BASE!$B:$B,">="&H$28,BASE!$B:$B,"<="&EDATE(H$28,1)) -> 0 | I29: =COUNTIFS(BASE!$E:$E,"27",BASE!$B:$B,">="&I$28,BASE!$B:$B,"<="&EDATE(I$28,1)) -> 0 | ... N29: =COUNTIFS(BASE!$E:$E,"27",BASE!$B:$B,">="&N$28,BASE!$B:$B,"<="&EDATE(N$28,1)) -> 0
A30: Département Seine Maritime | B30: =COUNTIFS(BASE!$E:$E,"76",BASE!$B:$B,">="&B$28,BASE!$B:$B,"<="&EDATE(B$28,1)) -> 0 | C30: =COUNTIFS(BASE!$E:$E,"76",BASE!$B:$B,">="&C$28,BASE!$B:$B,"<="&EDATE(C$28,1)) -> 0 | D30: =COUNTIFS(BASE!$E:$E,"76",BASE!$B:$B,">="&D$28,BASE!$B:$B,"<="&EDATE(D$28,1)) -> 0 | E30: =COUNTIFS(BASE!$E:$E,"76",BASE!$B:$B,">="&E$28,BASE!$B:$B,"<="&EDATE(E$28,1)) -> 0 | F30: =COUNTIFS(BASE!$E:$E,"76",BASE!$B:$B,">="&F$28,BASE!$B:$B,"<="&EDATE(F$28,1)) -> 1 | G30: =COUNTIFS(BASE!$E:$E,"76",BASE!$B:$B,">="&G$28,BASE!$B:$B,"<="&EDATE(G$28,1)) -> 2 | H30: =COUNTIFS(BASE!$E:$E,"76",BASE!$B:$B,">="&H$28,BASE!$B:$B,"<="&EDATE(H$28,1)) -> 1 | I30: =COUNTIFS(BASE!$E:$E,"76",BASE!$B:$B,">="&I$28,BASE!$B:$B,"<="&EDATE(I$28,1)) -> 0 | ... N30: =COUNTIFS(BASE!$E:$E,"76",BASE!$B:$B,">="&N$28,BASE!$B:$B,"<="&EDATE(N$28,1)) -> 0
A31: Département calvados | B31: =COUNTIFS(BASE!$E:$E,"14",BASE!$B:$B,">="&B$28,BASE!$B:$B,"<="&EDATE(B$28,1)) -> 0 | C31: =COUNTIFS(BASE!$E:$E,"14",BASE!$B:$B,">="&C$28,BASE!$B:$B,"<="&EDATE(C$28,1)) -> 0 | D31: =COUNTIFS(BASE!$E:$E,"14",BASE!$B:$B,">="&D$28,BASE!$B:$B,"<="&EDATE(D$28,1)) -> 0 | E31: =COUNTIFS(BASE!$E:$E,"14",BASE!$B:$B,">="&E$28,BASE!$B:$B,"<="&EDATE(E$28,1)) -> 0 | F31: =COUNTIFS(BASE!$E:$E,"14",BASE!$B:$B,">="&F$28,BASE!$B:$B,"<="&EDATE(F$28,1)) -> 0 | G31: =COUNTIFS(BASE!$E:$E,"14",BASE!$B:$B,">="&G$28,BASE!$B:$B,"<="&EDATE(G$28,1)) -> 0 | H31: =COUNTIFS(BASE!$E:$E,"14",BASE!$B:$B,">="&H$28,BASE!$B:$B,"<="&EDATE(H$28,1)) -> 0 | I31: =COUNTIFS(BASE!$E:$E,"14",BASE!$B:$B,">="&I$28,BASE!$B:$B,"<="&EDATE(I$28,1)) -> 0 | ... N31: =COUNTIFS(BASE!$E:$E,"14",BASE!$B:$B,">="&N$28,BASE!$B:$B,"<="&EDATE(N$28,1)) -> 0
A32: Département Yvelines | B32: =COUNTIFS(BASE!$E:$E,"78",BASE!$B:$B,">="&B$28,BASE!$B:$B,"<="&EDATE(B$28,1)) -> 0 | C32: =COUNTIFS(BASE!$E:$E,"78",BASE!$B:$B,">="&C$28,BASE!$B:$B,"<="&EDATE(C$28,1)) -> 0 | D32: =COUNTIFS(BASE!$E:$E,"78",BASE!$B:$B,">="&D$28,BASE!$B:$B,"<="&EDATE(D$28,1)) -> 0 | E32: =COUNTIFS(BASE!$E:$E,"78",BASE!$B:$B,">="&E$28,BASE!$B:$B,"<="&EDATE(E$28,1)) -> 0 | F32: =COUNTIFS(BASE!$E:$E,"78",BASE!$B:$B,">="&F$28,BASE!$B:$B,"<="&EDATE(F$28,1)) -> 0 | G32: =COUNTIFS(BASE!$E:$E,"78",BASE!$B:$B,">="&G$28,BASE!$B:$B,"<="&EDATE(G$28,1)) -> 0 | H32: =COUNTIFS(BASE!$E:$E,"78",BASE!$B:$B,">="&H$28,BASE!$B:$B,"<="&EDATE(H$28,1)) -> 0 | I32: =COUNTIFS(BASE!$E:$E,"78",BASE!$B:$B,">="&I$28,BASE!$B:$B,"<="&EDATE(I$28,1)) -> 0 | ... N32: =COUNTIFS(BASE!$E:$E,"78",BASE!$B:$B,">="&N$28,BASE!$B:$B,"<="&EDATE(N$28,1)) -> 0
A33: Département du Nord | B33: =COUNTIFS(BASE!$E:$E,"59",BASE!$B:$B,">="&B$28,BASE!$B:$B,"<="&EDATE(B$28,1)) -> 0 | C33: =COUNTIFS(BASE!$E:$E,"59",BASE!$B:$B,">="&C$28,BASE!$B:$B,"<="&EDATE(C$28,1)) -> 0 | D33: =COUNTIFS(BASE!$E:$E,"59",BASE!$B:$B,">="&D$28,BASE!$B:$B,"<="&EDATE(D$28,1)) -> 2 | E33: =COUNTIFS(BASE!$E:$E,"59",BASE!$B:$B,">="&E$28,BASE!$B:$B,"<="&EDATE(E$28,1)) -> 2 | F33: =COUNTIFS(BASE!$E:$E,"59",BASE!$B:$B,">="&F$28,BASE!$B:$B,"<="&EDATE(F$28,1)) -> 0 | G33: =COUNTIFS(BASE!$E:$E,"59",BASE!$B:$B,">="&G$28,BASE!$B:$B,"<="&EDATE(G$28,1)) -> 2 | H33: =COUNTIFS(BASE!$E:$E,"59",BASE!$B:$B,">="&H$28,BASE!$B:$B,"<="&EDATE(H$28,1)) -> 1 | I33: =COUNTIFS(BASE!$E:$E,"59",BASE!$B:$B,">="&I$28,BASE!$B:$B,"<="&EDATE(I$28,1)) -> 2 | ... N33: =COUNTIFS(BASE!$E:$E,"59",BASE!$B:$B,">="&N$28,BASE!$B:$B,"<="&EDATE(N$28,1)) -> 0
A34: Département de la Somme | B34: =COUNTIFS(BASE!$E:$E,"80",BASE!$B:$B,">="&B$28,BASE!$B:$B,"<="&EDATE(B$28,1)) -> 0 | C34: =COUNTIFS(BASE!$E:$E,"80",BASE!$B:$B,">="&C$28,BASE!$B:$B,"<="&EDATE(C$28,1)) -> 0 | D34: =COUNTIFS(BASE!$E:$E,"80",BASE!$B:$B,">="&D$28,BASE!$B:$B,"<="&EDATE(D$28,1)) -> 0 | E34: =COUNTIFS(BASE!$E:$E,"80",BASE!$B:$B,">="&E$28,BASE!$B:$B,"<="&EDATE(E$28,1)) -> 0 | F34: =COUNTIFS(BASE!$E:$E,"80",BASE!$B:$B,">="&F$28,BASE!$B:$B,"<="&EDATE(F$28,1)) -> 1 | G34: =COUNTIFS(BASE!$E:$E,"80",BASE!$B:$B,">="&G$28,BASE!$B:$B,"<="&EDATE(G$28,1)) -> 0 | H34: =COUNTIFS(BASE!$E:$E,"80",BASE!$B:$B,">="&H$28,BASE!$B:$B,"<="&EDATE(H$28,1)) -> 0 | I34: =COUNTIFS(BASE!$E:$E,"80",BASE!$B:$B,">="&I$28,BASE!$B:$B,"<="&EDATE(I$28,1)) -> 1 | ... N34: =COUNTIFS(BASE!$E:$E,"80",BASE!$B:$B,">="&N$28,BASE!$B:$B,"<="&EDATE(N$28,1)) -> 0
A35: Département Pas-De-Calais | B35: =COUNTIFS(BASE!$E:$E,"62",BASE!$B:$B,">="&B$28,BASE!$B:$B,"<="&EDATE(B$28,1)) -> 0 | C35: =COUNTIFS(BASE!$E:$E,"62",BASE!$B:$B,">="&C$28,BASE!$B:$B,"<="&EDATE(C$28,1)) -> 0 | D35: =COUNTIFS(BASE!$E:$E,"62",BASE!$B:$B,">="&D$28,BASE!$B:$B,"<="&EDATE(D$28,1)) -> 0 | E35: =COUNTIFS(BASE!$E:$E,"62",BASE!$B:$B,">="&E$28,BASE!$B:$B,"<="&EDATE(E$28,1)) -> 0 | F35: =COUNTIFS(BASE!$E:$E,"62",BASE!$B:$B,">="&F$28,BASE!$B:$B,"<="&EDATE(F$28,1)) -> 0 | G35: =COUNTIFS(BASE!$E:$E,"62",BASE!$B:$B,">="&G$28,BASE!$B:$B,"<="&EDATE(G$28,1)) -> 0 | H35: =COUNTIFS(BASE!$E:$E,"62",BASE!$B:$B,">="&H$28,BASE!$B:$B,"<="&EDATE(H$28,1)) -> 1 | I35: =COUNTIFS(BASE!$E:$E,"62",BASE!$B:$B,">="&I$28,BASE!$B:$B,"<="&EDATE(I$28,1)) -> 0 | ... N35: =COUNTIFS(BASE!$E:$E,"62",BASE!$B:$B,">="&N$28,BASE!$B:$B,"<="&EDATE(N$28,1)) -> 0
D38: Synthèse globale ANNUELLE
B41: 2020 | C41: 2021 | D41: 2021 | E41: 2021 | F41: 2021 | G41: 2021 | H41: 2021 | I41: 2021 | J41: 2021 | K41: 2021 | L41: 2021 | M41: 2021 | N41: 2021
A42: Nombre de prospects TOTAL | B42: 10 | C42: =SUM(B29:N35) -> 20
A43: Nombre de Clients TOTAL | B43: 20 | C43: 45
A44: Nombre de Nouveaux Clients | C44: 25
A45: Nombre de refus | C45: =SUM(B20:N20) -> 1
A46: Nombre de clients perdu

Sheet contrats
A2: Clients | B2: Ville | C2: Début contrat | D2: Type de contrat | E2: Reprise de personnel | F2: Menus | G2: Pain | H2: Livraison | I2: Site de livraison | J2: Ancien prestataire
K7: UNIQUEMENT POUR CLIENTS & CLIENTS IMPORTANT
