Workbook
Name action: Paramètres!$B$4:$B$15
Name Action2: Paramètres!$B$4:$B$14
Name AO: Paramètres!$C$4:$C$5
Name contact: Paramètres!$F$3:$F$13
Name OUI: Paramètres!$D$4:$D$5
Name prov: Paramètres!$F$3:$F$10
Name statut: Paramètres!$H$3:$H$4

Sheet Feuil1
A1: Date | B1: Nom & Prénom | C1: Entreprise | D1: Département | E1: Adresse | F1: Contact Tèl | G1: Contact Mail | H1: Action | I1: Provenance du contact | J1: Type | K1: effectif | L1: Prochaine action | M1: Statut | N1: Commentaire | O1: Réponse
A2: 44809 | B2: Louis aubert | C2: decathlon | F2: 02.22.34.23.45 | G2: coucou@gmail.com | H2: Acceptation de l'offre | I2: Contact Web | M2: Fait | O2: OUI
A3: 44810 | B3: Jean dupont | C3: Inter sport | F3: 02.22.34.23.46 | G3: coucou@gmail.com | H3: Premier contact | M3: Fait | O3: OUI
A4: 44814 | B4: Zhang lee | C4: OVH | F4: 02.22.34.23.47 | G4: coucou@gmail.com | H4: Premier contact | M4: Fait | O4: NON

Sheet Paramètres
F3: Démarchage | H3: Fait
B4: Premier contact | C4: AO | D4: OUI | F4: Bouche à oreille | H4: A faire
B5: Envoi d'une proposition | C5: PAS AO | D5: NON | F5: Contact Web
B6: Relance | F6: Campagne de com
B7: Négociation | F7: Partenariat actif/inactif
B8: Refus | F8: Renouvellement de nouveaux/Anciens clients
B9: Abandon
B10: Acceptation de l'offre
B11: Envoi Grille tarifaire
B12: Envoi PowerPoint

Sheet Synthèse
D2: Synthèse GLOBALE
A5: Mois 2021 | B5: 44440 | C5: 44470 | D5: 44501 | E5: 44531 | F5: 44562 | G5: 44593 | H5: 44621 | I5: 44652 | J5: 44682 | K5: 44713 | L5: 44743 | M5: 44774 | N5: 44805
A6: Nbre de contact envoyé | B6: =COUNTIFS(Feuil1!$M:$M,"Fait",Feuil1!$A:$A,">="&B$5,Feuil1!$A:$A,"<="&EDATE(B$5,1)) -> 0 | C6: =COUNTIFS(Feuil1!$M:$M,"Fait",Feuil1!$A:$A,">="&C$5,Feuil1!$A:$A,"<="&EDATE(C$5,1)) -> 0 | D6: =COUNTIFS(Feuil1!$M:$M,"Fait",Feuil1!$A:$A,">="&D$5,Feuil1!$A:$A,"<="&EDATE(D$5,1)) -> 0 | E6: =COUNTIFS(Feuil1!$M:$M,"Fait",Feuil1!$A:$A,">="&E$5,Feuil1!$A:$A,"<="&EDATE(E$5,1)) -> 0 | F6: =COUNTIFS(Feuil1!$M:$M,"Fait",Feuil1!$A:$A,">="&F$5,Feuil1!$A:$A,"<="&EDATE(F$5,1)) -> 0 | G6: =COUNTIFS(Feuil1!$M:$M,"Fait",Feuil1!$A:$A,">="&G$5,Feuil1!$A:$A,"<="&EDATE(G$5,1)) -> 0 | H6: =COUNTIFS(Feuil1!$M:$M,"Fait",Feuil1!$A:$A,">="&H$5,Feuil1!$A:$A,"<="&EDATE(H$5,1)) -> 0 | I6: =COUNTIFS(Feuil1!$M:$M,"Fait",Feuil1!$A:$A,">="&I$5,Feuil1!$A:$A,"<="&EDATE(I$5,1)) -> 0 | ... N6: =COUNTIFS(Feuil1!$M:$M,"Fait",Feuil1!$A:$A,">="&N$5,Feuil1!$A:$A,"<="&EDATE(N$5,1)) -> 3
A7: Nbre de prospect
A8: Nbre de réponses | B8: =COUNTIFS(Feuil1!$O:$O,"OUI",Feuil1!$A:$A,">="&B$5,Feuil1!$A:$A,"<="&EDATE(B$5,1)) -> 0 | C8: =COUNTIFS(Feuil1!$O:$O,"OUI",Feuil1!$A:$A,">="&C$5,Feuil1!$A:$A,"<="&EDATE(C$5,1)) -> 0 | D8: =COUNTIFS(Feuil1!$O:$O,"OUI",Feuil1!$A:$A,">="&D$5,Feuil1!$A:$A,"<="&EDATE(D$5,1)) -> 0 | E8: =COUNTIFS(Feuil1!$O:$O,"OUI",Feuil1!$A:$A,">="&E$5,Feuil1!$A:$A,"<="&EDATE(E$5,1)) -> 0 | F8: =COUNTIFS(Feuil1!$O:$O,"OUI",Feuil1!$A:$A,">="&F$5,Feuil1!$A:$A,"<="&EDATE(F$5,1)) -> 0 | G8: =COUNTIFS(Feuil1!$O:$O,"OUI",Feuil1!$A:$A,">="&G$5,Feuil1!$A:$A,"<="&EDATE(G$5,1)) -> 0 | H8: =COUNTIFS(Feuil1!$O:$O,"OUI",Feuil1!$A:$A,">="&H$5,Feuil1!$A:$A,"<="&EDATE(H$5,1)) -> 0 | I8: =COUNTIFS(Feuil1!$O:$O,"OUI",Feuil1!$A:$A,">="&I$5,Feuil1!$A:$A,"<="&EDATE(I$5,1)) -> 0 | ... N8: =COUNTIFS(Feuil1!$O:$O,"OUI",Feuil1!$A:$A,">="&N$5,Feuil1!$A:$A,"<="&EDATE(N$5,1)) -> 2
A9: Nbre de non-réponses | B9: =COUNTIFS(Feuil1!$O:$O,"NON",Feuil1!$A:$A,">="&B$5,Feuil1!$A:$A,"<="&EDATE(B$5,1)) -> 0 | C9: =COUNTIFS(Feuil1!$O:$O,"NON",Feuil1!$A:$A,">="&C$5,Feuil1!$A:$A,"<="&EDATE(C$5,1)) -> 0 | D9: =COUNTIFS(Feuil1!$O:$O,"NON",Feuil1!$A:$A,">="&D$5,Feuil1!$A:$A,"<="&EDATE(D$5,1)) -> 0 | E9: =COUNTIFS(Feuil1!$O:$O,"NON",Feuil1!$A:$A,">="&E$5,Feuil1!$A:$A,"<="&EDATE(E$5,1)) -> 0 | F9: =COUNTIFS(Feuil1!$O:$O,"NON",Feuil1!$A:$A,">="&F$5,Feuil1!$A:$A,"<="&EDATE(F$5,1)) -> 0 | G9: =COUNTIFS(Feuil1!$O:$O,"NON",Feuil1!$A:$A,">="&G$5,Feuil1!$A:$A,"<="&EDATE(G$5,1)) -> 0 | H9: =COUNTIFS(Feuil1!$O:$O,"NON",Feuil1!$A:$A,">="&H$5,Feuil1!$A:$A,"<="&EDATE(H$5,1)) -> 0 | I9: =COUNTIFS(Feuil1!$O:$O,"NON",Feuil1!$A:$A,">="&I$5,Feuil1!$A:$A,"<="&EDATE(I$5,1)) -> 0 | ... N9: =COUNTIFS(Feuil1!$O:$O,"NON",Feuil1!$A:$A,">="&N$5,Feuil1!$A:$A,"<="&EDATE(N$5,1)) -> 1
D12: Synthèse précise
A15: Mois 2021 | B15: 44805 | C15: 44835 | D15: 44866 | E15: 44896 | F15: 44927 | G15: 44958 | H15: 44986 | I15: 45017 | J15: 45047 | K15: 45078 | L15: 45108 | M15: 45139 | N15: 45170
A16: Premier contact | B16: =COUNTIFS(Feuil1!$H:$H,$A16,Feuil1!$A:$A,">="&B$15,Feuil1!$A:$A,"<="&EDATE(B$15,1)) -> 2 | C16: =COUNTIFS(Feuil1!$H:$H,$A16,Feuil1!$A:$A,">="&C$15,Feuil1!$A:$A,"<="&EDATE(C$15,1)) -> 0 | D16: =COUNTIFS(Feuil1!$H:$H,$A16,Feuil1!$A:$A,">="&D$15,Feuil1!$A:$A,"<="&EDATE(D$15,1)) -> 0 | E16: =COUNTIFS(Feuil1!$H:$H,$A16,Feuil1!$A:$A,">="&E$15,Feuil1!$A:$A,"<="&EDATE(E$15,1)) -> 0 | F16: =COUNTIFS(Feuil1!$H:$H,$A16,Feuil1!$A:$A,">="&F$15,Feuil1!$A:$A,"<="&EDATE(F$15,1)) -> 0 | G16: =COUNTIFS(Feuil1!$H:$H,$A16,Feuil1!$A:$A,">="&G$15,Feuil1!$A:$A,"<="&EDATE(G$15,1)) -> 0 | H16: =COUNTIFS(Feuil1!$H:$H,$A16,Feuil1!$A:$A,">="&H$15,Feuil1!$A:$A,"<="&EDATE(H$15,1)) -> 0 | I16: =COUNTIFS(Feuil1!$H:$H,$A16,Feuil1!$A:$A,">="&I$15,Feuil1!$A:$A,"<="&EDATE(I$15,1)) -> 0 | ... N16: =COUNTIFS(Feuil1!$H:$H,$A16,Feuil1!$A:$A,">="&N$15,Feuil1!$A:$A,"<="&EDATE(N$15,1)) -> 0
A17: Envoie d'offre | B17: =COUNTIFS(Feuil1!$H:$H,$A17,Feuil1!$A:$A,">="&B$15,Feuil1!$A:$A,"<="&EDATE(B$15,1)) -> 0 | C17: =COUNTIFS(Feuil1!$H:$H,$A17,Feuil1!$A:$A,">="&C$15,Feuil1!$A:$A,"<="&EDATE(C$15,1)) -> 0 | D17: =COUNTIFS(Feuil1!$H:$H,$A17,Feuil1!$A:$A,">="&D$15,Feuil1!$A:$A,"<="&EDATE(D$15,1)) -> 0 | E17: =COUNTIFS(Feuil1!$H:$H,$A17,Feuil1!$A:$A,">="&E$15,Feuil1!$A:$A,"<="&EDATE(E$15,1)) -> 0 | F17: =COUNTIFS(Feuil1!$H:$H,$A17,Feuil1!$A:$A,">="&F$15,Feuil1!$A:$A,"<="&EDATE(F$15,1)) -> 0 | G17: =COUNTIFS(Feuil1!$H:$H,$A17,Feuil1!$A:$A,">="&G$15,Feuil1!$A:$A,"<="&EDATE(G$15,1)) -> 0 | H17: =COUNTIFS(Feuil1!$H:$H,$A17,Feuil1!$A:$A,">="&H$15,Feuil1!$A:$A,"<="&EDATE(H$15,1)) -> 0 | I17: =COUNTIFS(Feuil1!$H:$H,$A17,Feuil1!$A:$A,">="&I$15,Feuil1!$A:$A,"<="&EDATE(I$15,1)) -> 0 | ... N17: =COUNTIFS(Feuil1!$H:$H,$A17,Feuil1!$A:$A,">="&N$15,Feuil1!$A:$A,"<="&EDATE(N$15,1)) -> 0
A18: Relance | B18: =COUNTIFS(Feuil1!$H:$H,$A18,Feuil1!$A:$A,">="&B$15,Feuil1!$A:$A,"<="&EDATE(B$15,1)) -> 0 | C18: =COUNTIFS(Feuil1!$H:$H,$A18,Feuil1!$A:$A,">="&C$15,Feuil1!$A:$A,"<="&EDATE(C$15,1)) -> 0 | D18: =COUNTIFS(Feuil1!$H:$H,$A18,Feuil1!$A:$A,">="&D$15,Feuil1!$A:$A,"<="&EDATE(D$15,1)) -> 0 | E18: =COUNTIFS(Feuil1!$H:$H,$A18,Feuil1!$A:$A,">="&E$15,Feuil1!$A:$A,"<="&EDATE(E$15,1)) -> 0 | F18: =COUNTIFS(Feuil1!$H:$H,$A18,Feuil1!$A:$A,">="&F$15,Feuil1!$A:$A,"<="&EDATE(F$15,1)) -> 0 | G18: =COUNTIFS(Feuil1!$H:$H,$A18,Feuil1!$A:$A,">="&G$15,Feuil1!$A:$A,"<="&EDATE(G$15,1)) -> 0 | H18: =COUNTIFS(Feuil1!$H:$H,$A18,Feuil1!$A:$A,">="&H$15,Feuil1!$A:$A,"<="&EDATE(H$15,1)) -> 0 | I18: =COUNTIFS(Feuil1!$H:$H,$A18,Feuil1!$A:$A,">="&I$15,Feuil1!$A:$A,"<="&EDATE(I$15,1)) -> 0 | ... N18: =COUNTIFS(Feuil1!$H:$H,$A18,Feuil1!$A:$A,">="&N$15,Feuil1!$A:$A,"<="&EDATE(N$15,1)) -> 0
A19: Négociation | B19: =COUNTIFS(Feuil1!$H:$H,$A19,Feuil1!$A:$A,">="&B$15,Feuil1!$A:$A,"<="&EDATE(B$15,1)) -> 0 | C19: =COUNTIFS(Feuil1!$H:$H,$A19,Feuil1!$A:$A,">="&C$15,Feuil1!$A:$A,"<="&EDATE(C$15,1)) -> 0 | D19: =COUNTIFS(Feuil1!$H:$H,$A19,Feuil1!$A:$A,">="&D$15,Feuil1!$A:$A,"<="&EDATE(D$15,1)) -> 0 | E19: =COUNTIFS(Feuil1!$H:$H,$A19,Feuil1!$A:$A,">="&E$15,Feuil1!$A:$A,"<="&EDATE(E$15,1)) -> 0 | F19: =COUNTIFS(Feuil1!$H:$H,$A19,Feuil1!$A:$A,">="&F$15,Feuil1!$A:$A,"<="&EDATE(F$15,1)) -> 0 | G19: =COUNTIFS(Feuil1!$H:$H,$A19,Feuil1!$A:$A,">="&G$15,Feuil1!$A:$A,"<="&EDATE(G$15,1)) -> 0 | H19: =COUNTIFS(Feuil1!$H:$H,$A19,Feuil1!$A:$A,">="&H$15,Feuil1!$A:$A,"<="&EDATE(H$15,1)) -> 0 | I19: =COUNTIFS(Feuil1!$H:$H,$A19,Feuil1!$A:$A,">="&I$15,Feuil1!$A:$A,"<="&EDATE(I$15,1)) -> 0 | ... N19: =COUNTIFS(Feuil1!$H:$H,$A19,Feuil1!$A:$A,">="&N$15,Feuil1!$A:$A,"<="&EDATE(N$15,1)) -> 0
A20: Refus | B20: =COUNTIFS(Feuil1!$H:$H,$A20,Feuil1!$A:$A,">="&B$15,Feuil1!$A:$A,"<="&EDATE(B$15,1)) -> 0 | C20: =COUNTIFS(Feuil1!$H:$H,$A20,Feuil1!$A:$A,">="&C$15,Feuil1!$A:$A,"<="&EDATE(C$15,1)) -> 0 | D20: =COUNTIFS(Feuil1!$H:$H,$A20,Feuil1!$A:$A,">="&D$15,Feuil1!$A:$A,"<="&EDATE(D$15,1)) -> 0 | E20: =COUNTIFS(Feuil1!$H:$H,$A20,Feuil1!$A:$A,">="&E$15,Feuil1!$A:$A,"<="&EDATE(E$15,1)) -> 0 | F20: =COUNTIFS(Feuil1!$H:$H,$A20,Feuil1!$A:$A,">="&F$15,Feuil1!$A:$A,"<="&EDATE(F$15,1)) -> 0 | G20: =COUNTIFS(Feuil1!$H:$H,$A20,Feuil1!$A:$A,">="&G$15,Feuil1!$A:$A,"<="&EDATE(G$15,1)) -> 0 | H20: =COUNTIFS(Feuil1!$H:$H,$A20,Feuil1!$A:$A,">="&H$15,Feuil1!$A:$A,"<="&EDATE(H$15,1)) -> 0 | I20: =COUNTIFS(Feuil1!$H:$H,$A20,Feuil1!$A:$A,">="&I$15,Feuil1!$A:$A,"<="&EDATE(I$15,1)) -> 0 | ... N20: =COUNTIFS(Feuil1!$H:$H,$A20,Feuil1!$A:$A,">="&N$15,Feuil1!$A:$A,"<="&EDATE(N$15,1)) -> 0
A21: Abandon | B21: =COUNTIFS(Feuil1!$H:$H,$A21,Feuil1!$A:$A,">="&B$15,Feuil1!$A:$A,"<="&EDATE(B$15,1)) -> 0 | C21: =COUNTIFS(Feuil1!$H:$H,$A21,Feuil1!$A:$A,">="&C$15,Feuil1!$A:$A,"<="&EDATE(C$15,1)) -> 0 | D21: =COUNTIFS(Feuil1!$H:$H,$A21,Feuil1!$A:$A,">="&D$15,Feuil1!$A:$A,"<="&EDATE(D$15,1)) -> 0 | E21: =COUNTIFS(Feuil1!$H:$H,$A21,Feuil1!$A:$A,">="&E$15,Feuil1!$A:$A,"<="&EDATE(E$15,1)) -> 0 | F21: =COUNTIFS(Feuil1!$H:$H,$A21,Feuil1!$A:$A,">="&F$15,Feuil1!$A:$A,"<="&EDATE(F$15,1)) -> 0 | G21: =COUNTIFS(Feuil1!$H:$H,$A21,Feuil1!$A:$A,">="&G$15,Feuil1!$A:$A,"<="&EDATE(G$15,1)) -> 0 | H21: =COUNTIFS(Feuil1!$H:$H,$A21,Feuil1!$A:$A,">="&H$15,Feuil1!$A:$A,"<="&EDATE(H$15,1)) -> 0 | I21: =COUNTIFS(Feuil1!$H:$H,$A21,Feuil1!$A:$A,">="&I$15,Feuil1!$A:$A,"<="&EDATE(I$15,1)) -> 0 | ... N21: =COUNTIFS(Feuil1!$H:$H,$A21,Feuil1!$A:$A,">="&N$15,Feuil1!$A:$A,"<="&EDATE(N$15,1)) -> 0
A22: Acceptation de l'offre | B22: =COUNTIFS(Feuil1!$H:$H,$A22,Feuil1!$A:$A,">="&B$15,Feuil1!$A:$A,"<="&EDATE(B$15,1)) -> 1 | C22: =COUNTIFS(Feuil1!$H:$H,$A22,Feuil1!$A:$A,">="&C$15,Feuil1!$A:$A,"<="&EDATE(C$15,1)) -> 0 | D22: =COUNTIFS(Feuil1!$H:$H,$A22,Feuil1!$A:$A,">="&D$15,Feuil1!$A:$A,"<="&EDATE(D$15,1)) -> 0 | E22: =COUNTIFS(Feuil1!$H:$H,$A22,Feuil1!$A:$A,">="&E$15,Feuil1!$A:$A,"<="&EDATE(E$15,1)) -> 0 | F22: =COUNTIFS(Feuil1!$H:$H,$A22,Feuil1!$A:$A,">="&F$15,Feuil1!$A:$A,"<="&EDATE(F$15,1)) -> 0 | G22: =COUNTIFS(Feuil1!$H:$H,$A22,Feuil1!$A:$A,">="&G$15,Feuil1!$A:$A,"<="&EDATE(G$15,1)) -> 0 | H22: =COUNTIFS(Feuil1!$H:$H,$A22,Feuil1!$A:$A,">="&H$15,Feuil1!$A:$A,"<="&EDATE(H$15,1)) -> 0 | I22: =COUNTIFS(Feuil1!$H:$H,$A22,Feuil1!$A:$A,">="&I$15,Feuil1!$A:$A,"<="&EDATE(I$15,1)) -> 0 | ... N22: =COUNTIFS(Feuil1!$H:$H,$A22,Feuil1!$A:$A,">="&N$15,Feuil1!$A:$A,"<="&EDATE(N$15,1)) -> 0
