Workbook

Sheet Base de données 1
B2: N° de commande | C2: JANVIER | D2: FEVRIER | E2: MARS | F2: AVRIL | G2: MAI | H2: JUIN | I2: JUILLET | J2: AOÛT | K2: SEPTEMBRE | L2: OCTOBRE | M2: NOVEMBRE | N2: DÉCEMBRE
B3: 784984 | C3: 647 | F3: 890 | J3: 223 | N3: 470
B4: 783930 | E4: 7640 | N4: 789
B5: 289304 | E5: 4330 | K5: 223
B6: 930293
B7: 928301 | D7: 8393 | F7: 890 | I7: 100 | M7: 90
B8: 637291
B9: 128304 | G9: 4738 | K9: 5849 | M9: 450
B10: 348393 | D10: 3736 | G10: 3882 | I10: 382 | K10: 930

Sheet Recherche V + commentaires
C1: 2 | D1: 3 | E1: 4 | F1: 5 | G1: 6 | H1: 7 | I1: 8 | J1: 9 | K1: 10 | L1: 11 | M1: 12 | N1: 13
B2: N° de commande | C2: JANVIER | D2: FEVRIER | E2: MARS | F2: AVRIL | G2: MAI | H2: JUIN | I2: JUILLET | J2: AOÛT | K2: SEPTEMBRE | L2: OCTOBRE | M2: NOVEMBRE | N2: DÉCEMBRE
B3: 784984 | C3: =IFERROR(VLOOKUP($B3,'Base de données 1'!$B:$N,C$1,0),0) -> 647 | D3: =IFERROR(VLOOKUP($B3,'Base de données 1'!$B:$N,D$1,0),0) -> 0 | E3: =IFERROR(VLOOKUP($B3,'Base de données 1'!$B:$N,E$1,0),0) -> 0 | F3: =IFERROR(VLOOKUP($B3,'Base de données 1'!$B:$N,F$1,0),0) -> 890 | G3: =IFERROR(VLOOKUP($B3,'Base de données 1'!$B:$N,G$1,0),0) -> 0 | H3: =IFERROR(VLOOKUP($B3,'Base de données 1'!$B:$N,H$1,0),0) -> 0 | I3: =IFERROR(VLOOKUP($B3,'Base de données 1'!$B:$N,I$1,0),0) -> 0 | J3: =IFERROR(VLOOKUP($B3,'Base de données 1'!$B:$N,J$1,0),0) -> 223 | ... N3: =IFERROR(VLOOKUP($B3,'Base de données 1'!$B:$N,N$1,0),0) -> 470
B4: 345260 | C4: =IFERROR(VLOOKUP($B4,'Base de données 1'!$B:$N,C$1,0),0) -> 0 | D4: =IFERROR(VLOOKUP($B4,'Base de données 1'!$B:$N,D$1,0),0) -> 0 | E4: =IFERROR(VLOOKUP($B4,'Base de données 1'!$B:$N,E$1,0),0) -> 0 | F4: =IFERROR(VLOOKUP($B4,'Base de données 1'!$B:$N,F$1,0),0) -> 0 | G4: =IFERROR(VLOOKUP($B4,'Base de données 1'!$B:$N,G$1,0),0) -> 0 | H4: =IFERROR(VLOOKUP($B4,'Base de données 1'!$B:$N,H$1,0),0) -> 0 | I4: =IFERROR(VLOOKUP($B4,'Base de données 1'!$B:$N,I$1,0),0) -> 0 | J4: =IFERROR(VLOOKUP($B4,'Base de données 1'!$B:$N,J$1,0),0) -> 0 | ... N4: =IFERROR(VLOOKUP($B4,'Base de données 1'!$B:$N,N$1,0),0) -> 0
B5: 783930 | C5: =IFERROR(VLOOKUP($B5,'Base de données 1'!$B:$N,C$1,0),0) -> 0 | D5: =IFERROR(VLOOKUP($B5,'Base de données 1'!$B:$N,D$1,0),0) -> 0 | E5: =IFERROR(VLOOKUP($B5,'Base de données 1'!$B:$N,E$1,0),0) -> 7640 | F5: =IFERROR(VLOOKUP($B5,'Base de données 1'!$B:$N,F$1,0),0) -> 0 | G5: =IFERROR(VLOOKUP($B5,'Base de données 1'!$B:$N,G$1,0),0) -> 0 | H5: =IFERROR(VLOOKUP($B5,'Base de données 1'!$B:$N,H$1,0),0) -> 0 | I5: =IFERROR(VLOOKUP($B5,'Base de données 1'!$B:$N,I$1,0),0) -> 0 | J5: =IFERROR(VLOOKUP($B5,'Base de données 1'!$B:$N,J$1,0),0) -> 0 | ... N5: =IFERROR(VLOOKUP($B5,'Base de données 1'!$B:$N,N$1,0),0) -> 789
B6: 289304 | C6: =IFERROR(VLOOKUP($B6,'Base de données 1'!$B:$N,C$1,0),0) -> 0 | D6: =IFERROR(VLOOKUP($B6,'Base de données 1'!$B:$N,D$1,0),0) -> 0 | E6: =IFERROR(VLOOKUP($B6,'Base de données 1'!$B:$N,E$1,0),0) -> 4330 | F6: =IFERROR(VLOOKUP($B6,'Base de données 1'!$B:$N,F$1,0),0) -> 0 | G6: =IFERROR(VLOOKUP($B6,'Base de données 1'!$B:$N,G$1,0),0) -> 0 | H6: =IFERROR(VLOOKUP($B6,'Base de données 1'!$B:$N,H$1,0),0) -> 0 | I6: =IFERROR(VLOOKUP($B6,'Base de données 1'!$B:$N,I$1,0),0) -> 0 | J6: =IFERROR(VLOOKUP($B6,'Base de données 1'!$B:$N,J$1,0),0) -> 0 | ... N6: =IFERROR(VLOOKUP($B6,'Base de données 1'!$B:$N,N$1,0),0) -> 0
B7: 262625 | C7: =IFERROR(VLOOKUP($B7,'Base de données 1'!$B:$N,C$1,0),0) -> 0 | D7: =IFERROR(VLOOKUP($B7,'Base de données 1'!$B:$N,D$1,0),0) -> 0 | E7: =IFERROR(VLOOKUP($B7,'Base de données 1'!$B:$N,E$1,0),0) -> 0 | F7: =IFERROR(VLOOKUP($B7,'Base de données 1'!$B:$N,F$1,0),0) -> 0 | G7: =IFERROR(VLOOKUP($B7,'Base de données 1'!$B:$N,G$1,0),0) -> 0 | H7: =IFERROR(VLOOKUP($B7,'Base de données 1'!$B:$N,H$1,0),0) -> 0 | I7: =IFERROR(VLOOKUP($B7,'Base de données 1'!$B:$N,I$1,0),0) -> 0 | J7: =IFERROR(VLOOKUP($B7,'Base de données 1'!$B:$N,J$1,0),0) -> 0 | ... N7: =IFERROR(VLOOKUP($B7,'Base de données 1'!$B:$N,N$1,0),0) -> 0
B8: 930293 | C8: =IFERROR(VLOOKUP($B8,'Base de données 1'!$B:$N,C$1,0),0) -> 0 | D8: =IFERROR(VLOOKUP($B8,'Base de données 1'!$B:$N,D$1,0),0) -> 0 | E8: =IFERROR(VLOOKUP($B8,'Base de données 1'!$B:$N,E$1,0),0) -> 0 | F8: =IFERROR(VLOOKUP($B8,'Base de données 1'!$B:$N,F$1,0),0) -> 0 | G8: =IFERROR(VLOOKUP($B8,'Base de données 1'!$B:$N,G$1,0),0) -> 0 | H8: =IFERROR(VLOOKUP($B8,'Base de données 1'!$B:$N,H$1,0),0) -> 0 | I8: =IFERROR(VLOOKUP($B8,'Base de données 1'!$B:$N,I$1,0),0) -> 0 | J8: =IFERROR(VLOOKUP($B8,'Base de données 1'!$B:$N,J$1,0),0) -> 0 | ... N8: =IFERROR(VLOOKUP($B8,'Base de données 1'!$B:$N,N$1,0),0) -> 0
B9: 928301 | C9: =IFERROR(VLOOKUP($B9,'Base de données 1'!$B:$N,C$1,0),0) -> 0 | D9: =IFERROR(VLOOKUP($B9,'Base de données 1'!$B:$N,D$1,0),0) -> 8393 | E9: =IFERROR(VLOOKUP($B9,'Base de données 1'!$B:$N,E$1,0),0) -> 0 | F9: =IFERROR(VLOOKUP($B9,'Base de données 1'!$B:$N,F$1,0),0) -> 890 | G9: =IFERROR(VLOOKUP($B9,'Base de données 1'!$B:$N,G$1,0),0) -> 0 | H9: =IFERROR(VLOOKUP($B9,'Base de données 1'!$B:$N,H$1,0),0) -> 0 | I9: =IFERROR(VLOOKUP($B9,'Base de données 1'!$B:$N,I$1,0),0) -> 100 | J9: =IFERROR(VLOOKUP($B9,'Base de données 1'!$B:$N,J$1,0),0) -> 0 | ... N9: =IFERROR(VLOOKUP($B9,'Base de données 1'!$B:$N,N$1,0),0) -> 0
B10: 789020 | C10: =IFERROR(VLOOKUP($B10,'Base de données 1'!$B:$N,C$1,0),0) -> 0 | D10: =IFERROR(VLOOKUP($B10,'Base de données 1'!$B:$N,D$1,0),0) -> 0 | E10: =IFERROR(VLOOKUP($B10,'Base de données 1'!$B:$N,E$1,0),0) -> 0 | F10: =IFERROR(VLOOKUP($B10,'Base de données 1'!$B:$N,F$1,0),0) -> 0 | G10: =IFERROR(VLOOKUP($B10,'Base de données 1'!$B:$N,G$1,0),0) -> 0 | H10: =IFERROR(VLOOKUP($B10,'Base de données 1'!$B:$N,H$1,0),0) -> 0 | I10: =IFERROR(VLOOKUP($B10,'Base de données 1'!$B:$N,I$1,0),0) -> 0 | J10: =IFERROR(VLOOKUP($B10,'Base de données 1'!$B:$N,J$1,0),0) -> 0 | ... N10: =IFERROR(VLOOKUP($B10,'Base de données 1'!$B:$N,N$1,0),0) -> 0
B11: 261528 | C11: =IFERROR(VLOOKUP($B11,'Base de données 1'!$B:$N,C$1,0),0) -> 0 | D11: =IFERROR(VLOOKUP($B11,'Base de données 1'!$B:$N,D$1,0),0) -> 0 | E11: =IFERROR(VLOOKUP($B11,'Base de données 1'!$B:$N,E$1,0),0) -> 0 | F11: =IFERROR(VLOOKUP($B11,'Base de données 1'!$B:$N,F$1,0),0) -> 0 | G11: =IFERROR(VLOOKUP($B11,'Base de données 1'!$B:$N,G$1,0),0) -> 0 | H11: =IFERROR(VLOOKUP($B11,'Base de données 1'!$B:$N,H$1,0),0) -> 0 | I11: =IFERROR(VLOOKUP($B11,'Base de données 1'!$B:$N,I$1,0),0) -> 0 | J11: =IFERROR(VLOOKUP($B11,'Base de données 1'!$B:$N,J$1,0),0) -> 0 | ... N11: =IFERROR(VLOOKUP($B11,'Base de données 1'!$B:$N,N$1,0),0) -> 0
B12: 267912 | C12: =IFERROR(VLOOKUP($B12,'Base de données 1'!$B:$N,C$1,0),0) -> 0 | D12: =IFERROR(VLOOKUP($B12,'Base de données 1'!$B:$N,D$1,0),0) -> 0 | E12: =IFERROR(VLOOKUP($B12,'Base de données 1'!$B:$N,E$1,0),0) -> 0 | F12: =IFERROR(VLOOKUP($B12,'Base de données 1'!$B:$N,F$1,0),0) -> 0 | G12: =IFERROR(VLOOKUP($B12,'Base de données 1'!$B:$N,G$1,0),0) -> 0 | H12: =IFERROR(VLOOKUP($B12,'Base de données 1'!$B:$N,H$1,0),0) -> 0 | I12: =IFERROR(VLOOKUP($B12,'Base de données 1'!$B:$N,I$1,0),0) -> 0 | J12: =IFERROR(VLOOKUP($B12,'Base de données 1'!$B:$N,J$1,0),0) -> 0 | ... N12: =IFERROR(VLOOKUP($B12,'Base de données 1'!$B:$N,N$1,0),0) -> 0
B13: 637291 | C13: =IFERROR(VLOOKUP($B13,'Base de données 1'!$B:$N,C$1,0),0) -> 0 | D13: =IFERROR(VLOOKUP($B13,'Base de données 1'!$B:$N,D$1,0),0) -> 0 | E13: =IFERROR(VLOOKUP($B13,'Base de données 1'!$B:$N,E$1,0),0) -> 0 | F13: =IFERROR(VLOOKUP($B13,'Base de données 1'!$B:$N,F$1,0),0) -> 0 | G13: =IFERROR(VLOOKUP($B13,'Base de données 1'!$B:$N,G$1,0),0) -> 0 | H13: =IFERROR(VLOOKUP($B13,'Base de données 1'!$B:$N,H$1,0),0) -> 0 | I13: =IFERROR(VLOOKUP($B13,'Base de données 1'!$B:$N,I$1,0),0) -> 0 | J13: =IFERROR(VLOOKUP($B13,'Base de données 1'!$B:$N,J$1,0),0) -> 0 | ... N13: =IFERROR(VLOOKUP($B13,'Base de données 1'!$B:$N,N$1,0),0) -> 0
B14: 298393 | C14: =IFERROR(VLOOKUP($B14,'Base de données 1'!$B:$N,C$1,0),0) -> 0 | D14: =IFERROR(VLOOKUP($B14,'Base de données 1'!$B:$N,D$1,0),0) -> 0 | E14: =IFERROR(VLOOKUP($B14,'Base de données 1'!$B:$N,E$1,0),0) -> 0 | F14: =IFERROR(VLOOKUP($B14,'Base de données 1'!$B:$N,F$1,0),0) -> 0 | G14: =IFERROR(VLOOKUP($B14,'Base de données 1'!$B:$N,G$1,0),0) -> 0 | H14: =IFERROR(VLOOKUP($B14,'Base de données 1'!$B:$N,H$1,0),0) -> 0 | I14: =IFERROR(VLOOKUP($B14,'Base de données 1'!$B:$N,I$1,0),0) -> 0 | J14: =IFERROR(VLOOKUP($B14,'Base de données 1'!$B:$N,J$1,0),0) -> 0 | ... N14: =IFERROR(VLOOKUP($B14,'Base de données 1'!$B:$N,N$1,0),0) -> 0
... B16: 348393 | C16: =IFERROR(VLOOKUP($B16,'Base de données 1'!$B:$N,C$1,0),0) -> 0 | D16: =IFERROR(VLOOKUP($B16,'Base de données 1'!$B:$N,D$1,0),0) -> 3736 | E16: =IFERROR(VLOOKUP($B16,'Base de données 1'!$B:$N,E$1,0),0) -> 0 | F16: =IFERROR(VLOOKUP($B16,'Base de données 1'!$B:$N,F$1,0),0) -> 0 | G16: =IFERROR(VLOOKUP($B16,'Base de données 1'!$B:$N,G$1,0),0) -> 3882 | H16: =IFERROR(VLOOKUP($B16,'Base de données 1'!$B:$N,H$1,0),0) -> 0 | I16: =IFERROR(VLOOKUP($B16,'Base de données 1'!$B:$N,I$1,0),0) -> 382 | J16: =IFERROR(VLOOKUP($B16,'Base de données 1'!$B:$N,J$1,0),0) -> 0 | ... N16: =IFERROR(VLOOKUP($B16,'Base de données 1'!$B:$N,N$1,0),0) -> 0
