Workbook

Sheet Export base de données
A1: Numéro dossier CPF | B1: Nom | C1: Prénom | D1: montant | E1: Intitulé formation | F1: Statut | G1: Abondement | H1: Date entrée | I1: Date sortie
A2: 3971425805 | B2: ABDELLALI | F2: Facturé | H2: 44131 | I2: 44133
A3: 3891183756 | B3: ACARIS | F3: Annulation titulaire | H3: 43836 | I3: 44377
A4: 4056558844 | B4: ADANKON | F4: Facturé | H4: 43893 | I4: 43899
A5: 4281577405 | B5: ALHAFFAR | F5: Annulé | H5: 44251 | I5: 44252
A6: 4088460761 | B6: Allaire | F6: En formation | H6: 44294 | I6: 44377
A7: 4070659818 | B7: ARCHAMBAULT | F7: Annulation titulaire | H7: 44151 | I7: 44328
A8: 3972416613 | B8: AUBIER | F8: Refus titulaire | H8: 44124 | I8: 44210
A9: 3972573975 | B9: AUBIER | F9: Facturé | H9: 44124 | I9: 44131
A10: 4283311969 | B10: BANVILLET | F10: En formation | H10: 44229 | I10: 44310
A11: 3972327042 | B11: BAUDOUIN | F11: En formation | H11: 44236 | I11: 44342

Sheet situation dossiers
A1: NUMERO DOSSIER | B1: NOM | C1: PRENOM | D1: INTITULE_FORMATION | E1: SITE | F1: STATUT_DOSSIER | G1: DATE DEBUT SESSION | H1: DATE FIN SESSION | I1: ACCUSE DE RECEPTION | J1: CONTRE PROPOSITION | K1: TRANSMIS | L1: ENTREE EN FORMATION | M1: SORTIE DE FORMATION | N1: SERVICE FAIT % | O1: FACTURE | P1: PAYE
A2: 3971425805 | B2: =VLOOKUP($A2,'Export base de données'!$A:$I,2,FALSE) -> ABDELLALI | C2: =VLOOKUP($A2,'Export base de données'!$A:$I,3,FALSE) -> 0 | D2: =VLOOKUP($A2,'Export base de données'!$A:$I,5,FALSE) -> 0 | E2: =VLOOKUP($A2,'TRANSMISSION INFOS'!$A$2:$N$600,5,FALSE) -> Facturé | F2: =VLOOKUP($A2,'Export base de données'!$A:$I,6,FALSE) -> Facturé | G2: =VLOOKUP($A2,'Export base de données'!$A:$I,7,FALSE) -> 0 | H2: =VLOOKUP($A2,'Export base de données'!$A:$I,8,FALSE) -> 44131 | I2: OK | J2: =VLOOKUP($A2,'TRANSMISSION INFOS'!$A:$K,12,FALSE) -> #REF! | K2: OK | L2: =VLOOKUP($A2,'TRANSMISSION INFOS'!$A$2:$N$600,13,FALSE) -> 0 | M2: =VLOOKUP($A2,'TRANSMISSION INFOS'!$A$2:$N$300,14,FALSE) -> 0 | N2: =VLOOKUP($A2,'TRANSMISSION INFOS'!$A$2:$N$600,15,FALSE) -> #REF! | O2: =VLOOKUP($A2,'TRANSMISSION INFOS'!$A$2:$O$600,16,FALSE) -> #REF!
A3: 3891183756 | B3: =VLOOKUP($A3,'Export base de données'!$A:$I,2,FALSE) -> ACARIS | C3: =VLOOKUP($A3,'Export base de données'!$A:$I,3,FALSE) -> 0 | D3: =VLOOKUP($A3,'Export base de données'!$A:$I,5,FALSE) -> 0 | E3: =VLOOKUP($A3,'TRANSMISSION INFOS'!$A$2:$N$600,5,FALSE) -> Annulation titulaire | F3: =VLOOKUP($A3,'Export base de données'!$A:$I,6,FALSE) -> Annulation titulaire | G3: =VLOOKUP($A3,'Export base de données'!$A:$I,7,FALSE) -> 0 | H3: =VLOOKUP($A3,'Export base de données'!$A:$I,8,FALSE) -> 43836 | I3: OK | J3: =VLOOKUP($A3,'TRANSMISSION INFOS'!$A:$K,12,FALSE) -> #REF! | K3: OK | L3: =VLOOKUP($A3,'TRANSMISSION INFOS'!$A$2:$N$600,13,FALSE) -> 0 | M3: =VLOOKUP($A3,'TRANSMISSION INFOS'!$A$2:$N$300,14,FALSE) -> 0 | N3: =VLOOKUP($A3,'TRANSMISSION INFOS'!$A$2:$N$600,15,FALSE) -> #REF! | O3: =VLOOKUP($A3,'TRANSMISSION INFOS'!$A$2:$O$600,16,FALSE) -> #REF!
A4: 4056558844 | B4: =VLOOKUP($A4,'Export base de données'!$A:$I,2,FALSE) -> ADANKON | C4: =VLOOKUP($A4,'Export base de données'!$A:$I,3,FALSE) -> 0 | D4: =VLOOKUP($A4,'Export base de données'!$A:$I,5,FALSE) -> 0 | E4: =VLOOKUP($A4,'TRANSMISSION INFOS'!$A$2:$N$600,5,FALSE) -> Facturé | F4: =VLOOKUP($A4,'Export base de données'!$A:$I,6,FALSE) -> Facturé | G4: =VLOOKUP($A4,'Export base de données'!$A:$I,7,FALSE) -> 0 | H4: =VLOOKUP($A4,'Export base de données'!$A:$I,8,FALSE) -> 43893 | I4: OK | J4: =VLOOKUP($A4,'TRANSMISSION INFOS'!$A:$K,12,FALSE) -> #REF! | K4: OK | L4: =VLOOKUP($A4,'TRANSMISSION INFOS'!$A$2:$N$600,13,FALSE) -> OK | M4: =VLOOKUP($A4,'TRANSMISSION INFOS'!$A$2:$N$300,14,FALSE) -> 100 | N4: =VLOOKUP($A4,'TRANSMISSION INFOS'!$A$2:$N$600,15,FALSE) -> #REF! | O4: =VLOOKUP($A4,'TRANSMISSION INFOS'!$A$2:$O$600,16,FALSE) -> #REF!
A5: 4281577405 | B5: =VLOOKUP($A5,'Export base de données'!$A:$I,2,FALSE) -> ALHAFFAR | C5: =VLOOKUP($A5,'Export base de données'!$A:$I,3,FALSE) -> 0 | D5: =VLOOKUP($A5,'Export base de données'!$A:$I,5,FALSE) -> 0 | E5: =VLOOKUP($A5,'TRANSMISSION INFOS'!$A$2:$N$600,5,FALSE) -> Annulé | F5: =VLOOKUP($A5,'Export base de données'!$A:$I,6,FALSE) -> Annulé | G5: =VLOOKUP($A5,'Export base de données'!$A:$I,7,FALSE) -> 0 | H5: =VLOOKUP($A5,'Export base de données'!$A:$I,8,FALSE) -> 44251 | I5: OK | J5: =VLOOKUP($A5,'TRANSMISSION INFOS'!$A:$K,12,FALSE) -> #REF! | K5: OK | L5: =VLOOKUP($A5,'TRANSMISSION INFOS'!$A$2:$N$600,13,FALSE) -> 0 | M5: =VLOOKUP($A5,'TRANSMISSION INFOS'!$A$2:$N$300,14,FALSE) -> 0 | N5: =VLOOKUP($A5,'TRANSMISSION INFOS'!$A$2:$N$600,15,FALSE) -> #REF! | O5: =VLOOKUP($A5,'TRANSMISSION INFOS'!$A$2:$O$600,16,FALSE) -> #REF!
A6: 3864458581 | B6: =VLOOKUP($A6,'Export base de données'!$A:$I,2,FALSE) -> #N/A | C6: =VLOOKUP($A6,'Export base de données'!$A:$I,3,FALSE) -> #N/A | D6: =VLOOKUP($A6,'Export base de données'!$A:$I,5,FALSE) -> #N/A | E6: =VLOOKUP($A6,'TRANSMISSION INFOS'!$A$2:$N$600,5,FALSE) -> #N/A | F6: =VLOOKUP($A6,'Export base de données'!$A:$I,6,FALSE) -> #N/A | G6: =VLOOKUP($A6,'Export base de données'!$A:$I,7,FALSE) -> #N/A | H6: =VLOOKUP($A6,'Export base de données'!$A:$I,8,FALSE) -> #N/A | I6: OK | J6: =VLOOKUP($A6,'TRANSMISSION INFOS'!$A:$K,12,FALSE) -> #N/A | K6: OK | L6: =VLOOKUP($A6,'TRANSMISSION INFOS'!$A$2:$N$600,13,FALSE) -> #N/A | M6: =VLOOKUP($A6,'TRANSMISSION INFOS'!$A$2:$N$300,14,FALSE) -> #N/A | N6: =VLOOKUP($A6,'TRANSMISSION INFOS'!$A$2:$N$600,15,FALSE) -> #N/A | O6: =VLOOKUP($A6,'TRANSMISSION INFOS'!$A$2:$O$600,16,FALSE) -> #N/A
A7: 4070659818 | B7: =VLOOKUP($A7,'Export base de données'!$A:$I,2,FALSE) -> ARCHAMBAULT | C7: =VLOOKUP($A7,'Export base de données'!$A:$I,3,FALSE) -> 0 | D7: =VLOOKUP($A7,'Export base de données'!$A:$I,5,FALSE) -> 0 | E7: =VLOOKUP($A7,'TRANSMISSION INFOS'!$A$2:$N$600,5,FALSE) -> Annulation titulaire | F7: =VLOOKUP($A7,'Export base de données'!$A:$I,6,FALSE) -> Annulation titulaire | G7: =VLOOKUP($A7,'Export base de données'!$A:$I,7,FALSE) -> 0 | H7: =VLOOKUP($A7,'Export base de données'!$A:$I,8,FALSE) -> 44151 | I7: OK | J7: =VLOOKUP($A7,'TRANSMISSION INFOS'!$A:$K,12,FALSE) -> #REF! | K7: OK | L7: =VLOOKUP($A7,'TRANSMISSION INFOS'!$A$2:$N$197,13,FALSE) -> 0 | M7: =VLOOKUP($A7,'TRANSMISSION INFOS'!$A$2:$N$197,14,FALSE) -> 0 | N7: =VLOOKUP($A7,'TRANSMISSION INFOS'!$A$2:$N$197,15,FALSE) -> #REF! | O7: =VLOOKUP($A7,'TRANSMISSION INFOS'!$A$2:$O$600,16,FALSE) -> #REF!
A8: 3972416613 | B8: =VLOOKUP($A8,'Export base de données'!$A:$I,2,FALSE) -> AUBIER | C8: =VLOOKUP($A8,'Export base de données'!$A:$I,3,FALSE) -> 0 | D8: =VLOOKUP($A8,'Export base de données'!$A:$I,5,FALSE) -> 0 | E8: =VLOOKUP($A8,'TRANSMISSION INFOS'!$A$2:$N$600,5,FALSE) -> Refus titulaire | F8: =VLOOKUP($A8,'Export base de données'!$A:$I,6,FALSE) -> Refus titulaire | G8: =VLOOKUP($A8,'Export base de données'!$A:$I,7,FALSE) -> 0 | H8: =VLOOKUP($A8,'Export base de données'!$A:$I,8,FALSE) -> 44124 | I8: OK | J8: =VLOOKUP($A8,'TRANSMISSION INFOS'!$A:$K,12,FALSE) -> #REF! | K8: OK | L8: =VLOOKUP($A8,'TRANSMISSION INFOS'!$A$2:$N$197,13,FALSE) -> 0 | M8: =VLOOKUP($A8,'TRANSMISSION INFOS'!$A$2:$N$197,14,FALSE) -> 0 | N8: =VLOOKUP($A8,'TRANSMISSION INFOS'!$A$2:$N$197,15,FALSE) -> #REF! | O8: =VLOOKUP($A8,'TRANSMISSION INFOS'!$A$2:$O$600,16,FALSE) -> #REF!
A9: 3972573975 | B9: =VLOOKUP($A9,'Export base de données'!$A:$I,2,FALSE) -> AUBIER | C9: =VLOOKUP($A9,'Export base de données'!$A:$I,3,FALSE) -> 0 | D9: =VLOOKUP($A9,'Export base de données'!$A:$I,5,FALSE) -> 0 | E9: =VLOOKUP($A9,'TRANSMISSION INFOS'!$A$2:$N$600,5,FALSE) -> Facturé | F9: =VLOOKUP($A9,'Export base de données'!$A:$I,6,FALSE) -> Facturé | G9: =VLOOKUP($A9,'Export base de données'!$A:$I,7,FALSE) -> 0 | H9: =VLOOKUP($A9,'Export base de données'!$A:$I,8,FALSE) -> 44124 | I9: OK | J9: =VLOOKUP($A9,'TRANSMISSION INFOS'!$A:$K,12,FALSE) -> #REF! | K9: OK | L9: =VLOOKUP($A9,'TRANSMISSION INFOS'!$A$2:$N$600,13,FALSE) -> 0 | M9: =VLOOKUP($A9,'TRANSMISSION INFOS'!$A$2:$N$300,14,FALSE) -> 0 | N9: =VLOOKUP($A9,'TRANSMISSION INFOS'!$A$2:$N$600,15,FALSE) -> #REF! | O9: =VLOOKUP($A9,'TRANSMISSION INFOS'!$A$2:$O$600,16,FALSE) -> #REF!
A10: 4064669815 | B10: =VLOOKUP($A10,'Export base de données'!$A:$I,2,FALSE) -> #N/A | C10: =VLOOKUP($A10,'Export base de données'!$A:$I,3,FALSE) -> #N/A | D10: =VLOOKUP($A10,'Export base de données'!$A:$I,5,FALSE) -> #N/A | E10: =VLOOKUP($A10,'TRANSMISSION INFOS'!$A$2:$N$600,5,FALSE) -> #N/A | F10: =VLOOKUP($A10,'Export base de données'!$A:$I,6,FALSE) -> #N/A | G10: =VLOOKUP($A10,'Export base de données'!$A:$I,7,FALSE) -> #N/A | H10: =VLOOKUP($A10,'Export base de données'!$A:$I,8,FALSE) -> #N/A | I10: OK | J10: =VLOOKUP($A10,'TRANSMISSION INFOS'!$A:$K,12,FALSE) -> #N/A | K10: OK | L10: =VLOOKUP($A10,'TRANSMISSION INFOS'!$A$2:$N$600,13,FALSE) -> #N/A | M10: =VLOOKUP($A10,'TRANSMISSION INFOS'!$A$2:$N$300,14,FALSE) -> #N/A | N10: =VLOOKUP($A10,'TRANSMISSION INFOS'!$A$2:$N$600,15,FALSE) -> #N/A | O10: =VLOOKUP($A10,'TRANSMISSION INFOS'!$A$2:$O$600,16,FALSE) -> #N/A
A11: 3867269266 | B11: =VLOOKUP($A11,'Export base de données'!$A:$I,2,FALSE) -> #N/A | C11: =VLOOKUP($A11,'Export base de données'!$A:$I,3,FALSE) -> #N/A | D11: =VLOOKUP($A11,'Export base de données'!$A:$I,5,FALSE) -> #N/A | E11: =VLOOKUP($A11,'TRANSMISSION INFOS'!$A$2:$N$600,5,FALSE) -> #N/A | F11: =VLOOKUP($A11,'Export base de données'!$A:$I,6,FALSE) -> #N/A | G11: =VLOOKUP($A11,'Export base de données'!$A:$I,7,FALSE) -> #N/A | H11: =VLOOKUP($A11,'Export base de données'!$A:$I,8,FALSE) -> #N/A | I11: OK | J11: =VLOOKUP($A11,'TRANSMISSION INFOS'!$A:$K,12,FALSE) -> #N/A | K11: OK | L11: =VLOOKUP($A11,'TRANSMISSION INFOS'!$A$2:$N$600,13,FALSE) -> #N/A | M11: =VLOOKUP($A11,'TRANSMISSION INFOS'!$A$2:$N$300,14,FALSE) -> #N/A | N11: =VLOOKUP($A11,'TRANSMISSION INFOS'!$A$2:$N$600,15,FALSE) -> #N/A | O11: =VLOOKUP($A11,'TRANSMISSION INFOS'!$A$2:$O$600,16,FALSE) -> #N/A
A12: 4063687651 | B12: =VLOOKUP($A12,'Export base de données'!$A:$I,2,FALSE) -> #N/A | C12: =VLOOKUP($A12,'Export base de données'!$A:$I,3,FALSE) -> #N/A | D12: =VLOOKUP($A12,'Export base de données'!$A:$I,5,FALSE) -> #N/A | E12: =VLOOKUP($A12,'TRANSMISSION INFOS'!$A$2:$N$600,5,FALSE) -> #N/A | F12: =VLOOKUP($A12,'Export base de données'!$A:$I,6,FALSE) -> #N/A | G12: =VLOOKUP($A12,'Export base de données'!$A:$I,7,FALSE) -> #N/A | H12: =VLOOKUP($A12,'Export base de données'!$A:$I,8,FALSE) -> #N/A | I12: OK | J12: =VLOOKUP($A12,'TRANSMISSION INFOS'!$A:$K,12,FALSE) -> #N/A | K12: OK | L12: =VLOOKUP($A12,'TRANSMISSION INFOS'!$A$2:$N$600,13,FALSE) -> #N/A | M12: =VLOOKUP($A12,'TRANSMISSION INFOS'!$A$2:$N$300,14,FALSE) -> #N/A | N12: =VLOOKUP($A12,'TRANSMISSION INFOS'!$A$2:$N$600,15,FALSE) -> #N/A | O12: =VLOOKUP($A12,'TRANSMISSION INFOS'!$A$2:$O$600,16,FALSE) -> #N/A
A13: 4072632300 | B13: =VLOOKUP($A13,'Export base de données'!$A:$I,2,FALSE) -> #N/A | C13: =VLOOKUP($A13,'Export base de données'!$A:$I,3,FALSE) -> #N/A | D13: =VLOOKUP($A13,'Export base de données'!$A:$I,5,FALSE) -> #N/A | E13: =VLOOKUP($A13,'TRANSMISSION INFOS'!$A$2:$N$600,5,FALSE) -> #N/A | F13: =VLOOKUP($A13,'Export base de données'!$A:$I,6,FALSE) -> #N/A | G13: =VLOOKUP($A13,'Export base de données'!$A:$I,7,FALSE) -> #N/A | H13: =VLOOKUP($A13,'Export base de données'!$A:$I,8,FALSE) -> #N/A | I13: OK | J13: =VLOOKUP($A13,'TRANSMISSION INFOS'!$A:$K,12,FALSE) -> #N/A | K13: OK | L13: =VLOOKUP($A13,'TRANSMISSION INFOS'!$A$2:$N$600,13,FALSE) -> #N/A | M13: =VLOOKUP($A13,'TRANSMISSION INFOS'!$A$2:$N$300,14,FALSE) -> #N/A | N13: =VLOOKUP($A13,'TRANSMISSION INFOS'!$A$2:$N$600,15,FALSE) -> #N/A | O13: =VLOOKUP($A13,'TRANSMISSION INFOS'!$A$2:$O$600,16,FALSE) -> #N/A
A14: 4086158235 | B14: =VLOOKUP($A14,'Export base de données'!$A:$I,2,FALSE) -> #N/A | C14: =VLOOKUP($A14,'Export base de données'!$A:$I,3,FALSE) -> #N/A | D14: =VLOOKUP($A14,'Export base de données'!$A:$I,5,FALSE) -> #N/A | E14: =VLOOKUP($A14,'TRANSMISSION INFOS'!$A$2:$N$600,5,FALSE) -> #N/A | F14: =VLOOKUP($A14,'Export base de données'!$A:$I,6,FALSE) -> #N/A | G14: =VLOOKUP($A14,'Export base de données'!$A:$I,7,FALSE) -> #N/A | H14: =VLOOKUP($A14,'Export base de données'!$A:$I,8,FALSE) -> #N/A | I14: OK | J14: =VLOOKUP($A14,'TRANSMISSION INFOS'!$A:$K,12,FALSE) -> #N/A | K14: OK | L14: =VLOOKUP($A14,'TRANSMISSION INFOS'!$A$2:$N$600,13,FALSE) -> #N/A | M14: =VLOOKUP($A14,'TRANSMISSION INFOS'!$A$2:$N$300,14,FALSE) -> #N/A | N14: =VLOOKUP($A14,'TRANSMISSION INFOS'!$A$2:$N$600,15,FALSE) -> #N/A | O14: =VLOOKUP($A14,'TRANSMISSION INFOS'!$A$2:$O$600,16,FALSE) -> #N/A
A15: 4070819875 | B15: =VLOOKUP($A15,'Export base de données'!$A:$I,2,FALSE) -> #N/A | C15: =VLOOKUP($A15,'Export base de données'!$A:$I,3,FALSE) -> #N/A | D15: =VLOOKUP($A15,'Export base de données'!$A:$I,5,FALSE) -> #N/A | E15: =VLOOKUP($A15,'TRANSMISSION INFOS'!$A$2:$N$600,5,FALSE) -> #N/A | F15: =VLOOKUP($A15,'Export base de données'!$A:$I,6,FALSE) -> #N/A | G15: =VLOOKUP($A15,'Export base de données'!$A:$I,7,FALSE) -> #N/A | H15: =VLOOKUP($A15,'Export base de données'!$A:$I,8,FALSE) -> #N/A | I15: OK | J15: =VLOOKUP($A15,'TRANSMISSION INFOS'!$A:$K,12,FALSE) -> #N/A | K15: OK | L15: =VLOOKUP($A15,'TRANSMISSION INFOS'!$A$2:$N$600,13,FALSE) -> #N/A | M15: =VLOOKUP($A15,'TRANSMISSION INFOS'!$A$2:$N$300,14,FALSE) -> #N/A | N15: =VLOOKUP($A15,'TRANSMISSION INFOS'!$A$2:$N$600,15,FALSE) -> #N/A | O15: =VLOOKUP($A15,'TRANSMISSION INFOS'!$A$2:$O$600,16,FALSE) -> #N/A
A16: 3990018607 | B16: =VLOOKUP($A16,'Export base de données'!$A:$I,2,FALSE) -> #N/A | C16: =VLOOKUP($A16,'Export base de données'!$A:$I,3,FALSE) -> #N/A | D16: =VLOOKUP($A16,'Export base de données'!$A:$I,5,FALSE) -> #N/A | E16: =VLOOKUP($A16,'TRANSMISSION INFOS'!$A$2:$N$600,5,FALSE) -> #N/A | F16: =VLOOKUP($A16,'Export base de données'!$A:$I,6,FALSE) -> #N/A | G16: =VLOOKUP($A16,'Export base de données'!$A:$I,7,FALSE) -> #N/A | H16: =VLOOKUP($A16,'Export base de données'!$A:$I,8,FALSE) -> #N/A | I16: OK | J16: =VLOOKUP($A16,'TRANSMISSION INFOS'!$A:$K,12,FALSE) -> #N/A | K16: OK | L16: =VLOOKUP($A16,'TRANSMISSION INFOS'!$A$2:$N$600,13,FALSE) -> #N/A | M16: =VLOOKUP($A16,'TRANSMISSION INFOS'!$A$2:$N$300,14,FALSE) -> #N/A | N16: =VLOOKUP($A16,'TRANSMISSION INFOS'!$A$2:$N$600,15,FALSE) -> #N/A | O16: =VLOOKUP($A16,'TRANSMISSION INFOS'!$A$2:$O$600,16,FALSE) -> #N/A
A17: 3862301577 | B17: =VLOOKUP($A17,'Export base de données'!$A:$I,2,FALSE) -> #N/A | C17: =VLOOKUP($A17,'Export base de données'!$A:$I,3,FALSE) -> #N/A | D17: =VLOOKUP($A17,'Export base de données'!$A:$I,5,FALSE) -> #N/A | E17: =VLOOKUP($A17,'TRANSMISSION INFOS'!$A$2:$N$600,5,FALSE) -> #N/A | F17: =VLOOKUP($A17,'Export base de données'!$A:$I,6,FALSE) -> #N/A | G17: =VLOOKUP($A17,'Export base de données'!$A:$I,7,FALSE) -> #N/A | H17: =VLOOKUP($A17,'Export base de données'!$A:$I,8,FALSE) -> #N/A | I17: OK | J17: =VLOOKUP($A17,'TRANSMISSION INFOS'!$A:$K,12,FALSE) -> #N/A | K17: OK | L17: =VLOOKUP($A17,'TRANSMISSION INFOS'!$A$2:$N$600,13,FALSE) -> #N/A | M17: =VLOOKUP($A17,'TRANSMISSION INFOS'!$A$2:$N$300,14,FALSE) -> #N/A | N17: =VLOOKUP($A17,'TRANSMISSION INFOS'!$A$2:$N$600,15,FALSE) -> #N/A | O17: =VLOOKUP($A17,'TRANSMISSION INFOS'!$A$2:$O$600,16,FALSE) -> #N/A
A18: 4282960246 | B18: =VLOOKUP($A18,'Export base de données'!$A:$I,2,FALSE) -> #N/A | C18: =VLOOKUP($A18,'Export base de données'!$A:$I,3,FALSE) -> #N/A | D18: =VLOOKUP($A18,'Export base de données'!$A:$I,5,FALSE) -> #N/A | E18: =VLOOKUP($A18,'TRANSMISSION INFOS'!$A$2:$N$600,5,FALSE) -> #N/A | F18: =VLOOKUP($A18,'Export base de données'!$A:$I,6,FALSE) -> #N/A | G18: =VLOOKUP($A18,'Export base de données'!$A:$I,7,FALSE) -> #N/A | H18: =VLOOKUP($A18,'Export base de données'!$A:$I,8,FALSE) -> #N/A | I18: OK | J18: =VLOOKUP($A18,'TRANSMISSION INFOS'!$A:$K,12,FALSE) -> #N/A | K18: OK | L18: =VLOOKUP($A18,'TRANSMISSION INFOS'!$A$2:$N$600,13,FALSE) -> #N/A | M18: =VLOOKUP($A18,'TRANSMISSION INFOS'!$A$2:$N$300,14,FALSE) -> #N/A | N18: =VLOOKUP($A18,'TRANSMISSION INFOS'!$A$2:$N$600,15,FALSE) -> #N/A | O18: =VLOOKUP($A18,'TRANSMISSION INFOS'!$A$2:$O$600,16,FALSE) -> #N/A
A19: 4062376140 | B19: =VLOOKUP($A19,'Export base de données'!$A:$I,2,FALSE) -> #N/A | C19: =VLOOKUP($A19,'Export base de données'!$A:$I,3,FALSE) -> #N/A | D19: =VLOOKUP($A19,'Export base de données'!$A:$I,5,FALSE) -> #N/A | E19: =VLOOKUP($A19,'TRANSMISSION INFOS'!$A$2:$N$600,5,FALSE) -> #N/A | F19: =VLOOKUP($A19,'Export base de données'!$A:$I,6,FALSE) -> #N/A | G19: =VLOOKUP($A19,'Export base de données'!$A:$I,7,FALSE) -> #N/A | H19: =VLOOKUP($A19,'Export base de données'!$A:$I,8,FALSE) -> #N/A | I19: OK | J19: =VLOOKUP($A19,'TRANSMISSION INFOS'!$A:$K,12,FALSE) -> #N/A | K19: OK | L19: =VLOOKUP($A19,'TRANSMISSION INFOS'!$A$2:$N$600,13,FALSE) -> #N/A | M19: =VLOOKUP($A19,'TRANSMISSION INFOS'!$A$2:$N$300,14,FALSE) -> #N/A | N19: =VLOOKUP($A19,'TRANSMISSION INFOS'!$A$2:$N$600,15,FALSE) -> #N/A | O19: =VLOOKUP($A19,'TRANSMISSION INFOS'!$A$2:$O$600,16,FALSE) -> #N/A
A20: 4062377122 | B20: =VLOOKUP($A20,'Export base de données'!$A:$I,2,FALSE) -> #N/A | C20: =VLOOKUP($A20,'Export base de données'!$A:$I,3,FALSE) -> #N/A | D20: =VLOOKUP($A20,'Export base de données'!$A:$I,5,FALSE) -> #N/A | E20: =VLOOKUP($A20,'TRANSMISSION INFOS'!$A$2:$N$600,5,FALSE) -> #N/A | F20: =VLOOKUP($A20,'Export base de données'!$A:$I,6,FALSE) -> #N/A | G20: =VLOOKUP($A20,'Export base de données'!$A:$I,7,FALSE) -> #N/A | H20: =VLOOKUP($A20,'Export base de données'!$A:$I,8,FALSE) -> #N/A | I20: OK | J20: =VLOOKUP($A20,'TRANSMISSION INFOS'!$A:$K,12,FALSE) -> #N/A | K20: OK | L20: =VLOOKUP($A20,'TRANSMISSION INFOS'!$A$2:$N$600,13,FALSE) -> #N/A | M20: =VLOOKUP($A20,'TRANSMISSION INFOS'!$A$2:$N$300,14,FALSE) -> #N/A | N20: =VLOOKUP($A20,'TRANSMISSION INFOS'!$A$2:$N$600,15,FALSE) -> #N/A | O20: =VLOOKUP($A20,'TRANSMISSION INFOS'!$A$2:$O$600,16,FALSE) -> #N/A
A21: 4059493320 | B21: =VLOOKUP($A21,'Export base de données'!$A:$I,2,FALSE) -> #N/A | C21: =VLOOKUP($A21,'Export base de données'!$A:$I,3,FALSE) -> #N/A | D21: =VLOOKUP($A21,'Export base de données'!$A:$I,5,FALSE) -> #N/A | E21: =VLOOKUP($A21,'TRANSMISSION INFOS'!$A$2:$N$600,5,FALSE) -> #N/A | F21: =VLOOKUP($A21,'Export base de données'!$A:$I,6,FALSE) -> #N/A | G21: =VLOOKUP($A21,'Export base de données'!$A:$I,7,FALSE) -> #N/A | H21: =VLOOKUP($A21,'Export base de données'!$A:$I,8,FALSE) -> #N/A | I21: OK | J21: =VLOOKUP($A21,'TRANSMISSION INFOS'!$A:$K,12,FALSE) -> #N/A | K21: OK | L21: =VLOOKUP($A21,'TRANSMISSION INFOS'!$A$2:$N$197,13,FALSE) -> #N/A | M21: =VLOOKUP($A21,'TRANSMISSION INFOS'!$A$2:$N$197,14,FALSE) -> #N/A | N21: =VLOOKUP($A21,'TRANSMISSION INFOS'!$A$2:$N$197,15,FALSE) -> #N/A | O21: =VLOOKUP($A21,'TRANSMISSION INFOS'!$A$2:$O$600,16,FALSE) -> #N/A
A22: 4060720299 | B22: =VLOOKUP($A22,'Export base de données'!$A:$I,2,FALSE) -> #N/A | C22: =VLOOKUP($A22,'Export base de données'!$A:$I,3,FALSE) -> #N/A | D22: =VLOOKUP($A22,'Export base de données'!$A:$I,5,FALSE) -> #N/A | E22: =VLOOKUP($A22,'TRANSMISSION INFOS'!$A$2:$N$600,5,FALSE) -> #N/A | F22: =VLOOKUP($A22,'Export base de données'!$A:$I,6,FALSE) -> #N/A | G22: =VLOOKUP($A22,'Export base de données'!$A:$I,7,FALSE) -> #N/A | H22: =VLOOKUP($A22,'Export base de données'!$A:$I,8,FALSE) -> #N/A | I22: OK | J22: =VLOOKUP($A22,'TRANSMISSION INFOS'!$A:$K,12,FALSE) -> #N/A | K22: OK | L22: =VLOOKUP($A22,'TRANSMISSION INFOS'!$A$2:$N$197,13,FALSE) -> #N/A | M22: =VLOOKUP($A22,'TRANSMISSION INFOS'!$A$2:$N$197,14,FALSE) -> #N/A | N22: =VLOOKUP($A22,'TRANSMISSION INFOS'!$A$2:$N$197,15,FALSE) -> #N/A | O22: =VLOOKUP($A22,'TRANSMISSION INFOS'!$A$2:$O$600,16,FALSE) -> #N/A
A23: 4059493643 | B23: =VLOOKUP($A23,'Export base de données'!$A:$I,2,FALSE) -> #N/A | C23: =VLOOKUP($A23,'Export base de données'!$A:$I,3,FALSE) -> #N/A | D23: =VLOOKUP($A23,'Export base de données'!$A:$I,5,FALSE) -> #N/A | E23: =VLOOKUP($A23,'TRANSMISSION INFOS'!$A$2:$N$600,5,FALSE) -> #N/A | F23: =VLOOKUP($A23,'Export base de données'!$A:$I,6,FALSE) -> #N/A | G23: =VLOOKUP($A23,'Export base de données'!$A:$I,7,FALSE) -> #N/A | H23: =VLOOKUP($A23,'Export base de données'!$A:$I,8,FALSE) -> #N/A | I23: OK | J23: =VLOOKUP($A23,'TRANSMISSION INFOS'!$A:$K,12,FALSE) -> #N/A | K23: OK | L23: =VLOOKUP($A23,'TRANSMISSION INFOS'!$A$2:$N$197,13,FALSE) -> #N/A | M23: =VLOOKUP($A23,'TRANSMISSION INFOS'!$A$2:$N$197,14,FALSE) -> #N/A | N23: =VLOOKUP($A23,'TRANSMISSION INFOS'!$A$2:$N$197,15,FALSE) -> #N/A | O23: =VLOOKUP($A23,'TRANSMISSION INFOS'!$A$2:$O$600,16,FALSE) -> #N/A
A24: 4060720372 | B24: =VLOOKUP($A24,'Export base de données'!$A:$I,2,FALSE) -> #N/A | C24: =VLOOKUP($A24,'Export base de données'!$A:$I,3,FALSE) -> #N/A | D24: =VLOOKUP($A24,'Export base de données'!$A:$I,5,FALSE) -> #N/A | E24: =VLOOKUP($A24,'TRANSMISSION INFOS'!$A$2:$N$600,5,FALSE) -> #N/A | F24: =VLOOKUP($A24,'Export base de données'!$A:$I,6,FALSE) -> #N/A | G24: =VLOOKUP($A24,'Export base de données'!$A:$I,7,FALSE) -> #N/A | H24: =VLOOKUP($A24,'Export base de données'!$A:$I,8,FALSE) -> #N/A | I24: OK | J24: =VLOOKUP($A24,'TRANSMISSION INFOS'!$A:$K,12,FALSE) -> #N/A | K24: OK | L24: =VLOOKUP($A24,'TRANSMISSION INFOS'!$A$2:$N$197,13,FALSE) -> #N/A | M24: =VLOOKUP($A24,'TRANSMISSION INFOS'!$A$2:$N$197,14,FALSE) -> #N/A | N24: =VLOOKUP($A24,'TRANSMISSION INFOS'!$A$2:$N$197,15,FALSE) -> #N/A | O24: =VLOOKUP($A24,'TRANSMISSION INFOS'!$A$2:$O$600,16,FALSE) -> #N/A
A25: 4060724184 | B25: =VLOOKUP($A25,'Export base de données'!$A:$I,2,FALSE) -> #N/A | C25: =VLOOKUP($A25,'Export base de données'!$A:$I,3,FALSE) -> #N/A | D25: =VLOOKUP($A25,'Export base de données'!$A:$I,5,FALSE) -> #N/A | E25: =VLOOKUP($A25,'TRANSMISSION INFOS'!$A$2:$N$600,5,FALSE) -> #N/A | F25: =VLOOKUP($A25,'Export base de données'!$A:$I,6,FALSE) -> #N/A | G25: =VLOOKUP($A25,'Export base de données'!$A:$I,7,FALSE) -> #N/A | H25: =VLOOKUP($A25,'Export base de données'!$A:$I,8,FALSE) -> #N/A | I25: OK | J25: =VLOOKUP($A25,'TRANSMISSION INFOS'!$A:$K,12,FALSE) -> #N/A | K25: OK | L25: =VLOOKUP($A25,'TRANSMISSION INFOS'!$A$2:$N$600,13,FALSE) -> #N/A | M25: =VLOOKUP($A25,'TRANSMISSION INFOS'!$A$2:$N$300,14,FALSE) -> #N/A | N25: =VLOOKUP($A25,'TRANSMISSION INFOS'!$A$2:$N$600,15,FALSE) -> #N/A | O25: =VLOOKUP($A25,'TRANSMISSION INFOS'!$A$2:$O$600,16,FALSE) -> #N/A
A26: 4060724127 | B26: =VLOOKUP($A26,'Export base de données'!$A:$I,2,FALSE) -> #N/A | C26: =VLOOKUP($A26,'Export base de données'!$A:$I,3,FALSE) -> #N/A | D26: =VLOOKUP($A26,'Export base de données'!$A:$I,5,FALSE) -> #N/A | E26: =VLOOKUP($A26,'TRANSMISSION INFOS'!$A$2:$N$600,5,FALSE) -> #N/A | F26: =VLOOKUP($A26,'Export base de données'!$A:$I,6,FALSE) -> #N/A | G26: =VLOOKUP($A26,'Export base de données'!$A:$I,7,FALSE) -> #N/A | H26: =VLOOKUP($A26,'Export base de données'!$A:$I,8,FALSE) -> #N/A | I26: OK | J26: =VLOOKUP($A26,'TRANSMISSION INFOS'!$A:$K,12,FALSE) -> #N/A | K26: OK | L26: =VLOOKUP($A26,'TRANSMISSION INFOS'!$A$2:$N$600,13,FALSE) -> #N/A | M26: =VLOOKUP($A26,'TRANSMISSION INFOS'!$A$2:$N$300,14,FALSE) -> #N/A | N26: =VLOOKUP($A26,'TRANSMISSION INFOS'!$A$2:$N$600,15,FALSE) -> #N/A | O26: =VLOOKUP($A26,'TRANSMISSION INFOS'!$A$2:$O$600,16,FALSE) -> #N/A
A27: 4078800497 | B27: =VLOOKUP($A27,'Export base de données'!$A:$I,2,FALSE) -> #N/A | C27: =VLOOKUP($A27,'Export base de données'!$A:$I,3,FALSE) -> #N/A | D27: =VLOOKUP($A27,'Export base de données'!$A:$I,5,FALSE) -> #N/A | E27: =VLOOKUP($A27,'TRANSMISSION INFOS'!$A$2:$N$600,5,FALSE) -> #N/A | F27: =VLOOKUP($A27,'Export base de données'!$A:$I,6,FALSE) -> #N/A | G27: =VLOOKUP($A27,'Export base de données'!$A:$I,7,FALSE) -> #N/A | H27: =VLOOKUP($A27,'Export base de données'!$A:$I,8,FALSE) -> #N/A | I27: OK | J27: =VLOOKUP($A27,'TRANSMISSION INFOS'!$A:$K,12,FALSE) -> #N/A | K27: OK | L27: =VLOOKUP($A27,'TRANSMISSION INFOS'!$A$2:$N$600,13,FALSE) -> #N/A | M27: =VLOOKUP($A27,'TRANSMISSION INFOS'!$A$2:$N$300,14,FALSE) -> #N/A | N27: =VLOOKUP($A27,'TRANSMISSION INFOS'!$A$2:$N$600,15,FALSE) -> #N/A | O27: =VLOOKUP($A27,'TRANSMISSION INFOS'!$A$2:$O$600,16,FALSE) -> #N/A
A28: 4269221935 | B28: =VLOOKUP($A28,'Export base de données'!$A:$I,2,FALSE) -> #N/A | C28: =VLOOKUP($A28,'Export base de données'!$A:$I,3,FALSE) -> #N/A | D28: =VLOOKUP($A28,'Export base de données'!$A:$I,5,FALSE) -> #N/A | E28: =VLOOKUP($A28,'TRANSMISSION INFOS'!$A$2:$N$600,5,FALSE) -> #N/A | F28: =VLOOKUP($A28,'Export base de données'!$A:$I,6,FALSE) -> #N/A | G28: =VLOOKUP($A28,'Export base de données'!$A:$I,7,FALSE) -> #N/A | H28: =VLOOKUP($A28,'Export base de données'!$A:$I,8,FALSE) -> #N/A | I28: OK | J28: =VLOOKUP($A28,'TRANSMISSION INFOS'!$A:$K,12,FALSE) -> #N/A | K28: OK | L28: =VLOOKUP($A28,'TRANSMISSION INFOS'!$A$2:$N$600,13,FALSE) -> #N/A | M28: =VLOOKUP($A28,'TRANSMISSION INFOS'!$A$2:$N$300,14,FALSE) -> #N/A | N28: =VLOOKUP($A28,'TRANSMISSION INFOS'!$A$2:$N$600,15,FALSE) -> #N/A | O28: =VLOOKUP($A28,'TRANSMISSION INFOS'!$A$2:$O$600,16,FALSE) -> #N/A
A29: 4167127589 | B29: =VLOOKUP($A29,'Export base de données'!$A:$I,2,FALSE) -> #N/A | C29: =VLOOKUP($A29,'Export base de données'!$A:$I,3,FALSE) -> #N/A | D29: =VLOOKUP($A29,'Export base de données'!$A:$I,5,FALSE) -> #N/A | E29: =VLOOKUP($A29,'TRANSMISSION INFOS'!$A$2:$N$600,5,FALSE) -> #N/A | F29: =VLOOKUP($A29,'Export base de données'!$A:$I,6,FALSE) -> #N/A | G29: =VLOOKUP($A29,'Export base de données'!$A:$I,7,FALSE) -> #N/A | H29: =VLOOKUP($A29,'Export base de données'!$A:$I,8,FALSE) -> #N/A | I29: OK | J29: =VLOOKUP($A29,'TRANSMISSION INFOS'!$A:$K,12,FALSE) -> #N/A | K29: OK | L29: =VLOOKUP($A29,'TRANSMISSION INFOS'!$A$2:$N$600,13,FALSE) -> #N/A | M29: =VLOOKUP($A29,'TRANSMISSION INFOS'!$A$2:$N$300,14,FALSE) -> #N/A | N29: =VLOOKUP($A29,'TRANSMISSION INFOS'!$A$2:$N$600,15,FALSE) -> #N/A | O29: =VLOOKUP($A29,'TRANSMISSION INFOS'!$A$2:$O$600,16,FALSE) -> #N/A
A30: 4073781528 | B30: =VLOOKUP($A30,'Export base de données'!$A:$I,2,FALSE) -> #N/A | C30: =VLOOKUP($A30,'Export base de données'!$A:$I,3,FALSE) -> #N/A | D30: =VLOOKUP($A30,'Export base de données'!$A:$I,5,FALSE) -> #N/A | E30: =VLOOKUP($A30,'TRANSMISSION INFOS'!$A$2:$N$600,5,FALSE) -> #N/A | F30: =VLOOKUP($A30,'Export base de données'!$A:$I,6,FALSE) -> #N/A | G30: =VLOOKUP($A30,'Export base de données'!$A:$I,7,FALSE) -> #N/A | H30: =VLOOKUP($A30,'Export base de données'!$A:$I,8,FALSE) -> #N/A | I30: OK | J30: =VLOOKUP($A30,'TRANSMISSION INFOS'!$A:$K,12,FALSE) -> #N/A | K30: OK | L30: =VLOOKUP($A30,'TRANSMISSION INFOS'!$A$2:$N$600,13,FALSE) -> #N/A | M30: =VLOOKUP($A30,'TRANSMISSION INFOS'!$A$2:$N$300,14,FALSE) -> #N/A | N30: =VLOOKUP($A30,'TRANSMISSION INFOS'!$A$2:$N$600,15,FALSE) -> #N/A | O30: =VLOOKUP($A30,'TRANSMISSION INFOS'!$A$2:$O$600,16,FALSE) -> #N/A
A31: 3958198086 | B31: =VLOOKUP($A31,'Export base de données'!$A:$I,2,FALSE) -> #N/A | C31: =VLOOKUP($A31,'Export base de données'!$A:$I,3,FALSE) -> #N/A | D31: =VLOOKUP($A31,'Export base de données'!$A:$I,5,FALSE) -> #N/A | E31: =VLOOKUP($A31,'TRANSMISSION INFOS'!$A$2:$N$600,5,FALSE) -> #N/A | F31: =VLOOKUP($A31,'Export base de données'!$A:$I,6,FALSE) -> #N/A | G31: =VLOOKUP($A31,'Export base de données'!$A:$I,7,FALSE) -> #N/A | H31: =VLOOKUP($A31,'Export base de données'!$A:$I,8,FALSE) -> #N/A | I31: OK | J31: =VLOOKUP($A31,'TRANSMISSION INFOS'!$A:$K,12,FALSE) -> #N/A | K31: OK | L31: =VLOOKUP($A31,'TRANSMISSION INFOS'!$A$2:$N$600,13,FALSE) -> #N/A | M31: =VLOOKUP($A31,'TRANSMISSION INFOS'!$A$2:$N$300,14,FALSE) -> #N/A | N31: =VLOOKUP($A31,'TRANSMISSION INFOS'!$A$2:$N$600,15,FALSE) -> #N/A | O31: =VLOOKUP($A31,'TRANSMISSION INFOS'!$A$2:$O$600,16,FALSE) -> #N/A
A32: 3967472340 | B32: =VLOOKUP($A32,'Export base de données'!$A:$I,2,FALSE) -> #N/A | C32: =VLOOKUP($A32,'Export base de données'!$A:$I,3,FALSE) -> #N/A | D32: =VLOOKUP($A32,'Export base de données'!$A:$I,5,FALSE) -> #N/A | E32: =VLOOKUP($A32,'TRANSMISSION INFOS'!$A$2:$N$600,5,FALSE) -> #N/A | F32: =VLOOKUP($A32,'Export base de données'!$A:$I,6,FALSE) -> #N/A | G32: =VLOOKUP($A32,'Export base de données'!$A:$I,7,FALSE) -> #N/A | H32: =VLOOKUP($A32,'Export base de données'!$A:$I,8,FALSE) -> #N/A | I32: OK | J32: =VLOOKUP($A32,'TRANSMISSION INFOS'!$A:$K,12,FALSE) -> #N/A | K32: OK | L32: =VLOOKUP($A32,'TRANSMISSION INFOS'!$A$2:$N$600,13,FALSE) -> #N/A | M32: =VLOOKUP($A32,'TRANSMISSION INFOS'!$A$2:$N$300,14,FALSE) -> #N/A | N32: =VLOOKUP($A32,'TRANSMISSION INFOS'!$A$2:$N$600,15,FALSE) -> #N/A | O32: =VLOOKUP($A32,'TRANSMISSION INFOS'!$A$2:$O$600,16,FALSE) -> #N/A
A33: 3963357321 | B33: =VLOOKUP($A33,'Export base de données'!$A:$I,2,FALSE) -> #N/A | C33: =VLOOKUP($A33,'Export base de données'!$A:$I,3,FALSE) -> #N/A | D33: =VLOOKUP($A33,'Export base de données'!$A:$I,5,FALSE) -> #N/A | E33: =VLOOKUP($A33,'TRANSMISSION INFOS'!$A$2:$N$600,5,FALSE) -> #N/A | F33: =VLOOKUP($A33,'Export base de données'!$A:$I,6,FALSE) -> #N/A | G33: =VLOOKUP($A33,'Export base de données'!$A:$I,7,FALSE) -> #N/A | H33: =VLOOKUP($A33,'Export base de données'!$A:$I,8,FALSE) -> #N/A | I33: OK | J33: =VLOOKUP($A33,'TRANSMISSION INFOS'!$A:$K,12,FALSE) -> #N/A | K33: OK | L33: =VLOOKUP($A33,'TRANSMISSION INFOS'!$A$2:$N$600,13,FALSE) -> #N/A | M33: =VLOOKUP($A33,'TRANSMISSION INFOS'!$A$2:$N$300,14,FALSE) -> #N/A | N33: =VLOOKUP($A33,'TRANSMISSION INFOS'!$A$2:$N$600,15,FALSE) -> #N/A | O33: =VLOOKUP($A33,'TRANSMISSION INFOS'!$A$2:$O$600,16,FALSE) -> #N/A
A34: 4259570275 | B34: =VLOOKUP($A34,'Export base de données'!$A:$I,2,FALSE) -> #N/A | C34: =VLOOKUP($A34,'Export base de données'!$A:$I,3,FALSE) -> #N/A | D34: =VLOOKUP($A34,'Export base de données'!$A:$I,5,FALSE) -> #N/A | E34: =VLOOKUP($A34,'TRANSMISSION INFOS'!$A$2:$N$600,5,FALSE) -> #N/A | F34: =VLOOKUP($A34,'Export base de données'!$A:$I,6,FALSE) -> #N/A | G34: =VLOOKUP($A34,'Export base de données'!$A:$I,7,FALSE) -> #N/A | H34: =VLOOKUP($A34,'Export base de données'!$A:$I,8,FALSE) -> #N/A | I34: OK | J34: =VLOOKUP($A34,'TRANSMISSION INFOS'!$A:$K,12,FALSE) -> #N/A | K34: OK | L34: =VLOOKUP($A34,'TRANSMISSION INFOS'!$A$2:$N$197,13,FALSE) -> #N/A | M34: =VLOOKUP($A34,'TRANSMISSION INFOS'!$A$2:$N$197,14,FALSE) -> #N/A | N34: =VLOOKUP($A34,'TRANSMISSION INFOS'!$A$2:$N$197,15,FALSE) -> #N/A | O34: =VLOOKUP($A34,'TRANSMISSION INFOS'!$A$2:$O$600,16,FALSE) -> #N/A
A35: 4259805598 | B35: =VLOOKUP($A35,'Export base de données'!$A:$I,2,FALSE) -> #N/A | C35: =VLOOKUP($A35,'Export base de données'!$A:$I,3,FALSE) -> #N/A | D35: =VLOOKUP($A35,'Export base de données'!$A:$I,5,FALSE) -> #N/A | E35: =VLOOKUP($A35,'TRANSMISSION INFOS'!$A$2:$N$600,5,FALSE) -> #N/A | F35: =VLOOKUP($A35,'Export base de données'!$A:$I,6,FALSE) -> #N/A | G35: =VLOOKUP($A35,'Export base de données'!$A:$I,7,FALSE) -> #N/A | H35: =VLOOKUP($A35,'Export base de données'!$A:$I,8,FALSE) -> #N/A | I35: OK | J35: =VLOOKUP($A35,'TRANSMISSION INFOS'!$A:$K,12,FALSE) -> #N/A | K35: OK | L35: =VLOOKUP($A35,'TRANSMISSION INFOS'!$A$2:$N$600,13,FALSE) -> #N/A | M35: =VLOOKUP($A35,'TRANSMISSION INFOS'!$A$2:$N$300,14,FALSE) -> #N/A | N35: =VLOOKUP($A35,'TRANSMISSION INFOS'!$A$2:$N$600,15,FALSE) -> #N/A | O35: =VLOOKUP($A35,'TRANSMISSION INFOS'!$A$2:$O$600,16,FALSE) -> #N/A
A36: 4081784738 | B36: =VLOOKUP($A36,'Export base de données'!$A:$I,2,FALSE) -> #N/A | C36: =VLOOKUP($A36,'Export base de données'!$A:$I,3,FALSE) -> #N/A | D36: =VLOOKUP($A36,'Export base de données'!$A:$I,5,FALSE) -> #N/A | E36: =VLOOKUP($A36,'TRANSMISSION INFOS'!$A$2:$N$600,5,FALSE) -> #N/A | F36: =VLOOKUP($A36,'Export base de données'!$A:$I,6,FALSE) -> #N/A | G36: =VLOOKUP($A36,'Export base de données'!$A:$I,7,FALSE) -> #N/A | H36: =VLOOKUP($A36,'Export base de données'!$A:$I,8,FALSE) -> #N/A | I36: OK | J36: =VLOOKUP($A36,'TRANSMISSION INFOS'!$A:$K,12,FALSE) -> #N/A | K36: OK | L36: =VLOOKUP($A36,'TRANSMISSION INFOS'!$A$2:$N$600,13,FALSE) -> #N/A | M36: =VLOOKUP($A36,'TRANSMISSION INFOS'!$A$2:$N$300,14,FALSE) -> #N/A | N36: =VLOOKUP($A36,'TRANSMISSION INFOS'!$A$2:$N$600,15,FALSE) -> #N/A | O36: =VLOOKUP($A36,'TRANSMISSION INFOS'!$A$2:$O$600,16,FALSE) -> #N/A
A37: 3975203166 | B37: =VLOOKUP($A37,'Export base de données'!$A:$I,2,FALSE) -> #N/A | C37: =VLOOKUP($A37,'Export base de données'!$A:$I,3,FALSE) -> #N/A | D37: =VLOOKUP($A37,'Export base de données'!$A:$I,5,FALSE) -> #N/A | E37: =VLOOKUP($A37,'TRANSMISSION INFOS'!$A$2:$N$600,5,FALSE) -> #N/A | F37: =VLOOKUP($A37,'Export base de données'!$A:$I,6,FALSE) -> #N/A | G37: =VLOOKUP($A37,'Export base de données'!$A:$I,7,FALSE) -> #N/A | H37: =VLOOKUP($A37,'Export base de données'!$A:$I,8,FALSE) -> #N/A | I37: OK | J37: =VLOOKUP($A37,'TRANSMISSION INFOS'!$A:$K,12,FALSE) -> #N/A | K37: OK | L37: =VLOOKUP($A37,'TRANSMISSION INFOS'!$A$2:$N$600,13,FALSE) -> #N/A | M37: =VLOOKUP($A37,'TRANSMISSION INFOS'!$A$2:$N$300,14,FALSE) -> #N/A | N37: =VLOOKUP($A37,'TRANSMISSION INFOS'!$A$2:$N$600,15,FALSE) -> #N/A | O37: =VLOOKUP($A37,'TRANSMISSION INFOS'!$A$2:$O$600,16,FALSE) -> #N/A
A38: 4064557911 | B38: =VLOOKUP($A38,'Export base de données'!$A:$I,2,FALSE) -> #N/A | C38: =VLOOKUP($A38,'Export base de données'!$A:$I,3,FALSE) -> #N/A | D38: =VLOOKUP($A38,'Export base de données'!$A:$I,5,FALSE) -> #N/A | E38: =VLOOKUP($A38,'TRANSMISSION INFOS'!$A$2:$N$600,5,FALSE) -> #N/A | F38: =VLOOKUP($A38,'Export base de données'!$A:$I,6,FALSE) -> #N/A | G38: =VLOOKUP($A38,'Export base de données'!$A:$I,7,FALSE) -> #N/A | H38: =VLOOKUP($A38,'Export base de données'!$A:$I,8,FALSE) -> #N/A | I38: OK | J38: =VLOOKUP($A38,'TRANSMISSION INFOS'!$A:$K,12,FALSE) -> #N/A | K38: OK | L38: =VLOOKUP($A38,'TRANSMISSION INFOS'!$A$2:$N$600,13,FALSE) -> #N/A | M38: =VLOOKUP($A38,'TRANSMISSION INFOS'!$A$2:$N$300,14,FALSE) -> #N/A | N38: =VLOOKUP($A38,'TRANSMISSION INFOS'!$A$2:$N$600,15,FALSE) -> #N/A | O38: =VLOOKUP($A38,'TRANSMISSION INFOS'!$A$2:$O$600,16,FALSE) -> #N/A
A39: 4057349672 | B39: =VLOOKUP($A39,'Export base de données'!$A:$I,2,FALSE) -> #N/A | C39: =VLOOKUP($A39,'Export base de données'!$A:$I,3,FALSE) -> #N/A | D39: =VLOOKUP($A39,'Export base de données'!$A:$I,5,FALSE) -> #N/A | E39: =VLOOKUP($A39,'TRANSMISSION INFOS'!$A$2:$N$600,5,FALSE) -> #N/A | F39: =VLOOKUP($A39,'Export base de données'!$A:$I,6,FALSE) -> #N/A | G39: =VLOOKUP($A39,'Export base de données'!$A:$I,7,FALSE) -> #N/A | H39: =VLOOKUP($A39,'Export base de données'!$A:$I,8,FALSE) -> #N/A | I39: OK | J39: =VLOOKUP($A39,'TRANSMISSION INFOS'!$A:$K,12,FALSE) -> #N/A | K39: OK | L39: =VLOOKUP($A39,'TRANSMISSION INFOS'!$A$2:$N$600,13,FALSE) -> #N/A | M39: =VLOOKUP($A39,'TRANSMISSION INFOS'!$A$2:$N$300,14,FALSE) -> #N/A | N39: =VLOOKUP($A39,'TRANSMISSION INFOS'!$A$2:$N$600,15,FALSE) -> #N/A | O39: =VLOOKUP($A39,'TRANSMISSION INFOS'!$A$2:$O$600,16,FALSE) -> #N/A
A40: 4057363228 | B40: =VLOOKUP($A40,'Export base de données'!$A:$I,2,FALSE) -> #N/A | C40: =VLOOKUP($A40,'Export base de données'!$A:$I,3,FALSE) -> #N/A | D40: =VLOOKUP($A40,'Export base de données'!$A:$I,5,FALSE) -> #N/A | E40: =VLOOKUP($A40,'TRANSMISSION INFOS'!$A$2:$N$600,5,FALSE) -> #N/A | F40: =VLOOKUP($A40,'Export base de données'!$A:$I,6,FALSE) -> #N/A | G40: =VLOOKUP($A40,'Export base de données'!$A:$I,7,FALSE) -> #N/A | H40: =VLOOKUP($A40,'Export base de données'!$A:$I,8,FALSE) -> #N/A | I40: OK | J40: =VLOOKUP($A40,'TRANSMISSION INFOS'!$A:$K,12,FALSE) -> #N/A | K40: OK | L40: =VLOOKUP($A40,'TRANSMISSION INFOS'!$A$2:$N$600,13,FALSE) -> #N/A | M40: =VLOOKUP($A40,'TRANSMISSION INFOS'!$A$2:$N$300,14,FALSE) -> #N/A | N40: =VLOOKUP($A40,'TRANSMISSION INFOS'!$A$2:$N$600,15,FALSE) -> #N/A | O40: =VLOOKUP($A40,'TRANSMISSION INFOS'!$A$2:$O$600,16,FALSE) -> #N/A
A41: 4057363384 | B41: =VLOOKUP($A41,'Export base de données'!$A:$I,2,FALSE) -> #N/A | C41: =VLOOKUP($A41,'Export base de données'!$A:$I,3,FALSE) -> #N/A | D41: =VLOOKUP($A41,'Export base de données'!$A:$I,5,FALSE) -> #N/A | E41: =VLOOKUP($A41,'TRANSMISSION INFOS'!$A$2:$N$600,5,FALSE) -> #N/A | F41: =VLOOKUP($A41,'Export base de données'!$A:$I,6,FALSE) -> #N/A | G41: =VLOOKUP($A41,'Export base de données'!$A:$I,7,FALSE) -> #N/A | H41: =VLOOKUP($A41,'Export base de données'!$A:$I,8,FALSE) -> #N/A | I41: OK | J41: =VLOOKUP($A41,'TRANSMISSION INFOS'!$A:$K,12,FALSE) -> #N/A | K41: OK | L41: =VLOOKUP($A41,'TRANSMISSION INFOS'!$A$2:$N$197,13,FALSE) -> #N/A | M41: =VLOOKUP($A41,'TRANSMISSION INFOS'!$A$2:$N$197,14,FALSE) -> #N/A | N41: =VLOOKUP($A41,'TRANSMISSION INFOS'!$A$2:$N$197,15,FALSE) -> #N/A | O41: =VLOOKUP($A41,'TRANSMISSION INFOS'!$A$2:$O$600,16,FALSE) -> #N/A
A42: 3889511232 | B42: =VLOOKUP($A42,'Export base de données'!$A:$I,2,FALSE) -> #N/A | C42: =VLOOKUP($A42,'Export base de données'!$A:$I,3,FALSE) -> #N/A | D42: =VLOOKUP($A42,'Export base de données'!$A:$I,5,FALSE) -> #N/A | E42: =VLOOKUP($A42,'TRANSMISSION INFOS'!$A$2:$N$600,5,FALSE) -> #N/A | F42: =VLOOKUP($A42,'Export base de données'!$A:$I,6,FALSE) -> #N/A | G42: =VLOOKUP($A42,'Export base de données'!$A:$I,7,FALSE) -> #N/A | H42: =VLOOKUP($A42,'Export base de données'!$A:$I,8,FALSE) -> #N/A | I42: OK | J42: =VLOOKUP($A42,'TRANSMISSION INFOS'!$A:$K,12,FALSE) -> #N/A | K42: OK | L42: =VLOOKUP($A42,'TRANSMISSION INFOS'!$A$2:$N$600,13,FALSE) -> #N/A | M42: =VLOOKUP($A42,'TRANSMISSION INFOS'!$A$2:$N$300,14,FALSE) -> #N/A | N42: =VLOOKUP($A42,'TRANSMISSION INFOS'!$A$2:$N$600,15,FALSE) -> #N/A | O42: =VLOOKUP($A42,'TRANSMISSION INFOS'!$A$2:$O$600,16,FALSE) -> #N/A
A43: 3967571125 | B43: =VLOOKUP($A43,'Export base de données'!$A:$I,2,FALSE) -> #N/A | C43: =VLOOKUP($A43,'Export base de données'!$A:$I,3,FALSE) -> #N/A | D43: =VLOOKUP($A43,'Export base de données'!$A:$I,5,FALSE) -> #N/A | E43: =VLOOKUP($A43,'TRANSMISSION INFOS'!$A$2:$N$600,5,FALSE) -> #N/A | F43: =VLOOKUP($A43,'Export base de données'!$A:$I,6,FALSE) -> #N/A | G43: =VLOOKUP($A43,'Export base de données'!$A:$I,7,FALSE) -> #N/A | H43: =VLOOKUP($A43,'Export base de données'!$A:$I,8,FALSE) -> #N/A | I43: OK | J43: =VLOOKUP($A43,'TRANSMISSION INFOS'!$A:$K,12,FALSE) -> #N/A | K43: OK | L43: =VLOOKUP($A43,'TRANSMISSION INFOS'!$A$2:$N$600,13,FALSE) -> #N/A | M43: =VLOOKUP($A43,'TRANSMISSION INFOS'!$A$2:$N$300,14,FALSE) -> #N/A | N43: =VLOOKUP($A43,'TRANSMISSION INFOS'!$A$2:$N$600,15,FALSE) -> #N/A | O43: =VLOOKUP($A43,'TRANSMISSION INFOS'!$A$2:$O$600,16,FALSE) -> #N/A
A44: 3869092401 | B44: =VLOOKUP($A44,'Export base de données'!$A:$I,2,FALSE) -> #N/A | C44: =VLOOKUP($A44,'Export base de données'!$A:$I,3,FALSE) -> #N/A | D44: =VLOOKUP($A44,'Export base de données'!$A:$I,5,FALSE) -> #N/A | E44: =VLOOKUP($A44,'TRANSMISSION INFOS'!$A$2:$N$600,5,FALSE) -> #N/A | F44: =VLOOKUP($A44,'Export base de données'!$A:$I,6,FALSE) -> #N/A | G44: =VLOOKUP($A44,'Export base de données'!$A:$I,7,FALSE) -> #N/A | H44: =VLOOKUP($A44,'Export base de données'!$A:$I,8,FALSE) -> #N/A | I44: OK | J44: =VLOOKUP($A44,'TRANSMISSION INFOS'!$A:$K,12,FALSE) -> #N/A | K44: OK | L44: =VLOOKUP($A44,'TRANSMISSION INFOS'!$A$2:$N$197,13,FALSE) -> #N/A | M44: =VLOOKUP($A44,'TRANSMISSION INFOS'!$A$2:$N$197,14,FALSE) -> #N/A | N44: =VLOOKUP($A44,'TRANSMISSION INFOS'!$A$2:$N$197,15,FALSE) -> #N/A | O44: =VLOOKUP($A44,'TRANSMISSION INFOS'!$A$2:$O$600,16,FALSE) -> #N/A
A45: 3967998237 | B45: =VLOOKUP($A45,'Export base de données'!$A:$I,2,FALSE) -> #N/A | C45: =VLOOKUP($A45,'Export base de données'!$A:$I,3,FALSE) -> #N/A | D45: =VLOOKUP($A45,'Export base de données'!$A:$I,5,FALSE) -> #N/A | E45: =VLOOKUP($A45,'TRANSMISSION INFOS'!$A$2:$N$600,5,FALSE) -> #N/A | F45: =VLOOKUP($A45,'Export base de données'!$A:$I,6,FALSE) -> #N/A | G45: =VLOOKUP($A45,'Export base de données'!$A:$I,7,FALSE) -> #N/A | H45: =VLOOKUP($A45,'Export base de données'!$A:$I,8,FALSE) -> #N/A | I45: OK | J45: =VLOOKUP($A45,'TRANSMISSION INFOS'!$A:$K,12,FALSE) -> #N/A | K45: OK | L45: =VLOOKUP($A45,'TRANSMISSION INFOS'!$A$2:$N$600,13,FALSE) -> #N/A | M45: =VLOOKUP($A45,'TRANSMISSION INFOS'!$A$2:$N$300,14,FALSE) -> #N/A | N45: =VLOOKUP($A45,'TRANSMISSION INFOS'!$A$2:$N$600,15,FALSE) -> #N/A | O45: =VLOOKUP($A45,'TRANSMISSION INFOS'!$A$2:$O$600,16,FALSE) -> #N/A
A46: 3862628458 | B46: =VLOOKUP($A46,'Export base de données'!$A:$I,2,FALSE) -> #N/A | C46: =VLOOKUP($A46,'Export base de données'!$A:$I,3,FALSE) -> #N/A | D46: =VLOOKUP($A46,'Export base de données'!$A:$I,5,FALSE) -> #N/A | E46: =VLOOKUP($A46,'TRANSMISSION INFOS'!$A$2:$N$600,5,FALSE) -> #N/A | F46: =VLOOKUP($A46,'Export base de données'!$A:$I,6,FALSE) -> #N/A | G46: =VLOOKUP($A46,'Export base de données'!$A:$I,7,FALSE) -> #N/A | H46: =VLOOKUP($A46,'Export base de données'!$A:$I,8,FALSE) -> #N/A | I46: OK | J46: =VLOOKUP($A46,'TRANSMISSION INFOS'!$A:$K,12,FALSE) -> #N/A | K46: OK | L46: =VLOOKUP($A46,'TRANSMISSION INFOS'!$A$2:$N$600,13,FALSE) -> #N/A | M46: =VLOOKUP($A46,'TRANSMISSION INFOS'!$A$2:$N$300,14,FALSE) -> #N/A | N46: =VLOOKUP($A46,'TRANSMISSION INFOS'!$A$2:$N$600,15,FALSE) -> #N/A | O46: =VLOOKUP($A46,'TRANSMISSION INFOS'!$A$2:$O$600,16,FALSE) -> #N/A
A47: 4189975320 | B47: =VLOOKUP($A47,'Export base de données'!$A:$I,2,FALSE) -> #N/A | C47: =VLOOKUP($A47,'Export base de données'!$A:$I,3,FALSE) -> #N/A | D47: =VLOOKUP($A47,'Export base de données'!$A:$I,5,FALSE) -> #N/A | E47: =VLOOKUP($A47,'TRANSMISSION INFOS'!$A$2:$N$600,5,FALSE) -> #N/A | F47: =VLOOKUP($A47,'Export base de données'!$A:$I,6,FALSE) -> #N/A | G47: =VLOOKUP($A47,'Export base de données'!$A:$I,7,FALSE) -> #N/A | H47: =VLOOKUP($A47,'Export base de données'!$A:$I,8,FALSE) -> #N/A | I47: OK | J47: =VLOOKUP($A47,'TRANSMISSION INFOS'!$A:$K,12,FALSE) -> #N/A | K47: OK | L47: =VLOOKUP($A47,'TRANSMISSION INFOS'!$A$2:$N$600,13,FALSE) -> #N/A | M47: =VLOOKUP($A47,'TRANSMISSION INFOS'!$A$2:$N$300,14,FALSE) -> #N/A | N47: =VLOOKUP($A47,'TRANSMISSION INFOS'!$A$2:$N$600,15,FALSE) -> #N/A | O47: =VLOOKUP($A47,'TRANSMISSION INFOS'!$A$2:$O$600,16,FALSE) -> #N/A
A48: 4085456093 | B48: =VLOOKUP($A48,'Export base de données'!$A:$I,2,FALSE) -> #N/A | C48: =VLOOKUP($A48,'Export base de données'!$A:$I,3,FALSE) -> #N/A | D48: =VLOOKUP($A48,'Export base de données'!$A:$I,5,FALSE) -> #N/A | E48: =VLOOKUP($A48,'TRANSMISSION INFOS'!$A$2:$N$600,5,FALSE) -> #N/A | F48: =VLOOKUP($A48,'Export base de données'!$A:$I,6,FALSE) -> #N/A | G48: =VLOOKUP($A48,'Export base de données'!$A:$I,7,FALSE) -> #N/A | H48: =VLOOKUP($A48,'Export base de données'!$A:$I,8,FALSE) -> #N/A | I48: OK | J48: =VLOOKUP($A48,'TRANSMISSION INFOS'!$A:$K,12,FALSE) -> #N/A | K48: OK | L48: =VLOOKUP($A48,'TRANSMISSION INFOS'!$A$2:$N$600,13,FALSE) -> #N/A | M48: =VLOOKUP($A48,'TRANSMISSION INFOS'!$A$2:$N$300,14,FALSE) -> #N/A | N48: =VLOOKUP($A48,'TRANSMISSION INFOS'!$A$2:$N$600,15,FALSE) -> #N/A | O48: =VLOOKUP($A48,'TRANSMISSION INFOS'!$A$2:$O$600,16,FALSE) -> #N/A
A49: 4070497466 | B49: =VLOOKUP($A49,'Export base de données'!$A:$I,2,FALSE) -> #N/A | C49: =VLOOKUP($A49,'Export base de données'!$A:$I,3,FALSE) -> #N/A | D49: =VLOOKUP($A49,'Export base de données'!$A:$I,5,FALSE) -> #N/A | E49: =VLOOKUP($A49,'TRANSMISSION INFOS'!$A$2:$N$600,5,FALSE) -> #N/A | F49: =VLOOKUP($A49,'Export base de données'!$A:$I,6,FALSE) -> #N/A | G49: =VLOOKUP($A49,'Export base de données'!$A:$I,7,FALSE) -> #N/A | H49: =VLOOKUP($A49,'Export base de données'!$A:$I,8,FALSE) -> #N/A | I49: OK | J49: =VLOOKUP($A49,'TRANSMISSION INFOS'!$A:$K,12,FALSE) -> #N/A | K49: OK | L49: =VLOOKUP($A49,'TRANSMISSION INFOS'!$A$2:$N$600,13,FALSE) -> #N/A | M49: =VLOOKUP($A49,'TRANSMISSION INFOS'!$A$2:$N$300,14,FALSE) -> #N/A | N49: =VLOOKUP($A49,'TRANSMISSION INFOS'!$A$2:$N$600,15,FALSE) -> #N/A | O49: =VLOOKUP($A49,'TRANSMISSION INFOS'!$A$2:$O$600,16,FALSE) -> #N/A
A50: 4059416099 | B50: =VLOOKUP($A50,'Export base de données'!$A:$I,2,FALSE) -> #N/A | C50: =VLOOKUP($A50,'Export base de données'!$A:$I,3,FALSE) -> #N/A | D50: =VLOOKUP($A50,'Export base de données'!$A:$I,5,FALSE) -> #N/A | E50: =VLOOKUP($A50,'TRANSMISSION INFOS'!$A$2:$N$600,5,FALSE) -> #N/A | F50: =VLOOKUP($A50,'Export base de données'!$A:$I,6,FALSE) -> #N/A | G50: =VLOOKUP($A50,'Export base de données'!$A:$I,7,FALSE) -> #N/A | H50: =VLOOKUP($A50,'Export base de données'!$A:$I,8,FALSE) -> #N/A | I50: OK | J50: =VLOOKUP($A50,'TRANSMISSION INFOS'!$A:$K,12,FALSE) -> #N/A | K50: OK | L50: =VLOOKUP($A50,'TRANSMISSION INFOS'!$A$2:$N$197,13,FALSE) -> #N/A | M50: =VLOOKUP($A50,'TRANSMISSION INFOS'!$A$2:$N$197,14,FALSE) -> #N/A | N50: =VLOOKUP($A50,'TRANSMISSION INFOS'!$A$2:$N$197,15,FALSE) -> #N/A | O50: =VLOOKUP($A50,'TRANSMISSION INFOS'!$A$2:$O$600,16,FALSE) -> #N/A
A51: 4268727379 | B51: =VLOOKUP($A51,'Export base de données'!$A:$I,2,FALSE) -> #N/A | C51: =VLOOKUP($A51,'Export base de données'!$A:$I,3,FALSE) -> #N/A | D51: =VLOOKUP($A51,'Export base de données'!$A:$I,5,FALSE) -> #N/A | E51: =VLOOKUP($A51,'TRANSMISSION INFOS'!$A$2:$N$600,5,FALSE) -> #N/A | F51: =VLOOKUP($A51,'Export base de données'!$A:$I,6,FALSE) -> #N/A | G51: =VLOOKUP($A51,'Export base de données'!$A:$I,7,FALSE) -> #N/A | H51: =VLOOKUP($A51,'Export base de données'!$A:$I,8,FALSE) -> #N/A | I51: OK | J51: =VLOOKUP($A51,'TRANSMISSION INFOS'!$A:$K,12,FALSE) -> #N/A | K51: OK | L51: =VLOOKUP($A51,'TRANSMISSION INFOS'!$A$2:$N$600,13,FALSE) -> #N/A | M51: =VLOOKUP($A51,'TRANSMISSION INFOS'!$A$2:$N$300,14,FALSE) -> #N/A | N51: =VLOOKUP($A51,'TRANSMISSION INFOS'!$A$2:$N$600,15,FALSE) -> #N/A | O51: =VLOOKUP($A51,'TRANSMISSION INFOS'!$A$2:$O$600,16,FALSE) -> #N/A
A52: 4157065104 | B52: =VLOOKUP($A52,'Export base de données'!$A:$I,2,FALSE) -> #N/A | C52: =VLOOKUP($A52,'Export base de données'!$A:$I,3,FALSE) -> #N/A | D52: =VLOOKUP($A52,'Export base de données'!$A:$I,5,FALSE) -> #N/A | E52: =VLOOKUP($A52,'TRANSMISSION INFOS'!$A$2:$N$600,5,FALSE) -> #N/A | F52: =VLOOKUP($A52,'Export base de données'!$A:$I,6,FALSE) -> #N/A | G52: =VLOOKUP($A52,'Export base de données'!$A:$I,7,FALSE) -> #N/A | H52: =VLOOKUP($A52,'Export base de données'!$A:$I,8,FALSE) -> #N/A | I52: OK | J52: =VLOOKUP($A52,'TRANSMISSION INFOS'!$A:$K,12,FALSE) -> #N/A | K52: OK | L52: =VLOOKUP($A52,'TRANSMISSION INFOS'!$A$2:$N$197,13,FALSE) -> #N/A | M52: =VLOOKUP($A52,'TRANSMISSION INFOS'!$A$2:$N$197,14,FALSE) -> #N/A | N52: =VLOOKUP($A52,'TRANSMISSION INFOS'!$A$2:$N$197,15,FALSE) -> #N/A | O52: =VLOOKUP($A52,'TRANSMISSION INFOS'!$A$2:$O$600,16,FALSE) -> #N/A
A53: 4157069981 | B53: =VLOOKUP($A53,'Export base de données'!$A:$I,2,FALSE) -> #N/A | C53: =VLOOKUP($A53,'Export base de données'!$A:$I,3,FALSE) -> #N/A | D53: =VLOOKUP($A53,'Export base de données'!$A:$I,5,FALSE) -> #N/A | E53: =VLOOKUP($A53,'TRANSMISSION INFOS'!$A$2:$N$600,5,FALSE) -> #N/A | F53: =VLOOKUP($A53,'Export base de données'!$A:$I,6,FALSE) -> #N/A | G53: =VLOOKUP($A53,'Export base de données'!$A:$I,7,FALSE) -> #N/A | H53: =VLOOKUP($A53,'Export base de données'!$A:$I,8,FALSE) -> #N/A | I53: OK | J53: =VLOOKUP($A53,'TRANSMISSION INFOS'!$A:$K,12,FALSE) -> #N/A | K53: OK | L53: =VLOOKUP($A53,'TRANSMISSION INFOS'!$A$2:$N$197,13,FALSE) -> #N/A | M53: =VLOOKUP($A53,'TRANSMISSION INFOS'!$A$2:$N$197,14,FALSE) -> #N/A | N53: =VLOOKUP($A53,'TRANSMISSION INFOS'!$A$2:$N$197,15,FALSE) -> #N/A | O53: =VLOOKUP($A53,'TRANSMISSION INFOS'!$A$2:$O$600,16,FALSE) -> #N/A
A54: 3869089670 | B54: =VLOOKUP($A54,'Export base de données'!$A:$I,2,FALSE) -> #N/A | C54: =VLOOKUP($A54,'Export base de données'!$A:$I,3,FALSE) -> #N/A | D54: =VLOOKUP($A54,'Export base de données'!$A:$I,5,FALSE) -> #N/A | E54: =VLOOKUP($A54,'TRANSMISSION INFOS'!$A$2:$N$600,5,FALSE) -> #N/A | F54: =VLOOKUP($A54,'Export base de données'!$A:$I,6,FALSE) -> #N/A | G54: =VLOOKUP($A54,'Export base de données'!$A:$I,7,FALSE) -> #N/A | H54: =VLOOKUP($A54,'Export base de données'!$A:$I,8,FALSE) -> #N/A | I54: OK | J54: =VLOOKUP($A54,'TRANSMISSION INFOS'!$A:$K,12,FALSE) -> #N/A | K54: OK | L54: =VLOOKUP($A54,'TRANSMISSION INFOS'!$A$2:$N$600,13,FALSE) -> #N/A | M54: =VLOOKUP($A54,'TRANSMISSION INFOS'!$A$2:$N$300,14,FALSE) -> #N/A | N54: =VLOOKUP($A54,'TRANSMISSION INFOS'!$A$2:$N$600,15,FALSE) -> #N/A | O54: =VLOOKUP($A54,'TRANSMISSION INFOS'!$A$2:$O$600,16,FALSE) -> #N/A
A55: 3870796990 | B55: =VLOOKUP($A55,'Export base de données'!$A:$I,2,FALSE) -> #N/A | C55: =VLOOKUP($A55,'Export base de données'!$A:$I,3,FALSE) -> #N/A | D55: =VLOOKUP($A55,'Export base de données'!$A:$I,5,FALSE) -> #N/A | E55: =VLOOKUP($A55,'TRANSMISSION INFOS'!$A$2:$N$600,5,FALSE) -> #N/A | F55: =VLOOKUP($A55,'Export base de données'!$A:$I,6,FALSE) -> #N/A | G55: =VLOOKUP($A55,'Export base de données'!$A:$I,7,FALSE) -> #N/A | H55: =VLOOKUP($A55,'Export base de données'!$A:$I,8,FALSE) -> #N/A | I55: OK | J55: =VLOOKUP($A55,'TRANSMISSION INFOS'!$A:$K,12,FALSE) -> #N/A | K55: OK | L55: =VLOOKUP($A55,'TRANSMISSION INFOS'!$A$2:$N$600,13,FALSE) -> #N/A | M55: =VLOOKUP($A55,'TRANSMISSION INFOS'!$A$2:$N$300,14,FALSE) -> #N/A | N55: =VLOOKUP($A55,'TRANSMISSION INFOS'!$A$2:$N$600,15,FALSE) -> #N/A | O55: =VLOOKUP($A55,'TRANSMISSION INFOS'!$A$2:$O$600,16,FALSE) -> #N/A
A56: 3856036726 | B56: =VLOOKUP($A56,'Export base de données'!$A:$I,2,FALSE) -> #N/A | C56: =VLOOKUP($A56,'Export base de données'!$A:$I,3,FALSE) -> #N/A | D56: =VLOOKUP($A56,'Export base de données'!$A:$I,5,FALSE) -> #N/A | E56: =VLOOKUP($A56,'TRANSMISSION INFOS'!$A$2:$N$600,5,FALSE) -> #N/A | F56: =VLOOKUP($A56,'Export base de données'!$A:$I,6,FALSE) -> #N/A | G56: =VLOOKUP($A56,'Export base de données'!$A:$I,7,FALSE) -> #N/A | H56: =VLOOKUP($A56,'Export base de données'!$A:$I,8,FALSE) -> #N/A | I56: OK | J56: =VLOOKUP($A56,'TRANSMISSION INFOS'!$A:$K,12,FALSE) -> #N/A | K56: OK | L56: =VLOOKUP($A56,'TRANSMISSION INFOS'!$A$2:$N$600,13,FALSE) -> #N/A | M56: =VLOOKUP($A56,'TRANSMISSION INFOS'!$A$2:$N$300,14,FALSE) -> #N/A | N56: =VLOOKUP($A56,'TRANSMISSION INFOS'!$A$2:$N$600,15,FALSE) -> #N/A | O56: =VLOOKUP($A56,'TRANSMISSION INFOS'!$A$2:$O$600,16,FALSE) -> #N/A
A57: 3855960918 | B57: =VLOOKUP($A57,'Export base de données'!$A:$I,2,FALSE) -> #N/A | C57: =VLOOKUP($A57,'Export base de données'!$A:$I,3,FALSE) -> #N/A | D57: =VLOOKUP($A57,'Export base de données'!$A:$I,5,FALSE) -> #N/A | E57: =VLOOKUP($A57,'TRANSMISSION INFOS'!$A$2:$N$600,5,FALSE) -> #N/A | F57: =VLOOKUP($A57,'Export base de données'!$A:$I,6,FALSE) -> #N/A | G57: =VLOOKUP($A57,'Export base de données'!$A:$I,7,FALSE) -> #N/A | H57: =VLOOKUP($A57,'Export base de données'!$A:$I,8,FALSE) -> #N/A | I57: OK | J57: =VLOOKUP($A57,'TRANSMISSION INFOS'!$A:$K,12,FALSE) -> #N/A | K57: OK | L57: =VLOOKUP($A57,'TRANSMISSION INFOS'!$A$2:$N$600,13,FALSE) -> #N/A | M57: =VLOOKUP($A57,'TRANSMISSION INFOS'!$A$2:$N$300,14,FALSE) -> #N/A | N57: =VLOOKUP($A57,'TRANSMISSION INFOS'!$A$2:$N$600,15,FALSE) -> #N/A | O57: =VLOOKUP($A57,'TRANSMISSION INFOS'!$A$2:$O$600,16,FALSE) -> #N/A
A58: 3968911692 | B58: =VLOOKUP($A58,'Export base de données'!$A:$I,2,FALSE) -> #N/A | C58: =VLOOKUP($A58,'Export base de données'!$A:$I,3,FALSE) -> #N/A | D58: =VLOOKUP($A58,'Export base de données'!$A:$I,5,FALSE) -> #N/A | E58: =VLOOKUP($A58,'TRANSMISSION INFOS'!$A$2:$N$600,5,FALSE) -> #N/A | F58: =VLOOKUP($A58,'Export base de données'!$A:$I,6,FALSE) -> #N/A | G58: =VLOOKUP($A58,'Export base de données'!$A:$I,7,FALSE) -> #N/A | H58: =VLOOKUP($A58,'Export base de données'!$A:$I,8,FALSE) -> #N/A | I58: OK | J58: =VLOOKUP($A58,'TRANSMISSION INFOS'!$A:$K,12,FALSE) -> #N/A | K58: OK | L58: =VLOOKUP($A58,'TRANSMISSION INFOS'!$A$2:$N$600,13,FALSE) -> #N/A | M58: =VLOOKUP($A58,'TRANSMISSION INFOS'!$A$2:$N$300,14,FALSE) -> #N/A | N58: =VLOOKUP($A58,'TRANSMISSION INFOS'!$A$2:$N$600,15,FALSE) -> #N/A | O58: =VLOOKUP($A58,'TRANSMISSION INFOS'!$A$2:$O$600,16,FALSE) -> #N/A
A59: 4274887274 | B59: =VLOOKUP($A59,'Export base de données'!$A:$I,2,FALSE) -> #N/A | C59: =VLOOKUP($A59,'Export base de données'!$A:$I,3,FALSE) -> #N/A | D59: =VLOOKUP($A59,'Export base de données'!$A:$I,5,FALSE) -> #N/A | E59: =VLOOKUP($A59,'TRANSMISSION INFOS'!$A$2:$N$600,5,FALSE) -> #N/A | F59: =VLOOKUP($A59,'Export base de données'!$A:$I,6,FALSE) -> #N/A | G59: =VLOOKUP($A59,'Export base de données'!$A:$I,7,FALSE) -> #N/A | H59: =VLOOKUP($A59,'Export base de données'!$A:$I,8,FALSE) -> #N/A | I59: OK | J59: =VLOOKUP($A59,'TRANSMISSION INFOS'!$A:$K,12,FALSE) -> #N/A | K59: OK | L59: =VLOOKUP($A59,'TRANSMISSION INFOS'!$A$2:$N$197,13,FALSE) -> #N/A | M59: =VLOOKUP($A59,'TRANSMISSION INFOS'!$A$2:$N$197,14,FALSE) -> #N/A | N59: =VLOOKUP($A59,'TRANSMISSION INFOS'!$A$2:$N$197,15,FALSE) -> #N/A | O59: =VLOOKUP($A59,'TRANSMISSION INFOS'!$A$2:$O$600,16,FALSE) -> #N/A
A60: 4274887563 | B60: =VLOOKUP($A60,'Export base de données'!$A:$I,2,FALSE) -> #N/A | C60: =VLOOKUP($A60,'Export base de données'!$A:$I,3,FALSE) -> #N/A | D60: =VLOOKUP($A60,'Export base de données'!$A:$I,5,FALSE) -> #N/A | E60: =VLOOKUP($A60,'TRANSMISSION INFOS'!$A$2:$N$600,5,FALSE) -> #N/A | F60: =VLOOKUP($A60,'Export base de données'!$A:$I,6,FALSE) -> #N/A | G60: =VLOOKUP($A60,'Export base de données'!$A:$I,7,FALSE) -> #N/A | H60: =VLOOKUP($A60,'Export base de données'!$A:$I,8,FALSE) -> #N/A | I60: OK | J60: =VLOOKUP($A60,'TRANSMISSION INFOS'!$A:$K,12,FALSE) -> #N/A | K60: OK | L60: =VLOOKUP($A60,'TRANSMISSION INFOS'!$A$2:$N$197,13,FALSE) -> #N/A | M60: =VLOOKUP($A60,'TRANSMISSION INFOS'!$A$2:$N$197,14,FALSE) -> #N/A | N60: =VLOOKUP($A60,'TRANSMISSION INFOS'!$A$2:$N$197,15,FALSE) -> #N/A | O60: =VLOOKUP($A60,'TRANSMISSION INFOS'!$A$2:$O$600,16,FALSE) -> #N/A
A61: 3978096468 | B61: =VLOOKUP($A61,'Export base de données'!$A:$I,2,FALSE) -> #N/A | C61: =VLOOKUP($A61,'Export base de données'!$A:$I,3,FALSE) -> #N/A | D61: =VLOOKUP($A61,'Export base de données'!$A:$I,5,FALSE) -> #N/A | E61: =VLOOKUP($A61,'TRANSMISSION INFOS'!$A$2:$N$600,5,FALSE) -> #N/A | F61: =VLOOKUP($A61,'Export base de données'!$A:$I,6,FALSE) -> #N/A | G61: =VLOOKUP($A61,'Export base de données'!$A:$I,7,FALSE) -> #N/A | H61: =VLOOKUP($A61,'Export base de données'!$A:$I,8,FALSE) -> #N/A | I61: OK | J61: =VLOOKUP($A61,'TRANSMISSION INFOS'!$A:$K,12,FALSE) -> #N/A | K61: OK | L61: =VLOOKUP($A61,'TRANSMISSION INFOS'!$A$2:$N$600,13,FALSE) -> #N/A | M61: =VLOOKUP($A61,'TRANSMISSION INFOS'!$A$2:$N$300,14,FALSE) -> #N/A | N61: =VLOOKUP($A61,'TRANSMISSION INFOS'!$A$2:$N$600,15,FALSE) -> #N/A | O61: =VLOOKUP($A61,'TRANSMISSION INFOS'!$A$2:$O$600,16,FALSE) -> #N/A
A62: 4070164462 | B62: =VLOOKUP($A62,'Export base de données'!$A:$I,2,FALSE) -> #N/A | C62: =VLOOKUP($A62,'Export base de données'!$A:$I,3,FALSE) -> #N/A | D62: =VLOOKUP($A62,'Export base de données'!$A:$I,5,FALSE) -> #N/A | E62: =VLOOKUP($A62,'TRANSMISSION INFOS'!$A$2:$N$600,5,FALSE) -> #N/A | F62: =VLOOKUP($A62,'Export base de données'!$A:$I,6,FALSE) -> #N/A | G62: =VLOOKUP($A62,'Export base de données'!$A:$I,7,FALSE) -> #N/A | H62: =VLOOKUP($A62,'Export base de données'!$A:$I,8,FALSE) -> #N/A | I62: OK | J62: =VLOOKUP($A62,'TRANSMISSION INFOS'!$A:$K,12,FALSE) -> #N/A | K62: OK | L62: =VLOOKUP($A62,'TRANSMISSION INFOS'!$A$2:$N$197,13,FALSE) -> #N/A | M62: =VLOOKUP($A62,'TRANSMISSION INFOS'!$A$2:$N$197,14,FALSE) -> #N/A | N62: =VLOOKUP($A62,'TRANSMISSION INFOS'!$A$2:$N$197,15,FALSE) -> #N/A | O62: =VLOOKUP($A62,'TRANSMISSION INFOS'!$A$2:$O$600,16,FALSE) -> #N/A
A63: 3872472517 | B63: =VLOOKUP($A63,'Export base de données'!$A:$I,2,FALSE) -> #N/A | C63: =VLOOKUP($A63,'Export base de données'!$A:$I,3,FALSE) -> #N/A | D63: =VLOOKUP($A63,'Export base de données'!$A:$I,5,FALSE) -> #N/A | E63: =VLOOKUP($A63,'TRANSMISSION INFOS'!$A$2:$N$600,5,FALSE) -> #N/A | F63: =VLOOKUP($A63,'Export base de données'!$A:$I,6,FALSE) -> #N/A | G63: =VLOOKUP($A63,'Export base de données'!$A:$I,7,FALSE) -> #N/A | H63: =VLOOKUP($A63,'Export base de données'!$A:$I,8,FALSE) -> #N/A | I63: OK | J63: =VLOOKUP($A63,'TRANSMISSION INFOS'!$A:$K,12,FALSE) -> #N/A | K63: OK | L63: =VLOOKUP($A63,'TRANSMISSION INFOS'!$A$2:$N$600,13,FALSE) -> #N/A | M63: =VLOOKUP($A63,'TRANSMISSION INFOS'!$A$2:$N$300,14,FALSE) -> #N/A | N63: =VLOOKUP($A63,'TRANSMISSION INFOS'!$A$2:$N$600,15,FALSE) -> #N/A | O63: =VLOOKUP($A63,'TRANSMISSION INFOS'!$A$2:$O$600,16,FALSE) -> #N/A
A64: 4168581461 | B64: =VLOOKUP($A64,'Export base de données'!$A:$I,2,FALSE) -> #N/A | C64: =VLOOKUP($A64,'Export base de données'!$A:$I,3,FALSE) -> #N/A | D64: =VLOOKUP($A64,'Export base de données'!$A:$I,5,FALSE) -> #N/A | E64: =VLOOKUP($A64,'TRANSMISSION INFOS'!$A$2:$N$600,5,FALSE) -> #N/A | F64: =VLOOKUP($A64,'Export base de données'!$A:$I,6,FALSE) -> #N/A | G64: =VLOOKUP($A64,'Export base de données'!$A:$I,7,FALSE) -> #N/A | H64: =VLOOKUP($A64,'Export base de données'!$A:$I,8,FALSE) -> #N/A | I64: OK | J64: =VLOOKUP($A64,'TRANSMISSION INFOS'!$A:$K,12,FALSE) -> #N/A | K64: OK | L64: =VLOOKUP($A64,'TRANSMISSION INFOS'!$A$2:$N$600,13,FALSE) -> #N/A | M64: =VLOOKUP($A64,'TRANSMISSION INFOS'!$A$2:$N$300,14,FALSE) -> #N/A | N64: =VLOOKUP($A64,'TRANSMISSION INFOS'!$A$2:$N$600,15,FALSE) -> #N/A | O64: =VLOOKUP($A64,'TRANSMISSION INFOS'!$A$2:$O$600,16,FALSE) -> #N/A
A65: 4057036089 | B65: =VLOOKUP($A65,'Export base de données'!$A:$I,2,FALSE) -> #N/A | C65: =VLOOKUP($A65,'Export base de données'!$A:$I,3,FALSE) -> #N/A | D65: =VLOOKUP($A65,'Export base de données'!$A:$I,5,FALSE) -> #N/A | E65: =VLOOKUP($A65,'TRANSMISSION INFOS'!$A$2:$N$600,5,FALSE) -> #N/A | F65: =VLOOKUP($A65,'Export base de données'!$A:$I,6,FALSE) -> #N/A | G65: =VLOOKUP($A65,'Export base de données'!$A:$I,7,FALSE) -> #N/A | H65: =VLOOKUP($A65,'Export base de données'!$A:$I,8,FALSE) -> #N/A | I65: OK | J65: =VLOOKUP($A65,'TRANSMISSION INFOS'!$A:$K,12,FALSE) -> #N/A | K65: OK | L65: =VLOOKUP($A65,'TRANSMISSION INFOS'!$A$2:$N$600,13,FALSE) -> #N/A | M65: =VLOOKUP($A65,'TRANSMISSION INFOS'!$A$2:$N$300,14,FALSE) -> #N/A | N65: =VLOOKUP($A65,'TRANSMISSION INFOS'!$A$2:$N$600,15,FALSE) -> #N/A | O65: =VLOOKUP($A65,'TRANSMISSION INFOS'!$A$2:$O$600,16,FALSE) -> #N/A
A66: 3974358086 | B66: =VLOOKUP($A66,'Export base de données'!$A:$I,2,FALSE) -> #N/A | C66: =VLOOKUP($A66,'Export base de données'!$A:$I,3,FALSE) -> #N/A | D66: =VLOOKUP($A66,'Export base de données'!$A:$I,5,FALSE) -> #N/A | E66: =VLOOKUP($A66,'TRANSMISSION INFOS'!$A$2:$N$600,5,FALSE) -> #N/A | F66: =VLOOKUP($A66,'Export base de données'!$A:$I,6,FALSE) -> #N/A | G66: =VLOOKUP($A66,'Export base de données'!$A:$I,7,FALSE) -> #N/A | H66: =VLOOKUP($A66,'Export base de données'!$A:$I,8,FALSE) -> #N/A | J66: =VLOOKUP($A66,'TRANSMISSION INFOS'!$A:$K,12,FALSE) -> #N/A | K66: OK | L66: =VLOOKUP($A66,'TRANSMISSION INFOS'!$A$2:$N$197,13,FALSE) -> #N/A | M66: =VLOOKUP($A66,'TRANSMISSION INFOS'!$A$2:$N$197,14,FALSE) -> #N/A | N66: =VLOOKUP($A66,'TRANSMISSION INFOS'!$A$2:$N$197,15,FALSE) -> #N/A | O66: =VLOOKUP($A66,'TRANSMISSION INFOS'!$A$2:$O$600,16,FALSE) -> #N/A
A67: 3969534568 | B67: =VLOOKUP($A67,'Export base de données'!$A:$I,2,FALSE) -> #N/A | C67: =VLOOKUP($A67,'Export base de données'!$A:$I,3,FALSE) -> #N/A | D67: =VLOOKUP($A67,'Export base de données'!$A:$I,5,FALSE) -> #N/A | E67: =VLOOKUP($A67,'TRANSMISSION INFOS'!$A$2:$N$600,5,FALSE) -> #N/A | F67: =VLOOKUP($A67,'Export base de données'!$A:$I,6,FALSE) -> #N/A | G67: =VLOOKUP($A67,'Export base de données'!$A:$I,7,FALSE) -> #N/A | H67: =VLOOKUP($A67,'Export base de données'!$A:$I,8,FALSE) -> #N/A | I67: OK | J67: =VLOOKUP($A67,'TRANSMISSION INFOS'!$A:$K,12,FALSE) -> #N/A | K67: OK | L67: =VLOOKUP($A67,'TRANSMISSION INFOS'!$A$2:$N$600,13,FALSE) -> #N/A | M67: =VLOOKUP($A67,'TRANSMISSION INFOS'!$A$2:$N$300,14,FALSE) -> #N/A | N67: =VLOOKUP($A67,'TRANSMISSION INFOS'!$A$2:$N$600,15,FALSE) -> #N/A | O67: =VLOOKUP($A67,'TRANSMISSION INFOS'!$A$2:$O$600,16,FALSE) -> #N/A
A68: 4178989902 | B68: =VLOOKUP($A68,'Export base de données'!$A:$I,2,FALSE) -> #N/A | C68: =VLOOKUP($A68,'Export base de données'!$A:$I,3,FALSE) -> #N/A | D68: =VLOOKUP($A68,'Export base de données'!$A:$I,5,FALSE) -> #N/A | E68: =VLOOKUP($A68,'TRANSMISSION INFOS'!$A$2:$N$600,5,FALSE) -> #N/A | F68: =VLOOKUP($A68,'Export base de données'!$A:$I,6,FALSE) -> #N/A | G68: =VLOOKUP($A68,'Export base de données'!$A:$I,7,FALSE) -> #N/A | H68: =VLOOKUP($A68,'Export base de données'!$A:$I,8,FALSE) -> #N/A | I68: OK | J68: =VLOOKUP($A68,'TRANSMISSION INFOS'!$A:$K,12,FALSE) -> #N/A | K68: OK | L68: =VLOOKUP($A68,'TRANSMISSION INFOS'!$A$2:$N$600,13,FALSE) -> #N/A | M68: =VLOOKUP($A68,'TRANSMISSION INFOS'!$A$2:$N$300,14,FALSE) -> #N/A | N68: =VLOOKUP($A68,'TRANSMISSION INFOS'!$A$2:$N$600,15,FALSE) -> #N/A | O68: =VLOOKUP($A68,'TRANSMISSION INFOS'!$A$2:$O$600,16,FALSE) -> #N/A
A69: 4070958616 | B69: =VLOOKUP($A69,'Export base de données'!$A:$I,2,FALSE) -> #N/A | C69: =VLOOKUP($A69,'Export base de données'!$A:$I,3,FALSE) -> #N/A | D69: =VLOOKUP($A69,'Export base de données'!$A:$I,5,FALSE) -> #N/A | E69: =VLOOKUP($A69,'TRANSMISSION INFOS'!$A$2:$N$600,5,FALSE) -> #N/A | F69: =VLOOKUP($A69,'Export base de données'!$A:$I,6,FALSE) -> #N/A | G69: =VLOOKUP($A69,'Export base de données'!$A:$I,7,FALSE) -> #N/A | H69: =VLOOKUP($A69,'Export base de données'!$A:$I,8,FALSE) -> #N/A | I69: OK | J69: =VLOOKUP($A69,'TRANSMISSION INFOS'!$A:$K,12,FALSE) -> #N/A | K69: OK | L69: =VLOOKUP($A69,'TRANSMISSION INFOS'!$A$2:$N$600,13,FALSE) -> #N/A | M69: =VLOOKUP($A69,'TRANSMISSION INFOS'!$A$2:$N$300,14,FALSE) -> #N/A | N69: =VLOOKUP($A69,'TRANSMISSION INFOS'!$A$2:$N$600,15,FALSE) -> #N/A | O69: =VLOOKUP($A69,'TRANSMISSION INFOS'!$A$2:$O$600,16,FALSE) -> #N/A
A70: 3857325094 | B70: =VLOOKUP($A70,'Export base de données'!$A:$I,2,FALSE) -> #N/A | C70: =VLOOKUP($A70,'Export base de données'!$A:$I,3,FALSE) -> #N/A | D70: =VLOOKUP($A70,'Export base de données'!$A:$I,5,FALSE) -> #N/A | E70: =VLOOKUP($A70,'TRANSMISSION INFOS'!$A$2:$N$600,5,FALSE) -> #N/A | F70: =VLOOKUP($A70,'Export base de données'!$A:$I,6,FALSE) -> #N/A | G70: =VLOOKUP($A70,'Export base de données'!$A:$I,7,FALSE) -> #N/A | H70: =VLOOKUP($A70,'Export base de données'!$A:$I,8,FALSE) -> #N/A | I70: OK | J70: =VLOOKUP($A70,'TRANSMISSION INFOS'!$A:$K,12,FALSE) -> #N/A | K70: OK | L70: =VLOOKUP($A70,'TRANSMISSION INFOS'!$A$2:$N$600,13,FALSE) -> #N/A | M70: =VLOOKUP($A70,'TRANSMISSION INFOS'!$A$2:$N$300,14,FALSE) -> #N/A | N70: =VLOOKUP($A70,'TRANSMISSION INFOS'!$A$2:$N$600,15,FALSE) -> #N/A | O70: =VLOOKUP($A70,'TRANSMISSION INFOS'!$A$2:$O$600,16,FALSE) -> #N/A
A71: 3855152763 | B71: =VLOOKUP($A71,'Export base de données'!$A:$I,2,FALSE) -> #N/A | C71: =VLOOKUP($A71,'Export base de données'!$A:$I,3,FALSE) -> #N/A | D71: =VLOOKUP($A71,'Export base de données'!$A:$I,5,FALSE) -> #N/A | E71: =VLOOKUP($A71,'TRANSMISSION INFOS'!$A$2:$N$600,5,FALSE) -> #N/A | F71: =VLOOKUP($A71,'Export base de données'!$A:$I,6,FALSE) -> #N/A | G71: =VLOOKUP($A71,'Export base de données'!$A:$I,7,FALSE) -> #N/A | H71: =VLOOKUP($A71,'Export base de données'!$A:$I,8,FALSE) -> #N/A | I71: OK | J71: =VLOOKUP($A71,'TRANSMISSION INFOS'!$A:$K,12,FALSE) -> #N/A | K71: OK | L71: =VLOOKUP($A71,'TRANSMISSION INFOS'!$A$2:$N$600,13,FALSE) -> #N/A | M71: =VLOOKUP($A71,'TRANSMISSION INFOS'!$A$2:$N$300,14,FALSE) -> #N/A | N71: =VLOOKUP($A71,'TRANSMISSION INFOS'!$A$2:$N$600,15,FALSE) -> #N/A | O71: =VLOOKUP($A71,'TRANSMISSION INFOS'!$A$2:$O$600,16,FALSE) -> #N/A
A72: 3855389423 | B72: =VLOOKUP($A72,'Export base de données'!$A:$I,2,FALSE) -> #N/A | C72: =VLOOKUP($A72,'Export base de données'!$A:$I,3,FALSE) -> #N/A | D72: =VLOOKUP($A72,'Export base de données'!$A:$I,5,FALSE) -> #N/A | E72: =VLOOKUP($A72,'TRANSMISSION INFOS'!$A$2:$N$600,5,FALSE) -> #N/A | F72: =VLOOKUP($A72,'Export base de données'!$A:$I,6,FALSE) -> #N/A | G72: =VLOOKUP($A72,'Export base de données'!$A:$I,7,FALSE) -> #N/A | H72: =VLOOKUP($A72,'Export base de données'!$A:$I,8,FALSE) -> #N/A | I72: OK | J72: =VLOOKUP($A72,'TRANSMISSION INFOS'!$A:$K,12,FALSE) -> #N/A | K72: OK | L72: =VLOOKUP($A72,'TRANSMISSION INFOS'!$A$2:$N$600,13,FALSE) -> #N/A | M72: =VLOOKUP($A72,'TRANSMISSION INFOS'!$A$2:$N$300,14,FALSE) -> #N/A | N72: =VLOOKUP($A72,'TRANSMISSION INFOS'!$A$2:$N$600,15,FALSE) -> #N/A | O72: =VLOOKUP($A72,'TRANSMISSION INFOS'!$A$2:$O$600,16,FALSE) -> #N/A
A73: 3856004492 | B73: =VLOOKUP($A73,'Export base de données'!$A:$I,2,FALSE) -> #N/A | C73: =VLOOKUP($A73,'Export base de données'!$A:$I,3,FALSE) -> #N/A | D73: =VLOOKUP($A73,'Export base de données'!$A:$I,5,FALSE) -> #N/A | E73: =VLOOKUP($A73,'TRANSMISSION INFOS'!$A$2:$N$600,5,FALSE) -> #N/A | F73: =VLOOKUP($A73,'Export base de données'!$A:$I,6,FALSE) -> #N/A | G73: =VLOOKUP($A73,'Export base de données'!$A:$I,7,FALSE) -> #N/A | H73: =VLOOKUP($A73,'Export base de données'!$A:$I,8,FALSE) -> #N/A | I73: OK | J73: =VLOOKUP($A73,'TRANSMISSION INFOS'!$A:$K,12,FALSE) -> #N/A | K73: OK | L73: =VLOOKUP($A73,'TRANSMISSION INFOS'!$A$2:$N$197,13,FALSE) -> #N/A | M73: =VLOOKUP($A73,'TRANSMISSION INFOS'!$A$2:$N$197,14,FALSE) -> #N/A | N73: =VLOOKUP($A73,'TRANSMISSION INFOS'!$A$2:$N$197,15,FALSE) -> #N/A | O73: =VLOOKUP($A73,'TRANSMISSION INFOS'!$A$2:$O$600,16,FALSE) -> #N/A
A74: 3855930523 | B74: =VLOOKUP($A74,'Export base de données'!$A:$I,2,FALSE) -> #N/A | C74: =VLOOKUP($A74,'Export base de données'!$A:$I,3,FALSE) -> #N/A | D74: =VLOOKUP($A74,'Export base de données'!$A:$I,5,FALSE) -> #N/A | E74: =VLOOKUP($A74,'TRANSMISSION INFOS'!$A$2:$N$600,5,FALSE) -> #N/A | F74: =VLOOKUP($A74,'Export base de données'!$A:$I,6,FALSE) -> #N/A | G74: =VLOOKUP($A74,'Export base de données'!$A:$I,7,FALSE) -> #N/A | H74: =VLOOKUP($A74,'Export base de données'!$A:$I,8,FALSE) -> #N/A | I74: OK | J74: =VLOOKUP($A74,'TRANSMISSION INFOS'!$A:$K,12,FALSE) -> #N/A | K74: OK | L74: =VLOOKUP($A74,'TRANSMISSION INFOS'!$A$2:$N$197,13,FALSE) -> #N/A | M74: =VLOOKUP($A74,'TRANSMISSION INFOS'!$A$2:$N$197,14,FALSE) -> #N/A | N74: =VLOOKUP($A74,'TRANSMISSION INFOS'!$A$2:$N$197,15,FALSE) -> #N/A | O74: =VLOOKUP($A74,'TRANSMISSION INFOS'!$A$2:$O$600,16,FALSE) -> #N/A
A75: 4085691715 | B75: =VLOOKUP($A75,'Export base de données'!$A:$I,2,FALSE) -> #N/A | C75: =VLOOKUP($A75,'Export base de données'!$A:$I,3,FALSE) -> #N/A | D75: =VLOOKUP($A75,'Export base de données'!$A:$I,5,FALSE) -> #N/A | E75: =VLOOKUP($A75,'TRANSMISSION INFOS'!$A$2:$N$600,5,FALSE) -> #N/A | F75: =VLOOKUP($A75,'Export base de données'!$A:$I,6,FALSE) -> #N/A | G75: =VLOOKUP($A75,'Export base de données'!$A:$I,7,FALSE) -> #N/A | H75: =VLOOKUP($A75,'Export base de données'!$A:$I,8,FALSE) -> #N/A | I75: OK | J75: =VLOOKUP($A75,'TRANSMISSION INFOS'!$A:$K,12,FALSE) -> #N/A | K75: OK | L75: =VLOOKUP($A75,'TRANSMISSION INFOS'!$A$2:$N$600,13,FALSE) -> #N/A | M75: =VLOOKUP($A75,'TRANSMISSION INFOS'!$A$2:$N$300,14,FALSE) -> #N/A | N75: =VLOOKUP($A75,'TRANSMISSION INFOS'!$A$2:$N$600,15,FALSE) -> #N/A | O75: =VLOOKUP($A75,'TRANSMISSION INFOS'!$A$2:$O$600,16,FALSE) -> #N/A
A76: 4157337131 | B76: =VLOOKUP($A76,'Export base de données'!$A:$I,2,FALSE) -> #N/A | C76: =VLOOKUP($A76,'Export base de données'!$A:$I,3,FALSE) -> #N/A | D76: =VLOOKUP($A76,'Export base de données'!$A:$I,5,FALSE) -> #N/A | E76: =VLOOKUP($A76,'TRANSMISSION INFOS'!$A$2:$N$600,5,FALSE) -> #N/A | F76: =VLOOKUP($A76,'Export base de données'!$A:$I,6,FALSE) -> #N/A | G76: =VLOOKUP($A76,'Export base de données'!$A:$I,7,FALSE) -> #N/A | H76: =VLOOKUP($A76,'Export base de données'!$A:$I,8,FALSE) -> #N/A | I76: OK | J76: =VLOOKUP($A76,'TRANSMISSION INFOS'!$A:$K,12,FALSE) -> #N/A | K76: OK | L76: =VLOOKUP($A76,'TRANSMISSION INFOS'!$A$2:$N$600,13,FALSE) -> #N/A | M76: =VLOOKUP($A76,'TRANSMISSION INFOS'!$A$2:$N$300,14,FALSE) -> #N/A | N76: =VLOOKUP($A76,'TRANSMISSION INFOS'!$A$2:$N$600,15,FALSE) -> #N/A | O76: =VLOOKUP($A76,'TRANSMISSION INFOS'!$A$2:$O$600,16,FALSE) -> #N/A
A77: 4157336950 | B77: =VLOOKUP($A77,'Export base de données'!$A:$I,2,FALSE) -> #N/A | C77: =VLOOKUP($A77,'Export base de données'!$A:$I,3,FALSE) -> #N/A | D77: =VLOOKUP($A77,'Export base de données'!$A:$I,5,FALSE) -> #N/A | E77: =VLOOKUP($A77,'TRANSMISSION INFOS'!$A$2:$N$600,5,FALSE) -> #N/A | F77: =VLOOKUP($A77,'Export base de données'!$A:$I,6,FALSE) -> #N/A | G77: =VLOOKUP($A77,'Export base de données'!$A:$I,7,FALSE) -> #N/A | H77: =VLOOKUP($A77,'Export base de données'!$A:$I,8,FALSE) -> #N/A | I77: OK | J77: =VLOOKUP($A77,'TRANSMISSION INFOS'!$A:$K,12,FALSE) -> #N/A | K77: OK | L77: =VLOOKUP($A77,'TRANSMISSION INFOS'!$A$2:$N$600,13,FALSE) -> #N/A | M77: =VLOOKUP($A77,'TRANSMISSION INFOS'!$A$2:$N$300,14,FALSE) -> #N/A | N77: =VLOOKUP($A77,'TRANSMISSION INFOS'!$A$2:$N$600,15,FALSE) -> #N/A | O77: =VLOOKUP($A77,'TRANSMISSION INFOS'!$A$2:$O$600,16,FALSE) -> #N/A
A78: 4157337172 | B78: =VLOOKUP($A78,'Export base de données'!$A:$I,2,FALSE) -> #N/A | C78: =VLOOKUP($A78,'Export base de données'!$A:$I,3,FALSE) -> #N/A | D78: =VLOOKUP($A78,'Export base de données'!$A:$I,5,FALSE) -> #N/A | E78: =VLOOKUP($A78,'TRANSMISSION INFOS'!$A$2:$N$600,5,FALSE) -> #N/A | F78: =VLOOKUP($A78,'Export base de données'!$A:$I,6,FALSE) -> #N/A | G78: =VLOOKUP($A78,'Export base de données'!$A:$I,7,FALSE) -> #N/A | H78: =VLOOKUP($A78,'Export base de données'!$A:$I,8,FALSE) -> #N/A | I78: OK | J78: =VLOOKUP($A78,'TRANSMISSION INFOS'!$A:$K,12,FALSE) -> #N/A | K78: OK | L78: =VLOOKUP($A78,'TRANSMISSION INFOS'!$A$2:$N$600,13,FALSE) -> #N/A | M78: =VLOOKUP($A78,'TRANSMISSION INFOS'!$A$2:$N$300,14,FALSE) -> #N/A | N78: =VLOOKUP($A78,'TRANSMISSION INFOS'!$A$2:$N$600,15,FALSE) -> #N/A | O78: =VLOOKUP($A78,'TRANSMISSION INFOS'!$A$2:$O$600,16,FALSE) -> #N/A
A79: 4157336711 | B79: =VLOOKUP($A79,'Export base de données'!$A:$I,2,FALSE) -> #N/A | C79: =VLOOKUP($A79,'Export base de données'!$A:$I,3,FALSE) -> #N/A | D79: =VLOOKUP($A79,'Export base de données'!$A:$I,5,FALSE) -> #N/A | E79: =VLOOKUP($A79,'TRANSMISSION INFOS'!$A$2:$N$600,5,FALSE) -> #N/A | F79: =VLOOKUP($A79,'Export base de données'!$A:$I,6,FALSE) -> #N/A | G79: =VLOOKUP($A79,'Export base de données'!$A:$I,7,FALSE) -> #N/A | H79: =VLOOKUP($A79,'Export base de données'!$A:$I,8,FALSE) -> #N/A | I79: OK | J79: =VLOOKUP($A79,'TRANSMISSION INFOS'!$A:$K,12,FALSE) -> #N/A | K79: OK | L79: =VLOOKUP($A79,'TRANSMISSION INFOS'!$A$2:$N$197,13,FALSE) -> #N/A | M79: =VLOOKUP($A79,'TRANSMISSION INFOS'!$A$2:$N$197,14,FALSE) -> #N/A | N79: =VLOOKUP($A79,'TRANSMISSION INFOS'!$A$2:$N$197,15,FALSE) -> #N/A | O79: =VLOOKUP($A79,'TRANSMISSION INFOS'!$A$2:$O$600,16,FALSE) -> #N/A
A80: 4073078016 | B80: =VLOOKUP($A80,'Export base de données'!$A:$I,2,FALSE) -> #N/A | C80: =VLOOKUP($A80,'Export base de données'!$A:$I,3,FALSE) -> #N/A | D80: =VLOOKUP($A80,'Export base de données'!$A:$I,5,FALSE) -> #N/A | E80: =VLOOKUP($A80,'TRANSMISSION INFOS'!$A$2:$N$600,5,FALSE) -> #N/A | F80: =VLOOKUP($A80,'Export base de données'!$A:$I,6,FALSE) -> #N/A | G80: =VLOOKUP($A80,'Export base de données'!$A:$I,7,FALSE) -> #N/A | H80: =VLOOKUP($A80,'Export base de données'!$A:$I,8,FALSE) -> #N/A | I80: OK | J80: =VLOOKUP($A80,'TRANSMISSION INFOS'!$A:$K,12,FALSE) -> #N/A | K80: OK | L80: =VLOOKUP($A80,'TRANSMISSION INFOS'!$A$2:$N$600,13,FALSE) -> #N/A | M80: =VLOOKUP($A80,'TRANSMISSION INFOS'!$A$2:$N$300,14,FALSE) -> #N/A | N80: =VLOOKUP($A80,'TRANSMISSION INFOS'!$A$2:$N$600,15,FALSE) -> #N/A | O80: =VLOOKUP($A80,'TRANSMISSION INFOS'!$A$2:$O$600,16,FALSE) -> #N/A
A81: 4267484915 | B81: =VLOOKUP($A81,'Export base de données'!$A:$I,2,FALSE) -> #N/A | C81: =VLOOKUP($A81,'Export base de données'!$A:$I,3,FALSE) -> #N/A | D81: =VLOOKUP($A81,'Export base de données'!$A:$I,5,FALSE) -> #N/A | E81: =VLOOKUP($A81,'TRANSMISSION INFOS'!$A$2:$N$600,5,FALSE) -> #N/A | F81: =VLOOKUP($A81,'Export base de données'!$A:$I,6,FALSE) -> #N/A | G81: =VLOOKUP($A81,'Export base de données'!$A:$I,7,FALSE) -> #N/A | H81: =VLOOKUP($A81,'Export base de données'!$A:$I,8,FALSE) -> #N/A | I81: OK | J81: =VLOOKUP($A81,'TRANSMISSION INFOS'!$A:$K,12,FALSE) -> #N/A | K81: OK | L81: =VLOOKUP($A81,'TRANSMISSION INFOS'!$A$2:$N$197,13,FALSE) -> #N/A | M81: =VLOOKUP($A81,'TRANSMISSION INFOS'!$A$2:$N$197,14,FALSE) -> #N/A | N81: =VLOOKUP($A81,'TRANSMISSION INFOS'!$A$2:$N$197,15,FALSE) -> #N/A | O81: =VLOOKUP($A81,'TRANSMISSION INFOS'!$A$2:$O$600,16,FALSE) -> #N/A
A82: 4267745273 | B82: =VLOOKUP($A82,'Export base de données'!$A:$I,2,FALSE) -> #N/A | C82: =VLOOKUP($A82,'Export base de données'!$A:$I,3,FALSE) -> #N/A | D82: =VLOOKUP($A82,'Export base de données'!$A:$I,5,FALSE) -> #N/A | E82: =VLOOKUP($A82,'TRANSMISSION INFOS'!$A$2:$N$600,5,FALSE) -> #N/A | F82: =VLOOKUP($A82,'Export base de données'!$A:$I,6,FALSE) -> #N/A | G82: =VLOOKUP($A82,'Export base de données'!$A:$I,7,FALSE) -> #N/A | H82: =VLOOKUP($A82,'Export base de données'!$A:$I,8,FALSE) -> #N/A | I82: OK | J82: =VLOOKUP($A82,'TRANSMISSION INFOS'!$A:$K,12,FALSE) -> #N/A | K82: OK | L82: =VLOOKUP($A82,'TRANSMISSION INFOS'!$A$2:$N$197,13,FALSE) -> #N/A | M82: =VLOOKUP($A82,'TRANSMISSION INFOS'!$A$2:$N$197,14,FALSE) -> #N/A | N82: =VLOOKUP($A82,'TRANSMISSION INFOS'!$A$2:$N$197,15,FALSE) -> #N/A | O82: =VLOOKUP($A82,'TRANSMISSION INFOS'!$A$2:$O$600,16,FALSE) -> #N/A
A83: 4262714837 | B83: =VLOOKUP($A83,'Export base de données'!$A:$I,2,FALSE) -> #N/A | C83: =VLOOKUP($A83,'Export base de données'!$A:$I,3,FALSE) -> #N/A | D83: =VLOOKUP($A83,'Export base de données'!$A:$I,5,FALSE) -> #N/A | E83: =VLOOKUP($A83,'TRANSMISSION INFOS'!$A$2:$N$600,5,FALSE) -> #N/A | F83: =VLOOKUP($A83,'Export base de données'!$A:$I,6,FALSE) -> #N/A | G83: =VLOOKUP($A83,'Export base de données'!$A:$I,7,FALSE) -> #N/A | H83: =VLOOKUP($A83,'Export base de données'!$A:$I,8,FALSE) -> #N/A | I83: OK | J83: =VLOOKUP($A83,'TRANSMISSION INFOS'!$A:$K,12,FALSE) -> #N/A | K83: OK | L83: =VLOOKUP($A83,'TRANSMISSION INFOS'!$A$2:$N$197,13,FALSE) -> #N/A | M83: =VLOOKUP($A83,'TRANSMISSION INFOS'!$A$2:$N$197,14,FALSE) -> #N/A | N83: =VLOOKUP($A83,'TRANSMISSION INFOS'!$A$2:$N$197,15,FALSE) -> #N/A | O83: =VLOOKUP($A83,'TRANSMISSION INFOS'!$A$2:$O$600,16,FALSE) -> #N/A
A84: 4267779819 | B84: =VLOOKUP($A84,'Export base de données'!$A:$I,2,FALSE) -> #N/A | C84: =VLOOKUP($A84,'Export base de données'!$A:$I,3,FALSE) -> #N/A | D84: =VLOOKUP($A84,'Export base de données'!$A:$I,5,FALSE) -> #N/A | E84: =VLOOKUP($A84,'TRANSMISSION INFOS'!$A$2:$N$600,5,FALSE) -> #N/A | F84: =VLOOKUP($A84,'Export base de données'!$A:$I,6,FALSE) -> #N/A | G84: =VLOOKUP($A84,'Export base de données'!$A:$I,7,FALSE) -> #N/A | H84: =VLOOKUP($A84,'Export base de données'!$A:$I,8,FALSE) -> #N/A | I84: OK | J84: =VLOOKUP($A84,'TRANSMISSION INFOS'!$A:$K,12,FALSE) -> #N/A | K84: OK | L84: =VLOOKUP($A84,'TRANSMISSION INFOS'!$A$2:$N$197,13,FALSE) -> #N/A | M84: =VLOOKUP($A84,'TRANSMISSION INFOS'!$A$2:$N$197,14,FALSE) -> #N/A | N84: =VLOOKUP($A84,'TRANSMISSION INFOS'!$A$2:$N$197,15,FALSE) -> #N/A | O84: =VLOOKUP($A84,'TRANSMISSION INFOS'!$A$2:$O$600,16,FALSE) -> #N/A
A85: 4264981723 | B85: =VLOOKUP($A85,'Export base de données'!$A:$I,2,FALSE) -> #N/A | C85: =VLOOKUP($A85,'Export base de données'!$A:$I,3,FALSE) -> #N/A | D85: =VLOOKUP($A85,'Export base de données'!$A:$I,5,FALSE) -> #N/A | E85: =VLOOKUP($A85,'TRANSMISSION INFOS'!$A$2:$N$600,5,FALSE) -> #N/A | F85: =VLOOKUP($A85,'Export base de données'!$A:$I,6,FALSE) -> #N/A | G85: =VLOOKUP($A85,'Export base de données'!$A:$I,7,FALSE) -> #N/A | H85: =VLOOKUP($A85,'Export base de données'!$A:$I,8,FALSE) -> #N/A | I85: OK | J85: =VLOOKUP($A85,'TRANSMISSION INFOS'!$A:$K,12,FALSE) -> #N/A | K85: OK | L85: =VLOOKUP($A85,'TRANSMISSION INFOS'!$A$2:$N$197,13,FALSE) -> #N/A | M85: =VLOOKUP($A85,'TRANSMISSION INFOS'!$A$2:$N$197,14,FALSE) -> #N/A | N85: =VLOOKUP($A85,'TRANSMISSION INFOS'!$A$2:$N$197,15,FALSE) -> #N/A | O85: =VLOOKUP($A85,'TRANSMISSION INFOS'!$A$2:$O$600,16,FALSE) -> #N/A
A86: 4279598702 | B86: =VLOOKUP($A86,'Export base de données'!$A:$I,2,FALSE) -> #N/A | C86: =VLOOKUP($A86,'Export base de données'!$A:$I,3,FALSE) -> #N/A | D86: =VLOOKUP($A86,'Export base de données'!$A:$I,5,FALSE) -> #N/A | E86: =VLOOKUP($A86,'TRANSMISSION INFOS'!$A$2:$N$600,5,FALSE) -> #N/A | F86: =VLOOKUP($A86,'Export base de données'!$A:$I,6,FALSE) -> #N/A | G86: =VLOOKUP($A86,'Export base de données'!$A:$I,7,FALSE) -> #N/A | H86: =VLOOKUP($A86,'Export base de données'!$A:$I,8,FALSE) -> #N/A | I86: OK | J86: =VLOOKUP($A86,'TRANSMISSION INFOS'!$A:$K,12,FALSE) -> #N/A | K86: OK | L86: =VLOOKUP($A86,'TRANSMISSION INFOS'!$A$2:$N$600,13,FALSE) -> #N/A | M86: =VLOOKUP($A86,'TRANSMISSION INFOS'!$A$2:$N$300,14,FALSE) -> #N/A | N86: =VLOOKUP($A86,'TRANSMISSION INFOS'!$A$2:$N$600,15,FALSE) -> #N/A | O86: =VLOOKUP($A86,'TRANSMISSION INFOS'!$A$2:$O$600,16,FALSE) -> #N/A
A87: 3977827624 | B87: =VLOOKUP($A87,'Export base de données'!$A:$I,2,FALSE) -> #N/A | C87: =VLOOKUP($A87,'Export base de données'!$A:$I,3,FALSE) -> #N/A | D87: =VLOOKUP($A87,'Export base de données'!$A:$I,5,FALSE) -> #N/A | E87: =VLOOKUP($A87,'TRANSMISSION INFOS'!$A$2:$N$600,5,FALSE) -> #N/A | F87: =VLOOKUP($A87,'Export base de données'!$A:$I,6,FALSE) -> #N/A | G87: =VLOOKUP($A87,'Export base de données'!$A:$I,7,FALSE) -> #N/A | H87: =VLOOKUP($A87,'Export base de données'!$A:$I,8,FALSE) -> #N/A | I87: OK | J87: =VLOOKUP($A87,'TRANSMISSION INFOS'!$A:$K,12,FALSE) -> #N/A | K87: OK | L87: =VLOOKUP($A87,'TRANSMISSION INFOS'!$A$2:$N$600,13,FALSE) -> #N/A | M87: =VLOOKUP($A87,'TRANSMISSION INFOS'!$A$2:$N$300,14,FALSE) -> #N/A | N87: =VLOOKUP($A87,'TRANSMISSION INFOS'!$A$2:$N$600,15,FALSE) -> #N/A | O87: =VLOOKUP($A87,'TRANSMISSION INFOS'!$A$2:$O$600,16,FALSE) -> #N/A
A88: 4072604770 | B88: =VLOOKUP($A88,'Export base de données'!$A:$I,2,FALSE) -> #N/A | C88: =VLOOKUP($A88,'Export base de données'!$A:$I,3,FALSE) -> #N/A | D88: =VLOOKUP($A88,'Export base de données'!$A:$I,5,FALSE) -> #N/A | E88: =VLOOKUP($A88,'TRANSMISSION INFOS'!$A$2:$N$600,5,FALSE) -> #N/A | F88: =VLOOKUP($A88,'Export base de données'!$A:$I,6,FALSE) -> #N/A | G88: =VLOOKUP($A88,'Export base de données'!$A:$I,7,FALSE) -> #N/A | H88: =VLOOKUP($A88,'Export base de données'!$A:$I,8,FALSE) -> #N/A | I88: OK | J88: =VLOOKUP($A88,'TRANSMISSION INFOS'!$A:$K,12,FALSE) -> #N/A | K88: OK | L88: =VLOOKUP($A88,'TRANSMISSION INFOS'!$A$2:$N$600,13,FALSE) -> #N/A | M88: =VLOOKUP($A88,'TRANSMISSION INFOS'!$A$2:$N$300,14,FALSE) -> #N/A | N88: =VLOOKUP($A88,'TRANSMISSION INFOS'!$A$2:$N$600,15,FALSE) -> #N/A | O88: =VLOOKUP($A88,'TRANSMISSION INFOS'!$A$2:$O$600,16,FALSE) -> #N/A
A89: 3873313215 | B89: =VLOOKUP($A89,'Export base de données'!$A:$I,2,FALSE) -> #N/A | C89: =VLOOKUP($A89,'Export base de données'!$A:$I,3,FALSE) -> #N/A | D89: =VLOOKUP($A89,'Export base de données'!$A:$I,5,FALSE) -> #N/A | E89: =VLOOKUP($A89,'TRANSMISSION INFOS'!$A$2:$N$600,5,FALSE) -> #N/A | F89: =VLOOKUP($A89,'Export base de données'!$A:$I,6,FALSE) -> #N/A | G89: =VLOOKUP($A89,'Export base de données'!$A:$I,7,FALSE) -> #N/A | H89: =VLOOKUP($A89,'Export base de données'!$A:$I,8,FALSE) -> #N/A | I89: OK | J89: =VLOOKUP($A89,'TRANSMISSION INFOS'!$A:$K,12,FALSE) -> #N/A | K89: OK | L89: =VLOOKUP($A89,'TRANSMISSION INFOS'!$A$2:$N$600,13,FALSE) -> #N/A | M89: =VLOOKUP($A89,'TRANSMISSION INFOS'!$A$2:$N$300,14,FALSE) -> #N/A | N89: =VLOOKUP($A89,'TRANSMISSION INFOS'!$A$2:$N$600,15,FALSE) -> #N/A | O89: =VLOOKUP($A89,'TRANSMISSION INFOS'!$A$2:$O$600,16,FALSE) -> #N/A
A90: 3857280133 | B90: =VLOOKUP($A90,'Export base de données'!$A:$I,2,FALSE) -> #N/A | C90: =VLOOKUP($A90,'Export base de données'!$A:$I,3,FALSE) -> #N/A | D90: =VLOOKUP($A90,'Export base de données'!$A:$I,5,FALSE) -> #N/A | E90: =VLOOKUP($A90,'TRANSMISSION INFOS'!$A$2:$N$600,5,FALSE) -> #N/A | F90: =VLOOKUP($A90,'Export base de données'!$A:$I,6,FALSE) -> #N/A | G90: =VLOOKUP($A90,'Export base de données'!$A:$I,7,FALSE) -> #N/A | H90: =VLOOKUP($A90,'Export base de données'!$A:$I,8,FALSE) -> #N/A | I90: OK | J90: =VLOOKUP($A90,'TRANSMISSION INFOS'!$A:$K,12,FALSE) -> #N/A | K90: OK | L90: =VLOOKUP($A90,'TRANSMISSION INFOS'!$A$2:$N$600,13,FALSE) -> #N/A | M90: =VLOOKUP($A90,'TRANSMISSION INFOS'!$A$2:$N$300,14,FALSE) -> #N/A | N90: =VLOOKUP($A90,'TRANSMISSION INFOS'!$A$2:$N$600,15,FALSE) -> #N/A | O90: =VLOOKUP($A90,'TRANSMISSION INFOS'!$A$2:$O$600,16,FALSE) -> #N/A
A91: 3861294682 | B91: =VLOOKUP($A91,'Export base de données'!$A:$I,2,FALSE) -> #N/A | C91: =VLOOKUP($A91,'Export base de données'!$A:$I,3,FALSE) -> #N/A | D91: =VLOOKUP($A91,'Export base de données'!$A:$I,5,FALSE) -> #N/A | E91: =VLOOKUP($A91,'TRANSMISSION INFOS'!$A$2:$N$600,5,FALSE) -> #N/A | F91: =VLOOKUP($A91,'Export base de données'!$A:$I,6,FALSE) -> #N/A | G91: =VLOOKUP($A91,'Export base de données'!$A:$I,7,FALSE) -> #N/A | H91: =VLOOKUP($A91,'Export base de données'!$A:$I,8,FALSE) -> #N/A | I91: OK | J91: =VLOOKUP($A91,'TRANSMISSION INFOS'!$A:$K,12,FALSE) -> #N/A | K91: OK | L91: =VLOOKUP($A91,'TRANSMISSION INFOS'!$A$2:$N$600,13,FALSE) -> #N/A | M91: =VLOOKUP($A91,'TRANSMISSION INFOS'!$A$2:$N$300,14,FALSE) -> #N/A | N91: =VLOOKUP($A91,'TRANSMISSION INFOS'!$A$2:$N$600,15,FALSE) -> #N/A | O91: =VLOOKUP($A91,'TRANSMISSION INFOS'!$A$2:$O$600,16,FALSE) -> #N/A
A92: 3862875083 | B92: =VLOOKUP($A92,'Export base de données'!$A:$I,2,FALSE) -> #N/A | C92: =VLOOKUP($A92,'Export base de données'!$A:$I,3,FALSE) -> #N/A | D92: =VLOOKUP($A92,'Export base de données'!$A:$I,5,FALSE) -> #N/A | E92: =VLOOKUP($A92,'TRANSMISSION INFOS'!$A$2:$N$600,5,FALSE) -> #N/A | F92: =VLOOKUP($A92,'Export base de données'!$A:$I,6,FALSE) -> #N/A | G92: =VLOOKUP($A92,'Export base de données'!$A:$I,7,FALSE) -> #N/A | H92: =VLOOKUP($A92,'Export base de données'!$A:$I,8,FALSE) -> #N/A | I92: OK | J92: =VLOOKUP($A92,'TRANSMISSION INFOS'!$A:$K,12,FALSE) -> #N/A | K92: OK | L92: =VLOOKUP($A92,'TRANSMISSION INFOS'!$A$2:$N$600,13,FALSE) -> #N/A | M92: =VLOOKUP($A92,'TRANSMISSION INFOS'!$A$2:$N$300,14,FALSE) -> #N/A | N92: =VLOOKUP($A92,'TRANSMISSION INFOS'!$A$2:$N$600,15,FALSE) -> #N/A | O92: =VLOOKUP($A92,'TRANSMISSION INFOS'!$A$2:$O$600,16,FALSE) -> #N/A
A93: 3859558130 | B93: =VLOOKUP($A93,'Export base de données'!$A:$I,2,FALSE) -> #N/A | C93: =VLOOKUP($A93,'Export base de données'!$A:$I,3,FALSE) -> #N/A | D93: =VLOOKUP($A93,'Export base de données'!$A:$I,5,FALSE) -> #N/A | E93: =VLOOKUP($A93,'TRANSMISSION INFOS'!$A$2:$N$600,5,FALSE) -> #N/A | F93: =VLOOKUP($A93,'Export base de données'!$A:$I,6,FALSE) -> #N/A | G93: =VLOOKUP($A93,'Export base de données'!$A:$I,7,FALSE) -> #N/A | H93: =VLOOKUP($A93,'Export base de données'!$A:$I,8,FALSE) -> #N/A | I93: OK | J93: =VLOOKUP($A93,'TRANSMISSION INFOS'!$A:$K,12,FALSE) -> #N/A | K93: OK | L93: =VLOOKUP($A93,'TRANSMISSION INFOS'!$A$2:$N$197,13,FALSE) -> #N/A | M93: =VLOOKUP($A93,'TRANSMISSION INFOS'!$A$2:$N$197,14,FALSE) -> #N/A | N93: =VLOOKUP($A93,'TRANSMISSION INFOS'!$A$2:$N$197,15,FALSE) -> #N/A | O93: =VLOOKUP($A93,'TRANSMISSION INFOS'!$A$2:$O$600,16,FALSE) -> #N/A
A94: 3859558486 | B94: =VLOOKUP($A94,'Export base de données'!$A:$I,2,FALSE) -> #N/A | C94: =VLOOKUP($A94,'Export base de données'!$A:$I,3,FALSE) -> #N/A | D94: =VLOOKUP($A94,'Export base de données'!$A:$I,5,FALSE) -> #N/A | E94: =VLOOKUP($A94,'TRANSMISSION INFOS'!$A$2:$N$600,5,FALSE) -> #N/A | F94: =VLOOKUP($A94,'Export base de données'!$A:$I,6,FALSE) -> #N/A | G94: =VLOOKUP($A94,'Export base de données'!$A:$I,7,FALSE) -> #N/A | H94: =VLOOKUP($A94,'Export base de données'!$A:$I,8,FALSE) -> #N/A | I94: OK | J94: =VLOOKUP($A94,'TRANSMISSION INFOS'!$A:$K,12,FALSE) -> #N/A | K94: OK | L94: =VLOOKUP($A94,'TRANSMISSION INFOS'!$A$2:$N$197,13,FALSE) -> #N/A | M94: =VLOOKUP($A94,'TRANSMISSION INFOS'!$A$2:$N$197,14,FALSE) -> #N/A | N94: =VLOOKUP($A94,'TRANSMISSION INFOS'!$A$2:$N$197,15,FALSE) -> #N/A | O94: =VLOOKUP($A94,'TRANSMISSION INFOS'!$A$2:$O$600,16,FALSE) -> #N/A
A95: 3859557827 | B95: =VLOOKUP($A95,'Export base de données'!$A:$I,2,FALSE) -> #N/A | C95: =VLOOKUP($A95,'Export base de données'!$A:$I,3,FALSE) -> #N/A | D95: =VLOOKUP($A95,'Export base de données'!$A:$I,5,FALSE) -> #N/A | E95: =VLOOKUP($A95,'TRANSMISSION INFOS'!$A$2:$N$600,5,FALSE) -> #N/A | F95: =VLOOKUP($A95,'Export base de données'!$A:$I,6,FALSE) -> #N/A | G95: =VLOOKUP($A95,'Export base de données'!$A:$I,7,FALSE) -> #N/A | H95: =VLOOKUP($A95,'Export base de données'!$A:$I,8,FALSE) -> #N/A | I95: OK | J95: =VLOOKUP($A95,'TRANSMISSION INFOS'!$A:$K,12,FALSE) -> #N/A | K95: OK | L95: =VLOOKUP($A95,'TRANSMISSION INFOS'!$A$2:$N$197,13,FALSE) -> #N/A | M95: =VLOOKUP($A95,'TRANSMISSION INFOS'!$A$2:$N$197,14,FALSE) -> #N/A | N95: =VLOOKUP($A95,'TRANSMISSION INFOS'!$A$2:$N$197,15,FALSE) -> #N/A | O95: =VLOOKUP($A95,'TRANSMISSION INFOS'!$A$2:$O$600,16,FALSE) -> #N/A
A96: 3859558346 | B96: =VLOOKUP($A96,'Export base de données'!$A:$I,2,FALSE) -> #N/A | C96: =VLOOKUP($A96,'Export base de données'!$A:$I,3,FALSE) -> #N/A | D96: =VLOOKUP($A96,'Export base de données'!$A:$I,5,FALSE) -> #N/A | E96: =VLOOKUP($A96,'TRANSMISSION INFOS'!$A$2:$N$600,5,FALSE) -> #N/A | F96: =VLOOKUP($A96,'Export base de données'!$A:$I,6,FALSE) -> #N/A | G96: =VLOOKUP($A96,'Export base de données'!$A:$I,7,FALSE) -> #N/A | H96: =VLOOKUP($A96,'Export base de données'!$A:$I,8,FALSE) -> #N/A | I96: OK | J96: =VLOOKUP($A96,'TRANSMISSION INFOS'!$A:$K,12,FALSE) -> #N/A | K96: OK | L96: =VLOOKUP($A96,'TRANSMISSION INFOS'!$A$2:$N$197,13,FALSE) -> #N/A | M96: =VLOOKUP($A96,'TRANSMISSION INFOS'!$A$2:$N$197,14,FALSE) -> #N/A | N96: =VLOOKUP($A96,'TRANSMISSION INFOS'!$A$2:$N$197,15,FALSE) -> #N/A | O96: =VLOOKUP($A96,'TRANSMISSION INFOS'!$A$2:$O$600,16,FALSE) -> #N/A
A97: 4269729754 | B97: =VLOOKUP($A97,'Export base de données'!$A:$I,2,FALSE) -> #N/A | C97: =VLOOKUP($A97,'Export base de données'!$A:$I,3,FALSE) -> #N/A | D97: =VLOOKUP($A97,'Export base de données'!$A:$I,5,FALSE) -> #N/A | E97: =VLOOKUP($A97,'TRANSMISSION INFOS'!$A$2:$N$600,5,FALSE) -> #N/A | F97: =VLOOKUP($A97,'Export base de données'!$A:$I,6,FALSE) -> #N/A | G97: =VLOOKUP($A97,'Export base de données'!$A:$I,7,FALSE) -> #N/A | H97: =VLOOKUP($A97,'Export base de données'!$A:$I,8,FALSE) -> #N/A | I97: OK | J97: =VLOOKUP($A97,'TRANSMISSION INFOS'!$A:$K,12,FALSE) -> #N/A | K97: OK | L97: =VLOOKUP($A97,'TRANSMISSION INFOS'!$A$2:$N$600,13,FALSE) -> #N/A | M97: =VLOOKUP($A97,'TRANSMISSION INFOS'!$A$2:$N$300,14,FALSE) -> #N/A | N97: =VLOOKUP($A97,'TRANSMISSION INFOS'!$A$2:$N$600,15,FALSE) -> #N/A | O97: =VLOOKUP($A97,'TRANSMISSION INFOS'!$A$2:$O$600,16,FALSE) -> #N/A
A98: 3875747089 | B98: =VLOOKUP($A98,'Export base de données'!$A:$I,2,FALSE) -> #N/A | C98: =VLOOKUP($A98,'Export base de données'!$A:$I,3,FALSE) -> #N/A | D98: =VLOOKUP($A98,'Export base de données'!$A:$I,5,FALSE) -> #N/A | E98: =VLOOKUP($A98,'TRANSMISSION INFOS'!$A$2:$N$600,5,FALSE) -> #N/A | F98: =VLOOKUP($A98,'Export base de données'!$A:$I,6,FALSE) -> #N/A | G98: =VLOOKUP($A98,'Export base de données'!$A:$I,7,FALSE) -> #N/A | H98: =VLOOKUP($A98,'Export base de données'!$A:$I,8,FALSE) -> #N/A | I98: OK | J98: =VLOOKUP($A98,'TRANSMISSION INFOS'!$A:$K,12,FALSE) -> #N/A | K98: OK | L98: =VLOOKUP($A98,'TRANSMISSION INFOS'!$A$2:$N$600,13,FALSE) -> #N/A | M98: =VLOOKUP($A98,'TRANSMISSION INFOS'!$A$2:$N$300,14,FALSE) -> #N/A | N98: =VLOOKUP($A98,'TRANSMISSION INFOS'!$A$2:$N$600,15,FALSE) -> #N/A | O98: =VLOOKUP($A98,'TRANSMISSION INFOS'!$A$2:$O$600,16,FALSE) -> #N/A
A99: 3967485250 | B99: =VLOOKUP($A99,'Export base de données'!$A:$I,2,FALSE) -> #N/A | C99: =VLOOKUP($A99,'Export base de données'!$A:$I,3,FALSE) -> #N/A | D99: =VLOOKUP($A99,'Export base de données'!$A:$I,5,FALSE) -> #N/A | E99: =VLOOKUP($A99,'TRANSMISSION INFOS'!$A$2:$N$600,5,FALSE) -> #N/A | F99: =VLOOKUP($A99,'Export base de données'!$A:$I,6,FALSE) -> #N/A | G99: =VLOOKUP($A99,'Export base de données'!$A:$I,7,FALSE) -> #N/A | H99: =VLOOKUP($A99,'Export base de données'!$A:$I,8,FALSE) -> #N/A | I99: OK | J99: =VLOOKUP($A99,'TRANSMISSION INFOS'!$A:$K,12,FALSE) -> #N/A | K99: OK | L99: =VLOOKUP($A99,'TRANSMISSION INFOS'!$A$2:$N$197,13,FALSE) -> #N/A | M99: =VLOOKUP($A99,'TRANSMISSION INFOS'!$A$2:$N$197,14,FALSE) -> #N/A | N99: =VLOOKUP($A99,'TRANSMISSION INFOS'!$A$2:$N$197,15,FALSE) -> #N/A | O99: =VLOOKUP($A99,'TRANSMISSION INFOS'!$A$2:$O$600,16,FALSE) -> #N/A
A100: 3967812800 | B100: =VLOOKUP($A100,'Export base de données'!$A:$I,2,FALSE) -> #N/A | C100: =VLOOKUP($A100,'Export base de données'!$A:$I,3,FALSE) -> #N/A | D100: =VLOOKUP($A100,'Export base de données'!$A:$I,5,FALSE) -> #N/A | E100: =VLOOKUP($A100,'TRANSMISSION INFOS'!$A$2:$N$600,5,FALSE) -> #N/A | F100: =VLOOKUP($A100,'Export base de données'!$A:$I,6,FALSE) -> #N/A | G100: =VLOOKUP($A100,'Export base de données'!$A:$I,7,FALSE) -> #N/A | H100: =VLOOKUP($A100,'Export base de données'!$A:$I,8,FALSE) -> #N/A | I100: OK | J100: =VLOOKUP($A100,'TRANSMISSION INFOS'!$A:$K,12,FALSE) -> #N/A | K100: OK | L100: =VLOOKUP($A100,'TRANSMISSION INFOS'!$A$2:$N$197,13,FALSE) -> #N/A | M100: =VLOOKUP($A100,'TRANSMISSION INFOS'!$A$2:$N$197,14,FALSE) -> #N/A | N100: =VLOOKUP($A100,'TRANSMISSION INFOS'!$A$2:$N$197,15,FALSE) -> #N/A | O100: =VLOOKUP($A100,'TRANSMISSION INFOS'!$A$2:$O$600,16,FALSE) -> #N/A
...

Sheet TRANSMISSION INFOS
A1: Numéro dossier CPF | B1: Nom | C1: Prénom | D1: montant | E1: Statut | F1: Intitulé formation | G1: Abondement | H1: Date entrée | I1: Date sortie | J1: Site | K1: Facturation | L1: Entrée | M1: Sortie | N1: Taux de réalisation % | O1: Montant à facturer | P1: Abondement PE
A2: ='Export base de données'!A2 -> 3971425805 | B2: =VLOOKUP($A2,'Export base de données'!$A:$I,2,FALSE) -> ABDELLALI | E2: =VLOOKUP($A2,'Export base de données'!$A:$I,6,FALSE) -> Facturé | G2: =VLOOKUP($A2,'Export base de données'!$A:$I,7,FALSE) -> 0 | H2: =VLOOKUP($A2,'Export base de données'!$A:$I,8,FALSE) -> 44131 | I2: =VLOOKUP($A2,'Export base de données'!$A:$I,9,FALSE) -> 44133 | L2: OK | P2: =VLOOKUP($A2,'Export base de données'!$A:$I,7,FALSE) -> 0 | T2: Angers
A3: ='Export base de données'!A3 -> 3891183756 | B3: =VLOOKUP($A3,'Export base de données'!$A:$I,2,FALSE) -> ACARIS | E3: =VLOOKUP($A3,'Export base de données'!$A:$I,6,FALSE) -> Annulation titulaire | H3: =VLOOKUP($A3,'Export base de données'!$A:$I,8,FALSE) -> 43836 | I3: =VLOOKUP($A3,'Export base de données'!$A:$I,8,FALSE) -> 43836 | P3: =VLOOKUP($A3,'Export base de données'!$A:$I,7,FALSE) -> 0 | T3: Cholet
A4: ='Export base de données'!A4 -> 4056558844 | B4: =VLOOKUP($A4,'Export base de données'!$A:$I,2,FALSE) -> ADANKON | E4: =VLOOKUP($A4,'Export base de données'!$A:$I,6,FALSE) -> Facturé | H4: =VLOOKUP($A4,'Export base de données'!$A:$I,8,FALSE) -> 43893 | I4: =VLOOKUP($A4,'Export base de données'!$A:$I,8,FALSE) -> 43893 | L4: OK | M4: OK | N4: 100 | P4: =VLOOKUP($A4,'Export base de données'!$A:$I,7,FALSE) -> 0 | T4: Saumur
A5: ='Export base de données'!A5 -> 4281577405 | B5: =VLOOKUP($A5,'Export base de données'!$A:$I,2,FALSE) -> ALHAFFAR | E5: =VLOOKUP($A5,'Export base de données'!$A:$I,6,FALSE) -> Annulé | H5: =VLOOKUP($A5,'Export base de données'!$A:$I,8,FALSE) -> 44251 | I5: =VLOOKUP($A5,'Export base de données'!$A:$I,8,FALSE) -> 44251 | P5: =VLOOKUP($A5,'Export base de données'!$A:$I,7,FALSE) -> 0
A6: ='Export base de données'!A6 -> 4088460761 | B6: =VLOOKUP($A6,'Export base de données'!$A:$I,2,FALSE) -> Allaire | E6: =VLOOKUP($A6,'Export base de données'!$A:$I,6,FALSE) -> En formation | H6: =VLOOKUP($A6,'Export base de données'!$A:$I,8,FALSE) -> 44294 | I6: =VLOOKUP($A6,'Export base de données'!$A:$I,8,FALSE) -> 44294 | L6: OK | M6: OK | N6: 0 | O6: 0 | P6: =VLOOKUP($A6,'Export base de données'!$A:$I,7,FALSE) -> 0
A7: ='Export base de données'!A7 -> 4070659818 | B7: =VLOOKUP($A7,'Export base de données'!$A:$I,2,FALSE) -> ARCHAMBAULT | E7: =VLOOKUP($A7,'Export base de données'!$A:$I,6,FALSE) -> Annulation titulaire | H7: =VLOOKUP($A7,'Export base de données'!$A:$I,8,FALSE) -> 44151 | I7: =VLOOKUP($A7,'Export base de données'!$A:$I,8,FALSE) -> 44151 | P7: =VLOOKUP($A7,'Export base de données'!$A:$I,7,FALSE) -> 0
A8: ='Export base de données'!A9 -> 3972573975 | B8: =VLOOKUP($A8,'Export base de données'!$A:$I,2,FALSE) -> AUBIER | E8: =VLOOKUP($A8,'Export base de données'!$A:$I,6,FALSE) -> Facturé | H8: =VLOOKUP($A8,'Export base de données'!$A:$I,8,FALSE) -> 44124 | I8: =VLOOKUP($A8,'Export base de données'!$A:$I,8,FALSE) -> 44124 | P8: =VLOOKUP($A8,'Export base de données'!$A:$I,7,FALSE) -> 0
A9: ='Export base de données'!A8 -> 3972416613 | B9: =VLOOKUP($A9,'Export base de données'!$A:$I,2,FALSE) -> AUBIER | E9: =VLOOKUP($A9,'Export base de données'!$A:$I,6,FALSE) -> Refus titulaire | H9: =VLOOKUP($A9,'Export base de données'!$A:$I,8,FALSE) -> 44124 | I9: =VLOOKUP($A9,'Export base de données'!$A:$I,8,FALSE) -> 44124 | P9: =VLOOKUP($A9,'Export base de données'!$A:$I,7,FALSE) -> 0
A10: ='Export base de données'!A10 -> 4283311969 | B10: =VLOOKUP($A10,'Export base de données'!$A:$I,2,FALSE) -> BANVILLET | E10: =VLOOKUP($A10,'Export base de données'!$A:$I,6,FALSE) -> En formation | H10: =VLOOKUP($A10,'Export base de données'!$A:$I,8,FALSE) -> 44229 | I10: =VLOOKUP($A10,'Export base de données'!$A:$I,8,FALSE) -> 44229 | P10: =VLOOKUP($A10,'Export base de données'!$A:$I,7,FALSE) -> 0
A11: ='Export base de données'!A11 -> 3972327042 | B11: =VLOOKUP($A11,'Export base de données'!$A:$I,2,FALSE) -> BAUDOUIN | E11: =VLOOKUP($A11,'Export base de données'!$A:$I,6,FALSE) -> En formation | H11: =VLOOKUP($A11,'Export base de données'!$A:$I,8,FALSE) -> 44236 | I11: =VLOOKUP($A11,'Export base de données'!$A:$I,8,FALSE) -> 44236 | L11: OK | M11: OK | N11: 100 | P11: =VLOOKUP($A11,'Export base de données'!$A:$I,7,FALSE) -> 0
P12: =VLOOKUP($A12,'Export base de données'!$A:$I,7,FALSE) -> #N/A
P13: =VLOOKUP($A13,'Export base de données'!$A:$I,7,FALSE) -> #N/A
P14: =VLOOKUP($A14,'Export base de données'!$A:$I,7,FALSE) -> #N/A
P15: =VLOOKUP($A15,'Export base de données'!$A:$I,7,FALSE) -> #N/A
P16: =VLOOKUP($A16,'Export base de données'!$A:$I,7,FALSE) -> #N/A
P17: =VLOOKUP($A17,'Export base de données'!$A:$I,7,FALSE) -> #N/A
P18: =VLOOKUP($A18,'Export base de données'!$A:$I,7,FALSE) -> #N/A
P19: =VLOOKUP($A19,'Export base de données'!$A:$I,7,FALSE) -> #N/A
P20: =VLOOKUP($A20,'Export base de données'!$A:$I,7,FALSE) -> #N/A
P21: =VLOOKUP($A21,'Export base de données'!$A:$I,7,FALSE) -> #N/A
P22: =VLOOKUP($A22,'Export base de données'!$A:$I,7,FALSE) -> #N/A
P23: =VLOOKUP($A23,'Export base de données'!$A:$I,7,FALSE) -> #N/A
... P258: =VLOOKUP($A258,'Export base de données'!$A:$I,7,FALSE) -> #N/A
B259: =VLOOKUP($A259,'Export base de données'!$A:$I,2,FALSE) -> #N/A | C259: =VLOOKUP($A259,'Export base de données'!$A:$I,3,FALSE) -> #N/A | E259: =VLOOKUP($A259,'Export base de données'!$A:$I,6,FALSE) -> #N/A | F259: =VLOOKUP($A259,'Export base de données'!$A:$I,5,FALSE) -> #N/A | H259: =VLOOKUP($A259,'Export base de données'!$A:$I,8,FALSE) -> #N/A | I259: =VLOOKUP($A259,'Export base de données'!$A:$I,8,FALSE) -> #N/A | P259: =VLOOKUP($A259,'Export base de données'!$A:$I,7,FALSE) -> #N/A
B260: =VLOOKUP($A260,'Export base de données'!$A:$I,2,FALSE) -> #N/A | C260: =VLOOKUP($A260,'Export base de données'!$A:$I,3,FALSE) -> #N/A | E260: =VLOOKUP($A260,'Export base de données'!$A:$I,6,FALSE) -> #N/A | F260: =VLOOKUP($A260,'Export base de données'!$A:$I,5,FALSE) -> #N/A | H260: =VLOOKUP($A260,'Export base de données'!$A:$I,8,FALSE) -> #N/A | I260: =VLOOKUP($A260,'Export base de données'!$A:$I,8,FALSE) -> #N/A | P260: =VLOOKUP($A260,'Export base de données'!$A:$I,7,FALSE) -> #N/A
B261: =VLOOKUP($A261,'Export base de données'!$A:$I,2,FALSE) -> #N/A | C261: =VLOOKUP($A261,'Export base de données'!$A:$I,3,FALSE) -> #N/A | E261: =VLOOKUP($A261,'Export base de données'!$A:$I,6,FALSE) -> #N/A | F261: =VLOOKUP($A261,'Export base de données'!$A:$I,5,FALSE) -> #N/A | H261: =VLOOKUP($A261,'Export base de données'!$A:$I,8,FALSE) -> #N/A | I261: =VLOOKUP($A261,'Export base de données'!$A:$I,8,FALSE) -> #N/A | P261: =VLOOKUP($A261,'Export base de données'!$A:$I,7,FALSE) -> #N/A
B262: =VLOOKUP($A262,'Export base de données'!$A:$I,2,FALSE) -> #N/A | C262: =VLOOKUP($A262,'Export base de données'!$A:$I,3,FALSE) -> #N/A | E262: =VLOOKUP($A262,'Export base de données'!$A:$I,6,FALSE) -> #N/A | F262: =VLOOKUP($A262,'Export base de données'!$A:$I,5,FALSE) -> #N/A | H262: =VLOOKUP($A262,'Export base de données'!$A:$I,8,FALSE) -> #N/A | I262: =VLOOKUP($A262,'Export base de données'!$A:$I,8,FALSE) -> #N/A | P262: =VLOOKUP($A262,'Export base de données'!$A:$I,7,FALSE) -> #N/A
B263: =VLOOKUP($A263,'Export base de données'!$A:$I,2,FALSE) -> #N/A | C263: =VLOOKUP($A263,'Export base de données'!$A:$I,3,FALSE) -> #N/A | E263: =VLOOKUP($A263,'Export base de données'!$A:$I,6,FALSE) -> #N/A | F263: =VLOOKUP($A263,'Export base de données'!$A:$I,5,FALSE) -> #N/A | H263: =VLOOKUP($A263,'Export base de données'!$A:$I,8,FALSE) -> #N/A | I263: =VLOOKUP($A263,'Export base de données'!$A:$I,8,FALSE) -> #N/A | P263: =VLOOKUP($A263,'Export base de données'!$A:$I,7,FALSE) -> #N/A
B264: =VLOOKUP($A264,'Export base de données'!$A:$I,2,FALSE) -> #N/A | C264: =VLOOKUP($A264,'Export base de données'!$A:$I,3,FALSE) -> #N/A | E264: =VLOOKUP($A264,'Export base de données'!$A:$I,6,FALSE) -> #N/A | F264: =VLOOKUP($A264,'Export base de données'!$A:$I,5,FALSE) -> #N/A | H264: =VLOOKUP($A264,'Export base de données'!$A:$I,8,FALSE) -> #N/A | I264: =VLOOKUP($A264,'Export base de données'!$A:$I,8,FALSE) -> #N/A | P264: =VLOOKUP($A264,'Export base de données'!$A:$I,7,FALSE) -> #N/A
B265: =VLOOKUP($A265,'Export base de données'!$A:$I,2,FALSE) -> #N/A | C265: =VLOOKUP($A265,'Export base de données'!$A:$I,3,FALSE) -> #N/A | E265: =VLOOKUP($A265,'Export base de données'!$A:$I,6,FALSE) -> #N/A | F265: =VLOOKUP($A265,'Export base de données'!$A:$I,5,FALSE) -> #N/A | H265: =VLOOKUP($A265,'Export base de données'!$A:$I,8,FALSE) -> #N/A | I265: =VLOOKUP($A265,'Export base de données'!$A:$I,8,FALSE) -> #N/A | P265: =VLOOKUP($A265,'Export base de données'!$A:$I,7,FALSE) -> #N/A
B266: =VLOOKUP($A266,'Export base de données'!$A:$I,2,FALSE) -> #N/A | C266: =VLOOKUP($A266,'Export base de données'!$A:$I,3,FALSE) -> #N/A | E266: =VLOOKUP($A266,'Export base de données'!$A:$I,6,FALSE) -> #N/A | F266: =VLOOKUP($A266,'Export base de données'!$A:$I,5,FALSE) -> #N/A | H266: =VLOOKUP($A266,'Export base de données'!$A:$I,8,FALSE) -> #N/A | I266: =VLOOKUP($A266,'Export base de données'!$A:$I,8,FALSE) -> #N/A | P266: =VLOOKUP($A266,'Export base de données'!$A:$I,7,FALSE) -> #N/A
B267: =VLOOKUP($A267,'Export base de données'!$A:$I,2,FALSE) -> #N/A | C267: =VLOOKUP($A267,'Export base de données'!$A:$I,3,FALSE) -> #N/A | E267: =VLOOKUP($A267,'Export base de données'!$A:$I,6,FALSE) -> #N/A | F267: =VLOOKUP($A267,'Export base de données'!$A:$I,5,FALSE) -> #N/A | H267: =VLOOKUP($A267,'Export base de données'!$A:$I,8,FALSE) -> #N/A | I267: =VLOOKUP($A267,'Export base de données'!$A:$I,8,FALSE) -> #N/A | P267: =VLOOKUP($A267,'Export base de données'!$A:$I,7,FALSE) -> #N/A
B268: =VLOOKUP($A268,'Export base de données'!$A:$I,2,FALSE) -> #N/A | C268: =VLOOKUP($A268,'Export base de données'!$A:$I,3,FALSE) -> #N/A | E268: =VLOOKUP($A268,'Export base de données'!$A:$I,6,FALSE) -> #N/A | F268: =VLOOKUP($A268,'Export base de données'!$A:$I,5,FALSE) -> #N/A | H268: =VLOOKUP($A268,'Export base de données'!$A:$I,8,FALSE) -> #N/A | I268: =VLOOKUP($A268,'Export base de données'!$A:$I,8,FALSE) -> #N/A | P268: =VLOOKUP($A268,'Export base de données'!$A:$I,7,FALSE) -> #N/A
B269: =VLOOKUP($A269,'Export base de données'!$A:$I,2,FALSE) -> #N/A | C269: =VLOOKUP($A269,'Export base de données'!$A:$I,3,FALSE) -> #N/A | E269: =VLOOKUP($A269,'Export base de données'!$A:$I,6,FALSE) -> #N/A | F269: =VLOOKUP($A269,'Export base de données'!$A:$I,5,FALSE) -> #N/A | H269: =VLOOKUP($A269,'Export base de données'!$A:$I,8,FALSE) -> #N/A | I269: =VLOOKUP($A269,'Export base de données'!$A:$I,8,FALSE) -> #N/A | P269: =VLOOKUP($A269,'Export base de données'!$A:$I,7,FALSE) -> #N/A
B270: =VLOOKUP($A270,'Export base de données'!$A:$I,2,FALSE) -> #N/A | C270: =VLOOKUP($A270,'Export base de données'!$A:$I,3,FALSE) -> #N/A | E270: =VLOOKUP($A270,'Export base de données'!$A:$I,6,FALSE) -> #N/A | F270: =VLOOKUP($A270,'Export base de données'!$A:$I,5,FALSE) -> #N/A | H270: =VLOOKUP($A270,'Export base de données'!$A:$I,8,FALSE) -> #N/A | I270: =VLOOKUP($A270,'Export base de données'!$A:$I,8,FALSE) -> #N/A | P270: =VLOOKUP($A270,'Export base de données'!$A:$I,7,FALSE) -> #N/A
... B289: =VLOOKUP($A289,'Export base de données'!$A:$I,2,FALSE) -> #N/A | C289: =VLOOKUP($A289,'Export base de données'!$A:$I,3,FALSE) -> #N/A | E289: =VLOOKUP($A289,'Export base de données'!$A:$I,6,FALSE) -> #N/A | F289: =VLOOKUP($A289,'Export base de données'!$A:$I,5,FALSE) -> #N/A | H289: =VLOOKUP($A289,'Export base de données'!$A:$I,8,FALSE) -> #N/A | I289: =VLOOKUP($A289,'Export base de données'!$A:$I,8,FALSE) -> #N/A | P289: =VLOOKUP($A289,'Export base de données'!$A:$I,7,FALSE) -> #N/A
B290: =VLOOKUP($A290,'Export base de données'!$A:$I,2,FALSE) -> #N/A | C290: =VLOOKUP($A290,'Export base de données'!$A:$I,3,FALSE) -> #N/A | E290: =VLOOKUP($A290,'Export base de données'!$A:$I,6,FALSE) -> #N/A | F290: =VLOOKUP($A290,'Export base de données'!$A:$I,5,FALSE) -> #N/A | H290: =VLOOKUP($A290,'Export base de données'!$A:$I,8,FALSE) -> #N/A | I290: =VLOOKUP($A290,'Export base de données'!$A:$I,8,FALSE) -> #N/A | J290: Angers | L290: OK | P290: =VLOOKUP($A290,'Export base de données'!$A:$I,7,FALSE) -> #N/A
B291: =VLOOKUP($A291,'Export base de données'!$A:$I,2,FALSE) -> #N/A | C291: =VLOOKUP($A291,'Export base de données'!$A:$I,3,FALSE) -> #N/A | E291: =VLOOKUP($A291,'Export base de données'!$A:$I,6,FALSE) -> #N/A | F291: =VLOOKUP($A291,'Export base de données'!$A:$I,5,FALSE) -> #N/A | H291: =VLOOKUP($A291,'Export base de données'!$A:$I,8,FALSE) -> #N/A | I291: =VLOOKUP($A291,'Export base de données'!$A:$I,8,FALSE) -> #N/A | J291: Angers | L291: OK | P291: =VLOOKUP($A291,'Export base de données'!$A:$I,7,FALSE) -> #N/A
B292: =VLOOKUP($A292,'Export base de données'!$A:$I,2,FALSE) -> #N/A | C292: =VLOOKUP($A292,'Export base de données'!$A:$I,3,FALSE) -> #N/A | E292: =VLOOKUP($A292,'Export base de données'!$A:$I,6,FALSE) -> #N/A | F292: =VLOOKUP($A292,'Export base de données'!$A:$I,5,FALSE) -> #N/A | H292: =VLOOKUP($A292,'Export base de données'!$A:$I,8,FALSE) -> #N/A | I292: =VLOOKUP($A292,'Export base de données'!$A:$I,8,FALSE) -> #N/A | J292: Angers | L292: OK | P292: =VLOOKUP($A292,'Export base de données'!$A:$I,7,FALSE) -> #N/A
B293: =VLOOKUP($A293,'Export base de données'!$A:$I,2,FALSE) -> #N/A | C293: =VLOOKUP($A293,'Export base de données'!$A:$I,3,FALSE) -> #N/A | E293: =VLOOKUP($A293,'Export base de données'!$A:$I,6,FALSE) -> #N/A | F293: =VLOOKUP($A293,'Export base de données'!$A:$I,5,FALSE) -> #N/A | H293: =VLOOKUP($A293,'Export base de données'!$A:$I,8,FALSE) -> #N/A | I293: =VLOOKUP($A293,'Export base de données'!$A:$I,8,FALSE) -> #N/A | J293: Angers | L293: OK | P293: =VLOOKUP($A293,'Export base de données'!$A:$I,7,FALSE) -> #N/A
B294: =VLOOKUP($A294,'Export base de données'!$A:$I,2,FALSE) -> #N/A | C294: =VLOOKUP($A294,'Export base de données'!$A:$I,3,FALSE) -> #N/A | E294: =VLOOKUP($A294,'Export base de données'!$A:$I,6,FALSE) -> #N/A | F294: =VLOOKUP($A294,'Export base de données'!$A:$I,5,FALSE) -> #N/A | H294: =VLOOKUP($A294,'Export base de données'!$A:$I,8,FALSE) -> #N/A | I294: =VLOOKUP($A294,'Export base de données'!$A:$I,8,FALSE) -> #N/A | J294: Angers | L294: OK | P294: =VLOOKUP($A294,'Export base de données'!$A:$I,7,FALSE) -> #N/A
B295: =VLOOKUP($A295,'Export base de données'!$A:$I,2,FALSE) -> #N/A | C295: =VLOOKUP($A295,'Export base de données'!$A:$I,3,FALSE) -> #N/A | E295: =VLOOKUP($A295,'Export base de données'!$A:$I,6,FALSE) -> #N/A | F295: =VLOOKUP($A295,'Export base de données'!$A:$I,5,FALSE) -> #N/A | H295: =VLOOKUP($A295,'Export base de données'!$A:$I,8,FALSE) -> #N/A | I295: =VLOOKUP($A295,'Export base de données'!$A:$I,8,FALSE) -> #N/A | J295: Angers | L295: OK | P295: =VLOOKUP($A295,'Export base de données'!$A:$I,7,FALSE) -> #N/A
B296: =VLOOKUP($A296,'Export base de données'!$A:$I,2,FALSE) -> #N/A | C296: =VLOOKUP($A296,'Export base de données'!$A:$I,3,FALSE) -> #N/A | E296: =VLOOKUP($A296,'Export base de données'!$A:$I,6,FALSE) -> #N/A | F296: =VLOOKUP($A296,'Export base de données'!$A:$I,5,FALSE) -> #N/A | H296: =VLOOKUP($A296,'Export base de données'!$A:$I,8,FALSE) -> #N/A | I296: =VLOOKUP($A296,'Export base de données'!$A:$I,8,FALSE) -> #N/A | J296: Angers | L296: OK | P296: =VLOOKUP($A296,'Export base de données'!$A:$I,7,FALSE) -> #N/A
B297: =VLOOKUP($A297,'Export base de données'!$A:$I,2,FALSE) -> #N/A | C297: =VLOOKUP($A297,'Export base de données'!$A:$I,3,FALSE) -> #N/A | E297: =VLOOKUP($A297,'Export base de données'!$A:$I,6,FALSE) -> #N/A | F297: =VLOOKUP($A297,'Export base de données'!$A:$I,5,FALSE) -> #N/A | H297: =VLOOKUP($A297,'Export base de données'!$A:$I,8,FALSE) -> #N/A | I297: =VLOOKUP($A297,'Export base de données'!$A:$I,8,FALSE) -> #N/A | J297: Angers | L297: OK | P297: =VLOOKUP($A297,'Export base de données'!$A:$I,7,FALSE) -> #N/A
B298: =VLOOKUP($A298,'Export base de données'!$A:$I,2,FALSE) -> #N/A | C298: =VLOOKUP($A298,'Export base de données'!$A:$I,3,FALSE) -> #N/A | E298: =VLOOKUP($A298,'Export base de données'!$A:$I,6,FALSE) -> #N/A | F298: =VLOOKUP($A298,'Export base de données'!$A:$I,5,FALSE) -> #N/A | H298: =VLOOKUP($A298,'Export base de données'!$A:$I,8,FALSE) -> #N/A | I298: =VLOOKUP($A298,'Export base de données'!$A:$I,8,FALSE) -> #N/A | J298: Angers | L298: OK | P298: =VLOOKUP($A298,'Export base de données'!$A:$I,7,FALSE) -> #N/A
B299: =VLOOKUP($A299,'Export base de données'!$A:$I,2,FALSE) -> #N/A | C299: =VLOOKUP($A299,'Export base de données'!$A:$I,3,FALSE) -> #N/A | E299: =VLOOKUP($A299,'Export base de données'!$A:$I,6,FALSE) -> #N/A | F299: =VLOOKUP($A299,'Export base de données'!$A:$I,5,FALSE) -> #N/A | H299: =VLOOKUP($A299,'Export base de données'!$A:$I,8,FALSE) -> #N/A | I299: =VLOOKUP($A299,'Export base de données'!$A:$I,8,FALSE) -> #N/A | J299: Angers | L299: OK | P299: =VLOOKUP($A299,'Export base de données'!$A:$I,7,FALSE) -> #N/A
B300: =VLOOKUP($A300,'Export base de données'!$A:$I,2,FALSE) -> #N/A | C300: =VLOOKUP($A300,'Export base de données'!$A:$I,3,FALSE) -> #N/A | E300: =VLOOKUP($A300,'Export base de données'!$A:$I,6,FALSE) -> #N/A | F300: =VLOOKUP($A300,'Export base de données'!$A:$I,5,FALSE) -> #N/A | H300: =VLOOKUP($A300,'Export base de données'!$A:$I,8,FALSE) -> #N/A | I300: =VLOOKUP($A300,'Export base de données'!$A:$I,8,FALSE) -> #N/A | J300: Angers | L300: OK | P300: =VLOOKUP($A300,'Export base de données'!$A:$I,7,FALSE) -> #N/A
B301: =VLOOKUP($A301,'Export base de données'!$A:$I,2,FALSE) -> #N/A | C301: =VLOOKUP($A301,'Export base de données'!$A:$I,3,FALSE) -> #N/A | E301: =VLOOKUP($A301,'Export base de données'!$A:$I,6,FALSE) -> #N/A | F301: =VLOOKUP($A301,'Export base de données'!$A:$I,5,FALSE) -> #N/A | H301: =VLOOKUP($A301,'Export base de données'!$A:$I,8,FALSE) -> #N/A | I301: =VLOOKUP($A301,'Export base de données'!$A:$I,8,FALSE) -> #N/A | J301: Angers | L301: OK | P301: =VLOOKUP($A301,'Export base de données'!$A:$I,7,FALSE) -> #N/A
... B431: =VLOOKUP($A431,'Export base de données'!$A:$I,2,FALSE) -> #N/A | C431: =VLOOKUP($A431,'Export base de données'!$A:$I,3,FALSE) -> #N/A | E431: =VLOOKUP($A431,'Export base de données'!$A:$I,6,FALSE) -> #N/A | F431: =VLOOKUP($A431,'Export base de données'!$A:$I,5,FALSE) -> #N/A | H431: =VLOOKUP($A431,'Export base de données'!$A:$I,8,FALSE) -> #N/A | I431: =VLOOKUP($A431,'Export base de données'!$A:$I,8,FALSE) -> #N/A | J431: Angers | L431: OK | P431: =VLOOKUP($A431,'Export base de données'!$A:$I,7,FALSE) -> #N/A
A432: 3984566462 | P432: =VLOOKUP($A432,'Export base de données'!$A:$I,7,FALSE) -> #N/A
L433: RREAU | P433: =VLOOKUP($A433,'Export base de données'!$A:$I,7,FALSE) -> #N/A

Sheet NOTES
B2: DOSSIER CONCERNE | C2: DATE INFO | D2: DATE RESOLUTION PREVUE
B3: GALLARD Excel | C3: 04/01 facture faite on doit rembourser = attente retour cdc ??
B4: BRUNET: suite rupture 16/09, la CDC demande des justificatifs = mail rupture envoyé | C4: demande CDC 23/9 | D4: facture envoyée + mail justificatif
B5: PONAS: annulation diplôme d'entrée caduque | C5: Ddemande CDC 13/11 = mail GJ envoyé à la CDC | D5: attente retour CDC?
B6: MARY BILAN | C6: calcul du taux = 24h*73%/100 = 17,52h réalisées (se rapprocher des heures facturées (17,5h)
