Workbook

Sheet Export base de données
A1: Numéro dossier CPF | B1: Nom | C1: Prénom | D1: montant | E1: Intitulé formation | F1: Statut | G1: Abondement | H1: Date entrée | I1: Date sortie
A2: 3971425805 | B2: ABDELLALI | F2: Facturé | H2: 44131 | I2: 44133
A3: 3891183756 | B3: ACARIS | F3: Annulation titulaire | H3: 43836 | I3: 44377
A4: 4056558844 | B4: ADANKON | F4: Facturé | H4: 43893 | I4: 43899
A5: 4281577405 | B5: ALHAFFAR | F5: Annulé | H5: 44251 | I5: 44252
A6: 4088460761 | B6: Allaire | F6: En formation | H6: 44294 | I6: 44377
A7: 4070659818 | B7: ARCHAMBAULT | F7: Annulation titulaire | H7: 44151 | I7: 44328
A8: 3972416613 | B8: AUBIER | F8: Refus titulaire | H8: 44124 | I8: 44210
A9: 3972573975 | B9: AUBIER | F9: Facturé | H9: 44124 | I9: 44131
A10: 4283311969 | B10: BANVILLET | F10: En formation | H10: 44229 | I10: 44310
A11: 3972327042 | B11: BAUDOUIN | F11: En formation | H11: 44236 | I11: 44342

Sheet situation dossiers
A1: NUMERO DOSSIER | B1: NOM | C1: PRENOM | D1: INTITULE_FORMATION | E1: SITE | F1: STATUT_DOSSIER | G1: DATE DEBUT SESSION | H1: DATE FIN SESSION | I1: ACCUSE DE RECEPTION | J1: CONTRE PROPOSITION | K1: TRANSMIS | L1: ENTREE EN FORMATION | M1: SORTIE DE FORMATION | N1: SERVICE FAIT % | O1: FACTURE | P1: PAYE
A2: 3971425805 | B2: =VLOOKUP($A2,'Export base de données'!$A:$I,2,FALSE) -> ABDELLALI | C2: =VLOOKUP($A2,'Export base de données'!$A:$I,3,FALSE) -> 0 | D2: =VLOOKUP($A2,'Export base de données'!$A:$I,5,FALSE) -> 0 | E2: =VLOOKUP($A2,'TRANSMISSION INFOS'!$A$2:$N$600,5,FALSE) -> Facturé | F2: =VLOOKUP($A2,'Export base de données'!$A:$I,6,FALSE) -> Facturé | G2: =VLOOKUP($A2,'Export base de données'!$A:$I,7,FALSE) -> 0 | H2: =VLOOKUP($A2,'Export base de données'!$A:$I,8,FALSE) -> 44131 | I2: OK | J2: =VLOOKUP($A2,'TRANSMISSION INFOS'!$A:$K,12,FALSE) -> #REF! | K2: OK | L2: =VLOOKUP($A2,'TRANSMISSION INFOS'!$A$2:$N$600,13,FALSE) -> 0 | M2: =VLOOKUP($A2,'TRANSMISSION INFOS'!$A$2:$N$300,14,FALSE) -> 0 | N2: =VLOOKUP($A2,'TRANSMISSION INFOS'!$A$2:$N$600,15,FALSE) -> #REF! | O2: =VLOOKUP($A2,'TRANSMISSION INFOS'!$A$2:$O$600,16,FALSE) -> #REF!
A3: 3891183756 | B3: =VLOOKUP($A3,'Export base de données'!$A:$I,2,FALSE) -> ACARIS | C3: =VLOOKUP($A3,'Export base de données'!$A:$I,3,FALSE) -> 0 | D3: =VLOOKUP($A3,'Export base de données'!$A:$I,5,FALSE) -> 0 | E3: =VLOOKUP($A3,'TRANSMISSION INFOS'!$A$2:$N$600,5,FALSE) -> Annulation titulaire | F3: =VLOOKUP($A3,'Export base de données'!$A:$I,6,FALSE) -> Annulation titulaire | G3: =VLOOKUP($A3,'Export base de données'!$A:$I,7,FALSE) -> 0 | H3: =VLOOKUP($A3,'Export base de données'!$A:$I,8,FALSE) -> 43836 | I3: OK | J3: =VLOOKUP($A3,'TRANSMISSION INFOS'!$A:$K,12,FALSE) -> #REF! | K3: OK | L3: =VLOOKUP($A3,'TRANSMISSION INFOS'!$A$2:$N$600,13,FALSE) -> 0 | M3: =VLOOKUP($A3,'TRANSMISSION INFOS'!$A$2:$N$300,14,FALSE) -> 0 | N3: =VLOOKUP($A3,'TRANSMISSION INFOS'!$A$2:$N$600,15,FALSE) -> #REF! | O3: =VLOOKUP($A3,'TRANSMISSION INFOS'!$A$2:$O$600,16,FALSE) -> #REF!
A4: 4056558844 | B4: =VLOOKUP($A4,'Export base de données'!$A:$I,2,FALSE) -> ADANKON | C4: =VLOOKUP($A4,'Export base de données'!$A:$I,3,FALSE) -> 0 | D4: =VLOOKUP($A4,'Export base de données'!$A:$I,5,FALSE) -> 0 | E4: =VLOOKUP($A4,'TRANSMISSION INFOS'!$A$2:$N$600,5,FALSE) -> Facturé | F4: =VLOOKUP($A4,'Export base de données'!$A:$I,6,FALSE) -> Facturé | G4: =VLOOKUP($A4,'Export base de données'!$A:$I,7,FALSE) -> 0 | H4: =VLOOKUP($A4,'Export base de données'!$A:$I,8,FALSE) -> 43893 | I4: OK | J4: =VLOOKUP($A4,'TRANSMISSION INFOS'!$A:$K,12,FALSE) -> #REF! | K4: OK | L4: =VLOOKUP($A4,'TRANSMISSION INFOS'!$A$2:$N$600,13,FALSE) -> OK | M4: =VLOOKUP($A4,'TRANSMISSION INFOS'!$A$2:$N$300,14,FALSE) -> 100 | N4: =VLOOKUP($A4,'TRANSMISSION INFOS'!$A$2:$N$600,15,FALSE) -> #REF! | O4: =VLOOKUP($A4,'TRANSMISSION INFOS'!$A$2:$O$600,16,FALSE) -> #REF!
A5: 4281577405 | B5: =VLOOKUP($A5,'Export base de données'!$A:$I,2,FALSE) -> ALHAFFAR | C5: =VLOOKUP($A5,'Export base de données'!$A:$I,3,FALSE) -> 0 | D5: =VLOOKUP($A5,'Export base de données'!$A:$I,5,FALSE) -> 0 | E5: =VLOOKUP($A5,'TRANSMISSION INFOS'!$A$2:$N$600,5,FALSE) -> Annulé | F5: =VLOOKUP($A5,'Export base de données'!$A:$I,6,FALSE) -> Annulé | G5: =VLOOKUP($A5,'Export base de données'!$A:$I,7,FALSE) -> 0 | H5: =VLOOKUP($A5,'Export base de données'!$A:$I,8,FALSE) -> 44251 | I5: OK | J5: =VLOOKUP($A5,'TRANSMISSION INFOS'!$A:$K,12,FALSE) -> #REF! | K5: OK | L5: =VLOOKUP($A5,'TRANSMISSION INFOS'!$A$2:$N$600,13,FALSE) -> 0 | M5: =VLOOKUP($A5,'TRANSMISSION INFOS'!$A$2:$N$300,14,FALSE) -> 0 | N5: =VLOOKUP($A5,'TRANSMISSION INFOS'!$A$2:$N$600,15,FALSE) -> #REF! | O5: =VLOOKUP($A5,'TRANSMISSION INFOS'!$A$2:$O$600,16,FALSE) -> #REF!
A6: 3864458581 | B6: =VLOOKUP($A6,'Export base de données'!$A:$I,2,FALSE) -> #N/A | C6: =VLOOKUP($A6,'Export base de données'!$A:$I,3,FALSE) -> #N/A | D6: =VLOOKUP($A6,'Export base de données'!$A:$I,5,FALSE) -> #N/A | E6: =VLOOKUP($A6,'TRANSMISSION INFOS'!$A$2:$N$600,5,FALSE) -> #N/A | F6: =VLOOKUP($A6,'Export base de données'!$A:$I,6,FALSE) -> #N/A | G6: =VLOOKUP($A6,'Export base de données'!$A:$I,7,FALSE) -> #N/A | H6: =VLOOKUP($A6,'Export base de données'!$A:$I,8,FALSE) -> #N/A | I6: OK | J6: =VLOOKUP($A6,'TRANSMISSION INFOS'!$A:$K,12,FALSE) -> #N/A | K6: OK | L6: =VLOOKUP($A6,'TRANSMISSION INFOS'!$A$2:$N$600,13,FALSE) -> #N/A | M6: =VLOOKUP($A6,'TRANSMISSION INFOS'!$A$2:$N$300,14,FALSE) -> #N/A | N6: =VLOOKUP($A6,'TRANSMISSION INFOS'!$A$2:$N$600,15,FALSE) -> #N/A | O6: =VLOOKUP($A6,'TRANSMISSION INFOS'!$A$2:$O$600,16,FALSE) -> #N/A
A7: 4070659818 | B7: =VLOOKUP($A7,'Export base de données'!$A:$I,2,FALSE) -> ARCHAMBAULT | C7: =VLOOKUP($A7,'Export base de données'!$A:$I,3,FALSE) -> 0 | D7: =VLOOKUP($A7,'Export base de données'!$A:$I,5,FALSE) -> 0 | E7: =VLOOKUP($A7,'TRANSMISSION INFOS'!$A$2:$N$600,5,FALSE) -> Annulation titulaire | F7: =VLOOKUP($A7,'Export base de données'!$A:$I,6,FALSE) -> Annulation titulaire | G7: =VLOOKUP($A7,'Export base de données'!$A:$I,7,FALSE) -> 0 | H7: =VLOOKUP($A7,'Export base de données'!$A:$I,8,FALSE) -> 44151 | I7: OK | J7: =VLOOKUP($A7,'TRANSMISSION INFOS'!$A:$K,12,FALSE) -> #REF! | K7: OK | L7: =VLOOKUP($A7,'TRANSMISSION INFOS'!$A$2:$N$197,13,FALSE) -> 0 | M7: =VLOOKUP($A7,'TRANSMISSION INFOS'!$A$2:$N$197,14,FALSE) -> 0 | N7: =VLOOKUP($A7,'TRANSMISSION INFOS'!$A$2:$N$197,15,FALSE) -> #REF! | O7: =VLOOKUP($A7,'TRANSMISSION INFOS'!$A$2:$O$600,16,FALSE) -> #REF!
A8: 3972416613 | B8: =VLOOKUP($A8,'Export base de données'!$A:$I,2,FALSE) -> AUBIER | C8: =VLOOKUP($A8,'Export base de données'!$A:$I,3,FALSE) -> 0 | D8: =VLOOKUP($A8,'Export base de données'!$A:$I,5,FALSE) -> 0 | E8: =VLOOKUP($A8,'TRANSMISSION INFOS'!$A$2:$N$600,5,FALSE) -> Refus titulaire | F8: =VLOOKUP($A8,'Export base de données'!$A:$I,6,FALSE) -> Refus titulaire | G8: =VLOOKUP($A8,'Export base de données'!$A:$I,7,FALSE) -> 0 | H8: =VLOOKUP($A8,'Export base de données'!$A:$I,8,FALSE) -> 44124 | I8: OK | J8: =VLOOKUP($A8,'TRANSMISSION INFOS'!$A:$K,12,FALSE) -> #REF! | K8: OK | L8: =VLOOKUP($A8,'TRANSMISSION INFOS'!$A$2:$N$197,13,FALSE) -> 0 | M8: =VLOOKUP($A8,'TRANSMISSION INFOS'!$A$2:$N$197,14,FALSE) -> 0 | N8: =VLOOKUP($A8,'TRANSMISSION INFOS'!$A$2:$N$197,15,FALSE) -> #REF! | O8: =VLOOKUP($A8,'TRANSMISSION INFOS'!$A$2:$O$600,16,FALSE) -> #REF!
A9: 3972573975 | B9: =VLOOKUP($A9,'Export base de données'!$A:$I,2,FALSE) -> AUBIER | C9: =VLOOKUP($A9,'Export base de données'!$A:$I,3,FALSE) -> 0 | D9: =VLOOKUP($A9,'Export base de données'!$A:$I,5,FALSE) -> 0 | E9: =VLOOKUP($A9,'TRANSMISSION INFOS'!$A$2:$N$600,5,FALSE) -> Facturé | F9: =VLOOKUP($A9,'Export base de données'!$A:$I,6,FALSE) -> Facturé | G9: =VLOOKUP($A9,'Export base de données'!$A:$I,7,FALSE) -> 0 | H9: =VLOOKUP($A9,'Export base de données'!$A:$I,8,FALSE) -> 44124 | I9: OK | J9: =VLOOKUP($A9,'TRANSMISSION INFOS'!$A:$K,12,FALSE) -> #REF! | K9: OK | L9: =VLOOKUP($A9,'TRANSMISSION INFOS'!$A$2:$N$600,13,FALSE) -> 0 | M9: =VLOOKUP($A9,'TRANSMISSION INFOS'!$A$2:$N$300,14,FALSE) -> 0 | N9: =VLOOKUP($A9,'TRANSMISSION INFOS'!$A$2:$N$600,15,FALSE) -> #REF! | O9: =VLOOKUP($A9,'TRANSMISSION INFOS'!$A$2:$O$600,16,FALSE) -> #REF!
A10: 4064669815 | B10: =VLOOKUP($A10,'Export base de données'!$A:$I,2,FALSE) -> #N/A | C10: =VLOOKUP($A10,'Export base de données'!$A:$I,3,FALSE) -> #N/A | D10: =VLOOKUP($A10,'Export base de données'!$A:$I,5,FALSE) -> #N/A | E10: =VLOOKUP($A10,'TRANSMISSION INFOS'!$A$2:$N$600,5,FALSE) -> #N/A | F10: =VLOOKUP($A10,'Export base de données'!$A:$I,6,FALSE) -> #N/A | G10: =VLOOKUP($A10,'Export base de données'!$A:$I,7,FALSE) -> #N/A | H10: =VLOOKUP($A10,'Export base de données'!$A:$I,8,FALSE) -> #N/A | I10: OK | J10: =VLOOKUP($A10,'TRANSMISSION INFOS'!$A:$K,12,FALSE) -> #N/A | K10: OK | L10: =VLOOKUP($A10,'TRANSMISSION INFOS'!$A$2:$N$600,13,FALSE) -> #N/A | M10: =VLOOKUP($A10,'TRANSMISSION INFOS'!$A$2:$N$300,14,FALSE) -> #N/A | N10: =VLOOKUP($A10,'TRANSMISSION INFOS'!$A$2:$N$600,15,FALSE) -> #N/A | O10: =VLOOKUP($A10,'TRANSMISSION INFOS'!$A$2:$O$600,16,FALSE) -> #N/A
A11: 3867269266 | B11: =VLOOKUP($A11,'Export base de données'!$A:$I,2,FALSE) -> #N/A | C11: =VLOOKUP($A11,'Export base de données'!$A:$I,3,FALSE) -> #N/A | D11: =VLOOKUP($A11,'Export base de données'!$A:$I,5,FALSE) -> #N/A | E11: =VLOOKUP($A11,'TRANSMISSION INFOS'!$A$2:$N$600,5,FALSE) -> #N/A | F11: =VLOOKUP($A11,'Export base de données'!$A:$I,6,FALSE) -> #N/A | G11: =VLOOKUP($A11,'Export base de données'!$A:$I,7,FALSE) -> #N/A | H11: =VLOOKUP($A11,'Export base de données'!$A:$I,8,FALSE) -> #N/A | I11: OK | J11: =VLOOKUP($A11,'TRANSMISSION INFOS'!$A:$K,12,FALSE) -> #N/A | K11: OK | L11: =VLOOKUP($A11,'TRANSMISSION INFOS'!$A$2:$N$600,13,FALSE) -> #N/A | M11: =VLOOKUP($A11,'TRANSMISSION INFOS'!$A$2:$N$300,14,FALSE) -> #N/A | N11: =VLOOKUP($A11,'TRANSMISSION INFOS'!$A$2:$N$600,15,FALSE) -> #N/A | O11: =VLOOKUP($A11,'TRANSMISSION INFOS'!$A$2:$O$600,16,FALSE) -> #N/A
A12: 4063687651 | B12: =VLOOKUP($A12,'Export base de données'!$A:$I,2,FALSE) -> #N/A | C12: =VLOOKUP($A12,'Export base de données'!$A:$I,3,FALSE) -> #N/A | D12: =VLOOKUP($A12,'Export base de données'!$A:$I,5,FALSE) -> #N/A | E12: =VLOOKUP($A12,'TRANSMISSION INFOS'!$A$2:$N$600,5,FALSE) -> #N/A | F12: =VLOOKUP($A12,'Export base de données'!$A:$I,6,FALSE) -> #N/A | G12: =VLOOKUP($A12,'Export base de données'!$A:$I,7,FALSE) -> #N/A | H12: =VLOOKUP($A12,'Export base de données'!$A:$I,8,FALSE) -> #N/A | I12: OK | J12: =VLOOKUP($A12,'TRANSMISSION INFOS'!$A:$K,12,FALSE) -> #N/A | K12: OK | L12: =VLOOKUP($A12,'TRANSMISSION INFOS'!$A$2:$N$600,13,FALSE) -> #N/A | M12: =VLOOKUP($A12,'TRANSMISSION INFOS'!$A$2:$N$300,14,FALSE) -> #N/A | N12: =VLOOKUP($A12,'TRANSMISSION INFOS'!$A$2:$N$600,15,FALSE) -> #N/A | O12: =VLOOKUP($A12,'TRANSMISSION INFOS'!$A$2:$O$600,16,FALSE) -> #N/A
A13: 4072632300 | B13: =VLOOKUP($A13,'Export base de données'!$A:$I,2,FALSE) -> #N/A | C13: =VLOOKUP($A13,'Export base de données'!$A:$I,3,FALSE) -> #N/A | D13: =VLOOKUP($A13,'Export base de données'!$A:$I,5,FALSE) -> #N/A | E13: =VLOOKUP($A13,'TRANSMISSION INFOS'!$A$2:$N$600,5,FALSE) -> #N/A | F13: =VLOOKUP($A13,'Export base de données'!$A:$I,6,FALSE) -> #N/A | G13: =VLOOKUP($A13,'Export base de données'!$A:$I,7,FALSE) -> #N/A | H13: =VLOOKUP($A13,'Export base de données'!$A:$I,8,FALSE) -> #N/A | I13: OK | J13: =VLOOKUP($A13,'TRANSMISSION INFOS'!$A:$K,12,FALSE) -> #N/A | K13: OK | L13: =VLOOKUP($A13,'TRANSMISSION INFOS'!$A$2:$N$600,13,FALSE) -> #N/A | M13: =VLOOKUP($A13,'TRANSMISSION INFOS'!$A$2:$N$300,14,FALSE) -> #N/A | N13: =VLOOKUP($A13,'TRANSMISSION INFOS'!$A$2:$N$600,15,FALSE) -> #N/A | O13: =VLOOKUP($A13,'TRANSMISSION INFOS'!$A$2:$O$600,16,FALSE) -> #N/A
A14: 4086158235 | B14: =VLOOKUP($A14,'Export base de données'!$A:$I,2,FALSE) -> #N/A | C14: =VLOOKUP($A14,'Export base de données'!$A:$I,3,FALSE) -> #N/A | D14: =VLOOKUP($A14,'Export base de données'!$A:$I,5,FALSE) -> #N/A | E14: =VLOOKUP($A14,'TRANSMISSION INFOS'!$A$2:$N$600,5,FALSE) -> #N/A | F14: =VLOOKUP($A14,'Export base de données'!$A:$I,6,FALSE) -> #N/A | G14: =VLOOKUP($A14,'Export base de données'!$A:$I,7,FALSE) -> #N/A | H14: =VLOOKUP($A14,'Export base de données'!$A:$I,8,FALSE) -> #N/A | I14: OK | J14: =VLOOKUP($A14,'TRANSMISSION INFOS'!$A:$K,12,FALSE) -> #N/A | K14: OK | L14: =VLOOKUP($A14,'TRANSMISSION INFOS'!$A$2:$N$600,13,FALSE) -> #N/A | M14: =VLOOKUP($A14,'TRANSMISSION INFOS'!$A$2:$N$300,14,FALSE) -> #N/A | N14: =VLOOKUP($A14,'TRANSMISSION INFOS'!$A$2:$N$600,15,FALSE) -> #N/A | O14: =VLOOKUP($A14,'TRANSMISSION INFOS'!$A$2:$O$600,16,FALSE) -> #N/A
A15: 4070819875 | B15: =VLOOKUP($A15,'Export base de données'!$A:$I,2,FALSE) -> #N/A | C15: =VLOOKUP($A15,'Export base de données'!$A:$I,3,FALSE) -> #N/A | D15: =VLOOKUP($A15,'Export base de données'!$A:$I,5,FALSE) -> #N/A | E15: =VLOOKUP($A15,'TRANSMISSION INFOS'!$A$2:$N$600,5,FALSE) -> #N/A | F15: =VLOOKUP($A15,'Export base de données'!$A:$I,6,FALSE) -> #N/A | G15: =VLOOKUP($A15,'Export base de données'!$A:$I,7,FALSE) -> #N/A | H15: =VLOOKUP($A15,'Export base de données'!$A:$I,8,FALSE) -> #N/A | I15: OK | J15: =VLOOKUP($A15,'TRANSMISSION INFOS'!$A:$K,12,FALSE) -> #N/A | K15: OK | L15: =VLOOKUP($A15,'TRANSMISSION INFOS'!$A$2:$N$600,13,FALSE) -> #N/A | M15: =VLOOKUP($A15,'TRANSMISSION INFOS'!$A$2:$N$300,14,FALSE) -> #N/A | N15: =VLOOKUP($A15,'TRANSMISSION INFOS'!$A$2:$N$600,15,FALSE) -> #N/A | O15: =VLOOKUP($A15,'TRANSMISSION INFOS'!$A$2:$O$600,16,FALSE) -> #N/A
A16: 3990018607 | B16: =VLOOKUP($A16,'Export base de données'!$A:$I,2,FALSE) -> #N/A | C16: =VLOOKUP($A16,'Export base de données'!$A:$I,3,FALSE) -> #N/A | D16: =VLOOKUP($A16,'Export base de données'!$A:$I,5,FALSE) -> #N/A | E16: =VLOOKUP($A16,'TRANSMISSION INFOS'!$A$2:$N$600,5,FALSE) -> #N/A | F16: =VLOOKUP($A16,'Export base de données'!$A:$I,6,FALSE) -> #N/A | G16: =VLOOKUP($A16,'Export base de données'!$A:$I,7,FALSE) -> #N/A | H16: =VLOOKUP($A16,'Export base de données'!$A:$I,8,FALSE) -> #N/A | I16: OK | J16: =VLOOKUP($A16,'TRANSMISSION INFOS'!$A:$K,12,FALSE) -> #N/A | K16: OK | L16: =VLOOKUP($A16,'TRANSMISSION INFOS'!$A$2:$N$600,13,FALSE) -> #N/A | M16: =VLOOKUP($A16,'TRANSMISSION INFOS'!$A$2:$N$300,14,FALSE) -> #N/A | N16: =VLOOKUP($A16,'TRANSMISSION INFOS'!$A$2:$N$600,15,FALSE) -> #N/A | O16: =VLOOKUP($A16,'TRANSMISSION INFOS'!$A$2:$O$600,16,FALSE) -> #N/A
A17: 3862301577 | B17: =VLOOKUP($A17,'Export base de données'!$A:$I,2,FALSE) -> #N/A | C17: =VLOOKUP($A17,'Export base de données'!$A:$I,3,FALSE) -> #N/A | D17: =VLOOKUP($A17,'Export base de données'!$A:$I,5,FALSE) -> #N/A | E17: =VLOOKUP($A17,'TRANSMISSION INFOS'!$A$2:$N$600,5,FALSE) -> #N/A | F17: =VLOOKUP($A17,'Export base de données'!$A:$I,6,FALSE) -> #N/A | G17: =VLOOKUP($A17,'Export base de données'!$A:$I,7,FALSE) -> #N/A | H17: =VLOOKUP($A17,'Export base de données'!$A:$I,8,FALSE) -> #N/A | I17: OK | J17: =VLOOKUP($A17,'TRANSMISSION INFOS'!$A:$K,12,FALSE) -> #N/A | K17: OK | L17: =VLOOKUP($A17,'TRANSMISSION INFOS'!$A$2:$N$600,13,FALSE) -> #N/A | M17: =VLOOKUP($A17,'TRANSMISSION INFOS'!$A$2:$N$300,14,FALSE) -> #N/A | N17: =VLOOKUP($A17,'TRANSMISSION INFOS'!$A$2:$N$600,15,FALSE) -> #N/A | O17: =VLOOKUP($A17,'TRANSMISSION INFOS'!$A$2:$O$600,16,FALSE) -> #N/A
A18: 4282960246 | B18: =VLOOKUP($A18,'Export base de données'!$A:$I,2,FALSE) -> #N/A | C18: =VLOOKUP($A18,'Export base de données'!$A:$I,3,FALSE) -> #N/A | D18: =VLOOKUP($A18,'Export base de données'!$A:$I,5,FALSE) -> #N/A | E18: =VLOOKUP($A18,'TRANSMISSION INFOS'!$A$2:$N$600,5,FALSE) -> #N/A | F18: =VLOOKUP($A18,'Export base de données'!$A:$I,6,FALSE) -> #N/A | G18: =VLOOKUP($A18,'Export base de données'!$A:$I,7,FALSE) -> #N/A | H18: =VLOOKUP($A18,'Export base de données'!$A:$I,8,FALSE) -> #N/A | I18: OK | J18: =VLOOKUP($A18,'TRANSMISSION INFOS'!$A:$K,12,FALSE) -> #N/A | K18: OK | L18: =VLOOKUP($A18,'TRANSMISSION INFOS'!$A$2:$N$600,13,FALSE) -> #N/A | M18: =VLOOKUP($A18,'TRANSMISSION INFOS'!$A$2:$N$300,14,FALSE) -> #N/A | N18: =VLOOKUP($A18,'TRANSMISSION INFOS'!$A$2:$N$600,15,FALSE) -> #N/A | O18: =VLOOKUP($A18,'TRANSMISSION INFOS'!$A$2:$O$600,16,FALSE) -> #N/A
A19: 4062376140 | B19: =VLOOKUP($A19,'Export base de données'!$A:$I,2,FALSE) -> #N/A | C19: =VLOOKUP($A19,'Export base de données'!$A:$I,3,FALSE) -> #N/A | D19: =VLOOKUP($A19,'Export base de données'!$A:$I,5,FALSE) -> #N/A | E19: =VLOOKUP($A19,'TRANSMISSION INFOS'!$A$2:$N$600,5,FALSE) -> #N/A | F19: =VLOOKUP($A19,'Export base de données'!$A:$I,6,FALSE) -> #N/A | G19: =VLOOKUP($A19,'Export base de données'!$A:$I,7,FALSE) -> #N/A | H19: =VLOOKUP($A19,'Export base de données'!$A:$I,8,FALSE) -> #N/A | I19: OK | J19: =VLOOKUP($A19,'TRANSMISSION INFOS'!$A:$K,12,FALSE) -> #N/A | K19: OK | L19: =VLOOKUP($A19,'TRANSMISSION INFOS'!$A$2:$N$600,13,FALSE) -> #N/A | M19: =VLOOKUP($A19,'TRANSMISSION INFOS'!$A$2:$N$300,14,FALSE) -> #N/A | N19: =VLOOKUP($A19,'TRANSMISSION INFOS'!$A$2:$N$600,15,FALSE) -> #N/A | O19: =VLOOKUP($A19,'TRANSMISSION INFOS'!$A$2:$O$600,16,FALSE) -> #N/A
A20: 4062377122 | B20: =VLOOKUP($A20,'Export base de données'!$A:$I,2,FALSE) -> #N/A | C20: =VLOOKUP($A20,'Export base de données'!$A:$I,3,FALSE) -> #N/A | D20: =VLOOKUP($A20,'Export base de données'!$A:$I,5,FALSE) -> #N/A | E20: =VLOOKUP($A20,'TRANSMISSION INFOS'!$A$2:$N$600,5,FALSE) -> #N/A | F20: =VLOOKUP($A20,'Export base de données'!$A:$I,6,FALSE) -> #N/A | G20: =VLOOKUP($A20,'Export base de données'!$A:$I,7,FALSE) -> #N/A | H20: =VLOOKUP($A20,'Export base de données'!$A:$I,8,FALSE) -> #N/A | I20: OK | J20: =VLOOKUP($A20,'TRANSMISSION INFOS'!$A:$K,12,FALSE) -> #N/A | K20: OK | L20: =VLOOKUP($A20,'TRANSMISSION INFOS'!$A$2:$N$600,13,FALSE) -> #N/A | M20: =VLOOKUP($A20,'TRANSMISSION INFOS'!$A$2:$N$300,14,FALSE) -> #N/A | N20: =VLOOKUP($A20,'TRANSMISSION INFOS'!$A$2:$N$600,15,FALSE) -> #N/A | O20: =VLOOKUP($A20,'TRANSMISSION INFOS'!$A$2:$O$600,16,FALSE) -> #N/A
A21: 4059493320 | B21: =VLOOKUP($A21,'Export base de données'!$A:$I,2,FALSE) -> #N/A | C21: =VLOOKUP($A21,'Export base de données'!$A:$I,3,FALSE) -> #N/A | D21: =VLOOKUP($A21,'Export base de données'!$A:$I,5,FALSE) -> #N/A | E21: =VLOOKUP($A21,'TRANSMISSION INFOS'!$A$2:$N$600,5,FALSE) -> #N/A | F21: =VLOOKUP($A21,'Export base de données'!$A:$I,6,FALSE) -> #N/A | G21: =VLOOKUP($A21,'Export base de données'!$A:$I,7,FALSE) -> #N/A | H21: =VLOOKUP($A21,'Export base de données'!$A:$I,8,FALSE) -> #N/A | I21: OK | J21: =VLOOKUP($A21,'TRANSMISSION INFOS'!$A:$K,12,FALSE) -> #N/A | K21: OK | L21: =VLOOKUP($A21,'TRANSMISSION INFOS'!$A$2:$N$197,13,FALSE) -> #N/A | M21: =VLOOKUP($A21,'TRANSMISSION INFOS'!$A$2:$N$197,14,FALSE) -> #N/A | N21: =VLOOKUP($A21,'TRANSMISSION INFOS'!$A$2:$N$197,15,FALSE) -> #N/A | O21: =VLOOKUP($A21,'TRANSMISSION INFOS'!$A$2:$O$600,16,FALSE) -> #N/A
A22: 4060720299 | B22: =VLOOKUP($A22,'Export base de données'!$A:$I,2,FALSE) -> #N/A | C22: =VLOOKUP($A22,'Export base de données'!$A:$I,3,FALSE) -> #N/A | D22: =VLOOKUP($A22,'Export base de données'!$A:$I,5,FALSE) -> #N/A | E22: =VLOOKUP($A22,'TRANSMISSION INFOS'!$A$2:$N$600,5,FALSE) -> #N/A | F22: =VLOOKUP($A22,'Export base de données'!$A:$I,6,FALSE) -> #N/A | G22: =VLOOKUP($A22,'Export base de données'!$A:$I,7,FALSE) -> #N/A | H22: =VLOOKUP($A22,'Export base de données'!$A:$I,8,FALSE) -> #N/A | I22: OK | J22: =VLOOKUP($A22,'TRANSMISSION INFOS'!$A:$K,12,FALSE) -> #N/A | K22: OK | L22: =VLOOKUP($A22,'TRANSMISSION INFOS'!$A$2:$N$197,13,FALSE) -> #N/A | M22: =VLOOKUP($A22,'TRANSMISSION INFOS'!$A$2:$N$197,14,FALSE) -> #N/A | N22: =VLOOKUP($A22,'TRANSMISSION INFOS'!$A$2:$N$197,15,FALSE) -> #N/A | O22: =VLOOKUP($A22,'TRANSMISSION INFOS'!$A$2:$O$600,16,FALSE) -> #N/A
A23: 4059493643 | B23: =VLOOKUP($A23,'Export base de données'!$A:$I,2,FALSE) -> #N/A | C23: =VLOOKUP($A23,'Export base de données'!$A:$I,3,FALSE) -> #N/A | D23: =VLOOKUP($A23,'Export base de données'!$A:$I,5,FALSE) -> #N/A | E23: =VLOOKUP($A23,'TRANSMISSION INFOS'!$A$2:$N$600,5,FALSE) -> #N/A | F23: =VLOOKUP($A23,'Export base de données'!$A:$I,6,FALSE) -> #N/A | G23: =VLOOKUP($A23,'Export base de données'!$A:$I,7,FALSE) -> #N/A | H23: =VLOOKUP($A23,'Export base de données'!$A:$I,8,FALSE) -> #N/A | I23: OK | J23: =VLOOKUP($A23,'TRANSMISSION INFOS'!$A:$K,12,FALSE) -> #N/A | K23: OK | L23: =VLOOKUP($A23,'TRANSMISSION INFOS'!$A$2:$N$197,13,FALSE) -> #N/A | M23: =VLOOKUP($A23,'TRANSMISSION INFOS'!$A$2:$N$197,14,FALSE) -> #N/A | N23: =VLOOKUP($A23,'TRANSMISSION INFOS'!$A$2:$N$197,15,FALSE) -> #N/A | O23: =VLOOKUP($A23,'TRANSMISSION INFOS'!$A$2:$O$600,16,FALSE) -> #N/A
A24: 4060720372 | B24: =VLOOKUP($A24,'Export base de données'!$A:$I,2,FALSE) -> #N/A | C24: =VLOOKUP($A24,'Export base de données'!$A:$I,3,FALSE) -> #N/A | D24: =VLOOKUP($A24,'Export base de données'!$A:$I,5,FALSE) -> #N/A | E24: =VLOOKUP($A24,'TRANSMISSION INFOS'!$A$2:$N$600,5,FALSE) -> #N/A | F24: =VLOOKUP($A24,'Export base de données'!$A:$I,6,FALSE) -> #N/A | G24: =VLOOKUP($A24,'Export base de données'!$A:$I,7,FALSE) -> #N/A | H24: =VLOOKUP($A24,'Export base de données'!$A:$I,8,FALSE) -> #N/A | I24: OK | J24: =VLOOKUP($A24,'TRANSMISSION INFOS'!$A:$K,12,FALSE) -> #N/A | K24: OK | L24: =VLOOKUP($A24,'TRANSMISSION INFOS'!$A$2:$N$197,13,FALSE) -> #N/A | M24: =VLOOKUP($A24,'TRANSMISSION INFOS'!$A$2:$N$197,14,FALSE) -> #N/A | N24: =VLOOKUP($A24,'TRANSMISSION INFOS'!$A$2:$N$197,15,FALSE) -> #N/A | O24: =VLOOKUP($A24,'TRANSMISSION INFOS'!$A$2:$O$600,16,FALSE) -> #N/A
A25: 4060724184 | B25: =VLOOKUP($A25,'Export base de données'!$A:$I,2,FALSE) -> #N/A | C25: =VLOOKUP($A25,'Export base de données'!$A:$I,3,FALSE) -> #N/A | D25: =VLOOKUP($A25,'Export base de données'!$A:$I,5,FALSE) -> #N/A | E25: =VLOOKUP($A25,'TRANSMISSION INFOS'!$A$2:$N$600,5,FALSE) -> #N/A | F25: =VLOOKUP($A25,'Export base de données'!$A:$I,6,FALSE) -> #N/A | G25: =VLOOKUP($A25,'Export base de données'!$A:$I,7,FALSE) -> #N/A | H25: =VLOOKUP($A25,'Export base de données'!$A:$I,8,FALSE) -> #N/A | I25: OK | J25: =VLOOKUP($A25,'TRANSMISSION INFOS'!$A:$K,12,FALSE) -> #N/A | K25: OK | L25: =VLOOKUP($A25,'TRANSMISSION INFOS'!$A$2:$N$600,13,FALSE) -> #N/A | M25: =VLOOKUP($A25,'TRANSMISSION INFOS'!$A$2:$N$300,14,FALSE) -> #N/A | N25: =VLOOKUP($A25,'TRANSMISSION INFOS'!$A$2:$N$600,15,FALSE) -> #N/A | O25: =VLOOKUP($A25,'TRANSMISSION INFOS'!$A$2:$O$600,16,FALSE) -> #N/A
A26: 4060724127 | B26: =VLOOKUP($A26,'Export base de données'!$A:$I,2,FALSE) -> #N/A | C26: =VLOOKUP($A26,'Export base de données'!$A:$I,3,FALSE) -> #N/A | D26: =VLOOKUP($A26,'Export base de données'!$A:$I,5,FALSE) -> #N/A | E26: =VLOOKUP($A26,'TRANSMISSION INFOS'!$A$2:$N$600,5,FALSE) -> #N/A | F26: =VLOOKUP($A26,'Export base de données'!$A:$I,6,FALSE) -> #N/A | G26: =VLOOKUP($A26,'Export base de données'!$A:$I,7,FALSE) -> #N/A | H26: =VLOOKUP($A26,'Export base de données'!$A:$I,8,FALSE) -> #N/A | I26: OK | J26: =VLOOKUP($A26,'TRANSMISSION INFOS'!$A:$K,12,FALSE) -> #N/A | K26: OK | L26: =VLOOKUP($A26,'TRANSMISSION INFOS'!$A$2:$N$600,13,FALSE) -> #N/A | M26: =VLOOKUP($A26,'TRANSMISSION INFOS'!$A$2:$N$300,14,FALSE) -> #N/A | N26: =VLOOKUP($A26,'TRANSMISSION INFOS'!$A$2:$N$600,15,FALSE) -> #N/A | O26: =VLOOKUP($A26,'TRANSMISSION INFOS'!$A$2:$O$600,16,FALSE) -> #N/A
A27: 4078800497 | B27: =VLOOKUP($A27,'Export base de données'!$A:$I,2,FALSE) -> #N/A | C27: =VLOOKUP($A27,'Export base de données'!$A:$I,3,FALSE) -> #N/A | D27: =VLOOKUP($A27,'Export base de données'!$A:$I,5,FALSE) -> #N/A | E27: =VLOOKUP($A27,'TRANSMISSION INFOS'!$A$2:$N$600,5,FALSE) -> #N/A | F27: =VLOOKUP($A27,'Export base de données'!$A:$I,6,FALSE) -> #N/A | G27: =VLOOKUP($A27,'Export base de données'!$A:$I,7,FALSE) -> #N/A | H27: =VLOOKUP($A27,'Export base de données'!$A:$I,8,FALSE) -> #N/A | I27: OK | J27: =VLOOKUP($A27,'TRANSMISSION INFOS'!$A:$K,12,FALSE) -> #N/A | K27: OK | L27: =VLOOKUP($A27,'TRANSMISSION INFOS'!$A$2:$N$600,13,FALSE) -> #N/A | M27: =VLOOKUP($A27,'TRANSMISSION INFOS'!$A$2:$N$300,14,FALSE) -> #N/A | N27: =VLOOKUP($A27,'TRANSMISSION INFOS'!$A$2:$N$600,15,FALSE) -> #N/A | O27: =VLOOKUP($A27,'TRANSMISSION INFOS'!$A$2:$O$600,16,FALSE) -> #N/A
A28: 4269221935 | B28: =VLOOKUP($A28,'Export base de données'!$A:$I,2,FALSE) -> #N/A | C28: =VLOOKUP($A28,'Export base de données'!$A:$I,3,FALSE) -> #N/A | D28: =VLOOKUP($A28,'Export base de données'!$A:$I,5,FALSE) -> #N/A | E28: =VLOOKUP($A28,'TRANSMISSION INFOS'!$A$2:$N$600,5,FALSE) -> #N/A | F28: =VLOOKUP($A28,'Export base de données'!$A:$I,6,FALSE) -> #N/A | G28: =VLOOKUP($A28,'Export base de données'!$A:$I,7,FALSE) -> #N/A | H28: =VLOOKUP($A28,'Export base de données'!$A:$I,8,FALSE) -> #N/A | I28: OK | J28: =VLOOKUP($A28,'TRANSMISSION INFOS'!$A:$K,12,FALSE) -> #N/A | K28: OK | L28: =VLOOKUP($A28,'TRANSMISSION INFOS'!$A$2:$N$600,13,FALSE) -> #N/A | M28: =VLOOKUP($A28,'TRANSMISSION INFOS'!$A$2:$N$300,14,FALSE) -> #N/A | N28: =VLOOKUP($A28,'TRANSMISSION INFOS'!$A$2:$N$600,15,FALSE) -> #N/A | O28: =VLOOKUP($A28,'TRANSMISSION INFOS'!$A$2:$O$600,16,FALSE) -> #N/A
A29: 4167127589 | B29: =VLOOKUP($A29,'Export base de données'!$A:$I,2,FALSE) -> #N/A | C29: =VLOOKUP($A29,'Export base de données'!$A:$I,3,FALSE) -> #N/A | D29: =VLOOKUP($A29,'Export base de données'!$A:$I,5,FALSE) -> #N/A | E29: =VLOOKUP($A29,'TRANSMISSION INFOS'!$A$2:$N$600,5,FALSE) -> #N/A | F29: =VLOOKUP($A29,'Export base de données'!$A:$I,6,FALSE) -> #N/A | G29: =VLOOKUP($A29,'Export base de données'!$A:$I,7,FALSE) -> #N/A | H29: =VLOOKUP($A29,'Export base de données'!$A:$I,8,FALSE) -> #N/A | I29: OK | J29: =VLOOKUP($A29,'TRANSMISSION INFOS'!$A:$K,12,FALSE) -> #N/A | K29: OK | L29: =VLOOKUP($A29,'TRANSMISSION INFOS'!$A$2:$N$600,13,FALSE) -> #N/A | M29: =VLOOKUP($A29,'TRANSMISSION INFOS'!$A$2:$N$300,14,FALSE) -> #N/A | N29: =VLOOKUP($A29,'TRANSMISSION INFOS'!$A$2:$N$600,15,FALSE) -> #N/A | O29: =VLOOKUP($A29,'TRANSMISSION INFOS'!$A$2:$O$600,16,FALSE) -> #N/A
A30: 4073781528 | B30: =VLOOKUP($A30,'Export base de données'!$A:$I,2,FALSE) -> #N/A | C30: =VLOOKUP($A30,'Export base de données'!$A:$I,3,FALSE) -> #N/A | D30: =VLOOKUP($A30,'Export base de données'!$A:$I,5,FALSE) -> #N/A | E30: =VLOOKUP($A30,'TRANSMISSION INFOS'!$A$2:$N$600,5,FALSE) -> #N/A | F30: =VLOOKUP($A30,'Export base de données'!$A:$I,6,FALSE) -> #N/A | G30: =VLOOKUP($A30,'Export base de données'!$A:$I,7,FALSE) -> #N/A | H30: =VLOOKUP($A30,'Export base de données'!$A:$I,8,FALSE) -> #N/A | I30: OK | J30: =VLOOKUP($A30,'TRANSMISSION INFOS'!$A:$K,12,FALSE) -> #N/A | K30: OK | L30: =VLOOKUP($A30,'TRANSMISSION INFOS'!$A$2:$N$600,13,FALSE) -> #N/A | M30: =VLOOKUP($A30,'TRANSMISSION INFOS'!$A$2:$N$300,14,FALSE) -> #N/A | N30: =VLOOKUP($A30,'TRANSMISSION INFOS'!$A$2:$N$600,15,FALSE) -> #N/A | O30: =VLOOKUP($A30,'TRANSMISSION INFOS'!$A$2:$O$600,16,FALSE) -> #N/A
A31: 3958198086 | B31: =VLOOKUP($A31,'Export base de données'!$A:$I,2,FALSE) -> #N/A | C31: =VLOOKUP($A31,'Export base de données'!$A:$I,3,FALSE) -> #N/A | D31: =VLOOKUP($A31,'Export base de données'!$A:$I,5,FALSE) -> #N/A | E31: =VLOOKUP($A31,'TRANSMISSION INFOS'!$A$2:$N$600,5,FALSE) -> #N/A | F31: =VLOOKUP($A31,'Export base de données'!$A:$I,6,FALSE) -> #N/A | G31: =VLOOKUP($A31,'Export base de données'!$A:$I,7,FALSE) -> #N/A | H31: =VLOOKUP($A31,'Export base de données'!$A:$I,8,FALSE) -> #N/A | I31: OK | J31: =VLOOKUP($A31,'TRANSMISSION INFOS'!$A:$K,12,FALSE) -> #N/A | K31: OK | L31: =VLOOKUP($A31,'TRANSMISSION INFOS'!$A$2:$N$600,13,FALSE) -> #N/A | M31: =VLOOKUP($A31,'TRANSMISSION INFOS'!$A$2:$N$300,14,FALSE) -> #N/A | N31: =VLOOKUP($A31,'TRANSMISSION INFOS'!$A$2:$N$600,15,FALSE) -> #N/A | O31: =VLOOKUP($A31,'TRANSMISSION INFOS'!$A$2:$O$600,16,FALSE) -> #N/A
A32: 3967472340 | B32: =VLOOKUP($A32,'Export base de données'!$A:$I,2,FALSE) -> #N/A | C32: =VLOOKUP($A32,'Export base de données'!$A:$I,3,FALSE) -> #N/A | D32: =VLOOKUP($A32,'Export base de données'!$A:$I,5,FALSE) -> #N/A | E32: =VLOOKUP($A32,'TRANSMISSION INFOS'!$A$2:$N$600,5,FALSE) -> #N/A | F32: =VLOOKUP($A32,'Export base de données'!$A:$I,6,FALSE) -> #N/A | G32: =VLOOKUP($A32,'Export base de données'!$A:$I,7,FALSE) -> #N/A | H32: =VLOOKUP($A32,'Export base de données'!$A:$I,8,FALSE) -> #N/A | I32: OK | J32: =VLOOKUP($A32,'TRANSMISSION INFOS'!$A:$K,12,FALSE) -> #N/A | K32: OK | L32: =VLOOKUP($A32,'TRANSMISSION INFOS'!$A$2:$N$600,13,FALSE) -> #N/A | M32: =VLOOKUP($A32,'TRANSMISSION INFOS'!$A$2:$N$300,14,FALSE) -> #N/A | N32: =VLOOKUP($A32,'TRANSMISSION INFOS'!$A$2:$N$600,15,FALSE) -> #N/A | O32: =VLOOKUP($A32,'TRANSMISSION INFOS'!$A$2:$O$600,16,FALSE) -> #N/A
A33: 3963357321 | B33: =VLOOKUP($A33,'Export base de données'!$A:$I,2,FALSE) -> #N/A | C33: =VLOOKUP($A33,'Export base de données'!$A:$I,3,FALSE) -> #N/A | D33: =VLOOKUP($A33,'Export base de données'!$A:$I,5,FALSE) -> #N/A | E33: =VLOOKUP($A33,'TRANSMISSION INFOS'!$A$2:$N$600,5,FALSE) -> #N/A | F33: =VLOOKUP($A33,'Export base de données'!$A:$I,6,FALSE) -> #N/A | G33: =VLOOKUP($A33,'Export base de données'!$A:$I,7,FALSE) -> #N/A | H33: =VLOOKUP($A33,'Export base de données'!$A:$I,8,FALSE) -> #N/A | I33: OK | J33: =VLOOKUP($A33,'TRANSMISSION INFOS'!$A:$K,12,FALSE) -> #N/A | K33: OK | L33: =VLOOKUP($A33,'TRANSMISSION INFOS'!$A$2:$N$600,13,FALSE) -> #N/A | M33: =VLOOKUP($A33,'TRANSMISSION INFOS'!$A$2:$N$300,14,FALSE) -> #N/A | N33: =VLOOKUP($A33,'TRANSMISSION INFOS'!$A$2:$N$600,15,FALSE) -> #N/A | O33: =VLOOKUP($A33,'TRANSMISSION INFOS'!$A$2:$O$600,16,FALSE) -> #N/A
A34: 4259570275 | B34: =VLOOKUP($A34,'Export base de données'!$A:$I,2,FALSE) -> #N/A | C34: =VLOOKUP($A34,'Export base de données'!$A:$I,3,FALSE) -> #N/A | D34: =VLOOKUP($A34,'Export base de données'!$A:$I,5,FALSE) -> #N/A | E34: =VLOOKUP($A34,'TRANSMISSION INFOS'!$A$2:$N$600,5,FALSE) -> #N/A | F34: =VLOOKUP($A34,'Export base de données'!$A:$I,6,FALSE) -> #N/A | G34: =VLOOKUP($A34,'Export base de données'!$A:$I,7,FALSE) -> #N/A | H34: =VLOOKUP($A34,'Export base de données'!$A:$I,8,FALSE) -> #N/A | I34: OK | J34: =VLOOKUP($A34,'TRANSMISSION INFOS'!$A:$K,12,FALSE) -> #N/A | K34: OK | L34: =VLOOKUP($A34,'TRANSMISSION INFOS'!$A$2:$N$197,13,FALSE) -> #N/A | M34: =VLOOKUP($A34,'TRANSMISSION INFOS'!$A$2:$N$197,14,FALSE) -> #N/A | N34: =VLOOKUP($A34,'TRANSMISSION INFOS'!$A$2:$N$197,15,FALSE) -> #N/A | O34: =VLOOKUP($A34,'TRANSMISSION INFOS'!$A$2:$O$600,16,FALSE) -> #N/A
A35: 4259805598 | B35: =VLOOKUP($A35,'Export base de données'!$A:$I,2,FALSE) -> #N/A | C35: =VLOOKUP($A35,'Export base de données'!$A:$I,3,FALSE) -> #N/A | D35: =VLOOKUP($A35,'Export base de données'!$A:$I,5,FALSE) -> #N/A | E35: =VLOOKUP($A35,'TRANSMISSION INFOS'!$A$2:$N$600,5,FALSE) -> #N/A | F35: =VLOOKUP($A35,'Export base de données'!$A:$I,6,FALSE) -> #N/A | G35: =VLOOKUP($A35,'Export base de données'!$A:$I,7,FALSE) -> #N/A | H35: =VLOOKUP($A35,'Export base de données'!$A:$I,8,FALSE) -> #N/A | I35: OK | J35: =VLOOKUP($A35,'TRANSMISSION INFOS'!$A:$K,12,FALSE) -> #N/A | K35: OK | L35: =VLOOKUP($A35,'TRANSMISSION INFOS'!$A$2:$N$600,13,FALSE) -> #N/A | M35: =VLOOKUP($A35,'TRANSMISSION INFOS'!$A$2:$N$300,14,FALSE) -> #N/A | N35: =VLOOKUP($A35,'TRANSMISSION INFOS'!$A$2:$N$600,15,FALSE) -> #N/A | O35: =VLOOKUP($A35,'TRANSMISSION INFOS'!$A$2:$O$600,16,FALSE) -> #N/A
A36: 4081784738 | B36: =VLOOKUP($A36,'Export base de données'!$A:$I,2,FALSE) -> #N/A | C36: =VLOOKUP($A36,'Export base de données'!$A:$I,3,FALSE) -> #N/A | D36: =VLOOKUP($A36,'Export base de données'!$A:$I,5,FALSE) -> #N/A | E36: =VLOOKUP($A36,'TRANSMISSION INFOS'!$A$2:$N$600,5,FALSE) -> #N/A | F36: =VLOOKUP($A36,'Export base de données'!$A:$I,6,FALSE) -> #N/A | G36: =VLOOKUP($A36,'Export base de données'!$A:$I,7,FALSE) -> #N/A | H36: =VLOOKUP($A36,'Export base de données'!$A:$I,8,FALSE) -> #N/A | I36: OK | J36: =VLOOKUP($A36,'TRANSMISSION INFOS'!$A:$K,12,FALSE) -> #N/A | K36: OK | L36: =VLOOKUP($A36,'TRANSMISSION INFOS'!$A$2:$N$600,13,FALSE) -> #N/A | M36: =VLOOKUP($A36,'TRANSMISSION INFOS'!$A$2:$N$300,14,FALSE) -> #N/A | N36: =VLOOKUP($A36,'TRANSMISSION INFOS'!$A$2:$N$600,15,FALSE) -> #N/A | O36: =VLOOKUP($A36,'TRANSMISSION INFOS'!$A$2:$O$600,16,FALSE) -> #N/A
A37: 3975203166 | B37: =VLOOKUP($A37,'Export base de données'!$A:$I,2,FALSE) -> #N/A | C37: =VLOOKUP($A37,'Export base de données'!$A:$I,3,FALSE) -> #N/A | D37: =VLOOKUP($A37,'Export base de données'!$A:$I,5,FALSE) -> #N/A | E37: =VLOOKUP($A37,'TRANSMISSION INFOS'!$A$2:$N$600,5,FALSE) -> #N/A | F37: =VLOOKUP($A37,'Export base de données'!$A:$I,6,FALSE) -> #N/A | G37: =VLOOKUP($A37,'Export base de données'!$A:$I,7,FALSE) -> #N/A | H37: =VLOOKUP($A37,'Export base de données'!$A:$I,8,FALSE) -> #N/A | I37: OK | J37: =VLOOKUP($A37,'TRANSMISSION INFOS'!$A:$K,12,FALSE) -> #N/A | K37: OK | L37: =VLOOKUP($A37,'TRANSMISSION INFOS'!$A$2:$N$600,13,FALSE) -> #N/A | M37: =VLOOKUP($A37,'TRANSMISSION INFOS'!$A$2:$N$300,14,FALSE) -> #N/A | N37: =VLOOKUP($A37,'TRANSMISSION INFOS'!$A$2:$N$600,15,FALSE) -> #N/A | O37: =VLOOKUP($A37,'TRANSMISSION INFOS'!$A$2:$O$600,16,FALSE) -> #N/A
A38: 4064557911 | B38: =VLOOKUP($A38,'Export base de données'!$A:$I,2,FALSE) -> #N/A | C38: =VLOOKUP($A38,'Export base de données'!$A:$I,3,FALSE) -> #N/A | D38: =VLOOKUP($A38,'Export base de données'!$A:$I,5,FALSE) -> #N/A | E38: =VLOOKUP($A38,'TRANSMISSION INFOS'!$A$2:$N$600,5,FALSE) -> #N/A | F38: =VLOOKUP($A38,'Export base de données'!$A:$I,6,FALSE) -> #N/A | G38: =VLOOKUP($A38,'Export base de données'!$A:$I,7,FALSE) -> #N/A | H38: =VLOOKUP($A38,'Export base de données'!$A:$I,8,FALSE) -> #N/A | I38: OK | J38: =VLOOKUP($A38,'TRANSMISSION INFOS'!$A:$K,12,FALSE) -> #N/A | K38: OK | L38: =VLOOKUP($A38,'TRANSMISSION INFOS'!$A$2:$N$600,13,FALSE) -> #N/A | M38: =VLOOKUP($A38,'TRANSMISSION INFOS'!$A$2:$N$300,14,FALSE) -> #N/A | N38: =VLOOKUP($A38,'TRANSMISSION INFOS'!$A$2:$N$600,15,FALSE) -> #N/A | O38: =VLOOKUP($A38,'TRANSMISSION INFOS'!$A$2:$O$600,16,FALSE) -> #N/A
A39: 4057349672 | B39: =VLOOKUP($A39,'Export base de données'!$A:$I,2,FALSE) -> #N/A | C39: =VLOOKUP($A39,'Export base de données'!$A:$I,3,FALSE) -> #N/A | D39: =VLOOKUP($A39,'Export base de données'!$A:$I,5,FALSE) -> #N/A | E39: =VLOOKUP($A39,'TRANSMISSION INFOS'!$A$2:$N$600,5,FALSE) -> #N/A | F39: =VLOOKUP($A39,'Export base de données'!$A:$I,6,FALSE) -> #N/A | G39: =VLOOKUP($A39,'Export base de données'!$A:$I,7,FALSE) -> #N/A | H39: =VLOOKUP($A39,'Export base de données'!$A:$I,8,FALSE) -> #N/A | I39: OK | J39: =VLOOKUP($A39,'TRANSMISSION INFOS'!$A:$K,12,FALSE) -> #N/A | K39: OK | L39: =VLOOKUP($A39,'TRANSMISSION INFOS'!$A$2:$N$600,13,FALSE) -> #N/A | M39: =VLOOKUP($A39,'TRANSMISSION INFOS'!$A$2:$N$300,14,FALSE) -> #N/A | N39: =VLOOKUP($A39,'TRANSMISSION INFOS'!$A$2:$N$600,15,FALSE) -> #N/A | O39: =VLOOKUP($A39,'TRANSMISSION INFOS'!$A$2:$O$600,16,FALSE) -> #N/A
A40: 4057363228 | B40: =VLOOKUP($A40,'Export base de données'!$A:$I,2,FALSE) -> #N/A | C40: =VLOOKUP($A40,'Export base de données'!$A:$I,3,FALSE) -> #N/A | D40: =VLOOKUP($A40,'Export base de données'!$A:$I,5,FALSE) -> #N/A | E40: =VLOOKUP($A40,'TRANSMISSION INFOS'!$A$2:$N$600,5,FALSE) -> #N/A | F40: =VLOOKUP($A40,'Export base de données'!$A:$I,6,FALSE) -> #N/A | G40: =VLOOKUP($A40,'Export base de données'!$A:$I,7,FALSE) -> #N/A | H40: =VLOOKUP($A40,'Export base de données'!$A:$I,8,FALSE) -> #N/A | I40: OK | J40: =VLOOKUP($A40,'TRANSMISSION INFOS'!$A:$K,12,FALSE) -> #N/A | K40: OK | L40: =VLOOKUP($A40,'TRANSMISSION INFOS'!$A$2:$N$600,13,FALSE) -> #N/A | M40: =VLOOKUP($A40,'TRANSMISSION INFOS'!$A$2:$N$300,14,FALSE) -> #N/A | N40: =VLOOKUP($A40,'TRANSMISSION INFOS'!$A$2:$N$600,15,FALSE) -> #N/A | O40: =VLOOKUP($A40,'TRANSMISSION INFOS'!$A$2:$O$600,16,FALSE) -> #N/A
...

Sheet TRANSMISSION INFOS
A1: Numéro dossier CPF | B1: Nom | C1: Prénom | D1: montant | E1: Statut | F1: Intitulé formation | G1: Abondement | H1: Date entrée | I1: Date sortie | J1: Site | K1: Facturation | L1: Entrée | M1: Sortie | N1: Taux de réalisation % | O1: Montant à facturer | P1: Abondement PE
A2: ='Export base de données'!A2 -> 3971425805 | B2: =VLOOKUP($A2,'Export base de données'!$A:$I,2,FALSE) -> ABDELLALI | E2: =VLOOKUP($A2,'Export base de données'!$A:$I,6,FALSE) -> Facturé | G2: =VLOOKUP($A2,'Export base de données'!$A:$I,7,FALSE) -> 0 | H2: =VLOOKUP($A2,'Export base de données'!$A:$I,8,FALSE) -> 44131 | I2: =VLOOKUP($A2,'Export base de données'!$A:$I,9,FALSE) -> 44133 | L2: OK | P2: =VLOOKUP($A2,'Export base de données'!$A:$I,7,FALSE) -> 0 | T2: Angers
A3: ='Export base de données'!A3 -> 3891183756 | B3: =VLOOKUP($A3,'Export base de données'!$A:$I,2,FALSE) -> ACARIS | E3: =VLOOKUP($A3,'Export base de données'!$A:$I,6,FALSE) -> Annulation titulaire | H3: =VLOOKUP($A3,'Export base de données'!$A:$I,8,FALSE) -> 43836 | I3: =VLOOKUP($A3,'Export base de données'!$A:$I,8,FALSE) -> 43836 | P3: =VLOOKUP($A3,'Export base de données'!$A:$I,7,FALSE) -> 0 | T3: Cholet
A4: ='Export base de données'!A4 -> 4056558844 | B4: =VLOOKUP($A4,'Export base de données'!$A:$I,2,FALSE) -> ADANKON | E4: =VLOOKUP($A4,'Export base de données'!$A:$I,6,FALSE) -> Facturé | H4: =VLOOKUP($A4,'Export base de données'!$A:$I,8,FALSE) -> 43893 | I4: =VLOOKUP($A4,'Export base de données'!$A:$I,8,FALSE) -> 43893 | L4: OK | M4: OK | N4: 100 | P4: =VLOOKUP($A4,'Export base de données'!$A:$I,7,FALSE) -> 0 | T4: Saumur
A5: ='Export base de données'!A5 -> 4281577405 | B5: =VLOOKUP($A5,'Export base de données'!$A:$I,2,FALSE) -> ALHAFFAR | E5: =VLOOKUP($A5,'Export base de données'!$A:$I,6,FALSE) -> Annulé | H5: =VLOOKUP($A5,'Export base de données'!$A:$I,8,FALSE) -> 44251 | I5: =VLOOKUP($A5,'Export base de données'!$A:$I,8,FALSE) -> 44251 | P5: =VLOOKUP($A5,'Export base de données'!$A:$I,7,FALSE) -> 0
A6: ='Export base de données'!A6 -> 4088460761 | B6: =VLOOKUP($A6,'Export base de données'!$A:$I,2,FALSE) -> Allaire | E6: =VLOOKUP($A6,'Export base de données'!$A:$I,6,FALSE) -> En formation | H6: =VLOOKUP($A6,'Export base de données'!$A:$I,8,FALSE) -> 44294 | I6: =VLOOKUP($A6,'Export base de données'!$A:$I,8,FALSE) -> 44294 | L6: OK | M6: OK | N6: 0 | O6: 0 | P6: =VLOOKUP($A6,'Export base de données'!$A:$I,7,FALSE) -> 0
A7: ='Export base de données'!A7 -> 4070659818 | B7: =VLOOKUP($A7,'Export base de données'!$A:$I,2,FALSE) -> ARCHAMBAULT | E7: =VLOOKUP($A7,'Export base de données'!$A:$I,6,FALSE) -> Annulation titulaire | H7: =VLOOKUP($A7,'Export base de données'!$A:$I,8,FALSE) -> 44151 | I7: =VLOOKUP($A7,'Export base de données'!$A:$I,8,FALSE) -> 44151 | P7: =VLOOKUP($A7,'Export base de données'!$A:$I,7,FALSE) -> 0
A8: ='Export base de données'!A9 -> 3972573975 | B8: =VLOOKUP($A8,'Export base de données'!$A:$I,2,FALSE) -> AUBIER | E8: =VLOOKUP($A8,'Export base de données'!$A:$I,6,FALSE) -> Facturé | H8: =VLOOKUP($A8,'Export base de données'!$A:$I,8,FALSE) -> 44124 | I8: =VLOOKUP($A8,'Export base de données'!$A:$I,8,FALSE) -> 44124 | P8: =VLOOKUP($A8,'Export base de données'!$A:$I,7,FALSE) -> 0
A9: ='Export base de données'!A8 -> 3972416613 | B9: =VLOOKUP($A9,'Export base de données'!$A:$I,2,FALSE) -> AUBIER | E9: =VLOOKUP($A9,'Export base de données'!$A:$I,6,FALSE) -> Refus titulaire | H9: =VLOOKUP($A9,'Export base de données'!$A:$I,8,FALSE) -> 44124 | I9: =VLOOKUP($A9,'Export base de données'!$A:$I,8,FALSE) -> 44124 | P9: =VLOOKUP($A9,'Export base de données'!$A:$I,7,FALSE) -> 0
A10: ='Export base de données'!A10 -> 4283311969 | B10: =VLOOKUP($A10,'Export base de données'!$A:$I,2,FALSE) -> BANVILLET | E10: =VLOOKUP($A10,'Export base de données'!$A:$I,6,FALSE) -> En formation | H10: =VLOOKUP($A10,'Export base de données'!$A:$I,8,FALSE) -> 44229 | I10: =VLOOKUP($A10,'Export base de données'!$A:$I,8,FALSE) -> 44229 | P10: =VLOOKUP($A10,'Export base de données'!$A:$I,7,FALSE) -> 0
A11: ='Export base de données'!A11 -> 3972327042 | B11: =VLOOKUP($A11,'Export base de données'!$A:$I,2,FALSE) -> BAUDOUIN | E11: =VLOOKUP($A11,'Export base de données'!$A:$I,6,FALSE) -> En formation | H11: =VLOOKUP($A11,'Export base de données'!$A:$I,8,FALSE) -> 44236 | I11: =VLOOKUP($A11,'Export base de données'!$A:$I,8,FALSE) -> 44236 | L11: OK | M11: OK | N11: 100 | P11: =VLOOKUP($A11,'Export base de données'!$A:$I,7,FALSE) -> 0
P12: =VLOOKUP($A12,'Export base de données'!$A:$I,7,FALSE) -> #N/A
P13: =VLOOKUP($A13,'Export base de données'!$A:$I,7,FALSE) -> #N/A
P14: =VLOOKUP($A14,'Export base de données'!$A:$I,7,FALSE) -> #N/A
P15: =VLOOKUP($A15,'Export base de données'!$A:$I,7,FALSE) -> #N/A
P16: =VLOOKUP($A16,'Export base de données'!$A:$I,7,FALSE) -> #N/A
P17: =VLOOKUP($A17,'Export base de données'!$A:$I,7,FALSE) -> #N/A
P18: =VLOOKUP($A18,'Export base de données'!$A:$I,7,FALSE) -> #N/A
P19: =VLOOKUP($A19,'Export base de données'!$A:$I,7,FALSE) -> #N/A
P20: =VLOOKUP($A20,'Export base de données'!$A:$I,7,FALSE) -> #N/A
P21: =VLOOKUP($A21,'Export base de données'!$A:$I,7,FALSE) -> #N/A
P22: =VLOOKUP($A22,'Export base de données'!$A:$I,7,FALSE) -> #N/A
P23: =VLOOKUP($A23,'Export base de données'!$A:$I,7,FALSE) -> #N/A
... P258: =VLOOKUP($A258,'Export base de données'!$A:$I,7,FALSE) -> #N/A
B259: =VLOOKUP($A259,'Export base de données'!$A:$I,2,FALSE) -> #N/A | C259: =VLOOKUP($A259,'Export base de données'!$A:$I,3,FALSE) -> #N/A | E259: =VLOOKUP($A259,'Export base de données'!$A:$I,6,FALSE) -> #N/A | F259: =VLOOKUP($A259,'Export base de données'!$A:$I,5,FALSE) -> #N/A | H259: =VLOOKUP($A259,'Export base de données'!$A:$I,8,FALSE) -> #N/A | I259: =VLOOKUP($A259,'Export base de données'!$A:$I,8,FALSE) -> #N/A | P259: =VLOOKUP($A259,'Export base de données'!$A:$I,7,FALSE) -> #N/A
B260: =VLOOKUP($A260,'Export base de données'!$A:$I,2,FALSE) -> #N/A | C260: =VLOOKUP($A260,'Export base de données'!$A:$I,3,FALSE) -> #N/A | E260: =VLOOKUP($A260,'Export base de données'!$A:$I,6,FALSE) -> #N/A | F260: =VLOOKUP($A260,'Export base de données'!$A:$I,5,FALSE) -> #N/A | H260: =VLOOKUP($A260,'Export base de données'!$A:$I,8,FALSE) -> #N/A | I260: =VLOOKUP($A260,'Export base de données'!$A:$I,8,FALSE) -> #N/A | P260: =VLOOKUP($A260,'Export base de données'!$A:$I,7,FALSE) -> #N/A
B261: =VLOOKUP($A261,'Export base de données'!$A:$I,2,FALSE) -> #N/A | C261: =VLOOKUP($A261,'Export base de données'!$A:$I,3,FALSE) -> #N/A | E261: =VLOOKUP($A261,'Export base de données'!$A:$I,6,FALSE) -> #N/A | F261: =VLOOKUP($A261,'Export base de données'!$A:$I,5,FALSE) -> #N/A | H261: =VLOOKUP($A261,'Export base de données'!$A:$I,8,FALSE) -> #N/A | I261: =VLOOKUP($A261,'Export base de données'!$A:$I,8,FALSE) -> #N/A | P261: =VLOOKUP($A261,'Export base de données'!$A:$I,7,FALSE) -> #N/A
B262: =VLOOKUP($A262,'Export base de données'!$A:$I,2,FALSE) -> #N/A | C262: =VLOOKUP($A262,'Export base de données'!$A:$I,3,FALSE) -> #N/A | E262: =VLOOKUP($A262,'Export base de données'!$A:$I,6,FALSE) -> #N/A | F262: =VLOOKUP($A262,'Export base de données'!$A:$I,5,FALSE) -> #N/A | H262: =VLOOKUP($A262,'Export base de données'!$A:$I,8,FALSE) -> #N/A | I262: =VLOOKUP($A262,'Export base de données'!$A:$I,8,FALSE) -> #N/A | P262: =VLOOKUP($A262,'Export base de données'!$A:$I,7,FALSE) -> #N/A
B263: =VLOOKUP($A263,'Export base de données'!$A:$I,2,FALSE) -> #N/A | C263: =VLOOKUP($A263,'Export base de données'!$A:$I,3,FALSE) -> #N/A | E263: =VLOOKUP($A263,'Export base de données'!$A:$I,6,FALSE) -> #N/A | F263: =VLOOKUP($A263,'Export base de données'!$A:$I,5,FALSE) -> #N/A | H263: =VLOOKUP($A263,'Export base de données'!$A:$I,8,FALSE) -> #N/A | I263: =VLOOKUP($A263,'Export base de données'!$A:$I,8,FALSE) -> #N/A | P263: =VLOOKUP($A263,'Export base de données'!$A:$I,7,FALSE) -> #N/A
B264: =VLOOKUP($A264,'Export base de données'!$A:$I,2,FALSE) -> #N/A | C264: =VLOOKUP($A264,'Export base de données'!$A:$I,3,FALSE) -> #N/A | E264: =VLOOKUP($A264,'Export base de données'!$A:$I,6,FALSE) -> #N/A | F264: =VLOOKUP($A264,'Export base de données'!$A:$I,5,FALSE) -> #N/A | H264: =VLOOKUP($A264,'Export base de données'!$A:$I,8,FALSE) -> #N/A | I264: =VLOOKUP($A264,'Export base de données'!$A:$I,8,FALSE) -> #N/A | P264: =VLOOKUP($A264,'Export base de données'!$A:$I,7,FALSE) -> #N/A
B265: =VLOOKUP($A265,'Export base de données'!$A:$I,2,FALSE) -> #N/A | C265: =VLOOKUP($A265,'Export base de données'!$A:$I,3,FALSE) -> #N/A | E265: =VLOOKUP($A265,'Export base de données'!$A:$I,6,FALSE) -> #N/A | F265: =VLOOKUP($A265,'Export base de données'!$A:$I,5,FALSE) -> #N/A | H265: =VLOOKUP($A265,'Export base de données'!$A:$I,8,FALSE) -> #N/A | I265: =VLOOKUP($A265,'Export base de données'!$A:$I,8,FALSE) -> #N/A | P265: =VLOOKUP($A265,'Export base de données'!$A:$I,7,FALSE) -> #N/A
B266: =VLOOKUP($A266,'Export base de données'!$A:$I,2,FALSE) -> #N/A | C266: =VLOOKUP($A266,'Export base de données'!$A:$I,3,FALSE) -> #N/A | E266: =VLOOKUP($A266,'Export base de données'!$A:$I,6,FALSE) -> #N/A | F266: =VLOOKUP($A266,'Export base de données'!$A:$I,5,FALSE) -> #N/A | H266: =VLOOKUP($A266,'Export base de données'!$A:$I,8,FALSE) -> #N/A | I266: =VLOOKUP($A266,'Export base de données'!$A:$I,8,FALSE) -> #N/A | P266: =VLOOKUP($A266,'Export base de données'!$A:$I,7,FALSE) -> #N/A
B267: =VLOOKUP($A267,'Export base de données'!$A:$I,2,FALSE) -> #N/A | C267: =VLOOKUP($A267,'Export base de données'!$A:$I,3,FALSE) -> #N/A | E267: =VLOOKUP($A267,'Export base de données'!$A:$I,6,FALSE) -> #N/A | F267: =VLOOKUP($A267,'Export base de données'!$A:$I,5,FALSE) -> #N/A | H267: =VLOOKUP($A267,'Export base de données'!$A:$I,8,FALSE) -> #N/A | I267: =VLOOKUP($A267,'Export base de données'!$A:$I,8,FALSE) -> #N/A | P267: =VLOOKUP($A267,'Export base de données'!$A:$I,7,FALSE) -> #N/A
B268: =VLOOKUP($A268,'Export base de données'!$A:$I,2,FALSE) -> #N/A | C268: =VLOOKUP($A268,'Export base de données'!$A:$I,3,FALSE) -> #N/A | E268: =VLOOKUP($A268,'Export base de données'!$A:$I,6,FALSE) -> #N/A | F268: =VLOOKUP($A268,'Export base de données'!$A:$I,5,FALSE) -> #N/A | H268: =VLOOKUP($A268,'Export base de données'!$A:$I,8,FALSE) -> #N/A | I268: =VLOOKUP($A268,'Export base de données'!$A:$I,8,FALSE) -> #N/A | P268: =VLOOKUP($A268,'Export base de données'!$A:$I,7,FALSE) -> #N/A
B269: =VLOOKUP($A269,'Export base de données'!$A:$I,2,FALSE) -> #N/A | C269: =VLOOKUP($A269,'Export base de données'!$A:$I,3,FALSE) -> #N/A | E269: =VLOOKUP($A269,'Export base de données'!$A:$I,6,FALSE) -> #N/A | F269: =VLOOKUP($A269,'Export base de données'!$A:$I,5,FALSE) -> #N/A | H269: =VLOOKUP($A269,'Export base de données'!$A:$I,8,FALSE) -> #N/A | I269: =VLOOKUP($A269,'Export base de données'!$A:$I,8,FALSE) -> #N/A | P269: =VLOOKUP($A269,'Export base de données'!$A:$I,7,FALSE) -> #N/A
B270: =VLOOKUP($A270,'Export base de données'!$A:$I,2,FALSE) -> #N/A | C270: =VLOOKUP($A270,'Export base de données'!$A:$I,3,FALSE) -> #N/A | E270: =VLOOKUP($A270,'Export base de données'!$A:$I,6,FALSE) -> #N/A | F270: =VLOOKUP($A270,'Export base de données'!$A:$I,5,FALSE) -> #N/A | H270: =VLOOKUP($A270,'Export base de données'!$A:$I,8,FALSE) -> #N/A | I270: =VLOOKUP($A270,'Export base de données'!$A:$I,8,FALSE) -> #N/A | P270: =VLOOKUP($A270,'Export base de données'!$A:$I,7,FALSE) -> #N/A
... B289: =VLOOKUP($A289,'Export base de données'!$A:$I,2,FALSE) -> #N/A | C289: =VLOOKUP($A289,'Export base de données'!$A:$I,3,FALSE) -> #N/A | E289: =VLOOKUP($A289,'Export base de données'!$A:$I,6,FALSE) -> #N/A | F289: =VLOOKUP($A289,'Export base de données'!$A:$I,5,FALSE) -> #N/A | H289: =VLOOKUP($A289,'Export base de données'!$A:$I,8,FALSE) -> #N/A | I289: =VLOOKUP($A289,'Export base de données'!$A:$I,8,FALSE) -> #N/A | P289: =VLOOKUP($A289,'Export base de données'!$A:$I,7,FALSE) -> #N/A
B290: =VLOOKUP($A290,'Export base de données'!$A:$I,2,FALSE) -> #N/A | C290: =VLOOKUP($A290,'Export base de données'!$A:$I,3,FALSE) -> #N/A | E290: =VLOOKUP($A290,'Export base de données'!$A:$I,6,FALSE) -> #N/A | F290: =VLOOKUP($A290,'Export base de données'!$A:$I,5,FALSE) -> #N/A | H290: =VLOOKUP($A290,'Export base de données'!$A:$I,8,FALSE) -> #N/A | I290: =VLOOKUP($A290,'Export base de données'!$A:$I,8,FALSE) -> #N/A | J290: Angers | L290: OK | P290: =VLOOKUP($A290,'Export base de données'!$A:$I,7,FALSE) -> #N/A
B291: =VLOOKUP($A291,'Export base de données'!$A:$I,2,FALSE) -> #N/A | C291: =VLOOKUP($A291,'Export base de données'!$A:$I,3,FALSE) -> #N/A | E291: =VLOOKUP($A291,'Export base de données'!$A:$I,6,FALSE) -> #N/A | F291: =VLOOKUP($A291,'Export base de données'!$A:$I,5,FALSE) -> #N/A | H291: =VLOOKUP($A291,'Export base de données'!$A:$I,8,FALSE) -> #N/A | I291: =VLOOKUP($A291,'Export base de données'!$A:$I,8,FALSE) -> #N/A | J291: Angers | L291: OK | P291: =VLOOKUP($A291,'Export base de données'!$A:$I,7,FALSE) -> #N/A
B292: =VLOOKUP($A292,'Export base de données'!$A:$I,2,FALSE) -> #N/A | C292: =VLOOKUP($A292,'Export base de données'!$A:$I,3,FALSE) -> #N/A | E292: =VLOOKUP($A292,'Export base de données'!$A:$I,6,FALSE) -> #N/A | F292: =VLOOKUP($A292,'Export base de données'!$A:$I,5,FALSE) -> #N/A | H292: =VLOOKUP($A292,'Export base de données'!$A:$I,8,FALSE) -> #N/A | I292: =VLOOKUP($A292,'Export base de données'!$A:$I,8,FALSE) -> #N/A | J292: Angers | L292: OK | P292: =VLOOKUP($A292,'Export base de données'!$A:$I,7,FALSE) -> #N/A
...

Sheet NOTES
B2: DOSSIER CONCERNE | C2: DATE INFO | D2: DATE RESOLUTION PREVUE
B3: GALLARD Excel | C3: 04/01 facture faite on doit rembourser = attente retour cdc ??
B4: BRUNET: suite rupture 16/09, la CDC demande des justificatifs = mail rupture envoyé | C4: demande CDC 23/9 | D4: facture envoyée + mail justificatif
B5: PONAS: annulation diplôme d'entrée caduque | C5: Ddemande CDC 13/11 = mail GJ envoyé à la CDC | D5: attente retour CDC?
B6: MARY BILAN | C6: calcul du taux = 24h*73%/100 = 17,52h réalisées (se rapprocher des heures facturées (17,5h)
