Workbook

Sheet Commande
A1: Date de commande | B1: Produits commandés | C1: Vente
A2: 44228 | B2: X(5) Y(3) Z(25)
A3: 44229 | B3: X(2) Z(12)
A4: 44230 | B4: Y(3)
A5: 44231
A6: 44232
A7: 44233
A8: 44234
A9: 44235
A10: 44236
A11: 44237
A12: 44238

Sheet Stock

Sheet Périmé

Sheet Entrées
A1: Entrée en stock
A2: Article | B2: Lot | C2: Qté Lot | D2: Qté restante | E2: Qté Vendu | F2: Date d'entrée en stock | G2: Date de Péremption | H2: Perime | I2: Commande | J2: Ref
A3: Article 1 | B3: 12 | C3: 8 | D3: =C3-E3 -> 0 | E3: =SUMIF(Ventes!$A$3:$A$18,Entrées!J3,Ventes!$D$3:$D$18) -> 8 | F3: 44197 | G3: 44256 | H3: =IF(AND(G3<=TODAY(),D3>0),"Périmé","OK") -> OK | I3: C00001 | J3: =A3&" Lot "&B3 -> Article 1 Lot 12
A4: Article 1 | B4: 13 | C4: 8 | D4: =C4-E4 -> 8 | E4: =SUMIF(Ventes!$A$3:$A$18,Entrées!J4,Ventes!$D$3:$D$18) -> 0 | F4: 44201 | G4: 44277 | H4: =IF(AND(G4<=TODAY(),D4>0),"Périmé","OK") -> Périmé | I4: C00001 | J4: =A4&" Lot "&B4 -> Article 1 Lot 13
A5: Article 2 | B5: 14 | C5: 6 | D5: =C5-E5 -> 4 | E5: =SUMIF(Ventes!$A$3:$A$18,Entrées!J5,Ventes!$D$3:$D$18) -> 2 | F5: 44214 | G5: 44287 | H5: =IF(AND(G5<=TODAY(),D5>0),"Périmé","OK") -> OK | I5: C00001 | J5: =A5&" Lot "&B5 -> Article 2 Lot 14
A6: Article 2 | B6: 15 | C6: 25 | D6: =C6-E6 -> 25 | E6: =SUMIF(Ventes!$A$3:$A$18,Entrées!J6,Ventes!$D$3:$D$18) -> 0 | F6: 44197 | G6: 44287 | H6: =IF(AND(G6<=TODAY(),D6>0),"Périmé","OK") -> OK | I6: C00001 | J6: =A6&" Lot "&B6 -> Article 2 Lot 15
A7: Article 2 | B7: 16 | C7: 15 | D7: =C7-E7 -> 15 | E7: =SUMIF(Ventes!$A$3:$A$18,Entrées!J7,Ventes!$D$3:$D$18) -> 0 | F7: 44197 | G7: 44287 | H7: =IF(AND(G7<=TODAY(),D7>0),"Périmé","OK") -> OK | I7: C00001 | J7: =A7&" Lot "&B7 -> Article 2 Lot 16
A8: Article 3 | B8: 17 | C8: 34 | D8: =C8-E8 -> 32 | E8: =SUMIF(Ventes!$A$3:$A$18,Entrées!J8,Ventes!$D$3:$D$18) -> 2 | F8: 44197 | G8: 44277 | H8: =IF(AND(G8<=TODAY(),D8>0),"Périmé","OK") -> Périmé | I8: C00001 | J8: =A8&" Lot "&B8 -> Article 3 Lot 17

Sheet Ventes
B1: Ventes
A2: Ref | B2: Article | C2: Date de Vente | D2: Qté | E2: Lot
A3: =B3&" Lot "&E3 -> Article 1 Lot 12 | B3: Article 1 | C3: 44219 | D3: 2 | E3: 12
A4: =B4&" Lot "&E4 -> Article 1 Lot 12 | B4: Article 1 | C4: 44219 | D4: 6 | E4: 12
A5: =B5&" Lot "&E5 -> Article 2 Lot 14 | B5: Article 2 | C5: 44219 | D5: 2 | E5: 14
A6: =B6&" Lot "&E6 -> Article 3 Lot 17 | B6: Article 3 | C6: 44219 | D6: 2 | E6: 17

Sheet s
A1: Stock
