Workbook
Name plageDate: OFFSET(Matrice!$E$2:$E$9,,MATCH(Restitution!$B$2,Matrice!$E$1:$P$1,0)-1)

Sheet Matrice
A1: Numéro | B1: Nom prénom | C1: Poste | E1: 44957 | F1: 44985 | G1: 45016 | H1: 45046 | I1: 45077 | J1: 45107 | K1: 45138 | L1: 45169 | M1: 45199 | N1: 45230 | O1: 45260 | P1: 45291
A2: 10 | B2: Monkey D. Luffy | C2: Milieu offensif | E2: 1 | F2: 1 | G2: 1 | H2: 0 | I2: 0 | J2: 0 | K2: 0 | L2: 0 | M2: 0 | N2: 0 | O2: 0 | P2: 0
A3: 7 | B3: Roronoa Zoro | C3: Attaquant | E3: 1 | F3: 1 | G3: 1 | H3: 0 | I3: 0 | J3: 0 | K3: 0 | L3: 0 | M3: 0 | N3: 0 | O3: 0 | P3: 0
A4: 7 | B4: Portgas D. Ace | C4: Ailier | E4: 0 | F4: 0 | G4: 0 | H4: 1 | I4: 1 | J4: 1 | K4: 0 | L4: 0 | M4: 0 | N4: 0 | O4: 0 | P4: 0
A5: 9 | B5: Uzumaki Naruto | C5: Buteur | E5: 0 | F5: 0 | G5: 1 | H5: 1 | I5: 1 | J5: 1 | K5: 1 | L5: 1 | M5: 1 | N5: 0 | O5: 0 | P5: 0
A6: 10 | B6: Namikaze Minato | C6: Faux neuf | E6: 0 | F6: 0 | G6: 0 | H6: 1 | I6: 1 | J6: 1 | K6: 1 | L6: 0 | M6: 0 | N6: 0 | O6: 0 | P6: 0
A7: 10 | B7: Edogawa Conan | C7: Buteur | E7: 0 | F7: 0 | G7: 0 | H7: 0 | I7: 0 | J7: 0 | K7: 0 | L7: 1 | M7: 1 | N7: 1 | O7: 1 | P7: 0
A8: 7 | B8: Uchiha Itachi | C8: Buteur | E8: 0 | F8: 0 | G8: 0 | H8: 0 | I8: 0 | J8: 0 | K8: 1 | L8: 1 | M8: 1 | N8: 1 | O8: 1 | P8: 0
A9: 9 | B9: Elric Edward | C9: Attaquant | E9: 1 | F9: 1 | G9: 0 | H9: 0 | I9: 0 | J9: 0 | K9: 0 | L9: 0 | M9: 0 | N9: 0 | O9: 0 | P9: 1

Sheet Restitution
A2: Liste déroulante -> | B2: 44957
B4: Numéro identification | C4: Nom prénom | D4: Poste | E4: 1 ou 0
B5: =IF(C5="","",_xlfn.XLOOKUP(C5,Matrice!$B$2:$B$9,Matrice!$A$2:$A$9)) -> 10 | C5: {=IFERROR(INDEX(Matrice!$B$2:$B$9,SMALL(IF(plageDate=1,ROW(plageDate)-1),ROWS($1:1))),"")} -> Monkey D. Luffy | M5: 44957 | N5: 1
B6: =IF(C6="","",_xlfn.XLOOKUP(C6,Matrice!$B$2:$B$9,Matrice!$A$2:$A$9)) -> 7 | C6: {=IFERROR(INDEX(Matrice!$B$2:$B$9,SMALL(IF(plageDate=1,ROW(plageDate)-1),ROWS($1:2))),"")} -> Roronoa Zoro | M6: 44985 | N6: 2
B7: =IF(C7="","",_xlfn.XLOOKUP(C7,Matrice!$B$2:$B$9,Matrice!$A$2:$A$9)) -> 9 | C7: {=IFERROR(INDEX(Matrice!$B$2:$B$9,SMALL(IF(plageDate=1,ROW(plageDate)-1),ROWS($1:3))),"")} -> Elric Edward | M7: 45016 | N7: 3
B8: =IF(C8="","",_xlfn.XLOOKUP(C8,Matrice!$B$2:$B$9,Matrice!$A$2:$A$9)) | C8: {=IFERROR(INDEX(Matrice!$B$2:$B$9,SMALL(IF(plageDate=1,ROW(plageDate)-1),ROWS($1:4))),"")} | M8: 45046 | N8: 4
B9: =IF(C9="","",_xlfn.XLOOKUP(C9,Matrice!$B$2:$B$9,Matrice!$A$2:$A$9)) | C9: {=IFERROR(INDEX(Matrice!$B$2:$B$9,SMALL(IF(plageDate=1,ROW(plageDate)-1),ROWS($1:5))),"")} | M9: 45077 | N9: 5
B10: =IF(C10="","",_xlfn.XLOOKUP(C10,Matrice!$B$2:$B$9,Matrice!$A$2:$A$9)) | C10: {=IFERROR(INDEX(Matrice!$B$2:$B$9,SMALL(IF(plageDate=1,ROW(plageDate)-1),ROWS($1:6))),"")} | M10: 45107 | N10: 6
M11: 45138 | N11: 7
M12: 45169 | N12: 8
M13: 45199 | N13: 9
M14: 45230 | N14: 10
M15: 45260 | N15: 11
M16: 45291 | N16: 12
A19: Liste déroulante -> | B19: 44957
B22: Numéro identification | C22: Nom prénom | D22: Poste | E22: 1 ou 0
B23: 10 | C23: =VLOOKUP(B23,Matrice!$A$2:$B$9,2,0) -> Monkey D. Luffy | D23: =VLOOKUP(B23,Matrice!$A$2:$C$9,3,0) -> Milieu offensif | E23: =SUMIFS(INDEX(Matrice!$E$2:$P$9,,VLOOKUP(Restitution!$B$19,Restitution!$M$5:$N$16,2,0)),Matrice!$A$2:$A$9,Restitution!$B23) -> 1
B24: 9 | C24: =VLOOKUP(B24,Matrice!$A$2:$B$9,2,0) -> Uzumaki Naruto | D24: =VLOOKUP(B24,Matrice!$A$2:$C$9,3,0) -> Buteur | E24: =SUMIFS(INDEX(Matrice!$E$2:$P$9,,VLOOKUP(Restitution!$B$19,Restitution!$M$5:$N$16,2,0)),Matrice!$A$2:$A$9,Restitution!$B24) -> 1
B25: 7 | C25: =VLOOKUP(B25,Matrice!$A$2:$B$9,2,0) -> Roronoa Zoro | D25: =VLOOKUP(B25,Matrice!$A$2:$C$9,3,0) -> Attaquant | E25: =SUMIFS(INDEX(Matrice!$E$2:$P$9,,VLOOKUP(Restitution!$B$19,Restitution!$M$5:$N$16,2,0)),Matrice!$A$2:$A$9,Restitution!$B25) -> 1
A34: Liste déroulante -> | B34: 45046
B37: Numéro identification | C37: Nom prénom | D37: Poste | E37: 1 ou 0
B38: 10 | C38: Namikaze Minato | D38: Faux neuf | E38: =SUMIFS(INDEX(Matrice!$E$2:$P$9,,VLOOKUP(Restitution!$B$34,Restitution!$M$5:$N$16,2,0)),Matrice!$A$2:$A$9,Restitution!$B38) -> 1
B39: 9 | C39: Uzumaki Naruto | D39: Buteur | E39: =SUMIFS(INDEX(Matrice!$E$2:$P$9,,VLOOKUP(Restitution!$B$34,Restitution!$M$5:$N$16,2,0)),Matrice!$A$2:$A$9,Restitution!$B39) -> 1
B40: 7 | C40: Portgas D. Ace | D40: Ailier | E40: =SUMIFS(INDEX(Matrice!$E$2:$P$9,,VLOOKUP(Restitution!$B$34,Restitution!$M$5:$N$16,2,0)),Matrice!$A$2:$A$9,Restitution!$B40) -> 1
