Workbook
Name _100: [1]!STAT_TO[[#All],[> 100 %]]
Name _70: [1]!STAT_TO[[#All],[< 70 %]]
Name _70_79: [1]!STAT_TO[[#All],['[70 - 79 %']]]
Name _80_89: [1]!STAT_TO[[#All],['[80 - 89 %']]]
Name _90_94: [1]!STAT_TO[[#All],['[90 - 94 %']]]
Name _95_100: [1]!STAT_TO[[#All],['[95 - 100 %']]]
Name ANNEE: [1]!STAT_TO[[#All],[ANNEE]]
Name MAXIMUM: [1]!STAT_TO[[#All],[MAXIMUM]]
Name MEDIANE: [1]!STAT_TO[[#All],[MEDIANE]]
Name MINIMUM: [1]!STAT_TO[[#All],[MINIMUM]]
Name MOYENNE: [1]!STAT_TO[[#All],[MOYENNE]]
Name NOMBRE_EHPAD: [1]!STAT_TO[[#All],[NOMBRE EHPAD]]
Name QUARTILE_1: [1]!STAT_TO[[#All],[1er QUARTILE]]
Name QUARTILE_3: [1]!STAT_TO[[#All],[3ème QUARTILE]]
Name STRAT: [1]!STAT_TO[[#All],[NOM DE LA STRAT]]

Sheet Etablissement
B3: Finess ET : | C3: 600111041
B5: TITRE
B6: NATURE DE L'ACTIVITÉ | C6: 2017 | D6: 2018 | E6: 2019 | F6: 2020 | G6: 2021 | H6: 2022
B7: PRÉSENCES RÉELLES | C7: {=INDEX(Source_etab!$B$5:$DB$69,MATCH($C$3,Source_etab!$B$5:$B$69,0),MATCH(1,(Source_etab!$B$3:$DB$3=C$6)*(Source_etab!$B$4:$DB$4=$J7),0))} -> 0.99004682 | D7: {=INDEX(Source_etab!$B$5:$DB$69,MATCH($C$3,Source_etab!$B$5:$B$69,0),MATCH(1,(Source_etab!$B$3:$DB$3=D$6)*(Source_etab!$B$4:$DB$4=$J7),0))} -> 0.98535345 | E7: {=INDEX(Source_etab!$B$5:$DB$69,MATCH($C$3,Source_etab!$B$5:$B$69,0),MATCH(1,(Source_etab!$B$3:$DB$3=E$6)*(Source_etab!$B$4:$DB$4=$J7),0))} -> 0.99254378 | F7: {=INDEX(Source_etab!$B$5:$DB$69,MATCH($C$3,Source_etab!$B$5:$B$69,0),MATCH(1,(Source_etab!$B$3:$DB$3=F$6)*(Source_etab!$B$4:$DB$4=$J7),0))} -> 0.95178806 | G7: {=INDEX(Source_etab!$B$5:$DB$69,MATCH($C$3,Source_etab!$B$5:$B$69,0),MATCH(1,(Source_etab!$B$3:$DB$3=G$6)*(Source_etab!$B$4:$DB$4=$J7),0))} -> 0.93418878 | H7: {=INDEX(Source_etab!$B$5:$DB$69,MATCH($C$3,Source_etab!$B$5:$B$69,0),MATCH(1,(Source_etab!$B$3:$DB$3=H$6)*(Source_etab!$B$4:$DB$4=$J7),0))} -> 0.9722097 | J7: TO PRÉSENCES RÉELLES | L7: PRÉSENCES RÉELLES
B8: PRÉSENCES RÉELLES ET ABSENCES DE - 72H | C8: {=INDEX(Source_etab!$B$5:$DB$69,MATCH($C$3,Source_etab!$B$5:$B$69,0),MATCH(1,(Source_etab!$B$3:$DB$3=C$6)*(Source_etab!$B$4:$DB$4=$J8),0))} -> 0.99011618 | D8: {=INDEX(Source_etab!$B$5:$DB$69,MATCH($C$3,Source_etab!$B$5:$B$69,0),MATCH(1,(Source_etab!$B$3:$DB$3=D$6)*(Source_etab!$B$4:$DB$4=$J8),0))} -> 0.98566557 | E8: {=INDEX(Source_etab!$B$5:$DB$69,MATCH($C$3,Source_etab!$B$5:$B$69,0),MATCH(1,(Source_etab!$B$3:$DB$3=E$6)*(Source_etab!$B$4:$DB$4=$J8),0))} -> 0.99305242 | F8: {=INDEX(Source_etab!$B$5:$DB$69,MATCH($C$3,Source_etab!$B$5:$B$69,0),MATCH(1,(Source_etab!$B$3:$DB$3=F$6)*(Source_etab!$B$4:$DB$4=$J8),0))} -> 0.95197252 | G8: {=INDEX(Source_etab!$B$5:$DB$69,MATCH($C$3,Source_etab!$B$5:$B$69,0),MATCH(1,(Source_etab!$B$3:$DB$3=G$6)*(Source_etab!$B$4:$DB$4=$J8),0))} -> 0.93458182 | H8: {=INDEX(Source_etab!$B$5:$DB$69,MATCH($C$3,Source_etab!$B$5:$B$69,0),MATCH(1,(Source_etab!$B$3:$DB$3=H$6)*(Source_etab!$B$4:$DB$4=$J8),0))} -> 0.97239466 | J8: TO ABSENCES - 72H | L8: PR ET ABS - 72H
B9: PRÉSENCES RÉELLES ET ABSENCES DE - / + 72H | C9: {=INDEX(Source_etab!$B$5:$DB$69,MATCH($C$3,Source_etab!$B$5:$B$69,0),MATCH(1,(Source_etab!$B$3:$DB$3=C$6)*(Source_etab!$B$4:$DB$4=$J9),0))} -> 1.0010057 | D9: {=INDEX(Source_etab!$B$5:$DB$69,MATCH($C$3,Source_etab!$B$5:$B$69,0),MATCH(1,(Source_etab!$B$3:$DB$3=D$6)*(Source_etab!$B$4:$DB$4=$J9),0))} -> 0.99717935 | E9: {=INDEX(Source_etab!$B$5:$DB$69,MATCH($C$3,Source_etab!$B$5:$B$69,0),MATCH(1,(Source_etab!$B$3:$DB$3=E$6)*(Source_etab!$B$4:$DB$4=$J9),0))} -> 0.99950292 | F9: {=INDEX(Source_etab!$B$5:$DB$69,MATCH($C$3,Source_etab!$B$5:$B$69,0),MATCH(1,(Source_etab!$B$3:$DB$3=F$6)*(Source_etab!$B$4:$DB$4=$J9),0))} -> 0.96061885 | G9: {=INDEX(Source_etab!$B$5:$DB$69,MATCH($C$3,Source_etab!$B$5:$B$69,0),MATCH(1,(Source_etab!$B$3:$DB$3=G$6)*(Source_etab!$B$4:$DB$4=$J9),0))} -> 0.94245419 | H9: {=INDEX(Source_etab!$B$5:$DB$69,MATCH($C$3,Source_etab!$B$5:$B$69,0),MATCH(1,(Source_etab!$B$3:$DB$3=H$6)*(Source_etab!$B$4:$DB$4=$J9),0))} -> 0.97742327 | J9: TO ABSENCES - / + 72H | L9: PR ET ABS -/+ 72H
B25: TITRE
B26: NATURE DE L'ACTIVITÉ | C26: 2017 | D26: 2018 | E26: 2019 | F26: 2020 | G26: 2021 | H26: 2022
B27: PRÉSENCES RÉELLES | C27: {=INDEX(Source_etab!$B$5:$DB$69,MATCH($C$3,Source_etab!$B$5:$B$69,0),MATCH(1,(Source_etab!$B$3:$DB$3=C$26)*(Source_etab!$B$4:$DB$4=$J7),0))} -> #N/A | D27: {=INDEX(Source_etab!$B$5:$DB$69,MATCH($C$3,Source_etab!$B$5:$B$69,0),MATCH(1,(Source_etab!$B$3:$DB$3=D$26)*(Source_etab!$B$4:$DB$4=$J7),0))} -> #N/A | E27: {=INDEX(Source_etab!$B$5:$DB$69,MATCH($C$3,Source_etab!$B$5:$B$69,0),MATCH(1,(Source_etab!$B$3:$DB$3=E$26)*(Source_etab!$B$4:$DB$4=$J7),0))} -> #N/A | F27: {=INDEX(Source_etab!$B$5:$DB$69,MATCH($C$3,Source_etab!$B$5:$B$69,0),MATCH(1,(Source_etab!$B$3:$DB$3=F$26)*(Source_etab!$B$4:$DB$4=$J7),0))} -> #N/A | G27: {=INDEX(Source_etab!$B$5:$DB$69,MATCH($C$3,Source_etab!$B$5:$B$69,0),MATCH(1,(Source_etab!$B$3:$DB$3=G$26)*(Source_etab!$B$4:$DB$4=$J7),0))} -> #N/A | H27: {=INDEX(Source_etab!$B$5:$DB$69,MATCH($C$3,Source_etab!$B$5:$B$69,0),MATCH(1,(Source_etab!$B$3:$DB$3=H$26)*(Source_etab!$B$4:$DB$4=$J7),0))} -> #N/A
B28: PRÉSENCES RÉELLES ET ABSENCES DE - 72H | C28: {=INDEX(Source_etab!$B$5:$DB$69,MATCH($C$3,Source_etab!$B$5:$B$69,0),MATCH(1,(Source_etab!$B$3:$DB$3=C$26)*(Source_etab!$B$4:$DB$4=$J8),0))} -> #N/A | D28: {=INDEX(Source_etab!$B$5:$DB$69,MATCH($C$3,Source_etab!$B$5:$B$69,0),MATCH(1,(Source_etab!$B$3:$DB$3=D$26)*(Source_etab!$B$4:$DB$4=$J8),0))} -> #N/A | E28: {=INDEX(Source_etab!$B$5:$DB$69,MATCH($C$3,Source_etab!$B$5:$B$69,0),MATCH(1,(Source_etab!$B$3:$DB$3=E$26)*(Source_etab!$B$4:$DB$4=$J8),0))} -> #N/A | F28: {=INDEX(Source_etab!$B$5:$DB$69,MATCH($C$3,Source_etab!$B$5:$B$69,0),MATCH(1,(Source_etab!$B$3:$DB$3=F$26)*(Source_etab!$B$4:$DB$4=$J8),0))} -> #N/A | G28: {=INDEX(Source_etab!$B$5:$DB$69,MATCH($C$3,Source_etab!$B$5:$B$69,0),MATCH(1,(Source_etab!$B$3:$DB$3=G$26)*(Source_etab!$B$4:$DB$4=$J8),0))} -> #N/A | H28: {=INDEX(Source_etab!$B$5:$DB$69,MATCH($C$3,Source_etab!$B$5:$B$69,0),MATCH(1,(Source_etab!$B$3:$DB$3=H$26)*(Source_etab!$B$4:$DB$4=$J8),0))} -> #N/A
B29: PRÉSENCES RÉELLES ET ABSENCES DE - / + 72H | C29: {=INDEX(Source_etab!$B$5:$DB$69,MATCH($C$3,Source_etab!$B$5:$B$69,0),MATCH(1,(Source_etab!$B$3:$DB$3=C$26)*(Source_etab!$B$4:$DB$4=$J9),0))} -> #N/A | D29: {=INDEX(Source_etab!$B$5:$DB$69,MATCH($C$3,Source_etab!$B$5:$B$69,0),MATCH(1,(Source_etab!$B$3:$DB$3=D$26)*(Source_etab!$B$4:$DB$4=$J9),0))} -> #N/A | E29: {=INDEX(Source_etab!$B$5:$DB$69,MATCH($C$3,Source_etab!$B$5:$B$69,0),MATCH(1,(Source_etab!$B$3:$DB$3=E$26)*(Source_etab!$B$4:$DB$4=$J9),0))} -> #N/A | F29: {=INDEX(Source_etab!$B$5:$DB$69,MATCH($C$3,Source_etab!$B$5:$B$69,0),MATCH(1,(Source_etab!$B$3:$DB$3=F$26)*(Source_etab!$B$4:$DB$4=$J9),0))} -> #N/A | G29: {=INDEX(Source_etab!$B$5:$DB$69,MATCH($C$3,Source_etab!$B$5:$B$69,0),MATCH(1,(Source_etab!$B$3:$DB$3=G$26)*(Source_etab!$B$4:$DB$4=$J9),0))} -> #N/A | H29: {=INDEX(Source_etab!$B$5:$DB$69,MATCH($C$3,Source_etab!$B$5:$B$69,0),MATCH(1,(Source_etab!$B$3:$DB$3=H$26)*(Source_etab!$B$4:$DB$4=$J9),0))} -> #N/A

Sheet Source_etab
K3: 2017 | L3: 2018 | M3: 2019 | N3: 2020 | O3: 2021 | P3: 2022 | Q3: 2017 | R3: 2018 | S3: 2019 | T3: 2020 | U3: 2021 | V3: 2022 | W3: 2017 | X3: 2018 | Y3: 2019 | Z3: 2020 | AA3: 2021 | AB3: 2022 | AC3: 2017 | AD3: 2018 | AE3: 2019 | AF3: 2020 | AG3: 2021 | AH3: 2022 | AI3: 2017 | AJ3: 2018 | AK3: 2019 | AL3: 2020 | AM3: 2021 | AN3: 2022 | AO3: 2017 | AP3: 2018 | AQ3: 2019 | AR3: 2020 | AS3: 2021 | AT3: 2022 | AU3: 2017 | AV3: 2018 | AW3: 2019 | AX3: 2020 | AY3: 2021 | AZ3: 2022 | BA3: 2017 | BB3: 2018 | BC3: 2019 | BD3: 2020 | BE3: 2021 | BF3: 2022 | BG3: 2017 | BH3: 2018 | BI3: 2019 | BJ3: 2020 | BK3: 2021 | BL3: 2022 | BM3: 2017 | BN3: 2018 | BO3: 2019 | BP3: 2020 | BQ3: 2021 | BR3: 2022 | BS3: 2017 | BT3: 2018 | BU3: 2019 | BV3: 2020 | BW3: 2021 | BX3: 2022 | BY3: 2017 | BZ3: 2018 | CA3: 2019 | CB3: 2020 | CC3: 2021 | CD3: 2022 | CE3: 2017 | CF3: 2018 | CG3: 2019 | CH3: 2020 | CI3: 2021 | CJ3: 2022 | CK3: 2017 | CL3: 2018 | CM3: 2019 | CN3: 2020 | CO3: 2021 | CP3: 2022 | CQ3: 2017 | CR3: 2018 | CS3: 2019 | CT3: 2020 | CU3: 2021 | CV3: 2022 | CW3: 2017 | CX3: 2018 | CY3: 2019 | CZ3: 2020 | DA3: 2021 | DB3: 2022
B4: FINESS ET | C4: RAISON SOCIALE ET | D4: COMMUNE | E4: CANTON | F4: TERRITOIRE | G4: ARRONDISSEMENT | H4: STATUT JURIDIQUE | I4: STATUT DE LA COMMUNE | J4: CAPACITE HEB PERM | K4: GIR 1 | L4: GIR 1 | M4: GIR 1 | N4: GIR 1 | O4: GIR 1 | P4: GIR 1 | Q4: GIR 2 | R4: GIR 2 | S4: GIR 2 | T4: GIR 2 | U4: GIR 2 | V4: GIR 2 | W4: GIR 3 | X4: GIR 3 | Y4: GIR 3 | Z4: GIR 3 | AA4: GIR 3 | AB4: GIR 3 | AC4: GIR 4 | AD4: GIR 4 | AE4: GIR 4 | AF4: GIR 4 | AG4: GIR 4 | AH4: GIR 4 | AI4: GIR 5 | AJ4: GIR 5 | AK4: GIR 5 | AL4: GIR 5 | AM4: GIR 5 | AN4: GIR 5 | AO4: GIR 6 | AP4: GIR 6 | AQ4: GIR 6 | AR4: GIR 6 | AS4: GIR 6 | AT4: GIR 6 | AU4: M60 | AV4: M60 | AW4: M60 | AX4: M60 | AY4: M60 | AZ4: M60 | BA4: GMP | BB4: GMP | BC4: GMP | BD4: GMP | BE4: GMP | BF4: GMP | BG4: HORS OISE GIR 1/2 | BH4: HORS OISE GIR 1/2 | BI4: HORS OISE GIR 1/2 | BJ4: HORS OISE GIR 1/2 | BK4: HORS OISE GIR 1/2 | BL4: HORS OISE GIR 1/2 | BM4: HORS OISE GIR 3/4 | BN4: HORS OISE GIR 3/4 | BO4: HORS OISE GIR 3/4 | BP4: HORS OISE GIR 3/4 | BQ4: HORS OISE GIR 3/4 | BR4: HORS OISE GIR 3/4 | BS4: HORS OISE GIR 5/6 | BT4: HORS OISE GIR 5/6 | BU4: HORS OISE GIR 5/6 | BV4: HORS OISE GIR 5/6 | BW4: HORS OISE GIR 5/6 | BX4: HORS OISE GIR 5/6 | BY4: % HORS OISE | BZ4: % HORS OISE | CA4: % HORS OISE | CB4: % HORS OISE | CC4: % HORS OISE | CD4: % HORS OISE | CE4: % OISE | CF4: % OISE | CG4: % OISE | CH4: % OISE | CI4: % OISE | CJ4: % OISE | CK4: TO PRÉSENCES RÉELLES | CL4: TO PRÉSENCES RÉELLES | CM4: TO PRÉSENCES RÉELLES | CN4: TO PRÉSENCES RÉELLES | CO4: TO PRÉSENCES RÉELLES | CP4: TO PRÉSENCES RÉELLES | CQ4: TO ABSENCES - 72H | CR4: TO ABSENCES - 72H | CS4: TO ABSENCES - 72H | CT4: TO ABSENCES - 72H | CU4: TO ABSENCES - 72H | CV4: TO ABSENCES - 72H | CW4: TO ABSENCES - / + 72H | CX4: TO ABSENCES - / + 72H | CY4: TO ABSENCES - / + 72H | CZ4: TO ABSENCES - / + 72H | DA4: TO ABSENCES - / + 72H | DB4: TO ABSENCES - / + 72H
B5: 600105266 | K5: 53.821918 | L5: 44.205479 | M5: 38.087671 | N5: 24.778689 | O5: 22.709589 | P5: 24.424658 | Q5: 86.945205 | R5: 98.90411 | S5: 115.79726 | T5: 105.61749 | U5: 93.452055 | V5: 82.569863 | W5: 18.073973 | X5: 18.739726 | Y5: 18.271233 | Z5: 25.57377 | AA5: 33.361644 | AB5: 39.150685 | AC5: 31.128767 | AD5: 31.19726 | AE5: 24.679452 | AF5: 32.142077 | AG5: 38.134247 | AH5: 41.646575 | AI5: 9.1780822 | AJ5: 7.3671233 | AK5: 4.5616438 | AL5: 4.2923497 | AM5: 1 | AN5: 0.16712329 | AO5: 0 | AP5: 0 | AQ5: 0 | AR5: 0 | AS5: 0 | AT5: 0 | AU5: 2.9835616 | AV5: 1.4493151 | AW5: 0.47945205 | AX5: 1.0081967 | AY5: 1 | AZ5: 1.9342466 | BA5: 774.0643 | BB5: 771.39328 | BC5: 789.09795 | BD5: 753.35515 | BE5: 739.40532 | BF5: 729.71343 | BG5: 11.832877 | BH5: 12.378082 | BI5: 13.920548 | BJ5: 11.901639 | BK5: 12.391781 | BL5: 12.673973 | BM5: 1.3150685 | BN5: 5.8273973 | BO5: 4.4794521 | BP5: 5.6393443 | BQ5: 4.8465753 | BR5: 4.3424658 | BS5: 2.9835616 | BT5: 1.4493151 | BU5: 0 | BV5: 0 | BW5: 0 | BX5: 0 | BY5: 0.081002628 | BZ5: 0.098071113 | CA5: 0.091361719 | CB5: 0.091167282 | CC5: 0.091373802 | CD5: 0.09053276 | CE5: 0.91899737 | CF5: 0.90192889 | CG5: 0.90863828 | CH5: 0.90883272 | CI5: 0.9086262 | CJ5: 0.90946724 | CK5: 3.7555612 | CL5: 0.96125245 | CM5: 0.96131768 | CN5: 0.92101223 | CO5: 0.90313112 | CP5: 0.9042531 | CQ5: 3.7584627 | CR5: 0.96170907 | CS5: 0.96153947 | CT5: 0.92144158 | CU5: 0.90332681 | CV5: 0.90450098 | CW5: 3.8010181 | CX5: 0.97248532 | CY5: 0.97060665 | CZ5: 0.92734843 | DA5: 0.90879322 | DB5: 0.90832355
B6: 600107544 | K6: 24.358904 | L6: 22.515068 | M6: 23.320548 | N6: 18.010929 | O6: 14.945205 | P6: 0 | Q6: 77.079452 | R6: 76.112329 | S6: 63.254795 | T6: 62.939891 | U6: 63.6 | V6: 0 | W6: 29.49863 | X6: 21.441096 | Y6: 41.043836 | Z6: 33.743169 | AA6: 33.657534 | AB6: 0 | AC6: 59.205479 | AD6: 90.082192 | AE6: 80.534247 | AF6: 66.295082 | AG6: 64.750685 | AH6: 0 | AI6: 23.049315 | AJ6: 5.9178082 | AK6: 6.8356164 | AL6: 17.540984 | AM6: 17.150685 | AN6: 0 | AO6: 5.6876712 | AP6: 2.6739726 | AQ6: 5.1479452 | AR6: 10.046448 | AS6: 11.432877 | AT6: 0 | AU6: 2.5972603 | AV6: 1.4054795 | AW6: 3.3808219 | AX6: 4 | AY6: 3.5178082 | AZ6: 0 | BA6: 637.80088 | BB6: 640.48697 | BC6: 633.41083 | BD6: 604.49456 | BE6: 597.78262 | BF6: #DIV/0! | BG6: 13.890411 | BH6: 13.928767 | BI6: 12.561644 | BJ6: 10.885246 | BK6: 13.841096 | BL6: 0 | BM6: 9.8219178 | BN6: 11 | BO6: 11.758904 | BP6: 11.095628 | BQ6: 12.331507 | BR6: 0 | BS6: 1.9424658 | BT6: 0 | BU6: 0 | BV6: 2.2021858 | BW6: 2.4328767 | BX6: 0 | BY6: 0.1172097 | BZ6: 0.113964 | CA6: 0.11047915 | CB6: 0.11594336 | CC6: 0.13917436 | CD6: #DIV/0! | CE6: 0.8827903 | CF6: 0.886036 | CG6: 0.88952085 | CH6: 0.88405664 | CI6: 0.86082564 | CJ6: #DIV/0! | CK6: 0.95877365 | CL6: 0.95302141 | CM6: 0.96760956 | CN6: 0.9202446 | CO6: 0.90499911 | CQ6: 0.96333986 | CR6: 0.95707763 | CS6: 0.9716895 | CT6: 0.92327254 | CU6: 0.90705094 | CW6: 0.9801696 | CX6: 0.9727925 | CY6: 0.98671648 | CZ6: 0.93461548 | DA6: 0.91606476
B7: 600111041 | K7: 22.487671 | L7: 15.852055 | M7: 10.460274 | N7: 18.849727 | O7: 12.652055 | P7: 14.734247 | Q7: 43.610959 | R7: 42.863014 | S7: 40.183562 | T7: 72.718579 | U7: 73.654795 | V7: 60.715068 | W7: 38.021918 | X7: 39.715068 | Y7: 49.021918 | Z7: 43.491803 | AA7: 37.789041 | AB7: 41.19726 | AC7: 89.136986 | AD7: 94.687671 | AE7: 93.090411 | AF7: 61.538251 | AG7: 63.093151 | AH7: 78.657534 | AI7: 21.087671 | AJ7: 21.230137 | AK7: 20.819178 | AL7: 12.26776 | AM7: 16.758904 | AN7: 17.882192 | AO7: 15.484932 | AP7: 14.583562 | AQ7: 17.542466 | AR7: 12.027322 | AS7: 14.720548 | AT7: 15.246575 | AU7: 4.8109589 | AV7: 4.0575342 | AW7: 4.1150685 | AX7: 4.6803279 | AY7: 2.7342466 | AZ7: 1.9808219 | BA7: 556.97108 | BB7: 542.37243 | BC7: 528.30058 | BD7: 626.51403 | BE7: 599.9133 | BF7: 575.65737 | BG7: 3.7561644 | BH7: 5.3315068 | BI7: 4.9835616 | BJ7: 6.989071 | BK7: 4.8958904 | BL7: 2.8191781 | BM7: 7.8465753 | BN7: 6.4520548 | BO7: 10.024658 | BP7: 10.010929 | BQ7: 10.956164 | BR7: 12.706849 | BS7: 0 | BT7: 0 | BU7: 4.1150685 | BV7: 4.6803279 | BW7: 4.2328767 | BX7: 5.8438356 | BY7: 0.050483979 | BZ7: 0.051471996 | CA7: 0.082742597 | CB7: 0.098148354 | CC7: 0.091851054 | CD7: 0.093549857 | CE7: 0.94951602 | CF7: 0.948528 | CG7: 0.9172574 | CH7: 0.90185165 | CI7: 0.90814895 | CJ7: 0.90645014 | CK7: 0.99004682 | CL7: 0.98535345 | CM7: 0.99254378 | CN7: 0.95178806 | CO7: 0.93418878 | CP7: 0.9722097 | CQ7: 0.99011618 | CR7: 0.98566557 | CS7: 0.99305242 | CT7: 0.95197252 | CU7: 0.93458182 | CV7: 0.97239466 | CW7: 1.0010057 | CX7: 0.99717935 | CY7: 0.99950292 | CZ7: 0.96061885 | DA7: 0.94245419 | DB7: 0.97742327
B8: 600107577 | K8: 17.969863 | L8: 15.868493 | M8: 15.39726 | N8: 16.054645 | O8: 24.739726 | P8: 28.657534 | Q8: 49.016438 | R8: 57.394521 | S8: 53.487671 | T8: 50.030055 | U8: 54.531507 | V8: 57.369863 | W8: 18.610959 | X8: 19 | Y8: 19.10137 | Z8: 23.36612 | AA8: 15.789041 | AB8: 14.591781 | AC8: 30.654795 | AD8: 31 | AE8: 34.126027 | AF8: 23.31694 | AG8: 26.865753 | AH8: 32.153425 | AI8: 19.290411 | AJ8: 22 | AK8: 15.961644 | AL8: 22.15847 | AM8: 27.520548 | AN8: 28.591781 | AO8: 32.556164 | AP8: 31 | AQ8: 31.983562 | AR8: 19.202186 | AS8: 10.80274 | AT8: 1.1369863 | AU8: 1 | AV8: 1 | AW8: 1 | AX8: 0.99726776 | AY8: 1 | AZ8: 1.3616438 | BA8: 543.74894 | BB8: 552.07209 | BC8: 549.7904 | BD8: 585.08624 | BE8: 623.32188 | BF8: 659.75301 | BG8: 14.493151 | BH8: 17 | BI8: 16.512329 | BJ8: 10.57377 | BK8: 16.539726 | BL8: 19.649315 | BM8: 8.5205479 | BN8: 9 | BO8: 11.509589 | BP8: 9.2568306 | BQ8: 11.8 | BR8: 10.356164 | BS8: 8.5890411 | BT8: 10 | BU8: 10 | BV8: 8.7295082 | BW8: 8.2273973 | BX8: 3.9561644 | BY8: 0.18800117 | BZ8: 0.20424024 | CA8: 0.22358267 | CB8: 0.18530074 | CC8: 0.22818895 | CD8: 0.20899297 | CE8: 0.81199883 | CF8: 0.79575976 | CG8: 0.77641733 | CH8: 0.81469926 | CI8: 0.77181105 | CJ8: 0.79100703 | CK8: 0.94468508 | CL8: 0.99029617 | CM8: 0.95562868 | CN8: 0.86662393 | CO8: 0.90083416 | CP8: 0.91543583 | CQ8: 0.94589424 | CR8: 0.9906635 | CS8: 0.95628683 | CT8: 0.86743292 | CU8: 0.90236474 | CV8: 0.91661437 | CW8: 0.98082192 | CX8: 1.0244126 | CY8: 0.98890334 | CZ8: 0.89788442 | DA8: 0.92304278 | DB8: 0.93309865
B9: 600111405 | K9: 15.156164 | L9: 21.978082 | M9: 25.120548 | N9: 25.546448 | O9: 27.983562 | P9: 20.306849 | Q9: 73.487671 | R9: 79.038356 | S9: 85.668493 | T9: 77.513661 | U9: 70.309589 | V9: 79.227397 | W9: 56.580822 | X9: 54.931507 | Y9: 47.967123 | Z9: 43.256831 | AA9: 28.616438 | AB9: 45.326027 | AC9: 48.564384 | AD9: 36.857534 | AE9: 29.123288 | AF9: 31.554645 | AG9: 43.046575 | AH9: 41.860274 | AI9: 5.0082192 | AJ9: 3.1561644 | AK9: 5.6986301 | AL9: 4.8934426 | AM9: 5.3945205 | AN9: 3.8328767 | AO9: 0 | AP9: 1.7260274 | AQ9: 3.5808219 | AR9: 3.8469945 | AS9: 2.0739726 | AT9: 2.8520548 | AU9: 0.23561644 | AV9: 0 | AW9: 0.46575342 | AX9: 0.89344262 | AY9: 0.83561644 | AZ9: 0.30684932 | BA9: 683.50161 | BB9: 713.3228 | BC9: 723.51528 | BD9: 717.81567 | BE9: 707.36411 | BF9: 700.66381 | BG9: 8.9780822 | BH9: 8.6410959 | BI9: 7.4575342 | BJ9: 10.459016 | BK9: 10.931507 | BL9: 11.632877 | BM9: 7.1342466 | BN9: 8.939726 | BO9: 8.1178082 | BP9: 6.4125683 | BQ9: 2.9616438 | BR9: 4.1780822 | BS9: 0 | BT9: 0.068493151 | BU9: 1.9616438 | BV9: 0.80601093 | BW9: 1 | BX9: 2.6054795 | BY9: 0.081049048 | BZ9: 0.089278785 | CA9: 0.088948487 | CB9: 0.094729136 | CC9: 0.083940704 | CD9: 0.095221906 | CE9: 0.91895095 | CF9: 0.91072122 | CG9: 0.91105151 | CH9: 0.90527086 | CI9: 0.9160593 | CJ9: 0.90477809 | CK9: 0.97565136 | CL9: 0.96905721 | CM9: 0.96874832 | CN9: 0.91914443 | CO9: 0.87382487 | CP9: 0.94957024 | CQ9: 0.97912973 | CR9: 0.97256245 | CS9: 0.97232071 | CT9: 0.92235883 | CU9: 0.87718238 | CV9: 0.9529949 | CW9: 0.99156594 | CX9: 0.98961859 | CY9: 0.99019608 | CZ9: 0.93828351 | DA9: 0.88808756 | DB9: 0.96830513
B10: 600106785 | K10: 14.778082 | L10: 17.731507 | M10: 17.731507 | N10: 14.885246 | O10: 18.734247 | P10: 15.526027 | Q10: 58.216438 | R10: 67.147945 | S10: 67.147945 | T10: 62.136612 | U10: 45.479452 | V10: 44.4 | W10: 29.293151 | X10: 24.764384 | Y10: 24.764384 | Z10: 25.833333 | AA10: 23.728767 | AB10: 25.260274 | AC10: 42.043836 | AD10: 37.50137 | AE10: 37.50137 | AF10: 30.931694 | AG10: 23.671233 | AH10: 26.682192 | AI10: 10.39726 | AJ10: 4.9835616 | AK10: 4.9835616 | AL10: 5.1202186 | AM10: 6.9315068 | AN10: 8.0767123 | AO10: 0 | AP10: 0 | AQ10: 0 | AR10: 0 | AS10: 0 | AT10: 0 | AU10: 0.59726027 | AV10: 1.6410959 | AW10: 1.6410959 | AX10: 1.1092896 | AY10: 0 | AZ10: 0 | BA10: 667.43307 | BB10: 706.48531 | BC10: 706.48531 | BD10: 708.39693 | BE10: 710.8914 | BF10: 689.64413 | BG10: 0 | BH10: 0 | BI10: 0 | BJ10: 10.909836 | BK10: 0 | BL10: 0 | BM10: 4.690411 | BN10: 4.690411 | BO10: 0 | BP10: 5.0054645 | BQ10: 0 | BR10: 0 | BS10: 0 | BT10: 1.9780822 | BU10: 0 | BV10: 1 | BW10: 0 | BX10: 0 | BY10: 0.030313762 | BZ10: 0.043834531 | CA10: 0 | CB10: 0.12177419 | CC10: 0 | CD10: 0 | CE10: 0.96968624 | CF10: 0.95616547 | CG10: 1 | CH10: 0.87822581 | CI10: 1 | CJ10: 1 | CK10: 0.96475793 | CL10: 0.95509232 | CM10: 0.95509232 | CN10: 0.86966704 | CO10: 0.73630562 | CP10: 0.74500128 | CQ10: 0.96579597 | CR10: 0.95887008 | CS10: 0.95887008 | CT10: 0.87255201 | CU10: 0.73814345 | CV10: 0.74649877 | CW10: 0.96872288 | CX10: 0.97374287 | CY10: 0.97374287 | CZ10: 0.88529681 | DA10: 0.7496469 | DB10: 0.75468391
B11: 600105308 | K11: 0 | L11: 0 | M11: 0 | N11: 16.674863 | O11: 21.926027 | P11: 22.758904 | Q11: 0 | R11: 0 | S11: 0 | T11: 19.387978 | U11: 22.515068 | V11: 9.0219178 | W11: 0 | X11: 0 | Y11: 0 | Z11: 10.84153 | AA11: 8.460274 | AB11: 4.5013699 | AC11: 0 | AD11: 0 | AE11: 0 | AF11: 9.6584699 | AG11: 13.734247 | AH11: 21.909589 | AI11: 0 | AJ11: 0 | AK11: 0 | AL11: 4.3688525 | AM11: 2.0958904 | AN11: 5.8821918 | AO11: 0 | AP11: 0 | AQ11: 0 | AR11: 4.9262295 | AS11: 4.8356164 | AT11: 5.3972603 | AU11: 0 | AV11: 0 | AW11: 0 | AX11: 0.99726776 | AY11: 1.8986301 | AZ11: 2.1205479 | BA11: #DIV/0! | BB11: #DIV/0! | BC11: #DIV/0! | BD11: 692.54812 | BE11: 721.15522 | BF11: 638.51757 | BG11: 0 | BH11: 0 | BI11: 0 | BJ11: 10.513661 | BK11: 10.073973 | BL11: 8.7232877 | BM11: 0 | BN11: 0 | BO11: 0 | BP11: 3.5874317 | BQ11: 5.2383562 | BR11: 5.4164384 | BS11: 0 | BT11: 0 | BU11: 0 | BV11: 3 | BW11: 2 | BX11: 3.2520548 | BY11: #DIV/0! | BZ11: #DIV/0! | CA11: #DIV/0! | CB11: 0.25966645 | CC11: 0.23532698 | CD11: 0.25034507 | CE11: #DIV/0! | CF11: #DIV/0! | CG11: #DIV/0! | CH11: 0.74033355 | CI11: 0.76467302 | CJ11: 0.74965493 | CN11: 0.66855191 | CO11: 0.75465753 | CP11: 0.71591781 | CT11: 0.67169399 | CU11: 0.75671233 | CV11: 0.71928767 | CZ11: 0.67737705 | DA11: 0.76378082 | DB11: 0.72909589
B12: 600107593 | K12: 5.1753425 | L12: 7.1013699 | M12: 9.8739726 | N12: 13.653005 | O12: 13.89863 | P12: 13.131507 | Q12: 25.60274 | R12: 20.589041 | S12: 16.668493 | T12: 10.256831 | U12: 15.547945 | V12: 18.635616 | W12: 10.487671 | X12: 11.852055 | Y12: 12.989041 | Z12: 15.442623 | AA12: 9.2246575 | AB12: 12.89589 | AC12: 9.3479452 | AD12: 12.087671 | AE12: 10.452055 | AF12: 9.6912568 | AG12: 12.564384 | AH12: 6.060274 | AI12: 0 | AJ12: 1 | AK12: 2.2849315 | AL12: 1.6666667 | AM12: 1.0438356 | AN12: 2.9068493 | AO12: 2.2356164 | AP12: 0.10958904 | AQ12: 1 | AR12: 0 | AS12: 0 | AT12: 0.51232877 | AU12: 0 | AV12: 0 | AW12: 0 | AX12: 0 | AY12: 0 | AZ12: 0 | BA12: 713.08657 | BB12: 712.04416 | BC12: 703.59358 | BD12: 728.6056 | BE12: 738.05628 | BF12: 749.95851 | BG12: 8.9232877 | BH12: 8.8356164 | BI12: 10.80274 | BJ12: 12.098361 | BK12: 13.983562 | BL12: 14.484932 | BM12: 11.030137 | BN12: 12.158904 | BO12: 12.317808 | BP12: 12.571038 | BQ12: 10.252055 | BR12: 7.5972603 | BS12: 0.99726027 | BT12: 0.10958904 | BU12: 1 | BV12: 1 | BW12: 1.0438356 | BX12: 2.4219178 | BY12: 0.39642302 | BZ12: 0.40015584 | CA12: 0.45281078 | CB12: 0.50619612 | CC12: 0.4835447 | CD12: 0.45258577 | CE12: 0.60357698 | CF12: 0.59984416 | CG12: 0.54718922 | CH12: 0.49380388 | CI12: 0.5164553 | CJ12: 0.54741423 | CK12: 0.96089664 | CL12: 0.95890411 | CM12: 0.96851806 | CN12: 0.92200695 | CO12: 0.95053549 | CP12: 0.98440847 | CQ12: 0.97185554 | CR12: 0.96956413 | CS12: 0.96961395 | CT12: 0.92911078 | CU12: 0.95691158 | CV12: 0.99108344 | CW12: 1.0203736 | CX12: 1.0167372 | CY12: 1.0221171 | CZ12: 0.95941381 | DA12: 0.98819427 | DB12: 1.0192279
B13: 600105183 | K13: 30.052055 | L13: 31.49589 | M13: 22.575342 | N13: 23.745902 | O13: 21.232877 | P13: 21.079452 | Q13: 52.854795 | R13: 37.361644 | S13: 34.232877 | T13: 34.76776 | U13: 30.449315 | V13: 36.265753 | W13: 17.279452 | X13: 18.120548 | Y13: 27.616438 | Z13: 19.172131 | AA13: 24.676712 | AB13: 28.331507 | AC13: 31.446575 | AD13: 31.063014 | AE13: 40.99726 | AF13: 44.5 | AG13: 41.383562 | AH13: 27.00274 | AI13: 4.9808219 | AJ13: 11.260274 | AK13: 6.0739726 | AL13: 8.7377049 | AM13: 14.043836 | AN13: 6.9260274 | AO13: 2.5917808 | AP13: 7.8465753 | AQ13: 6.3945205 | AR13: 5.9289617 | AS13: 7.7424658 | AT13: 7.1753425 | AU13: 1.4356164 | AV13: 0.79178082 | AW13: 1.3726027 | AX13: 1.9289617 | AY13: 1 | AZ13: 1.9287671 | BA13: 721.87325 | BB13: 665.3401 | BC13: 643.57461 | BD13: 634.9457 | BE13: 605.83176 | BF13: 661.1127 | BG13: 0 | BH13: 0 | BI13: 0 | BJ13: 0 | BK13: 2.1424658 | BL13: 3.0438356 | BM13: 0 | BN13: 0 | BO13: 0 | BP13: 0 | BQ13: 2.9945205 | BR13: 2.5041096 | BS13: 0 | BT13: 0 | BU13: 0 | BV13: 0 | BW13: 1 | BX13: 0.99726027 | BY13: 0 | BZ13: 0 | CA13: 0 | CB13: 0 | CC13: 0.043983663 | CD13: 0.051626148 | CE13: 1 | CF13: 1 | CG13: 1 | CH13: 1 | CI13: 0.95601634 | CJ13: 0.94837385 | CK13: 0.96993859 | CL13: 0.95312234 | CM13: 0.96043458 | CN13: 0.95711325 | CO13: 0.96916391 | CP13: 0.88765234 | CQ13: 0.96999528 | CR13: 0.95317903 | CS13: 0.96043458 | CT13: 0.95711325 | CU13: 0.96944733 | CV13: 0.88769013 | CW13: 0.98554558 | CX13: 0.972735 | CY13: 0.98148323 | CZ13: 0.97017147 | DA13: 0.98698158 | DB13: 0.90210675
B14: 600011498 | K14: 10.153425 | L14: 13.542466 | M14: 17.586301 | N14: 10.519126 | O14: 8.4547945 | P14: 12.336986 | Q14: 34.964384 | R14: 37.879452 | S14: 41.082192 | T14: 46.721311 | U14: 35.915068 | V14: 34.260274 | W14: 18.468493 | X14: 18.79726 | Y14: 11.665753 | Z14: 10.568306 | AA14: 11.287671 | AB14: 9.7972603 | AC14: 18.065753 | AD14: 8.2986301 | AE14: 7.8328767 | AF14: 10.136612 | AG14: 15.569863 | AH14: 11.123288 | AI14: 2 | AJ14: 4.1013699 | AK14: 2.5808219 | AL14: 3.4016393 | AM14: 6.4356164 | AN14: 11.243836 | AO14: 0 | AP14: 0 | AQ14: 0 | AR14: 0.59836066 | AS14: 0 | AT14: 0 | AU14: 0 | AV14: 0 | AW14: 0 | AX14: 0 | AY14: 0 | AZ14: 0 | BA14: 714.86981 | BB14: 753.79792 | BC14: 789.24304 | BD14: 755.25674 | BE14: 698.16453 | BF14: 699.12898 | BG14: 2.2931507 | BH14: 2.9150685 | BI14: 2.4219178 | BJ14: 4.3469945 | BK14: 3.9726027 | BL14: 2.4 | BM14: 0.89041096 | BN14: 1.5013699 | BO14: 1.909589 | BP14: 1.5245902 | BQ14: 2.1232877 | BR14: 1.5041096 | BS14: 0 | BT14: 0 | BU14: 0 | BV14: 0 | BW14: 0.66027397 | BX14: 2.0958904 | BY14: 0.038057184 | BZ14: 0.053455365 | CA14: 0.053642317 | CB14: 0.071652441 | CC14: 0.086993333 | CD14: 0.076179212 | CE14: 0.96194282 | CF14: 0.94654463 | CG14: 0.94635768 | CH14: 0.92834756 | CI14: 0.91300667 | CJ14: 0.92382079 | CK14: 1.0078561 | CL14: 0.99541178 | CM14: 0.97286681 | CN14: 0.98729344 | CO14: 0.93569896 | CP14: 0.94893547 | CQ14: 1.0093085 | CR14: 0.99633603 | CS14: 0.97362601 | CT14: 0.98913688 | CU14: 0.9399901 | CV14: 0.95256643 | CW14: 1.0164384 | CX14: 1.0109919 | CY14: 0.99098861 | CZ14: 1.0037527 | DA14: 0.95444793 | DB14: 0.97573857
B15: 600107486 | K15: 0.3369863 | L15: 0 | M15: 0 | N15: 0 | O15: 0.3260274 | P15: 0 | Q15: 31.849315 | R15: 20.676712 | S15: 19.526027 | T15: 20.357923 | U15: 11.567123 | V15: 15.857534 | W15: 23.906849 | X15: 25.747945 | Y15: 27.241096 | Z15: 19.021858 | AA15: 16.99726 | AB15: 12.279452 | AC15: 20.441096 | AD15: 21.854795 | AE15: 20.561644 | AF15: 16.262295 | AG15: 19.843836 | AH15: 17.912329 | AI15: 1.6136986 | AJ15: 3.6986301 | AK15: 4.5506849 | AL15: 4.7786885 | AM15: 4.1068493 | AN15: 5.4958904 | AO15: 3.9780822 | AP15: 6.0219178 | AQ15: 6.3780822 | AR15: 5.989071 | AS15: 6.2054795 | AT15: 4.4082192 | AU15: 0.22191781 | AV15: 0 | AW15: 0 | AX15: 0.7431694 | AY15: 0.26027397 | AZ15: 0 | BA15: 634.8302 | BB15: 575.47805 | BC15: 569.92613 | BD15: 573.69744 | BE15: 525.95954 | BF15: 547.42839 | BG15: 4.5260274 | BH15: 3.1123288 | BI15: 3.5643836 | BJ15: 5.1939891 | BK15: 3.6520548 | BL15: 4.5616438 | BM15: 2.0191781 | BN15: 4.0356164 | BO15: 6.5424658 | BP15: 6.1420765 | BQ15: 5.3150685 | BR15: 4.2712329 | BS15: 0 | BT15: 2.7369863 | BU15: 2.4794521 | BV15: 1.4781421 | BW15: 2.9890411 | BX15: 3.1561644 | BY15: 0.079697091 | BZ15: 0.12672989 | CA15: 0.16083182 | CB15: 0.19295647 | CC15: 0.20248701 | CD15: 0.21426823 | CE15: 0.92030291 | CF15: 0.87327011 | CG15: 0.83916818 | CH15: 0.80704353 | CI15: 0.79751299 | CJ15: 0.78573177 | CK15: 0.91497717 | CL15: 0.86666667 | CM15: 0.86952816 | CN15: 0.74614451 | CO15: 0.65896499 | CP15: 0.62170472 | CQ15: 0.9161035 | CR15: 0.86864536 | CS15: 0.86995434 | CT15: 0.74626594 | CU15: 0.65914764 | CV15: 0.62191781 | CW15: 0.95175038 | CX15: 0.91939117 | CY15: 0.90791476 | CZ15: 0.79778385 | DA15: 0.68873668 | DB15: 0.65695586
B16: 600101307 | K16: 12.463014 | L16: 7.6191781 | M16: 8.1972603 | N16: 10.647541 | O16: 16.852055 | P16: 8.5643836 | Q16: 16.868493 | R16: 18.282192 | S16: 23.208219 | T16: 17 | U16: 10.789041 | V16: 7.4410959 | W16: 14.216438 | X16: 9.169863 | Y16: 3.6191781 | Z16: 9.0710383 | AA16: 7.9890411 | AB16: 7.4109589 | AC16: 11.758904 | AD16: 12 | AE16: 11.778082 | AF16: 8.7459016 | AG16: 12.70137 | AH16: 12.646575 | AI16: 6.4273973 | AJ16: 4.9561644 | AK16: 5.7561644 | AL16: 5.8743169 | AM16: 4.2986301 | AN16: 3.3150685 | AO16: 14.180822 | AP16: 14.553425 | AQ16: 14.476712 | AR16: 17.040984 | AS16: 12.791781 | AT16: 12.873973 | AU16: 0 | AV16: 0 | AW16: 0.019178082 | AX16: 0 | AY16: 0 | AZ16: 0 | BA16: 573.7154 | BB16: 545.59419 | BC16: 559.10618 | BD16: 544.73928 | BE16: 588.3697 | BF16: 511.8965 | BG16: 15.967123 | BH16: 12.479452 | BI16: 13.578082 | BJ16: 10.724044 | BK16: 9.6849315 | BL16: 4.769863 | BM16: 11.136986 | BN16: 8.4958904 | BO16: 4.4465753 | BP16: 4.0628415 | BQ16: 4.0410959 | BR16: 5.3780822 | BS16: 11.449315 | BT16: 11.854795 | BU16: 9.4027397 | BV16: 8.6693989 | BW16: 5.7917808 | BX16: 5.090411 | BY16: 0.50784944 | BZ16: 0.49308699 | CA16: 0.40914664 | CB16: 0.34302953 | CC16: 0.29833745 | CD16: 0.29163171 | CE16: 0.49215056 | CF16: 0.50691301 | CG16: 0.59085336 | CH16: 0.65697047 | CI16: 0.70166255 | CJ16: 0.70836829 | CK16: 0.93722307 | CL16: 0.82198546 | CM16: 0.82783697 | CN16: 0.84419483 | CO16: 0.807678 | CP16: 0.6450871 | CQ16: 0.94273634 | CR16: 0.82513107 | CS16: 0.82990022 | CT16: 0.84419483 | CU16: 0.807678 | CV16: 0.64846947 | CW16: 0.94273634 | CX16: 0.82513107 | CY16: 0.82990022 | CZ16: 0.84419483 | DA16: 0.807678 | DB16: 0.65425334
B17: 600100614 | K17: 9.939726 | L17: 12.816438 | M17: 24.50137 | N17: 15.669399 | O17: 12.457534 | P17: 11.80274 | Q17: 46.553425 | R17: 53.29589 | S17: 51.580822 | T17: 40.811475 | U17: 44.476712 | V17: 43.276712 | W17: 26.49589 | X17: 20.693151 | Y17: 20.791781 | Z17: 20.480874 | AA17: 21.372603 | AB17: 21.638356 | AC17: 44.227397 | AD17: 33.260274 | AE17: 17.361644 | AF17: 31.303279 | AG17: 34.221918 | AH17: 39.345205 | AI17: 6.9534247 | AJ17: 10.764384 | AK17: 12.082192 | AL17: 9.3551913 | AM17: 8.6547945 | AN17: 8.8520548 | AO17: 4.6164384 | AP17: 6.509589 | AQ17: 14.657534 | AR17: 10.628415 | AS17: 12.509589 | AT17: 11.805479 | AU17: 1 | AV17: 1 | AW17: 0 | AX17: 0 | AY17: 0 | AZ17: 0 | BA17: 628.08003 | BB17: 643.35754 | BC17: 658.91169 | BD17: 621.43804 | BE17: 608.3817 | BF17: 599.76995 | BG17: 11.591781 | BH17: 9.3369863 | BI17: 13.70137 | BJ17: 12.642077 | BK17: 11.254795 | BL17: 11.80274 | BM17: 12.241096 | BN17: 7.0712329 | BO17: 4.3232877 | BP17: 5 | BQ17: 6.8383562 | BR17: 7.8684932 | BS17: 2.8246575 | BT17: 1.3616438 | BU17: 3 | BV17: 2.2595628 | BW17: 4.4109589 | BX17: 3.9342466 | BY17: 0.19207612 | BZ17: 0.12938618 | CA17: 0.14913713 | CB17: 0.15518013 | CC17: 0.16832657 | CD17: 0.17265495 | CE17: 0.80792388 | CF17: 0.87061382 | CG17: 0.85086287 | CH17: 0.84481987 | CI17: 0.83167343 | CJ17: 0.82734505 | CK17: 1.0056568 | CL17: 0.99524983 | CM17: 1.0142111 | CN17: 0.92265204 | CO17: 0.96182123 | CP17: 0.98360106 | CQ17: 1.0111954 | CR17: 1.0031734 | CS17: 1.0195329 | CT17: 0.92725164 | CU17: 0.96487632 | CV17: 0.98360106 | CW17: 1.0111954 | CX17: 1.0031734 | CY17: 1.0195329 | CZ17: 0.92725164 | DA17: 0.96487632 | DB17: 0.98360106
B18: 600100556 | K18: 12.482192 | L18: 12.438356 | M18: 12.375342 | N18: 12.915301 | O18: 10.09589 | P18: 9.1178082 | Q18: 21.243836 | R18: 20.306849 | S18: 19.389041 | T18: 16.445355 | U18: 19.457534 | V18: 19.978082 | W18: 9.3780822 | X18: 6.630137 | Y18: 3.9671233 | Z18: 11.797814 | AA18: 10.583562 | AB18: 9.4438356 | AC18: 13.69863 | AD18: 12.956164 | AE18: 19.60274 | AF18: 12.193989 | AG18: 12.189041 | AH18: 15.183562 | AI18: 3.7178082 | AJ18: 3.9041096 | AK18: 3.7315068 | AL18: 5.3114754 | AM18: 4.3561644 | AN18: 4.5287671 | AO18: 4.1534247 | AP18: 8.0684932 | AQ18: 4.0958904 | AR18: 0.90710383 | AS18: 2.4356164 | AT18: 4.9616438 | AU18: 0 | AV18: 0 | AW18: 0 | AX18: 0.59836066 | AY18: 0 | AZ18: 0 | BA18: 672.45234 | BB18: 635.33126 | BC18: 644.9037 | BD18: 688.73733 | BE18: 673.30475 | BF18: 632.59914 | BG18: 5.0027397 | BH18: 4.3479452 | BI18: 4.7835616 | BJ18: 5.0846995 | BK18: 6.0547945 | BL18: 7.0931507 | BM18: 2.969863 | BN18: 3 | BO18: 4.2630137 | BP18: 4.8142077 | BQ18: 5.1452055 | BR18: 6.7945205 | BS18: 1.969863 | BT18: 3.2383562 | BU18: 2.109589 | BV18: 0 | BW18: 1.6109589 | BX18: 0.98630137 | BY18: 0.1537321 | BZ18: 0.16462869 | CA18: 0.17662878 | CB18: 0.16616979 | CC18: 0.2167022 | CD18: 0.23529667 | CE18: 0.8462679 | CF18: 0.83537131 | CG18: 0.82337122 | CH18: 0.83383021 | CI18: 0.7832978 | CJ18: 0.76470333 | CK18: 0.96528317 | CL18: 0.95976283 | CM18: 0.9427111 | CN18: 0.89805073 | CO18: 0.88235535 | CP18: 0.94348804 | CQ18: 0.96606011 | CR18: 0.96066244 | CS18: 0.94418319 | CT18: 0.89882554 | CU18: 0.88296872 | CV18: 0.94410141 | CW18: 0.98548354 | CX18: 0.98417502 | CY18: 0.97158045 | CZ18: 0.91468885 | DA18: 0.90517277 | DB18: 0.9603762
B19: 600101323 | K19: 9.2438356 | L19: 11.627397 | M19: 8.6438356 | N19: 7.2185792 | O19: 8.1068493 | P19: 3.5150685 | Q19: 17.320548 | R19: 15.221918 | S19: 20.227397 | T19: 20.628415 | U19: 26.8 | V19: 27.534247 | W19: 9.5369863 | X19: 9.5232877 | Y19: 9.1506849 | Z19: 10.409836 | AA19: 10.342466 | AB19: 11.010959 | AC19: 19.128767 | AD19: 20.558904 | AE19: 21.624658 | AF19: 22.592896 | AG19: 16.79726 | AH19: 19.016438 | AI19: 2.4109589 | AJ19: 3.8630137 | AK19: 3.4191781 | AL19: 2.9535519 | AM19: 2.2219178 | AN19: 1.9753425 | AO19: 6.4767123 | AP19: 4.4410959 | AQ19: 3.1068493 | AR19: 1.8169399 | AS19: 1 | AT19: 1.6767123 | AU19: 0 | AV19: 0 | AW19: 0 | AX19: 0 | AY19: 0 | AZ19: 0 | BA19: 611.02679 | BB19: 622.5211 | BC19: 632.11858 | BD19: 636.56493 | BE19: 691.37808 | BF19: 656.72776 | BG19: 4.9041096 | BH19: 3.9123288 | BI19: 5.3205479 | BJ19: 4.6994536 | BK19: 5 | BL19: 2.9123288 | BM19: 2.2794521 | BN19: 3.4849315 | BO19: 4.1369863 | BP19: 4.5163934 | BQ19: 3.0054795 | BR19: 5.1123288 | BS19: 1.9945205 | BT19: 0.66027397 | BU19: 0 | BV19: 0.16666667 | BW19: 0.99452055 | BX19: 1 | BY19: 0.14314404 | BZ19: 0.12351434 | CA19: 0.1429222 | CB19: 0.14298205 | CC19: 0.13789195 | CD19: 0.13942267 | CE19: 0.85685596 | CF19: 0.87648566 | CG19: 0.8570778 | CH19: 0.85701795 | CI19: 0.86210805 | CJ19: 0.86057733 | CK19: 0.9292436 | CL19: 0.94544372 | CM19: 0.95902323 | CN19: 0.95101766 | CO19: 0.94592019 | CP19: 0.93809807 | CQ19: 0.93936867 | CR19: 0.94695255 | CS19: 0.95965853 | CT19: 0.95184921 | CU19: 0.94703196 | CV19: 0.93940838 | CW19: 0.96303355 | CX19: 0.97562041 | CY19: 0.99106611 | CZ19: 0.98166627 | DA19: 0.96668652 | DB19: 0.95604527
B20: 600101331 | K20: 13.69589 | L20: 13.912329 | M20: 13.726027 | N20: 14.639344 | O20: 14.010959 | P20: 10.224658 | Q20: 27.838356 | R20: 24.887671 | S20: 24.254795 | T20: 14.887978 | U20: 19.638356 | V20: 19.473973 | W20: 12.934247 | X20: 14.613699 | Y20: 14.545205 | Z20: 12.650273 | AA20: 13.383562 | AB20: 16.8 | AC20: 7.0958904 | AD20: 8.1972603 | AE20: 7.4136986 | AF20: 10.480874 | AG20: 9.2630137 | AH20: 9.8054795 | AI20: 1.1616438 | AJ20: 0.6739726 | AK20: 1.9863014 | AL20: 1.3934426 | AM20: 2.969863 | AN20: 2.0931507 | AO20: 0 | AP20: 0.1890411 | AQ20: 0.80547945 | AR20: 0.83879781 | AS20: 0.80821918 | AT20: 2 | AU20: 0.80821918 | AV20: 0.50136986 | AW20: 0 | AX20: 0.34699454 | AY20: 0.35616438 | AZ20: 0 | BA20: 779.37978 | BB20: 769.72197 | BC20: 755.06879 | BD20: 734.24938 | BE20: 732.92698 | BF20: 702.88592 | BG20: 10.652055 | BH20: 10.194521 | BI20: 8.7479452 | BJ20: 6.0300546 | BK20: 3.0931507 | BL20: 2 | BM20: 3.4356164 | BN20: 4.1945205 | BO20: 4.1917808 | BP20: 5.2349727 | BQ20: 4.5287671 | BR20: 4.7205479 | BS20: 0 | BT20: 0 | BU20: 0 | BV20: 0 | BW20: 0 | BX20: 0 | BY20: 0.22459052 | BZ20: 0.23032057 | CA20: 0.20627156 | CB20: 0.20522648 | CC20: 0.12687554 | CD20: 0.1112724 | CE20: 0.77540948 | CF20: 0.76967943 | CG20: 0.79372844 | CH20: 0.79477352 | CI20: 0.87312446 | CJ20: 0.8887276 | CK20: 0.97744995 | CL20: 0.96885142 | CM20: 0.96510011 | CN20: 0.84981084 | CO20: 0.92969442 | CP20: 0.92918862 | CQ20: 0.97858799 | CR20: 0.97007376 | CS20: 0.96644889 | CT20: 0.85052543 | CU20: 0.93066386 | CV20: 0.92982086 | CW20: 0.99936776 | CX20: 0.99076923 | CY20: 0.99692308 | CZ20: 0.86666667 | DA20: 0.94908325 | DB20: 0.94132771
B21: 600101349 | K21: 4.7041096 | L21: 8.1808219 | M21: 10.172603 | N21: 10.297814 | O21: 7.1753425 | P21: 3.2493151 | Q21: 38.186301 | R21: 37.309589 | S21: 36.054795 | T21: 26.852459 | U21: 21.690411 | V21: 32.816438 | W21: 9.5342466 | X21: 9.7178082 | Y21: 11.10411 | Z21: 14.513661 | AA21: 17.364384 | AB21: 20.791781 | AC21: 18.978082 | AD21: 18.79726 | AE21: 16.432877 | AF21: 16.806011 | AG21: 26.010959 | AH21: 22.038356 | AI21: 3.0986301 | AJ21: 3.5808219 | AK21: 3.7150685 | AL21: 4.3715847 | AM21: 4.9671233 | AN21: 0 | AO21: 1.6410959 | AP21: 1.8191781 | AQ21: 2.0767123 | AR21: 1.0601093 | AS21: 0.84109589 | AT21: 0 | AU21: 0 | AV21: 0 | AW21: 0 | AX21: 0 | AY21: 0 | AZ21: 0 | BA21: 682.05743 | BB21: 690.78391 | BC21: 700.92982 | BD21: 685.4858 | BE21: 628.84653 | BF21: 681.83283 | BG21: 21.432877 | BH21: 15.857534 | BI21: 9.8657534 | BJ21: 9.4918033 | BK21: 8.6821918 | BL21: 15.260274 | BM21: 10.846575 | BN21: 10.20274 | BO21: 10.813699 | BP21: 14.959016 | BQ21: 21.528767 | BR21: 23.712329 | BS21: 0 | BT21: 0.85205479 | BU21: 1.3178082 | BV21: 2 | BW21: 2.0164384 | BX21: 0 | BY21: 0.42393495 | BZ21: 0.33892282 | CA21: 0.27649976 | CB21: 0.35791925 | CC21: 0.4129107 | CD21: 0.49397507 | CE21: 0.57606505 | CF21: 0.66107718 | CG21: 0.72350024 | CH21: 0.64208075 | CI21: 0.5870893 | CJ21: 0.50602493 | CK21: 0.94003044 | CL21: 0.98031456 | CM21: 0.98217487 | CN21: 0.91236592 | CO21: 0.96357179 | CP21: 0.97402334 | CQ21: 0.94047015 | CR21: 0.98163369 | CS21: 0.98231016 | CT21: 0.91280443 | CU21: 0.96404532 | CV21: 0.97480129 | CW21: 0.97172332 | CX21: 0.99394554 | CY21: 0.99462202 | CZ21: 0.92488025 | DA21: 0.97551158 | DB21: 0.98298664
B22: 600101356 | K22: 5.7232877 | L22: 5.8219178 | M22: 4.4575342 | N22: 5.8907104 | O22: 8.9342466 | P22: 8.8876712 | Q22: 11.49589 | R22: 11.224658 | S22: 11.986301 | T22: 12.972678 | U22: 12.139726 | V22: 13.936986 | W22: 8.4739726 | X22: 10.035616 | Y22: 10.671233 | Z22: 13.486339 | AA22: 16.832877 | AB22: 14.589041 | AC22: 13.315068 | AD22: 14.827397 | AE22: 14.10137 | AF22: 13.404372 | AG22: 9.1945205 | AH22: 10.515068 | AI22: 9.1205479 | AJ22: 5.1835616 | AK22: 6.1561644 | AL22: 4.295082 | AM22: 2.569863 | AN22: 2.7041096 | AO22: 6.3150685 | AP22: 5.7205479 | AQ22: 4.0739726 | AR22: 2.4972678 | AS22: 1 | AT22: 0.74794521 | AU22: 0 | AV22: 0 | AW22: 0 | AX22: 0 | AY22: 0 | AZ22: 0 | BA22: 537.93378 | BB22: 564.20916 | BC22: 569.83065 | BD22: 619.77849 | BE22: 687.0857 | BF22: 688.35448 | BG22: 5.0630137 | BH22: 5.5479452 | BI22: 4.9342466 | BJ22: 6.1912568 | BK22: 4.6438356 | BL22: 4.6684932 | BM22: 6.8109589 | BN22: 5.7479452 | BO22: 5.3643836 | BP22: 4.7622951 | BQ22: 4.8794521 | BR22: 5.1945205 | BS22: 2.4767123 | BT22: 1.7260274 | BU22: 1.7287671 | BV22: 2 | BW22: 0 | BX22: 1 | BY22: 0.26358696 | BZ22: 0.24656326 | CA22: 0.23378422 | CB22: 0.24651622 | CC22: 0.18794269 | CD22: 0.21142156 | CE22: 0.73641304 | CF22: 0.75343674 | CG22: 0.76621578 | CH22: 0.75348378 | CI22: 0.81205731 | CJ22: 0.78857844 | CK22: 0.98988792 | CL22: 0.96024907 | CM22: 0.93539228 | CN22: 0.95538997 | CO22: 0.92129514 | CP22: 0.93419676 | CQ22: 0.99651308 | CR22: 0.96433375 | CS22: 0.94645081 | CT22: 0.95911575 | CU22: 0.92458281 | CV22: 0.93853051 | CW22: 1.0072229 | CX22: 0.96881694 | CY22: 0.97648817 | CZ22: 0.96905117 | DA22: 0.94655044 | DB22: 0.94630137
B23: 600100549 | K23: 24.610959 | L23: 33.076712 | M23: 29.808219 | N23: 32.964481 | O23: 30.227397 | P23: 20.191781 | Q23: 63.334247 | R23: 72.356164 | S23: 80.367123 | T23: 67.931694 | U23: 60.720548 | V23: 73.575342 | W23: 29.663014 | X23: 30.134247 | Y23: 31.19726 | Z23: 39.139344 | AA23: 37.865753 | AB23: 43.50137 | AC23: 54.884932 | AD23: 34.40274 | AE23: 32.082192 | AF23: 28.625683 | AG23: 39.191781 | AH23: 36.194521 | AI23: 7.2383562 | AJ23: 11.673973 | AK23: 9.1123288 | AL23: 8.4016393 | AM23: 7.0958904 | AN23: 8.9369863 | AO23: 4.369863 | AP23: 1.1424658 | AQ23: 2.2821918 | AR23: 0.42349727 | AS23: 0 | AT23: 1.3863014 | AU23: 0 | AV23: 0 | AW23: 0 | AX23: 0.46174863 | AY23: 0.4 | AZ23: 0 | BA23: 665.701 | BB23: 717.73491 | BC23: 723.93642 | BD23: 732.51786 | BE23: 710.78014 | BF23: 697.76125 | BG23: 10.767123 | BH23: 13.027397 | BI23: 16.369863 | BJ23: 12.248634 | BK23: 11.775342 | BL23: 12.254795 | BM23: 10.156164 | BN23: 6.0520548 | BO23: 8.3890411 | BP23: 7.2486339 | BQ23: 11.652055 | BR23: 12.00274 | BS23: 0 | BT23: 0 | BU23: 0.83835616 | BV23: 1.4808743 | BW23: 1.1616438 | BX23: 1.3041096 | BY23: 0.11365091 | BZ23: 0.10438119 | CA23: 0.13847636 | CB23: 0.11819581 | CC23: 0.14042746 | CD23: 0.13908351 | CE23: 0.88634909 | CF23: 0.89561881 | CG23: 0.86152364 | CH23: 0.88180419 | CI23: 0.85957254 | CJ23: 0.86091649 | CK23: 0.96895458 | CL23: 0.96203317 | CM23: 0.97289113 | CN23: 0.93656888 | CO23: 0.92369142 | CP23: 0.96729632 | CQ23: 0.96895458 | CR23: 0.96242249 | CS23: 0.97466474 | CT23: 0.93744607 | CU23: 0.92493151 | CV23: 0.96931507 | CW23: 0.96895458 | CX23: 0.98122567 | CY23: 0.98836337 | CZ23: 0.95556514 | DA23: 0.9391925 | DB23: 0.98771449
B24: 600101364 | K24: 0 | L24: 0 | M24: 8.3068493 | N24: 12.415301 | O24: 10.334247 | P24: 13.978082 | Q24: 0 | R24: 0 | S24: 11.665753 | T24: 22.846995 | U24: 21.369863 | V24: 15.980822 | W24: 0 | X24: 0 | Y24: 7.3041096 | Z24: 1.3606557 | AA24: 3.3726027 | AB24: 5.169863 | AC24: 0 | AD24: 0 | AE24: 9.1726027 | AF24: 5.1557377 | AG24: 5.0164384 | AH24: 5.5068493 | AI24: 0 | AJ24: 0 | AK24: 9.6876712 | AL24: 4.3661202 | AM24: 2.9726027 | AN24: 5.7369863 | AO24: 0 | AP24: 0 | AQ24: 0 | AR24: 0 | AS24: 0 | AT24: 0 | AU24: 0 | AV24: 0 | AW24: 0 | AX24: 0 | AY24: 0 | AZ24: 0 | BA24: #DIV/0! | BB24: #DIV/0! | BC24: 632.92399 | BD24: 774.98964 | BE24: 774.65042 | BF24: 745.29363 | BG24: 0 | BH24: 0 | BI24: 3.3753425 | BJ24: 0 | BK24: 0 | BL24: 1.6410959 | BM24: 0 | BN24: 0 | BO24: 1.2328767 | BP24: 0 | BQ24: 1.8136986 | BR24: 0.94246575 | BS24: 0 | BT24: 0 | BU24: 0 | BV24: 0 | BW24: 0 | BX24: 0 | BY24: #DIV/0! | BZ24: #DIV/0! | CA24: 0.099881235 | CB24: 0 | CC24: 0.042114638 | CD24: 0.055713104 | CE24: #DIV/0! | CF24: #DIV/0! | CG24: 0.90011876 | CH24: 1 | CI24: 0.95788536 | CJ24: 0.9442869 | CK24: 0.93424658 | CL24: 0.96438356 | CM24: 0.94157115 | CN24: 0.94173079 | CO24: 0.87889293 | CP24: 0.94637965 | CQ24: 0.94084428 | CR24: 0.96438356 | CS24: 0.94157115 | CT24: 0.94173079 | CU24: 0.87889293 | CV24: 0.94637965 | CW24: 0.95694716 | CX24: 0.96438356 | CY24: 0.96578138 | CZ24: 0.95388647 | DA24: 0.8967291 | DB24: 0.9619234
B25: 600101372 | K25: 11.213699 | L25: 13.290411 | M25: 12.263014 | N25: 7.9863388 | O25: 12.758904 | P25: 10.526027 | Q25: 29.917808 | R25: 30.334247 | S25: 34.273973 | T25: 32.407104 | U25: 25.90137 | V25: 21.684932 | W25: 8.3369863 | X25: 8.3424658 | Y25: 7.7643836 | Z25: 8.8579235 | AA25: 13.164384 | AB25: 14.871233 | AC25: 22.487671 | AD25: 22.70411 | AE25: 19.605479 | AF25: 22.39071 | AG25: 23.252055 | AH25: 28.59726 | AI25: 3.5452055 | AJ25: 2.030137 | AK25: 1.4958904 | AL25: 2.2295082 | AM25: 1.4931507 | AN25: 0.95342466 | AO25: 0 | AP25: 0 | AQ25: 0 | AR25: 1.4672131 | AS25: 0 | AT25: 0 | AU25: 0 | AV25: 0 | AW25: 0 | AX25: 0 | AY25: 0 | AZ25: 0 | BA25: 691.08934 | BB25: 708.20724 | BC25: 726.57728 | BD25: 678.51781 | BE25: 696.66702 | BF25: 662.97379 | BG25: 5.5616438 | BH25: 3.890411 | BI25: 5.5232877 | BJ25: 5.8743169 | BK25: 4.2054795 | BL25: 4.7972603 | BM25: 8.3808219 | BN25: 7.4657534 | BO25: 4.0493151 | BP25: 5 | BQ25: 2.9753425 | BR25: 3 | BS25: 1.0054795 | BT25: 0 | BU25: 0 | BV25: 0 | BW25: 0 | BX25: 0 | BY25: 0.19798244 | BZ25: 0.14805687 | CA25: 0.12695298 | CB25: 0.14433887 | CC25: 0.093781308 | CD25: 0.10174824 | CE25: 0.80201756 | CF25: 0.85194313 | CG25: 0.87304702 | CH25: 0.85566113 | CI25: 0.90621869 | CJ25: 0.89825176 | CK25: 0.95571354 | CL25: 0.97090342 | CM25: 0.95446506 | CN25: 0.95365567 | CO25: 0.96923877 | CP25: 0.97003641 | CQ25: 0.9566499 | CR25: 0.97183978 | CS25: 0.95460378 | CT25: 0.95465864 | CU25: 0.97090342 | CV25: 0.97149298 | CW25: 0.97738859 | CX25: 0.99687879 | CY25: 0.97315762 | CZ25: 0.97796915 | DA25: 0.98165424 | DB25: 0.98519161
B26: 600101398 | K26: 7.1260274 | L26: 8.0630137 | M26: 6.4136986 | N26: 9.6775956 | O26: 10.545205 | P26: 12.652055 | Q26: 21.482192 | R26: 23.208219 | S26: 28.268493 | T26: 25.418033 | U26: 17.956164 | V26: 22.89589 | W26: 8.7753425 | X26: 10.772603 | Y26: 7.1643836 | Z26: 6.5136612 | AA26: 9.309589 | AB26: 6.7753425 | AC26: 14.147945 | AD26: 13.627397 | AE26: 15.252055 | AF26: 11.986339 | AG26: 12.950685 | AH26: 12.690411 | AI26: 7.4219178 | AJ26: 4.2410959 | AK26: 2.3260274 | AL26: 4.4098361 | AM26: 3.7041096 | AN26: 2.9068493 | AO26: 4 | AP26: 3.4465753 | AQ26: 3.3232877 | AR26: 2.6775956 | AS26: 3.8082192 | AT26: 3.739726 | AU26: 0 | AV26: 0 | AW26: 0 | AX26: 0.38797814 | AY26: 1 | AZ26: 1 | BA26: 620.14753 | BB26: 658.0429 | BC26: 671.06143 | BD26: 686.38451 | BE26: 659.03526 | BF26: 692.09544 | BG26: 3.0520548 | BH26: 3.3342466 | BI26: 4.9671233 | BJ26: 4.7786885 | BK26: 3.9917808 | BL26: 3.7945205 | BM26: 6.1260274 | BN26: 4.8246575 | BO26: 2.9863014 | BP26: 2.4371585 | BQ26: 1.539726 | BR26: 2.5068493 | BS26: 0 | BT26: 0 | BU26: 0 | BV26: 1.3961749 | BW26: 1.1068493 | BX26: 1 | BY26: 0.14579163 | BZ26: 0.12877281 | CA26: 0.12675195 | CB26: 0.14191805 | CC26: 0.11391631 | CD26: 0.11841287 | CE26: 0.85420837 | CF26: 0.87122719 | CG26: 0.87324805 | CH26: 0.85808195 | CI26: 0.88608369 | CJ26: 0.88158713 | CK26: 0.99926071 | CL26: 1.0056969 | CM26: 0.99599913 | CN26: 0.96938156 | CO26: 0.94085671 | CP26: 0.99460752 | CQ26: 0.99926071 | CR26: 1.0136986 | CS26: 0.998217 | CT26: 0.96977188 | CU26: 0.94320504 | CV26: 0.99878234 | CW26: 0.99926071 | CX26: 1.0283975 | CY26: 0.998217 | CZ26: 0.96977188 | DA26: 0.95994781 | DB26: 1.010611
B27: 600101547 | K27: 10.693151 | L27: 11.517808 | M27: 7.9123288 | N27: 6.5519126 | O27: 2.5424658 | P27: 5.5315068 | Q27: 18.40274 | R27: 22.630137 | S27: 25.432877 | T27: 22.431694 | U27: 26.728767 | V27: 23.534247 | W27: 15.358904 | X27: 10.413699 | Y27: 13.591781 | Z27: 10.989071 | AA27: 11.693151 | AB27: 13.043836 | AC27: 10.342466 | AD27: 10.243836 | AE27: 8.7424658 | AF27: 11.92623 | AG27: 10.178082 | AH27: 12.583562 | AI27: 1.5479452 | AJ27: 1.4657534 | AK27: 1.0520548 | AL27: 2.9098361 | AM27: 1.8712329 | AN27: 0 | AO27: 0 | AP27: 0 | AQ27: 0 | AR27: 0.73497268 | AS27: 2.3945205 | AT27: 1.9863014 | AU27: 1 | AV27: 1 | AW27: 0.95342466 | AX27: 0.47814208 | AY27: 0.021917808 | AZ27: 0 | BA27: 727.99718 | BB27: 747.61137 | BC27: 743.52634 | BD27: 691.9819 | BE27: 679.00267 | BF27: 693.96123 | BG27: 9.4082192 | BH27: 13.523288 | BI27: 11.065753 | BJ27: 8.9262295 | BK27: 8.7424658 | BL27: 7.4493151 | BM27: 9.1616438 | BN27: 6.3232877 | BO27: 6.1863014 | BP27: 4.1775956 | BQ27: 4.3150685 | BR27: 4.8356164 | BS27: 0.84383562 | BT27: 0.74794521 | BU27: 0.98082192 | BV27: 1.9098361 | BW27: 1.1589041 | BX27: 1 | BY27: 0.34454926 | BZ27: 0.36598666 | CA27: 0.3213889 | CB27: 0.27030351 | CC27: 0.25657634 | CD27: 0.23438708 | CE27: 0.65545074 | CF27: 0.63401334 | CG27: 0.6786111 | CH27: 0.72969649 | CI27: 0.74342366 | CJ27: 0.76561292 | CK27: 0.97195264 | CL27: 0.97069886 | CM27: 0.9777107 | CN27: 0.94952302 | CO27: 0.93949385 | CP27: 0.96066868 | CQ27: 0.97320641 | CR27: 0.98045043 | CS27: 0.9777107 | CT27: 0.94989349 | CU27: 0.94441607 | CV27: 0.97069886 | CW27: 0.9850476 | CX27: 0.99363826 | CY27: 0.99893197 | CZ27: 0.96781513 | DA27: 0.96048293 | DB27: 0.98592988
B28: 600103105 | K28: 17.175342 | L28: 11.950685 | M28: 8.9041096 | N28: 4.5163934 | O28: 7.8630137 | P28: 9.030137 | Q28: 34.706849 | R28: 31.169863 | S28: 32.29589 | T28: 39.166667 | U28: 33.668493 | V28: 26.482192 | W28: 9.3671233 | X28: 9.9534247 | Y28: 16.386301 | Z28: 13.937158 | AA28: 17.252055 | AB28: 24.641096 | AC28: 25.473973 | AD28: 32.605479 | AE28: 29.69863 | AF28: 28.336066 | AG28: 15.405479 | AH28: 19.515068 | AI28: 5.3205479 | AJ28: 6.8 | AK28: 6.0821918 | AL28: 5.9125683 | AM28: 6.9753425 | AN28: 4.4520548 | AO28: 7.8876712 | AP28: 5.7369863 | AQ28: 5.060274 | AR28: 3.6939891 | AS28: 8.0876712 | AT28: 7.1150685 | AU28: 0 | AV28: 0 | AW28: 0 | AX28: 0 | AY28: 0 | AZ28: 0 | BA28: 651.37354 | BB28: 615.97144 | BC28: 621.73551 | BD28: 630.50435 | BE28: 630.92304 | BF28: 628.54509 | BG28: 5.1890411 | BH28: 5.1616438 | BI28: 4.5369863 | BJ28: 6 | BK28: 4.2383562 | BL28: 3 | BM28: 0.93150685 | BN28: 2.7424658 | BO28: 3.2328767 | BP28: 3 | BQ28: 6.2821918 | BR28: 7.6465753 | BS28: 0 | BT28: 0 | BU28: 0 | BV28: 0 | BW28: 1.5342466 | BX28: 0.50136986 | BY28: 0.06124743 | BZ28: 0.080476443 | CA28: 0.078940043 | CB28: 0.094178866 | CC28: 0.13506462 | CD28: 0.12218852 | CE28: 0.93875257 | CF28: 0.91952356 | CG28: 0.92105996 | CH28: 0.90582113 | CI28: 0.86493538 | CJ28: 0.87781148 | CK28: 0.99931507 | CL28: 0.98216438 | CM28: 0.98427397 | CN28: 0.95562842 | CO28: 0.89252055 | CP28: 0.91235616 | CQ28: 0.99931507 | CR28: 0.98216438 | CS28: 0.98427397 | CT28: 0.95562842 | CU28: 0.89252055 | CV28: 0.91235616 | CW28: 0.99931507 | CX28: 0.98216438 | CY28: 0.98427397 | CZ28: 0.95562842 | DA28: 0.89252055 | DB28: 0.91235616
B29: 600101513 | K29: 14.526027 | L29: 9.6876712 | M29: 16.293151 | N29: 17.204918 | O29: 20.430137 | P29: 10.465753 | Q29: 62.027397 | R29: 63.153425 | S29: 58.060274 | T29: 53.032787 | U29: 55.865753 | V29: 52.443836 | W29: 18.178082 | X29: 17.810959 | Y29: 17.20274 | Z29: 12.95082 | AA29: 16.920548 | AB29: 16.90137 | AC29: 39.769863 | AD29: 40.309589 | AE29: 36.769863 | AF29: 23.273224 | AG29: 26.868493 | AH29: 28.684932 | AI29: 14.153425 | AJ29: 16.580822 | AK29: 9.4931507 | AL29: 17.724044 | AM29: 10.838356 | AN29: 13.59726 | AO29: 13.257534 | AP29: 8.4493151 | AQ29: 16.673973 | AR29: 22.997268 | AS29: 17.915068 | AT29: 12.99726 | AU29: 0 | AV29: 0.10684932 | AW29: 0 | AX29: 0 | AY29: 1.8520548 | AZ29: 3 | BA29: 616.36011 | BB29: 616.4329 | BC29: 617.51215 | BD29: 585.09161 | BE29: 630.03479 | BF29: 607.22499 | BG29: 53.473973 | BH29: 50.490411 | BI29: 53.975342 | BJ29: 42 | BK29: 48.545205 | BL29: 37.643836 | BM29: 32.057534 | BN29: 32.452055 | BO29: 26.684932 | BP29: 23 | BQ29: 22.342466 | BR29: 26.287671 | BS29: 11.372603 | BT29: 10.764384 | BU29: 12.205479 | BV29: 23 | BW29: 18.180822 | BX29: 12.564384 | BY29: 0.59849741 | BZ29: 0.60071658 | CA29: 0.60109949 | CB29: 0.59789489 | CC29: 0.59842433 | CD29: 0.566257 | CE29: 0.40150259 | CF29: 0.39928342 | CG29: 0.39890051 | CH29: 0.40210511 | CI29: 0.40157567 | CJ29: 0.433743 | CK29: 0.99945882 | CL29: 0.96291223 | CM29: 0.95366142 | CN29: 0.90853741 | CO29: 0.93018772 | CP29: 0.85240994 | CQ29: 0.99945882 | CR29: 0.96291223 | CS29: 0.95366142 | CT29: 0.90853741 | CU29: 0.93018772 | CV29: 0.85240994 | CW29: 0.99945882 | CX29: 0.96291223 | CY29: 0.95366142 | CZ29: 0.90853741 | DA29: 0.93018772 | DB29: 0.85240994
B30: 600102073 | K30: 18.254795 | L30: 19.709589 | M30: 27.408219 | N30: 27.928962 | O30: 19.463014 | P30: 15.279452 | Q30: 54.339726 | R30: 51.361644 | S30: 32.991781 | T30: 35.560109 | U30: 45.958904 | V30: 50.468493 | W30: 12.443836 | X30: 17.460274 | Y30: 22.482192 | Z30: 16.68306 | AA30: 13.265753 | AB30: 11.331507 | AC30: 25.315068 | AD30: 28.010959 | AE30: 40.575342 | AF30: 34.065574 | AG30: 27.986301 | AH30: 29.208219 | AI30: 15.972603 | AJ30: 19.586301 | AK30: 15.424658 | AL30: 8.7513661 | AM30: 11.80274 | AN30: 9.8109589 | AO30: 20.868493 | AP30: 9.6986301 | AQ30: 7 | AR30: 7.8934426 | AS30: 9.8849315 | AT30: 10.849315 | AU30: 5.9808219 | AV30: 5.5753425 | AW30: 3.8958904 | AX30: 2.4125683 | AY30: 4.9068493 | AZ30: 8.2054795 | BA30: 599.20281 | BB30: 628.94377 | BC30: 626.17218 | BD30: 655.99441 | BE30: 640.54 | BF30: 635.15344 | BG30: 17.635616 | BH30: 15.180822 | BI30: 15.372603 | BJ30: 16 | BK30: 18.89589 | BL30: 15.156164 | BM30: 9.1205479 | BN30: 9.1041096 | BO30: 11.690411 | BP30: 8 | BQ30: 6.0767123 | BR30: 6.860274 | BS30: 7.2657534 | BT30: 5 | BU30: 2 | BV30: 1 | BW30: 1 | BX30: 1.0520548 | BY30: 0.23113576 | BZ30: 0.20081913 | CA30: 0.19922249 | CB30: 0.191011 | CC30: 0.20233928 | CD30: 0.18171616 | CE30: 0.76886424 | CF30: 0.79918087 | CG30: 0.80077751 | CH30: 0.808989 | CI30: 0.79766072 | CJ30: 0.81828384 | CK30: 0.98189322 | CL30: 0.97053038 | CM30: 0.96011591 | CN30: 0.85445565 | CO30: 0.85428521 | CP30: 0.86636811 | CQ30: 0.98189322 | CR30: 0.97053038 | CS30: 0.96011591 | CT30: 0.85445565 | CU30: 0.85428521 | CV30: 0.86636811 | CW30: 0.98189322 | CX30: 0.97053038 | CY30: 0.96011591 | CZ30: 0.85445565 | DA30: 0.85428521 | DB30: 0.86636811
B31: 600102529 | K31: 5 | L31: 8.0027397 | M31: 9.6136986 | N31: 6.6912568 | O31: 7.4 | P31: 7.8438356 | Q31: 13.745205 | R31: 16.879452 | S31: 17.783562 | T31: 18.144809 | U31: 26.123288 | V31: 27.553425 | W31: 5.8931507 | X31: 5.2164384 | Y31: 6.6986301 | Z31: 3.9125683 | AA31: 5.8191781 | AB31: 7.6054795 | AC31: 19.087671 | AD31: 15.347945 | AE31: 12.942466 | AF31: 13.63388 | AG31: 9.5013699 | AH31: 5.660274 | AI31: 3.5013699 | AJ31: 3.5123288 | AK31: 3.3589041 | AL31: 2.9672131 | AM31: 1 | AN31: 1.739726 | AO31: 5.8027397 | AP31: 2.7342466 | AQ31: 0.96712329 | AR31: 0.96994536 | AS31: 0.99452055 | AT31: 0.66575342 | AU31: 0 | AV31: 0 | AW31: 0 | AX31: 0 | AY31: 0 | AZ31: 0 | BA31: 560.69642 | BB31: 641.08968 | BC31: 687.56294 | BD31: 670.36572 | BE31: 737.5221 | BF31: 761.0794 | BG31: 5.0493151 | BH31: 6.3589041 | BI31: 5.2 | BJ31: 4.3142077 | BK31: 6.3342466 | BL31: 5.169863 | BM31: 5.8931507 | BN31: 4.8191781 | BO31: 6.2493151 | BP31: 4.4836066 | BQ31: 3.6821918 | BR31: 3 | BS31: 1 | BT31: 17.189041 | BU31: 0.96712329 | BV31: 0.96994536 | BW31: 0.16164384 | BX31: 0 | BY31: 0.22520149 | BZ31: 0.5487598 | CA31: 0.24173245 | CB31: 0.21087713 | CC31: 0.20020479 | CD31: 0.15997854 | CE31: 0.77479851 | CF31: 0.4512402 | CG31: 0.75826755 | CH31: 0.78912287 | CI31: 0.79979521 | CJ31: 0.84002146 | CK31: 1.0005686 | CL31: 0.97534247 | CM31: 0.96913931 | CN31: 0.87395608 | CO31: 0.95921427 | CP31: 0.96355647 | CQ31: 1.0005686 | CR31: 0.97560093 | CS31: 0.96960455 | CT31: 0.87405918 | CU31: 0.95942104 | CV31: 0.96371155 | CW31: 1.0322047 | CX31: 0.99937968 | CY31: 0.99400362 | CZ31: 0.89390659 | DA31: 0.97968467 | DB31: 0.98004652
B32: 600009757 | K32: 11.010959 | L32: 11.621918 | M32: 7.7726027 | N32: 12.090164 | O32: 15.254795 | P32: 9.6630137 | Q32: 27.835616 | R32: 31.756164 | S32: 30.769863 | T32: 31.054645 | U32: 37.038356 | V32: 40.019178 | W32: 17.523288 | X32: 15.832877 | Y32: 15.139726 | Z32: 15.882514 | AA32: 17.668493 | AB32: 17.945205 | AC32: 21.183562 | AD32: 15.808219 | AE32: 15.939726 | AF32: 12.666667 | AG32: 10.649315 | AH32: 13.243836 | AI32: 2.9068493 | AJ32: 2.8684932 | AK32: 6.8410959 | AL32: 6.3087432 | AM32: 2.2164384 | AN32: 1 | AO32: 2.339726 | AP32: 2.3178082 | AQ32: 3.9972603 | AR32: 2.9754098 | AS32: 1.1780822 | AT32: 0.99452055 | AU32: 0.26849315 | AV32: 0.94520548 | AW32: 1.1315068 | AX32: 1 | AY32: 0.41369863 | AZ32: 0 | BA32: 673.25888 | BB32: 701.51836 | BC32: 649.96391 | BD32: 688.63014 | BE32: 751.58796 | BF32: 736.19057 | BG32: 6.4958904 | BH32: 5.4520548 | BI32: 3.3890411 | BJ32: 3.3770492 | BK32: 3.9780822 | BL32: 3.2191781 | BM32: 2.0657534 | BN32: 1.4410959 | BO32: 2.8739726 | BP32: 1.9398907 | BQ32: 1.1616438 | BR32: 1.6082192 | BS32: 0 | BT32: 0 | BU32: 0 | BV32: 0 | BW32: 0 | BX32: 0 | BY32: 0.1034015 | BZ32: 0.085943638 | CA32: 0.077839826 | CB32: 0.065658951 | CC32: 0.061183224 | CD32: 0.058255637 | CE32: 0.8965985 | CF32: 0.91405636 | CG32: 0.92216017 | CH32: 0.93434105 | CI32: 0.93881678 | CJ32: 0.94174436 | CK32: 1.0383562 | CL32: 1.0143836 | CM32: 1.0198973 | CN32: 1.0247268 | CO32: 1.0552397 | CP32: 1.0358219 | CQ32: 1.0394178 | CR32: 1.0161301 | CS32: 1.0215753 | CT32: 1.0257855 | CU32: 1.0557877 | CV32: 1.0363699 | CW32: 1.0696918 | CX32: 1.0470548 | CY32: 1.067089 | CZ32: 1.0492486 | DA32: 1.0735959 | DB32: 1.0575685
B33: 600100622 | K33: 16.728767 | L33: 19.684932 | M33: 20.252055 | N33: 19.603825 | O33: 16.534247 | P33: 12.884932 | Q33: 27.835616 | R33: 29.027397 | S33: 33.336986 | T33: 29.314208 | U33: 25.569863 | V33: 29.435616 | W33: 14.068493 | X33: 13.452055 | Y33: 18.320548 | Z33: 17.751366 | AA33: 17.512329 | AB33: 13.257534 | AC33: 15.216438 | AD33: 14.153425 | AE33: 6.1068493 | AF33: 10.193989 | AG33: 13.621918 | AH33: 16.679452 | AI33: 3.5835616 | AJ33: 1.3150685 | AK33: 0 | AL33: 0.50273224 | AM33: 2.230137 | AN33: 2.339726 | AO33: 0.7890411 | AP33: 0.15890411 | AQ33: 0 | AR33: 0 | AS33: 0.48493151 | AT33: 0.53972603 | AU33: 0 | AV33: 0 | AW33: 0 | AX33: 0 | AY33: 0 | AZ33: 0 | BA33: 725.34552 | BB33: 761.39959 | BC33: 806.38854 | BD33: 780.06781 | BE33: 735.76345 | BF33: 718.53965 | BG33: 14.19726 | BH33: 14.59726 | BI33: 17.235616 | BJ33: 14.765027 | BK33: 11.534247 | BL33: 10.556164 | BM33: 7.0684932 | BN33: 7.2547945 | BO33: 4.6547945 | BP33: 6.3715847 | BQ33: 7.8438356 | BR33: 8.8164384 | BS33: 0 | BT33: 0 | BU33: 0 | BV33: 0.50273224 | BW33: 0.51232877 | BX33: 2.7452055 | BY33: 0.27186438 | BZ33: 0.28090442 | CA33: 0.28058716 | CB33: 0.27970052 | CC33: 0.26187642 | CD33: 0.29436645 | CE33: 0.72813562 | CF33: 0.71909558 | CG33: 0.71941284 | CH33: 0.72029948 | CI33: 0.73812358 | CJ33: 0.70563355 | CK33: 0.97777397 | CL33: 0.97157534 | CM33: 0.97520548 | CN33: 0.9670765 | CO33: 0.94941781 | CP33: 0.93921233 | CQ33: 0.97859589 | CR33: 0.97239726 | CS33: 0.97582192 | CT33: 0.96840847 | CU33: 0.94976027 | CV33: 0.93958904 | CW33: 0.99339041 | CX33: 0.98609589 | CY33: 0.99037671 | CZ33: 0.97387295 | DA33: 0.95876712 | DB33: 0.94626712
B34: 600009732 | K34: 4.7671233 | L34: 4.369863 | M34: 10.528767 | N34: 5.2240437 | O34: 1.5890411 | P34: 3.2630137 | Q34: 21.852055 | R34: 32.221918 | S34: 29.630137 | T34: 31.07377 | U34: 38.789041 | V34: 29.419178 | W34: 18.558904 | X34: 20.293151 | Y34: 18.40274 | Z34: 18.199454 | AA34: 23.243836 | AB34: 21.438356 | AC34: 23.684932 | AD34: 13.424658 | AE34: 14.613699 | AF34: 14.021858 | AG34: 9.7013699 | AH34: 15.405479 | AI34: 1.9917808 | AJ34: 0.098630137 | AK34: 0 | AL34: 0 | AM34: 0.04109589 | AN34: 1.4821918 | AO34: 0 | AP34: 1.8876712 | AQ34: 0 | AR34: 0 | AS34: 0.035616438 | AT34: 0.75068493 | AU34: 0 | AV34: 0 | AW34: 0 | AX34: 0 | AY34: 0 | AZ34: 0 | BA34: 646.63715 | BB34: 700.24595 | BC34: 733.87622 | BD34: 718.43927 | BE34: 730.24672 | BF34: 683.09064 | BG34: 13.287671 | BH34: 14.509589 | BI34: 11.40274 | BJ34: 17.139344 | BK34: 19.635616 | BL34: 13.117808 | BM34: 19.342466 | BN34: 17.347945 | BO34: 14.454795 | BP34: 14.489071 | BQ34: 15.742466 | BR34: 19.923288 | BS34: 0 | BT34: 0 | BU34: 0 | BV34: 0 | BW34: 0.073972603 | BX34: 1.4821918 | BY34: 0.46052123 | BZ34: 0.44065484 | CA34: 0.35336403 | CB34: 0.46159981 | CC34: 0.48299802 | CD34: 0.4811011 | CE34: 0.53947877 | CF34: 0.55934516 | CG34: 0.64663597 | CH34: 0.53840019 | CI34: 0.51700198 | CJ34: 0.5188989 | CK34: 0.93229993 | CL34: 0.95126172 | CM34: 0.96283345 | CN34: 0.90156744 | CO34: 0.96578947 | CP34: 0.94419611 | CQ34: 0.93612112 | CR34: 0.96265321 | CS34: 0.96528479 | CT34: 0.90469514 | CU34: 0.96806056 | CV34: 0.94758472 | CW34: 0.97804614 | CX34: 0.98637347 | CY34: 0.9887527 | CZ34: 0.93780558 | DA34: 0.99971161 | DB34: 0.97837058
