Workbook
Name _100: [1]!STAT_TO[[#All],[> 100 %]]
Name _70: [1]!STAT_TO[[#All],[< 70 %]]
Name _70_79: [1]!STAT_TO[[#All],['[70 - 79 %']]]
Name _80_89: [1]!STAT_TO[[#All],['[80 - 89 %']]]
Name _90_94: [1]!STAT_TO[[#All],['[90 - 94 %']]]
Name _95_100: [1]!STAT_TO[[#All],['[95 - 100 %']]]
Name ANNEE: [1]!STAT_TO[[#All],[ANNEE]]
Name MAXIMUM: [1]!STAT_TO[[#All],[MAXIMUM]]
Name MEDIANE: [1]!STAT_TO[[#All],[MEDIANE]]
Name MINIMUM: [1]!STAT_TO[[#All],[MINIMUM]]
Name MOYENNE: [1]!STAT_TO[[#All],[MOYENNE]]
Name NOMBRE_EHPAD: [1]!STAT_TO[[#All],[NOMBRE EHPAD]]
Name QUARTILE_1: [1]!STAT_TO[[#All],[1er QUARTILE]]
Name QUARTILE_3: [1]!STAT_TO[[#All],[3ème QUARTILE]]
Name STRAT: [1]!STAT_TO[[#All],[NOM DE LA STRAT]]

Sheet Etablissement
B3: Finess ET : | C3: 600111041
B5: TITRE
B6: NATURE DE L'ACTIVITÉ | C6: 2017 | D6: 2018 | E6: 2019 | F6: 2020 | G6: 2021 | H6: 2022
B7: PRÉSENCES RÉELLES | C7: {=INDEX(Source_etab!$B$5:$DB$69,MATCH($C$3,Source_etab!$B$5:$B$69,0),MATCH(1,(Source_etab!$B$3:$DB$3=C$6)*(Source_etab!$B$4:$DB$4=$J7),0))} -> 0.99004682 | D7: {=INDEX(Source_etab!$B$5:$DB$69,MATCH($C$3,Source_etab!$B$5:$B$69,0),MATCH(1,(Source_etab!$B$3:$DB$3=D$6)*(Source_etab!$B$4:$DB$4=$J7),0))} -> 0.98535345 | E7: {=INDEX(Source_etab!$B$5:$DB$69,MATCH($C$3,Source_etab!$B$5:$B$69,0),MATCH(1,(Source_etab!$B$3:$DB$3=E$6)*(Source_etab!$B$4:$DB$4=$J7),0))} -> 0.99254378 | F7: {=INDEX(Source_etab!$B$5:$DB$69,MATCH($C$3,Source_etab!$B$5:$B$69,0),MATCH(1,(Source_etab!$B$3:$DB$3=F$6)*(Source_etab!$B$4:$DB$4=$J7),0))} -> 0.95178806 | G7: {=INDEX(Source_etab!$B$5:$DB$69,MATCH($C$3,Source_etab!$B$5:$B$69,0),MATCH(1,(Source_etab!$B$3:$DB$3=G$6)*(Source_etab!$B$4:$DB$4=$J7),0))} -> 0.93418878 | H7: {=INDEX(Source_etab!$B$5:$DB$69,MATCH($C$3,Source_etab!$B$5:$B$69,0),MATCH(1,(Source_etab!$B$3:$DB$3=H$6)*(Source_etab!$B$4:$DB$4=$J7),0))} -> 0.9722097 | J7: TO PRÉSENCES RÉELLES | L7: PRÉSENCES RÉELLES
B8: PRÉSENCES RÉELLES ET ABSENCES DE - 72H | C8: {=INDEX(Source_etab!$B$5:$DB$69,MATCH($C$3,Source_etab!$B$5:$B$69,0),MATCH(1,(Source_etab!$B$3:$DB$3=C$6)*(Source_etab!$B$4:$DB$4=$J8),0))} -> 0.99011618 | D8: {=INDEX(Source_etab!$B$5:$DB$69,MATCH($C$3,Source_etab!$B$5:$B$69,0),MATCH(1,(Source_etab!$B$3:$DB$3=D$6)*(Source_etab!$B$4:$DB$4=$J8),0))} -> 0.98566557 | E8: {=INDEX(Source_etab!$B$5:$DB$69,MATCH($C$3,Source_etab!$B$5:$B$69,0),MATCH(1,(Source_etab!$B$3:$DB$3=E$6)*(Source_etab!$B$4:$DB$4=$J8),0))} -> 0.99305242 | F8: {=INDEX(Source_etab!$B$5:$DB$69,MATCH($C$3,Source_etab!$B$5:$B$69,0),MATCH(1,(Source_etab!$B$3:$DB$3=F$6)*(Source_etab!$B$4:$DB$4=$J8),0))} -> 0.95197252 | G8: {=INDEX(Source_etab!$B$5:$DB$69,MATCH($C$3,Source_etab!$B$5:$B$69,0),MATCH(1,(Source_etab!$B$3:$DB$3=G$6)*(Source_etab!$B$4:$DB$4=$J8),0))} -> 0.93458182 | H8: {=INDEX(Source_etab!$B$5:$DB$69,MATCH($C$3,Source_etab!$B$5:$B$69,0),MATCH(1,(Source_etab!$B$3:$DB$3=H$6)*(Source_etab!$B$4:$DB$4=$J8),0))} -> 0.97239466 | J8: TO ABSENCES - 72H | L8: PR ET ABS - 72H
B9: PRÉSENCES RÉELLES ET ABSENCES DE - / + 72H | C9: {=INDEX(Source_etab!$B$5:$DB$69,MATCH($C$3,Source_etab!$B$5:$B$69,0),MATCH(1,(Source_etab!$B$3:$DB$3=C$6)*(Source_etab!$B$4:$DB$4=$J9),0))} -> 1.0010057 | D9: {=INDEX(Source_etab!$B$5:$DB$69,MATCH($C$3,Source_etab!$B$5:$B$69,0),MATCH(1,(Source_etab!$B$3:$DB$3=D$6)*(Source_etab!$B$4:$DB$4=$J9),0))} -> 0.99717935 | E9: {=INDEX(Source_etab!$B$5:$DB$69,MATCH($C$3,Source_etab!$B$5:$B$69,0),MATCH(1,(Source_etab!$B$3:$DB$3=E$6)*(Source_etab!$B$4:$DB$4=$J9),0))} -> 0.99950292 | F9: {=INDEX(Source_etab!$B$5:$DB$69,MATCH($C$3,Source_etab!$B$5:$B$69,0),MATCH(1,(Source_etab!$B$3:$DB$3=F$6)*(Source_etab!$B$4:$DB$4=$J9),0))} -> 0.96061885 | G9: {=INDEX(Source_etab!$B$5:$DB$69,MATCH($C$3,Source_etab!$B$5:$B$69,0),MATCH(1,(Source_etab!$B$3:$DB$3=G$6)*(Source_etab!$B$4:$DB$4=$J9),0))} -> 0.94245419 | H9: {=INDEX(Source_etab!$B$5:$DB$69,MATCH($C$3,Source_etab!$B$5:$B$69,0),MATCH(1,(Source_etab!$B$3:$DB$3=H$6)*(Source_etab!$B$4:$DB$4=$J9),0))} -> 0.97742327 | J9: TO ABSENCES - / + 72H | L9: PR ET ABS -/+ 72H
B25: TITRE
B26: NATURE DE L'ACTIVITÉ | C26: 2017 | D26: 2018 | E26: 2019 | F26: 2020 | G26: 2021 | H26: 2022
B27: PRÉSENCES RÉELLES | C27: {=INDEX(Source_etab!$B$5:$DB$69,MATCH($C$3,Source_etab!$B$5:$B$69,0),MATCH(1,(Source_etab!$B$3:$DB$3=C$26)*(Source_etab!$B$4:$DB$4=$J7),0))} -> #N/A | D27: {=INDEX(Source_etab!$B$5:$DB$69,MATCH($C$3,Source_etab!$B$5:$B$69,0),MATCH(1,(Source_etab!$B$3:$DB$3=D$26)*(Source_etab!$B$4:$DB$4=$J7),0))} -> #N/A | E27: {=INDEX(Source_etab!$B$5:$DB$69,MATCH($C$3,Source_etab!$B$5:$B$69,0),MATCH(1,(Source_etab!$B$3:$DB$3=E$26)*(Source_etab!$B$4:$DB$4=$J7),0))} -> #N/A | F27: {=INDEX(Source_etab!$B$5:$DB$69,MATCH($C$3,Source_etab!$B$5:$B$69,0),MATCH(1,(Source_etab!$B$3:$DB$3=F$26)*(Source_etab!$B$4:$DB$4=$J7),0))} -> #N/A | G27: {=INDEX(Source_etab!$B$5:$DB$69,MATCH($C$3,Source_etab!$B$5:$B$69,0),MATCH(1,(Source_etab!$B$3:$DB$3=G$26)*(Source_etab!$B$4:$DB$4=$J7),0))} -> #N/A | H27: {=INDEX(Source_etab!$B$5:$DB$69,MATCH($C$3,Source_etab!$B$5:$B$69,0),MATCH(1,(Source_etab!$B$3:$DB$3=H$26)*(Source_etab!$B$4:$DB$4=$J7),0))} -> #N/A
B28: PRÉSENCES RÉELLES ET ABSENCES DE - 72H | C28: {=INDEX(Source_etab!$B$5:$DB$69,MATCH($C$3,Source_etab!$B$5:$B$69,0),MATCH(1,(Source_etab!$B$3:$DB$3=C$26)*(Source_etab!$B$4:$DB$4=$J8),0))} -> #N/A | D28: {=INDEX(Source_etab!$B$5:$DB$69,MATCH($C$3,Source_etab!$B$5:$B$69,0),MATCH(1,(Source_etab!$B$3:$DB$3=D$26)*(Source_etab!$B$4:$DB$4=$J8),0))} -> #N/A | E28: {=INDEX(Source_etab!$B$5:$DB$69,MATCH($C$3,Source_etab!$B$5:$B$69,0),MATCH(1,(Source_etab!$B$3:$DB$3=E$26)*(Source_etab!$B$4:$DB$4=$J8),0))} -> #N/A | F28: {=INDEX(Source_etab!$B$5:$DB$69,MATCH($C$3,Source_etab!$B$5:$B$69,0),MATCH(1,(Source_etab!$B$3:$DB$3=F$26)*(Source_etab!$B$4:$DB$4=$J8),0))} -> #N/A | G28: {=INDEX(Source_etab!$B$5:$DB$69,MATCH($C$3,Source_etab!$B$5:$B$69,0),MATCH(1,(Source_etab!$B$3:$DB$3=G$26)*(Source_etab!$B$4:$DB$4=$J8),0))} -> #N/A | H28: {=INDEX(Source_etab!$B$5:$DB$69,MATCH($C$3,Source_etab!$B$5:$B$69,0),MATCH(1,(Source_etab!$B$3:$DB$3=H$26)*(Source_etab!$B$4:$DB$4=$J8),0))} -> #N/A
B29: PRÉSENCES RÉELLES ET ABSENCES DE - / + 72H | C29: {=INDEX(Source_etab!$B$5:$DB$69,MATCH($C$3,Source_etab!$B$5:$B$69,0),MATCH(1,(Source_etab!$B$3:$DB$3=C$26)*(Source_etab!$B$4:$DB$4=$J9),0))} -> #N/A | D29: {=INDEX(Source_etab!$B$5:$DB$69,MATCH($C$3,Source_etab!$B$5:$B$69,0),MATCH(1,(Source_etab!$B$3:$DB$3=D$26)*(Source_etab!$B$4:$DB$4=$J9),0))} -> #N/A | E29: {=INDEX(Source_etab!$B$5:$DB$69,MATCH($C$3,Source_etab!$B$5:$B$69,0),MATCH(1,(Source_etab!$B$3:$DB$3=E$26)*(Source_etab!$B$4:$DB$4=$J9),0))} -> #N/A | F29: {=INDEX(Source_etab!$B$5:$DB$69,MATCH($C$3,Source_etab!$B$5:$B$69,0),MATCH(1,(Source_etab!$B$3:$DB$3=F$26)*(Source_etab!$B$4:$DB$4=$J9),0))} -> #N/A | G29: {=INDEX(Source_etab!$B$5:$DB$69,MATCH($C$3,Source_etab!$B$5:$B$69,0),MATCH(1,(Source_etab!$B$3:$DB$3=G$26)*(Source_etab!$B$4:$DB$4=$J9),0))} -> #N/A | H29: {=INDEX(Source_etab!$B$5:$DB$69,MATCH($C$3,Source_etab!$B$5:$B$69,0),MATCH(1,(Source_etab!$B$3:$DB$3=H$26)*(Source_etab!$B$4:$DB$4=$J9),0))} -> #N/A

Sheet Source_etab
K3: 2017 | L3: 2018 | M3: 2019 | N3: 2020 | O3: 2021 | P3: 2022 | Q3: 2017 | R3: 2018 | S3: 2019 | T3: 2020 | U3: 2021 | V3: 2022 | W3: 2017 | X3: 2018 | Y3: 2019 | Z3: 2020 | AA3: 2021 | AB3: 2022 | AC3: 2017 | AD3: 2018 | AE3: 2019 | AF3: 2020 | AG3: 2021 | AH3: 2022 | AI3: 2017 | AJ3: 2018 | AK3: 2019 | AL3: 2020 | AM3: 2021 | AN3: 2022 | AO3: 2017 | AP3: 2018 | AQ3: 2019 | AR3: 2020 | AS3: 2021 | AT3: 2022 | AU3: 2017 | AV3: 2018 | AW3: 2019 | AX3: 2020 | AY3: 2021 | AZ3: 2022 | BA3: 2017 | BB3: 2018 | BC3: 2019 | BD3: 2020 | BE3: 2021 | BF3: 2022 | BG3: 2017 | BH3: 2018 | BI3: 2019 | BJ3: 2020 | BK3: 2021 | BL3: 2022 | BM3: 2017 | BN3: 2018 | BO3: 2019 | BP3: 2020 | BQ3: 2021 | BR3: 2022 | BS3: 2017 | BT3: 2018 | BU3: 2019 | BV3: 2020 | BW3: 2021 | BX3: 2022 | BY3: 2017 | BZ3: 2018 | CA3: 2019 | CB3: 2020 | CC3: 2021 | CD3: 2022 | CE3: 2017 | CF3: 2018 | CG3: 2019 | CH3: 2020 | CI3: 2021 | CJ3: 2022 | CK3: 2017 | CL3: 2018 | CM3: 2019 | CN3: 2020 | CO3: 2021 | CP3: 2022 | CQ3: 2017 | CR3: 2018 | CS3: 2019 | CT3: 2020 | CU3: 2021 | CV3: 2022 | CW3: 2017 | CX3: 2018 | CY3: 2019 | CZ3: 2020 | DA3: 2021 | DB3: 2022
B4: FINESS ET | C4: RAISON SOCIALE ET | D4: COMMUNE | E4: CANTON | F4: TERRITOIRE | G4: ARRONDISSEMENT | H4: STATUT JURIDIQUE | I4: STATUT DE LA COMMUNE | J4: CAPACITE HEB PERM | K4: GIR 1 | L4: GIR 1 | M4: GIR 1 | N4: GIR 1 | O4: GIR 1 | P4: GIR 1 | Q4: GIR 2 | R4: GIR 2 | S4: GIR 2 | T4: GIR 2 | U4: GIR 2 | V4: GIR 2 | W4: GIR 3 | X4: GIR 3 | Y4: GIR 3 | Z4: GIR 3 | AA4: GIR 3 | AB4: GIR 3 | AC4: GIR 4 | AD4: GIR 4 | AE4: GIR 4 | AF4: GIR 4 | AG4: GIR 4 | AH4: GIR 4 | AI4: GIR 5 | AJ4: GIR 5 | AK4: GIR 5 | AL4: GIR 5 | AM4: GIR 5 | AN4: GIR 5 | AO4: GIR 6 | AP4: GIR 6 | AQ4: GIR 6 | AR4: GIR 6 | AS4: GIR 6 | AT4: GIR 6 | AU4: M60 | AV4: M60 | AW4: M60 | AX4: M60 | AY4: M60 | AZ4: M60 | BA4: GMP | BB4: GMP | BC4: GMP | BD4: GMP | BE4: GMP | BF4: GMP | BG4: HORS OISE GIR 1/2 | BH4: HORS OISE GIR 1/2 | BI4: HORS OISE GIR 1/2 | BJ4: HORS OISE GIR 1/2 | BK4: HORS OISE GIR 1/2 | BL4: HORS OISE GIR 1/2 | BM4: HORS OISE GIR 3/4 | BN4: HORS OISE GIR 3/4 | BO4: HORS OISE GIR 3/4 | BP4: HORS OISE GIR 3/4 | BQ4: HORS OISE GIR 3/4 | BR4: HORS OISE GIR 3/4 | BS4: HORS OISE GIR 5/6 | BT4: HORS OISE GIR 5/6 | BU4: HORS OISE GIR 5/6 | BV4: HORS OISE GIR 5/6 | BW4: HORS OISE GIR 5/6 | BX4: HORS OISE GIR 5/6 | BY4: % HORS OISE | BZ4: % HORS OISE | CA4: % HORS OISE | CB4: % HORS OISE | CC4: % HORS OISE | CD4: % HORS OISE | CE4: % OISE | CF4: % OISE | CG4: % OISE | CH4: % OISE | CI4: % OISE | CJ4: % OISE | CK4: TO PRÉSENCES RÉELLES | CL4: TO PRÉSENCES RÉELLES | CM4: TO PRÉSENCES RÉELLES | CN4: TO PRÉSENCES RÉELLES | CO4: TO PRÉSENCES RÉELLES | CP4: TO PRÉSENCES RÉELLES | CQ4: TO ABSENCES - 72H | CR4: TO ABSENCES - 72H | CS4: TO ABSENCES - 72H | CT4: TO ABSENCES - 72H | CU4: TO ABSENCES - 72H | CV4: TO ABSENCES - 72H | CW4: TO ABSENCES - / + 72H | CX4: TO ABSENCES - / + 72H | CY4: TO ABSENCES - / + 72H | CZ4: TO ABSENCES - / + 72H | DA4: TO ABSENCES - / + 72H | DB4: TO ABSENCES - / + 72H
B5: 600105266 | K5: 53.821918 | L5: 44.205479 | M5: 38.087671 | N5: 24.778689 | O5: 22.709589 | P5: 24.424658 | Q5: 86.945205 | R5: 98.90411 | S5: 115.79726 | T5: 105.61749 | U5: 93.452055 | V5: 82.569863 | W5: 18.073973 | X5: 18.739726 | Y5: 18.271233 | Z5: 25.57377 | AA5: 33.361644 | AB5: 39.150685 | AC5: 31.128767 | AD5: 31.19726 | AE5: 24.679452 | AF5: 32.142077 | AG5: 38.134247 | AH5: 41.646575 | AI5: 9.1780822 | AJ5: 7.3671233 | AK5: 4.5616438 | AL5: 4.2923497 | AM5: 1 | AN5: 0.16712329 | AO5: 0 | AP5: 0 | AQ5: 0 | AR5: 0 | AS5: 0 | AT5: 0 | AU5: 2.9835616 | AV5: 1.4493151 | AW5: 0.47945205 | AX5: 1.0081967 | AY5: 1 | AZ5: 1.9342466 | BA5: 774.0643 | BB5: 771.39328 | BC5: 789.09795 | BD5: 753.35515 | BE5: 739.40532 | BF5: 729.71343 | BG5: 11.832877 | BH5: 12.378082 | BI5: 13.920548 | BJ5: 11.901639 | BK5: 12.391781 | BL5: 12.673973 | BM5: 1.3150685 | BN5: 5.8273973 | BO5: 4.4794521 | BP5: 5.6393443 | BQ5: 4.8465753 | BR5: 4.3424658 | BS5: 2.9835616 | BT5: 1.4493151 | BU5: 0 | BV5: 0 | BW5: 0 | BX5: 0 | BY5: 0.081002628 | BZ5: 0.098071113 | CA5: 0.091361719 | CB5: 0.091167282 | CC5: 0.091373802 | CD5: 0.09053276 | CE5: 0.91899737 | CF5: 0.90192889 | CG5: 0.90863828 | CH5: 0.90883272 | CI5: 0.9086262 | CJ5: 0.90946724 | CK5: 3.7555612 | CL5: 0.96125245 | CM5: 0.96131768 | CN5: 0.92101223 | CO5: 0.90313112 | CP5: 0.9042531 | CQ5: 3.7584627 | CR5: 0.96170907 | CS5: 0.96153947 | CT5: 0.92144158 | CU5: 0.90332681 | CV5: 0.90450098 | CW5: 3.8010181 | CX5: 0.97248532 | CY5: 0.97060665 | CZ5: 0.92734843 | DA5: 0.90879322 | DB5: 0.90832355
B6: 600107544 | K6: 24.358904 | L6: 22.515068 | M6: 23.320548 | N6: 18.010929 | O6: 14.945205 | P6: 0 | Q6: 77.079452 | R6: 76.112329 | S6: 63.254795 | T6: 62.939891 | U6: 63.6 | V6: 0 | W6: 29.49863 | X6: 21.441096 | Y6: 41.043836 | Z6: 33.743169 | AA6: 33.657534 | AB6: 0 | AC6: 59.205479 | AD6: 90.082192 | AE6: 80.534247 | AF6: 66.295082 | AG6: 64.750685 | AH6: 0 | AI6: 23.049315 | AJ6: 5.9178082 | AK6: 6.8356164 | AL6: 17.540984 | AM6: 17.150685 | AN6: 0 | AO6: 5.6876712 | AP6: 2.6739726 | AQ6: 5.1479452 | AR6: 10.046448 | AS6: 11.432877 | AT6: 0 | AU6: 2.5972603 | AV6: 1.4054795 | AW6: 3.3808219 | AX6: 4 | AY6: 3.5178082 | AZ6: 0 | BA6: 637.80088 | BB6: 640.48697 | BC6: 633.41083 | BD6: 604.49456 | BE6: 597.78262 | BF6: #DIV/0! | BG6: 13.890411 | BH6: 13.928767 | BI6: 12.561644 | BJ6: 10.885246 | BK6: 13.841096 | BL6: 0 | BM6: 9.8219178 | BN6: 11 | BO6: 11.758904 | BP6: 11.095628 | BQ6: 12.331507 | BR6: 0 | BS6: 1.9424658 | BT6: 0 | BU6: 0 | BV6: 2.2021858 | BW6: 2.4328767 | BX6: 0 | BY6: 0.1172097 | BZ6: 0.113964 | CA6: 0.11047915 | CB6: 0.11594336 | CC6: 0.13917436 | CD6: #DIV/0! | CE6: 0.8827903 | CF6: 0.886036 | CG6: 0.88952085 | CH6: 0.88405664 | CI6: 0.86082564 | CJ6: #DIV/0! | CK6: 0.95877365 | CL6: 0.95302141 | CM6: 0.96760956 | CN6: 0.9202446 | CO6: 0.90499911 | CQ6: 0.96333986 | CR6: 0.95707763 | CS6: 0.9716895 | CT6: 0.92327254 | CU6: 0.90705094 | CW6: 0.9801696 | CX6: 0.9727925 | CY6: 0.98671648 | CZ6: 0.93461548 | DA6: 0.91606476
B7: 600111041 | K7: 22.487671 | L7: 15.852055 | M7: 10.460274 | N7: 18.849727 | O7: 12.652055 | P7: 14.734247 | Q7: 43.610959 | R7: 42.863014 | S7: 40.183562 | T7: 72.718579 | U7: 73.654795 | V7: 60.715068 | W7: 38.021918 | X7: 39.715068 | Y7: 49.021918 | Z7: 43.491803 | AA7: 37.789041 | AB7: 41.19726 | AC7: 89.136986 | AD7: 94.687671 | AE7: 93.090411 | AF7: 61.538251 | AG7: 63.093151 | AH7: 78.657534 | AI7: 21.087671 | AJ7: 21.230137 | AK7: 20.819178 | AL7: 12.26776 | AM7: 16.758904 | AN7: 17.882192 | AO7: 15.484932 | AP7: 14.583562 | AQ7: 17.542466 | AR7: 12.027322 | AS7: 14.720548 | AT7: 15.246575 | AU7: 4.8109589 | AV7: 4.0575342 | AW7: 4.1150685 | AX7: 4.6803279 | AY7: 2.7342466 | AZ7: 1.9808219 | BA7: 556.97108 | BB7: 542.37243 | BC7: 528.30058 | BD7: 626.51403 | BE7: 599.9133 | BF7: 575.65737 | BG7: 3.7561644 | BH7: 5.3315068 | BI7: 4.9835616 | BJ7: 6.989071 | BK7: 4.8958904 | BL7: 2.8191781 | BM7: 7.8465753 | BN7: 6.4520548 | BO7: 10.024658 | BP7: 10.010929 | BQ7: 10.956164 | BR7: 12.706849 | BS7: 0 | BT7: 0 | BU7: 4.1150685 | BV7: 4.6803279 | BW7: 4.2328767 | BX7: 5.8438356 | BY7: 0.050483979 | BZ7: 0.051471996 | CA7: 0.082742597 | CB7: 0.098148354 | CC7: 0.091851054 | CD7: 0.093549857 | CE7: 0.94951602 | CF7: 0.948528 | CG7: 0.9172574 | CH7: 0.90185165 | CI7: 0.90814895 | CJ7: 0.90645014 | CK7: 0.99004682 | CL7: 0.98535345 | CM7: 0.99254378 | CN7: 0.95178806 | CO7: 0.93418878 | CP7: 0.9722097 | CQ7: 0.99011618 | CR7: 0.98566557 | CS7: 0.99305242 | CT7: 0.95197252 | CU7: 0.93458182 | CV7: 0.97239466 | CW7: 1.0010057 | CX7: 0.99717935 | CY7: 0.99950292 | CZ7: 0.96061885 | DA7: 0.94245419 | DB7: 0.97742327
B8: 600107577 | K8: 17.969863 | L8: 15.868493 | M8: 15.39726 | N8: 16.054645 | O8: 24.739726 | P8: 28.657534 | Q8: 49.016438 | R8: 57.394521 | S8: 53.487671 | T8: 50.030055 | U8: 54.531507 | V8: 57.369863 | W8: 18.610959 | X8: 19 | Y8: 19.10137 | Z8: 23.36612 | AA8: 15.789041 | AB8: 14.591781 | AC8: 30.654795 | AD8: 31 | AE8: 34.126027 | AF8: 23.31694 | AG8: 26.865753 | AH8: 32.153425 | AI8: 19.290411 | AJ8: 22 | AK8: 15.961644 | AL8: 22.15847 | AM8: 27.520548 | AN8: 28.591781 | AO8: 32.556164 | AP8: 31 | AQ8: 31.983562 | AR8: 19.202186 | AS8: 10.80274 | AT8: 1.1369863 | AU8: 1 | AV8: 1 | AW8: 1 | AX8: 0.99726776 | AY8: 1 | AZ8: 1.3616438 | BA8: 543.74894 | BB8: 552.07209 | BC8: 549.7904 | BD8: 585.08624 | BE8: 623.32188 | BF8: 659.75301 | BG8: 14.493151 | BH8: 17 | BI8: 16.512329 | BJ8: 10.57377 | BK8: 16.539726 | BL8: 19.649315 | BM8: 8.5205479 | BN8: 9 | BO8: 11.509589 | BP8: 9.2568306 | BQ8: 11.8 | BR8: 10.356164 | BS8: 8.5890411 | BT8: 10 | BU8: 10 | BV8: 8.7295082 | BW8: 8.2273973 | BX8: 3.9561644 | BY8: 0.18800117 | BZ8: 0.20424024 | CA8: 0.22358267 | CB8: 0.18530074 | CC8: 0.22818895 | CD8: 0.20899297 | CE8: 0.81199883 | CF8: 0.79575976 | CG8: 0.77641733 | CH8: 0.81469926 | CI8: 0.77181105 | CJ8: 0.79100703 | CK8: 0.94468508 | CL8: 0.99029617 | CM8: 0.95562868 | CN8: 0.86662393 | CO8: 0.90083416 | CP8: 0.91543583 | CQ8: 0.94589424 | CR8: 0.9906635 | CS8: 0.95628683 | CT8: 0.86743292 | CU8: 0.90236474 | CV8: 0.91661437 | CW8: 0.98082192 | CX8: 1.0244126 | CY8: 0.98890334 | CZ8: 0.89788442 | DA8: 0.92304278 | DB8: 0.93309865
B9: 600111405 | K9: 15.156164 | L9: 21.978082 | M9: 25.120548 | N9: 25.546448 | O9: 27.983562 | P9: 20.306849 | Q9: 73.487671 | R9: 79.038356 | S9: 85.668493 | T9: 77.513661 | U9: 70.309589 | V9: 79.227397 | W9: 56.580822 | X9: 54.931507 | Y9: 47.967123 | Z9: 43.256831 | AA9: 28.616438 | AB9: 45.326027 | AC9: 48.564384 | AD9: 36.857534 | AE9: 29.123288 | AF9: 31.554645 | AG9: 43.046575 | AH9: 41.860274 | AI9: 5.0082192 | AJ9: 3.1561644 | AK9: 5.6986301 | AL9: 4.8934426 | AM9: 5.3945205 | AN9: 3.8328767 | AO9: 0 | AP9: 1.7260274 | AQ9: 3.5808219 | AR9: 3.8469945 | AS9: 2.0739726 | AT9: 2.8520548 | AU9: 0.23561644 | AV9: 0 | AW9: 0.46575342 | AX9: 0.89344262 | AY9: 0.83561644 | AZ9: 0.30684932 | BA9: 683.50161 | BB9: 713.3228 | BC9: 723.51528 | BD9: 717.81567 | BE9: 707.36411 | BF9: 700.66381 | BG9: 8.9780822 | BH9: 8.6410959 | BI9: 7.4575342 | BJ9: 10.459016 | BK9: 10.931507 | BL9: 11.632877 | BM9: 7.1342466 | BN9: 8.939726 | BO9: 8.1178082 | BP9: 6.4125683 | BQ9: 2.9616438 | BR9: 4.1780822 | BS9: 0 | BT9: 0.068493151 | BU9: 1.9616438 | BV9: 0.80601093 | BW9: 1 | BX9: 2.6054795 | BY9: 0.081049048 | BZ9: 0.089278785 | CA9: 0.088948487 | CB9: 0.094729136 | CC9: 0.083940704 | CD9: 0.095221906 | CE9: 0.91895095 | CF9: 0.91072122 | CG9: 0.91105151 | CH9: 0.90527086 | CI9: 0.9160593 | CJ9: 0.90477809 | CK9: 0.97565136 | CL9: 0.96905721 | CM9: 0.96874832 | CN9: 0.91914443 | CO9: 0.87382487 | CP9: 0.94957024 | CQ9: 0.97912973 | CR9: 0.97256245 | CS9: 0.97232071 | CT9: 0.92235883 | CU9: 0.87718238 | CV9: 0.9529949 | CW9: 0.99156594 | CX9: 0.98961859 | CY9: 0.99019608 | CZ9: 0.93828351 | DA9: 0.88808756 | DB9: 0.96830513
B10: 600106785 | K10: 14.778082 | L10: 17.731507 | M10: 17.731507 | N10: 14.885246 | O10: 18.734247 | P10: 15.526027 | Q10: 58.216438 | R10: 67.147945 | S10: 67.147945 | T10: 62.136612 | U10: 45.479452 | V10: 44.4 | W10: 29.293151 | X10: 24.764384 | Y10: 24.764384 | Z10: 25.833333 | AA10: 23.728767 | AB10: 25.260274 | AC10: 42.043836 | AD10: 37.50137 | AE10: 37.50137 | AF10: 30.931694 | AG10: 23.671233 | AH10: 26.682192 | AI10: 10.39726 | AJ10: 4.9835616 | AK10: 4.9835616 | AL10: 5.1202186 | AM10: 6.9315068 | AN10: 8.0767123 | AO10: 0 | AP10: 0 | AQ10: 0 | AR10: 0 | AS10: 0 | AT10: 0 | AU10: 0.59726027 | AV10: 1.6410959 | AW10: 1.6410959 | AX10: 1.1092896 | AY10: 0 | AZ10: 0 | BA10: 667.43307 | BB10: 706.48531 | BC10: 706.48531 | BD10: 708.39693 | BE10: 710.8914 | BF10: 689.64413 | BG10: 0 | BH10: 0 | BI10: 0 | BJ10: 10.909836 | BK10: 0 | BL10: 0 | BM10: 4.690411 | BN10: 4.690411 | BO10: 0 | BP10: 5.0054645 | BQ10: 0 | BR10: 0 | BS10: 0 | BT10: 1.9780822 | BU10: 0 | BV10: 1 | BW10: 0 | BX10: 0 | BY10: 0.030313762 | BZ10: 0.043834531 | CA10: 0 | CB10: 0.12177419 | CC10: 0 | CD10: 0 | CE10: 0.96968624 | CF10: 0.95616547 | CG10: 1 | CH10: 0.87822581 | CI10: 1 | CJ10: 1 | CK10: 0.96475793 | CL10: 0.95509232 | CM10: 0.95509232 | CN10: 0.86966704 | CO10: 0.73630562 | CP10: 0.74500128 | CQ10: 0.96579597 | CR10: 0.95887008 | CS10: 0.95887008 | CT10: 0.87255201 | CU10: 0.73814345 | CV10: 0.74649877 | CW10: 0.96872288 | CX10: 0.97374287 | CY10: 0.97374287 | CZ10: 0.88529681 | DA10: 0.7496469 | DB10: 0.75468391
B11: 600105308 | K11: 0 | L11: 0 | M11: 0 | N11: 16.674863 | O11: 21.926027 | P11: 22.758904 | Q11: 0 | R11: 0 | S11: 0 | T11: 19.387978 | U11: 22.515068 | V11: 9.0219178 | W11: 0 | X11: 0 | Y11: 0 | Z11: 10.84153 | AA11: 8.460274 | AB11: 4.5013699 | AC11: 0 | AD11: 0 | AE11: 0 | AF11: 9.6584699 | AG11: 13.734247 | AH11: 21.909589 | AI11: 0 | AJ11: 0 | AK11: 0 | AL11: 4.3688525 | AM11: 2.0958904 | AN11: 5.8821918 | AO11: 0 | AP11: 0 | AQ11: 0 | AR11: 4.9262295 | AS11: 4.8356164 | AT11: 5.3972603 | AU11: 0 | AV11: 0 | AW11: 0 | AX11: 0.99726776 | AY11: 1.8986301 | AZ11: 2.1205479 | BA11: #DIV/0! | BB11: #DIV/0! | BC11: #DIV/0! | BD11: 692.54812 | BE11: 721.15522 | BF11: 638.51757 | BG11: 0 | BH11: 0 | BI11: 0 | BJ11: 10.513661 | BK11: 10.073973 | BL11: 8.7232877 | BM11: 0 | BN11: 0 | BO11: 0 | BP11: 3.5874317 | BQ11: 5.2383562 | BR11: 5.4164384 | BS11: 0 | BT11: 0 | BU11: 0 | BV11: 3 | BW11: 2 | BX11: 3.2520548 | BY11: #DIV/0! | BZ11: #DIV/0! | CA11: #DIV/0! | CB11: 0.25966645 | CC11: 0.23532698 | CD11: 0.25034507 | CE11: #DIV/0! | CF11: #DIV/0! | CG11: #DIV/0! | CH11: 0.74033355 | CI11: 0.76467302 | CJ11: 0.74965493 | CN11: 0.66855191 | CO11: 0.75465753 | CP11: 0.71591781 | CT11: 0.67169399 | CU11: 0.75671233 | CV11: 0.71928767 | CZ11: 0.67737705 | DA11: 0.76378082 | DB11: 0.72909589
B12: 600107593 | K12: 5.1753425 | L12: 7.1013699 | M12: 9.8739726 | N12: 13.653005 | O12: 13.89863 | P12: 13.131507 | Q12: 25.60274 | R12: 20.589041 | S12: 16.668493 | T12: 10.256831 | U12: 15.547945 | V12: 18.635616 | W12: 10.487671 | X12: 11.852055 | Y12: 12.989041 | Z12: 15.442623 | AA12: 9.2246575 | AB12: 12.89589 | AC12: 9.3479452 | AD12: 12.087671 | AE12: 10.452055 | AF12: 9.6912568 | AG12: 12.564384 | AH12: 6.060274 | AI12: 0 | AJ12: 1 | AK12: 2.2849315 | AL12: 1.6666667 | AM12: 1.0438356 | AN12: 2.9068493 | AO12: 2.2356164 | AP12: 0.10958904 | AQ12: 1 | AR12: 0 | AS12: 0 | AT12: 0.51232877 | AU12: 0 | AV12: 0 | AW12: 0 | AX12: 0 | AY12: 0 | AZ12: 0 | BA12: 713.08657 | BB12: 712.04416 | BC12: 703.59358 | BD12: 728.6056 | BE12: 738.05628 | BF12: 749.95851 | BG12: 8.9232877 | BH12: 8.8356164 | BI12: 10.80274 | BJ12: 12.098361 | BK12: 13.983562 | BL12: 14.484932 | BM12: 11.030137 | BN12: 12.158904 | BO12: 12.317808 | BP12: 12.571038 | BQ12: 10.252055 | BR12: 7.5972603 | BS12: 0.99726027 | BT12: 0.10958904 | BU12: 1 | BV12: 1 | BW12: 1.0438356 | BX12: 2.4219178 | BY12: 0.39642302 | BZ12: 0.40015584 | CA12: 0.45281078 | CB12: 0.50619612 | CC12: 0.4835447 | CD12: 0.45258577 | CE12: 0.60357698 | CF12: 0.59984416 | CG12: 0.54718922 | CH12: 0.49380388 | CI12: 0.5164553 | CJ12: 0.54741423 | CK12: 0.96089664 | CL12: 0.95890411 | CM12: 0.96851806 | CN12: 0.92200695 | CO12: 0.95053549 | CP12: 0.98440847 | CQ12: 0.97185554 | CR12: 0.96956413 | CS12: 0.96961395 | CT12: 0.92911078 | CU12: 0.95691158 | CV12: 0.99108344 | CW12: 1.0203736 | CX12: 1.0167372 | CY12: 1.0221171 | CZ12: 0.95941381 | DA12: 0.98819427 | DB12: 1.0192279
B13: 600105183 | K13: 30.052055 | L13: 31.49589 | M13: 22.575342 | N13: 23.745902 | O13: 21.232877 | P13: 21.079452 | Q13: 52.854795 | R13: 37.361644 | S13: 34.232877 | T13: 34.76776 | U13: 30.449315 | V13: 36.265753 | W13: 17.279452 | X13: 18.120548 | Y13: 27.616438 | Z13: 19.172131 | AA13: 24.676712 | AB13: 28.331507 | AC13: 31.446575 | AD13: 31.063014 | AE13: 40.99726 | AF13: 44.5 | AG13: 41.383562 | AH13: 27.00274 | AI13: 4.9808219 | AJ13: 11.260274 | AK13: 6.0739726 | AL13: 8.7377049 | AM13: 14.043836 | AN13: 6.9260274 | AO13: 2.5917808 | AP13: 7.8465753 | AQ13: 6.3945205 | AR13: 5.9289617 | AS13: 7.7424658 | AT13: 7.1753425 | AU13: 1.4356164 | AV13: 0.79178082 | AW13: 1.3726027 | AX13: 1.9289617 | AY13: 1 | AZ13: 1.9287671 | BA13: 721.87325 | BB13: 665.3401 | BC13: 643.57461 | BD13: 634.9457 | BE13: 605.83176 | BF13: 661.1127 | BG13: 0 | BH13: 0 | BI13: 0 | BJ13: 0 | BK13: 2.1424658 | BL13: 3.0438356 | BM13: 0 | BN13: 0 | BO13: 0 | BP13: 0 | BQ13: 2.9945205 | BR13: 2.5041096 | BS13: 0 | BT13: 0 | BU13: 0 | BV13: 0 | BW13: 1 | BX13: 0.99726027 | BY13: 0 | BZ13: 0 | CA13: 0 | CB13: 0 | CC13: 0.043983663 | CD13: 0.051626148 | CE13: 1 | CF13: 1 | CG13: 1 | CH13: 1 | CI13: 0.95601634 | CJ13: 0.94837385 | CK13: 0.96993859 | CL13: 0.95312234 | CM13: 0.96043458 | CN13: 0.95711325 | CO13: 0.96916391 | CP13: 0.88765234 | CQ13: 0.96999528 | CR13: 0.95317903 | CS13: 0.96043458 | CT13: 0.95711325 | CU13: 0.96944733 | CV13: 0.88769013 | CW13: 0.98554558 | CX13: 0.972735 | CY13: 0.98148323 | CZ13: 0.97017147 | DA13: 0.98698158 | DB13: 0.90210675
B14: 600011498 | K14: 10.153425 | L14: 13.542466 | M14: 17.586301 | N14: 10.519126 | O14: 8.4547945 | P14: 12.336986 | Q14: 34.964384 | R14: 37.879452 | S14: 41.082192 | T14: 46.721311 | U14: 35.915068 | V14: 34.260274 | W14: 18.468493 | X14: 18.79726 | Y14: 11.665753 | Z14: 10.568306 | AA14: 11.287671 | AB14: 9.7972603 | AC14: 18.065753 | AD14: 8.2986301 | AE14: 7.8328767 | AF14: 10.136612 | AG14: 15.569863 | AH14: 11.123288 | AI14: 2 | AJ14: 4.1013699 | AK14: 2.5808219 | AL14: 3.4016393 | AM14: 6.4356164 | AN14: 11.243836 | AO14: 0 | AP14: 0 | AQ14: 0 | AR14: 0.59836066 | AS14: 0 | AT14: 0 | AU14: 0 | AV14: 0 | AW14: 0 | AX14: 0 | AY14: 0 | AZ14: 0 | BA14: 714.86981 | BB14: 753.79792 | BC14: 789.24304 | BD14: 755.25674 | BE14: 698.16453 | BF14: 699.12898 | BG14: 2.2931507 | BH14: 2.9150685 | BI14: 2.4219178 | BJ14: 4.3469945 | BK14: 3.9726027 | BL14: 2.4 | BM14: 0.89041096 | BN14: 1.5013699 | BO14: 1.909589 | BP14: 1.5245902 | BQ14: 2.1232877 | BR14: 1.5041096 | BS14: 0 | BT14: 0 | BU14: 0 | BV14: 0 | BW14: 0.66027397 | BX14: 2.0958904 | BY14: 0.038057184 | BZ14: 0.053455365 | CA14: 0.053642317 | CB14: 0.071652441 | CC14: 0.086993333 | CD14: 0.076179212 | CE14: 0.96194282 | CF14: 0.94654463 | CG14: 0.94635768 | CH14: 0.92834756 | CI14: 0.91300667 | CJ14: 0.92382079 | CK14: 1.0078561 | CL14: 0.99541178 | CM14: 0.97286681 | CN14: 0.98729344 | CO14: 0.93569896 | CP14: 0.94893547 | CQ14: 1.0093085 | CR14: 0.99633603 | CS14: 0.97362601 | CT14: 0.98913688 | CU14: 0.9399901 | CV14: 0.95256643 | CW14: 1.0164384 | CX14: 1.0109919 | CY14: 0.99098861 | CZ14: 1.0037527 | DA14: 0.95444793 | DB14: 0.97573857
B15: 600107486 | K15: 0.3369863 | L15: 0 | M15: 0 | N15: 0 | O15: 0.3260274 | P15: 0 | Q15: 31.849315 | R15: 20.676712 | S15: 19.526027 | T15: 20.357923 | U15: 11.567123 | V15: 15.857534 | W15: 23.906849 | X15: 25.747945 | Y15: 27.241096 | Z15: 19.021858 | AA15: 16.99726 | AB15: 12.279452 | AC15: 20.441096 | AD15: 21.854795 | AE15: 20.561644 | AF15: 16.262295 | AG15: 19.843836 | AH15: 17.912329 | AI15: 1.6136986 | AJ15: 3.6986301 | AK15: 4.5506849 | AL15: 4.7786885 | AM15: 4.1068493 | AN15: 5.4958904 | AO15: 3.9780822 | AP15: 6.0219178 | AQ15: 6.3780822 | AR15: 5.989071 | AS15: 6.2054795 | AT15: 4.4082192 | AU15: 0.22191781 | AV15: 0 | AW15: 0 | AX15: 0.7431694 | AY15: 0.26027397 | AZ15: 0 | BA15: 634.8302 | BB15: 575.47805 | BC15: 569.92613 | BD15: 573.69744 | BE15: 525.95954 | BF15: 547.42839 | BG15: 4.5260274 | BH15: 3.1123288 | BI15: 3.5643836 | BJ15: 5.1939891 | BK15: 3.6520548 | BL15: 4.5616438 | BM15: 2.0191781 | BN15: 4.0356164 | BO15: 6.5424658 | BP15: 6.1420765 | BQ15: 5.3150685 | BR15: 4.2712329 | BS15: 0 | BT15: 2.7369863 | BU15: 2.4794521 | BV15: 1.4781421 | BW15: 2.9890411 | BX15: 3.1561644 | BY15: 0.079697091 | BZ15: 0.12672989 | CA15: 0.16083182 | CB15: 0.19295647 | CC15: 0.20248701 | CD15: 0.21426823 | CE15: 0.92030291 | CF15: 0.87327011 | CG15: 0.83916818 | CH15: 0.80704353 | CI15: 0.79751299 | CJ15: 0.78573177 | CK15: 0.91497717 | CL15: 0.86666667 | CM15: 0.86952816 | CN15: 0.74614451 | CO15: 0.65896499 | CP15: 0.62170472 | CQ15: 0.9161035 | CR15: 0.86864536 | CS15: 0.86995434 | CT15: 0.74626594 | CU15: 0.65914764 | CV15: 0.62191781 | CW15: 0.95175038 | CX15: 0.91939117 | CY15: 0.90791476 | CZ15: 0.79778385 | DA15: 0.68873668 | DB15: 0.65695586
B16: 600101307 | K16: 12.463014 | L16: 7.6191781 | M16: 8.1972603 | N16: 10.647541 | O16: 16.852055 | P16: 8.5643836 | Q16: 16.868493 | R16: 18.282192 | S16: 23.208219 | T16: 17 | U16: 10.789041 | V16: 7.4410959 | W16: 14.216438 | X16: 9.169863 | Y16: 3.6191781 | Z16: 9.0710383 | AA16: 7.9890411 | AB16: 7.4109589 | AC16: 11.758904 | AD16: 12 | AE16: 11.778082 | AF16: 8.7459016 | AG16: 12.70137 | AH16: 12.646575 | AI16: 6.4273973 | AJ16: 4.9561644 | AK16: 5.7561644 | AL16: 5.8743169 | AM16: 4.2986301 | AN16: 3.3150685 | AO16: 14.180822 | AP16: 14.553425 | AQ16: 14.476712 | AR16: 17.040984 | AS16: 12.791781 | AT16: 12.873973 | AU16: 0 | AV16: 0 | AW16: 0.019178082 | AX16: 0 | AY16: 0 | AZ16: 0 | BA16: 573.7154 | BB16: 545.59419 | BC16: 559.10618 | BD16: 544.73928 | BE16: 588.3697 | BF16: 511.8965 | BG16: 15.967123 | BH16: 12.479452 | BI16: 13.578082 | BJ16: 10.724044 | BK16: 9.6849315 | BL16: 4.769863 | BM16: 11.136986 | BN16: 8.4958904 | BO16: 4.4465753 | BP16: 4.0628415 | BQ16: 4.0410959 | BR16: 5.3780822 | BS16: 11.449315 | BT16: 11.854795 | BU16: 9.4027397 | BV16: 8.6693989 | BW16: 5.7917808 | BX16: 5.090411 | BY16: 0.50784944 | BZ16: 0.49308699 | CA16: 0.40914664 | CB16: 0.34302953 | CC16: 0.29833745 | CD16: 0.29163171 | CE16: 0.49215056 | CF16: 0.50691301 | CG16: 0.59085336 | CH16: 0.65697047 | CI16: 0.70166255 | CJ16: 0.70836829 | CK16: 0.93722307 | CL16: 0.82198546 | CM16: 0.82783697 | CN16: 0.84419483 | CO16: 0.807678 | CP16: 0.6450871 | CQ16: 0.94273634 | CR16: 0.82513107 | CS16: 0.82990022 | CT16: 0.84419483 | CU16: 0.807678 | CV16: 0.64846947 | CW16: 0.94273634 | CX16: 0.82513107 | CY16: 0.82990022 | CZ16: 0.84419483 | DA16: 0.807678 | DB16: 0.65425334
B17: 600100614 | K17: 9.939726 | L17: 12.816438 | M17: 24.50137 | N17: 15.669399 | O17: 12.457534 | P17: 11.80274 | Q17: 46.553425 | R17: 53.29589 | S17: 51.580822 | T17: 40.811475 | U17: 44.476712 | V17: 43.276712 | W17: 26.49589 | X17: 20.693151 | Y17: 20.791781 | Z17: 20.480874 | AA17: 21.372603 | AB17: 21.638356 | AC17: 44.227397 | AD17: 33.260274 | AE17: 17.361644 | AF17: 31.303279 | AG17: 34.221918 | AH17: 39.345205 | AI17: 6.9534247 | AJ17: 10.764384 | AK17: 12.082192 | AL17: 9.3551913 | AM17: 8.6547945 | AN17: 8.8520548 | AO17: 4.6164384 | AP17: 6.509589 | AQ17: 14.657534 | AR17: 10.628415 | AS17: 12.509589 | AT17: 11.805479 | AU17: 1 | AV17: 1 | AW17: 0 | AX17: 0 | AY17: 0 | AZ17: 0 | BA17: 628.08003 | BB17: 643.35754 | BC17: 658.91169 | BD17: 621.43804 | BE17: 608.3817 | BF17: 599.76995 | BG17: 11.591781 | BH17: 9.3369863 | BI17: 13.70137 | BJ17: 12.642077 | BK17: 11.254795 | BL17: 11.80274 | BM17: 12.241096 | BN17: 7.0712329 | BO17: 4.3232877 | BP17: 5 | BQ17: 6.8383562 | BR17: 7.8684932 | BS17: 2.8246575 | BT17: 1.3616438 | BU17: 3 | BV17: 2.2595628 | BW17: 4.4109589 | BX17: 3.9342466 | BY17: 0.19207612 | BZ17: 0.12938618 | CA17: 0.14913713 | CB17: 0.15518013 | CC17: 0.16832657 | CD17: 0.17265495 | CE17: 0.80792388 | CF17: 0.87061382 | CG17: 0.85086287 | CH17: 0.84481987 | CI17: 0.83167343 | CJ17: 0.82734505 | CK17: 1.0056568 | CL17: 0.99524983 | CM17: 1.0142111 | CN17: 0.92265204 | CO17: 0.96182123 | CP17: 0.98360106 | CQ17: 1.0111954 | CR17: 1.0031734 | CS17: 1.0195329 | CT17: 0.92725164 | CU17: 0.96487632 | CV17: 0.98360106 | CW17: 1.0111954 | CX17: 1.0031734 | CY17: 1.0195329 | CZ17: 0.92725164 | DA17: 0.96487632 | DB17: 0.98360106
B18: 600100556 | K18: 12.482192 | L18: 12.438356 | M18: 12.375342 | N18: 12.915301 | O18: 10.09589 | P18: 9.1178082 | Q18: 21.243836 | R18: 20.306849 | S18: 19.389041 | T18: 16.445355 | U18: 19.457534 | V18: 19.978082 | W18: 9.3780822 | X18: 6.630137 | Y18: 3.9671233 | Z18: 11.797814 | AA18: 10.583562 | AB18: 9.4438356 | AC18: 13.69863 | AD18: 12.956164 | AE18: 19.60274 | AF18: 12.193989 | AG18: 12.189041 | AH18: 15.183562 | AI18: 3.7178082 | AJ18: 3.9041096 | AK18: 3.7315068 | AL18: 5.3114754 | AM18: 4.3561644 | AN18: 4.5287671 | AO18: 4.1534247 | AP18: 8.0684932 | AQ18: 4.0958904 | AR18: 0.90710383 | AS18: 2.4356164 | AT18: 4.9616438 | AU18: 0 | AV18: 0 | AW18: 0 | AX18: 0.59836066 | AY18: 0 | AZ18: 0 | BA18: 672.45234 | BB18: 635.33126 | BC18: 644.9037 | BD18: 688.73733 | BE18: 673.30475 | BF18: 632.59914 | BG18: 5.0027397 | BH18: 4.3479452 | BI18: 4.7835616 | BJ18: 5.0846995 | BK18: 6.0547945 | BL18: 7.0931507 | BM18: 2.969863 | BN18: 3 | BO18: 4.2630137 | BP18: 4.8142077 | BQ18: 5.1452055 | BR18: 6.7945205 | BS18: 1.969863 | BT18: 3.2383562 | BU18: 2.109589 | BV18: 0 | BW18: 1.6109589 | BX18: 0.98630137 | BY18: 0.1537321 | BZ18: 0.16462869 | CA18: 0.17662878 | CB18: 0.16616979 | CC18: 0.2167022 | CD18: 0.23529667 | CE18: 0.8462679 | CF18: 0.83537131 | CG18: 0.82337122 | CH18: 0.83383021 | CI18: 0.7832978 | CJ18: 0.76470333 | CK18: 0.96528317 | CL18: 0.95976283 | CM18: 0.9427111 | CN18: 0.89805073 | CO18: 0.88235535 | CP18: 0.94348804 | CQ18: 0.96606011 | CR18: 0.96066244 | CS18: 0.94418319 | CT18: 0.89882554 | CU18: 0.88296872 | CV18: 0.94410141 | CW18: 0.98548354 | CX18: 0.98417502 | CY18: 0.97158045 | CZ18: 0.91468885 | DA18: 0.90517277 | DB18: 0.9603762
B19: 600101323 | K19: 9.2438356 | L19: 11.627397 | M19: 8.6438356 | N19: 7.2185792 | O19: 8.1068493 | P19: 3.5150685 | Q19: 17.320548 | R19: 15.221918 | S19: 20.227397 | T19: 20.628415 | U19: 26.8 | V19: 27.534247 | W19: 9.5369863 | X19: 9.5232877 | Y19: 9.1506849 | Z19: 10.409836 | AA19: 10.342466 | AB19: 11.010959 | AC19: 19.128767 | AD19: 20.558904 | AE19: 21.624658 | AF19: 22.592896 | AG19: 16.79726 | AH19: 19.016438 | AI19: 2.4109589 | AJ19: 3.8630137 | AK19: 3.4191781 | AL19: 2.9535519 | AM19: 2.2219178 | AN19: 1.9753425 | AO19: 6.4767123 | AP19: 4.4410959 | AQ19: 3.1068493 | AR19: 1.8169399 | AS19: 1 | AT19: 1.6767123 | AU19: 0 | AV19: 0 | AW19: 0 | AX19: 0 | AY19: 0 | AZ19: 0 | BA19: 611.02679 | BB19: 622.5211 | BC19: 632.11858 | BD19: 636.56493 | BE19: 691.37808 | BF19: 656.72776 | BG19: 4.9041096 | BH19: 3.9123288 | BI19: 5.3205479 | BJ19: 4.6994536 | BK19: 5 | BL19: 2.9123288 | BM19: 2.2794521 | BN19: 3.4849315 | BO19: 4.1369863 | BP19: 4.5163934 | BQ19: 3.0054795 | BR19: 5.1123288 | BS19: 1.9945205 | BT19: 0.66027397 | BU19: 0 | BV19: 0.16666667 | BW19: 0.99452055 | BX19: 1 | BY19: 0.14314404 | BZ19: 0.12351434 | CA19: 0.1429222 | CB19: 0.14298205 | CC19: 0.13789195 | CD19: 0.13942267 | CE19: 0.85685596 | CF19: 0.87648566 | CG19: 0.8570778 | CH19: 0.85701795 | CI19: 0.86210805 | CJ19: 0.86057733 | CK19: 0.9292436 | CL19: 0.94544372 | CM19: 0.95902323 | CN19: 0.95101766 | CO19: 0.94592019 | CP19: 0.93809807 | CQ19: 0.93936867 | CR19: 0.94695255 | CS19: 0.95965853 | CT19: 0.95184921 | CU19: 0.94703196 | CV19: 0.93940838 | CW19: 0.96303355 | CX19: 0.97562041 | CY19: 0.99106611 | CZ19: 0.98166627 | DA19: 0.96668652 | DB19: 0.95604527
B20: 600101331 | K20: 13.69589 | L20: 13.912329 | M20: 13.726027 | N20: 14.639344 | O20: 14.010959 | P20: 10.224658 | Q20: 27.838356 | R20: 24.887671 | S20: 24.254795 | T20: 14.887978 | U20: 19.638356 | V20: 19.473973 | W20: 12.934247 | X20: 14.613699 | Y20: 14.545205 | Z20: 12.650273 | AA20: 13.383562 | AB20: 16.8 | AC20: 7.0958904 | AD20: 8.1972603 | AE20: 7.4136986 | AF20: 10.480874 | AG20: 9.2630137 | AH20: 9.8054795 | AI20: 1.1616438 | AJ20: 0.6739726 | AK20: 1.9863014 | AL20: 1.3934426 | AM20: 2.969863 | AN20: 2.0931507 | AO20: 0 | AP20: 0.1890411 | AQ20: 0.80547945 | AR20: 0.83879781 | AS20: 0.80821918 | AT20: 2 | AU20: 0.80821918 | AV20: 0.50136986 | AW20: 0 | AX20: 0.34699454 | AY20: 0.35616438 | AZ20: 0 | BA20: 779.37978 | BB20: 769.72197 | BC20: 755.06879 | BD20: 734.24938 | BE20: 732.92698 | BF20: 702.88592 | BG20: 10.652055 | BH20: 10.194521 | BI20: 8.7479452 | BJ20: 6.0300546 | BK20: 3.0931507 | BL20: 2 | BM20: 3.4356164 | BN20: 4.1945205 | BO20: 4.1917808 | BP20: 5.2349727 | BQ20: 4.5287671 | BR20: 4.7205479 | BS20: 0 | BT20: 0 | BU20: 0 | BV20: 0 | BW20: 0 | BX20: 0 | BY20: 0.22459052 | BZ20: 0.23032057 | CA20: 0.20627156 | CB20: 0.20522648 | CC20: 0.12687554 | CD20: 0.1112724 | CE20: 0.77540948 | CF20: 0.76967943 | CG20: 0.79372844 | CH20: 0.79477352 | CI20: 0.87312446 | CJ20: 0.8887276 | CK20: 0.97744995 | CL20: 0.96885142 | CM20: 0.96510011 | CN20: 0.84981084 | CO20: 0.92969442 | CP20: 0.92918862 | CQ20: 0.97858799 | CR20: 0.97007376 | CS20: 0.96644889 | CT20: 0.85052543 | CU20: 0.93066386 | CV20: 0.92982086 | CW20: 0.99936776 | CX20: 0.99076923 | CY20: 0.99692308 | CZ20: 0.86666667 | DA20: 0.94908325 | DB20: 0.94132771
B21: 600101349 | K21: 4.7041096 | L21: 8.1808219 | M21: 10.172603 | N21: 10.297814 | O21: 7.1753425 | P21: 3.2493151 | Q21: 38.186301 | R21: 37.309589 | S21: 36.054795 | T21: 26.852459 | U21: 21.690411 | V21: 32.816438 | W21: 9.5342466 | X21: 9.7178082 | Y21: 11.10411 | Z21: 14.513661 | AA21: 17.364384 | AB21: 20.791781 | AC21: 18.978082 | AD21: 18.79726 | AE21: 16.432877 | AF21: 16.806011 | AG21: 26.010959 | AH21: 22.038356 | AI21: 3.0986301 | AJ21: 3.5808219 | AK21: 3.7150685 | AL21: 4.3715847 | AM21: 4.9671233 | AN21: 0 | AO21: 1.6410959 | AP21: 1.8191781 | AQ21: 2.0767123 | AR21: 1.0601093 | AS21: 0.84109589 | AT21: 0 | AU21: 0 | AV21: 0 | AW21: 0 | AX21: 0 | AY21: 0 | AZ21: 0 | BA21: 682.05743 | BB21: 690.78391 | BC21: 700.92982 | BD21: 685.4858 | BE21: 628.84653 | BF21: 681.83283 | BG21: 21.432877 | BH21: 15.857534 | BI21: 9.8657534 | BJ21: 9.4918033 | BK21: 8.6821918 | BL21: 15.260274 | BM21: 10.846575 | BN21: 10.20274 | BO21: 10.813699 | BP21: 14.959016 | BQ21: 21.528767 | BR21: 23.712329 | BS21: 0 | BT21: 0.85205479 | BU21: 1.3178082 | BV21: 2 | BW21: 2.0164384 | BX21: 0 | BY21: 0.42393495 | BZ21: 0.33892282 | CA21: 0.27649976 | CB21: 0.35791925 | CC21: 0.4129107 | CD21: 0.49397507 | CE21: 0.57606505 | CF21: 0.66107718 | CG21: 0.72350024 | CH21: 0.64208075 | CI21: 0.5870893 | CJ21: 0.50602493 | CK21: 0.94003044 | CL21: 0.98031456 | CM21: 0.98217487 | CN21: 0.91236592 | CO21: 0.96357179 | CP21: 0.97402334 | CQ21: 0.94047015 | CR21: 0.98163369 | CS21: 0.98231016 | CT21: 0.91280443 | CU21: 0.96404532 | CV21: 0.97480129 | CW21: 0.97172332 | CX21: 0.99394554 | CY21: 0.99462202 | CZ21: 0.92488025 | DA21: 0.97551158 | DB21: 0.98298664
B22: 600101356 | K22: 5.7232877 | L22: 5.8219178 | M22: 4.4575342 | N22: 5.8907104 | O22: 8.9342466 | P22: 8.8876712 | Q22: 11.49589 | R22: 11.224658 | S22: 11.986301 | T22: 12.972678 | U22: 12.139726 | V22: 13.936986 | W22: 8.4739726 | X22: 10.035616 | Y22: 10.671233 | Z22: 13.486339 | AA22: 16.832877 | AB22: 14.589041 | AC22: 13.315068 | AD22: 14.827397 | AE22: 14.10137 | AF22: 13.404372 | AG22: 9.1945205 | AH22: 10.515068 | AI22: 9.1205479 | AJ22: 5.1835616 | AK22: 6.1561644 | AL22: 4.295082 | AM22: 2.569863 | AN22: 2.7041096 | AO22: 6.3150685 | AP22: 5.7205479 | AQ22: 4.0739726 | AR22: 2.4972678 | AS22: 1 | AT22: 0.74794521 | AU22: 0 | AV22: 0 | AW22: 0 | AX22: 0 | AY22: 0 | AZ22: 0 | BA22: 537.93378 | BB22: 564.20916 | BC22: 569.83065 | BD22: 619.77849 | BE22: 687.0857 | BF22: 688.35448 | BG22: 5.0630137 | BH22: 5.5479452 | BI22: 4.9342466 | BJ22: 6.1912568 | BK22: 4.6438356 | BL22: 4.6684932 | BM22: 6.8109589 | BN22: 5.7479452 | BO22: 5.3643836 | BP22: 4.7622951 | BQ22: 4.8794521 | BR22: 5.1945205 | BS22: 2.4767123 | BT22: 1.7260274 | BU22: 1.7287671 | BV22: 2 | BW22: 0 | BX22: 1 | BY22: 0.26358696 | BZ22: 0.24656326 | CA22: 0.23378422 | CB22: 0.24651622 | CC22: 0.18794269 | CD22: 0.21142156 | CE22: 0.73641304 | CF22: 0.75343674 | CG22: 0.76621578 | CH22: 0.75348378 | CI22: 0.81205731 | CJ22: 0.78857844 | CK22: 0.98988792 | CL22: 0.96024907 | CM22: 0.93539228 | CN22: 0.95538997 | CO22: 0.92129514 | CP22: 0.93419676 | CQ22: 0.99651308 | CR22: 0.96433375 | CS22: 0.94645081 | CT22: 0.95911575 | CU22: 0.92458281 | CV22: 0.93853051 | CW22: 1.0072229 | CX22: 0.96881694 | CY22: 0.97648817 | CZ22: 0.96905117 | DA22: 0.94655044 | DB22: 0.94630137
B23: 600100549 | K23: 24.610959 | L23: 33.076712 | M23: 29.808219 | N23: 32.964481 | O23: 30.227397 | P23: 20.191781 | Q23: 63.334247 | R23: 72.356164 | S23: 80.367123 | T23: 67.931694 | U23: 60.720548 | V23: 73.575342 | W23: 29.663014 | X23: 30.134247 | Y23: 31.19726 | Z23: 39.139344 | AA23: 37.865753 | AB23: 43.50137 | AC23: 54.884932 | AD23: 34.40274 | AE23: 32.082192 | AF23: 28.625683 | AG23: 39.191781 | AH23: 36.194521 | AI23: 7.2383562 | AJ23: 11.673973 | AK23: 9.1123288 | AL23: 8.4016393 | AM23: 7.0958904 | AN23: 8.9369863 | AO23: 4.369863 | AP23: 1.1424658 | AQ23: 2.2821918 | AR23: 0.42349727 | AS23: 0 | AT23: 1.3863014 | AU23: 0 | AV23: 0 | AW23: 0 | AX23: 0.46174863 | AY23: 0.4 | AZ23: 0 | BA23: 665.701 | BB23: 717.73491 | BC23: 723.93642 | BD23: 732.51786 | BE23: 710.78014 | BF23: 697.76125 | BG23: 10.767123 | BH23: 13.027397 | BI23: 16.369863 | BJ23: 12.248634 | BK23: 11.775342 | BL23: 12.254795 | BM23: 10.156164 | BN23: 6.0520548 | BO23: 8.3890411 | BP23: 7.2486339 | BQ23: 11.652055 | BR23: 12.00274 | BS23: 0 | BT23: 0 | BU23: 0.83835616 | BV23: 1.4808743 | BW23: 1.1616438 | BX23: 1.3041096 | BY23: 0.11365091 | BZ23: 0.10438119 | CA23: 0.13847636 | CB23: 0.11819581 | CC23: 0.14042746 | CD23: 0.13908351 | CE23: 0.88634909 | CF23: 0.89561881 | CG23: 0.86152364 | CH23: 0.88180419 | CI23: 0.85957254 | CJ23: 0.86091649 | CK23: 0.96895458 | CL23: 0.96203317 | CM23: 0.97289113 | CN23: 0.93656888 | CO23: 0.92369142 | CP23: 0.96729632 | CQ23: 0.96895458 | CR23: 0.96242249 | CS23: 0.97466474 | CT23: 0.93744607 | CU23: 0.92493151 | CV23: 0.96931507 | CW23: 0.96895458 | CX23: 0.98122567 | CY23: 0.98836337 | CZ23: 0.95556514 | DA23: 0.9391925 | DB23: 0.98771449
B24: 600101364 | K24: 0 | L24: 0 | M24: 8.3068493 | N24: 12.415301 | O24: 10.334247 | P24: 13.978082 | Q24: 0 | R24: 0 | S24: 11.665753 | T24: 22.846995 | U24: 21.369863 | V24: 15.980822 | W24: 0 | X24: 0 | Y24: 7.3041096 | Z24: 1.3606557 | AA24: 3.3726027 | AB24: 5.169863 | AC24: 0 | AD24: 0 | AE24: 9.1726027 | AF24: 5.1557377 | AG24: 5.0164384 | AH24: 5.5068493 | AI24: 0 | AJ24: 0 | AK24: 9.6876712 | AL24: 4.3661202 | AM24: 2.9726027 | AN24: 5.7369863 | AO24: 0 | AP24: 0 | AQ24: 0 | AR24: 0 | AS24: 0 | AT24: 0 | AU24: 0 | AV24: 0 | AW24: 0 | AX24: 0 | AY24: 0 | AZ24: 0 | BA24: #DIV/0! | BB24: #DIV/0! | BC24: 632.92399 | BD24: 774.98964 | BE24: 774.65042 | BF24: 745.29363 | BG24: 0 | BH24: 0 | BI24: 3.3753425 | BJ24: 0 | BK24: 0 | BL24: 1.6410959 | BM24: 0 | BN24: 0 | BO24: 1.2328767 | BP24: 0 | BQ24: 1.8136986 | BR24: 0.94246575 | BS24: 0 | BT24: 0 | BU24: 0 | BV24: 0 | BW24: 0 | BX24: 0 | BY24: #DIV/0! | BZ24: #DIV/0! | CA24: 0.099881235 | CB24: 0 | CC24: 0.042114638 | CD24: 0.055713104 | CE24: #DIV/0! | CF24: #DIV/0! | CG24: 0.90011876 | CH24: 1 | CI24: 0.95788536 | CJ24: 0.9442869 | CK24: 0.93424658 | CL24: 0.96438356 | CM24: 0.94157115 | CN24: 0.94173079 | CO24: 0.87889293 | CP24: 0.94637965 | CQ24: 0.94084428 | CR24: 0.96438356 | CS24: 0.94157115 | CT24: 0.94173079 | CU24: 0.87889293 | CV24: 0.94637965 | CW24: 0.95694716 | CX24: 0.96438356 | CY24: 0.96578138 | CZ24: 0.95388647 | DA24: 0.8967291 | DB24: 0.9619234
B25: 600101372 | K25: 11.213699 | L25: 13.290411 | M25: 12.263014 | N25: 7.9863388 | O25: 12.758904 | P25: 10.526027 | Q25: 29.917808 | R25: 30.334247 | S25: 34.273973 | T25: 32.407104 | U25: 25.90137 | V25: 21.684932 | W25: 8.3369863 | X25: 8.3424658 | Y25: 7.7643836 | Z25: 8.8579235 | AA25: 13.164384 | AB25: 14.871233 | AC25: 22.487671 | AD25: 22.70411 | AE25: 19.605479 | AF25: 22.39071 | AG25: 23.252055 | AH25: 28.59726 | AI25: 3.5452055 | AJ25: 2.030137 | AK25: 1.4958904 | AL25: 2.2295082 | AM25: 1.4931507 | AN25: 0.95342466 | AO25: 0 | AP25: 0 | AQ25: 0 | AR25: 1.4672131 | AS25: 0 | AT25: 0 | AU25: 0 | AV25: 0 | AW25: 0 | AX25: 0 | AY25: 0 | AZ25: 0 | BA25: 691.08934 | BB25: 708.20724 | BC25: 726.57728 | BD25: 678.51781 | BE25: 696.66702 | BF25: 662.97379 | BG25: 5.5616438 | BH25: 3.890411 | BI25: 5.5232877 | BJ25: 5.8743169 | BK25: 4.2054795 | BL25: 4.7972603 | BM25: 8.3808219 | BN25: 7.4657534 | BO25: 4.0493151 | BP25: 5 | BQ25: 2.9753425 | BR25: 3 | BS25: 1.0054795 | BT25: 0 | BU25: 0 | BV25: 0 | BW25: 0 | BX25: 0 | BY25: 0.19798244 | BZ25: 0.14805687 | CA25: 0.12695298 | CB25: 0.14433887 | CC25: 0.093781308 | CD25: 0.10174824 | CE25: 0.80201756 | CF25: 0.85194313 | CG25: 0.87304702 | CH25: 0.85566113 | CI25: 0.90621869 | CJ25: 0.89825176 | CK25: 0.95571354 | CL25: 0.97090342 | CM25: 0.95446506 | CN25: 0.95365567 | CO25: 0.96923877 | CP25: 0.97003641 | CQ25: 0.9566499 | CR25: 0.97183978 | CS25: 0.95460378 | CT25: 0.95465864 | CU25: 0.97090342 | CV25: 0.97149298 | CW25: 0.97738859 | CX25: 0.99687879 | CY25: 0.97315762 | CZ25: 0.97796915 | DA25: 0.98165424 | DB25: 0.98519161
B26: 600101398 | K26: 7.1260274 | L26: 8.0630137 | M26: 6.4136986 | N26: 9.6775956 | O26: 10.545205 | P26: 12.652055 | Q26: 21.482192 | R26: 23.208219 | S26: 28.268493 | T26: 25.418033 | U26: 17.956164 | V26: 22.89589 | W26: 8.7753425 | X26: 10.772603 | Y26: 7.1643836 | Z26: 6.5136612 | AA26: 9.309589 | AB26: 6.7753425 | AC26: 14.147945 | AD26: 13.627397 | AE26: 15.252055 | AF26: 11.986339 | AG26: 12.950685 | AH26: 12.690411 | AI26: 7.4219178 | AJ26: 4.2410959 | AK26: 2.3260274 | AL26: 4.4098361 | AM26: 3.7041096 | AN26: 2.9068493 | AO26: 4 | AP26: 3.4465753 | AQ26: 3.3232877 | AR26: 2.6775956 | AS26: 3.8082192 | AT26: 3.739726 | AU26: 0 | AV26: 0 | AW26: 0 | AX26: 0.38797814 | AY26: 1 | AZ26: 1 | BA26: 620.14753 | BB26: 658.0429 | BC26: 671.06143 | BD26: 686.38451 | BE26: 659.03526 | BF26: 692.09544 | BG26: 3.0520548 | BH26: 3.3342466 | BI26: 4.9671233 | BJ26: 4.7786885 | BK26: 3.9917808 | BL26: 3.7945205 | BM26: 6.1260274 | BN26: 4.8246575 | BO26: 2.9863014 | BP26: 2.4371585 | BQ26: 1.539726 | BR26: 2.5068493 | BS26: 0 | BT26: 0 | BU26: 0 | BV26: 1.3961749 | BW26: 1.1068493 | BX26: 1 | BY26: 0.14579163 | BZ26: 0.12877281 | CA26: 0.12675195 | CB26: 0.14191805 | CC26: 0.11391631 | CD26: 0.11841287 | CE26: 0.85420837 | CF26: 0.87122719 | CG26: 0.87324805 | CH26: 0.85808195 | CI26: 0.88608369 | CJ26: 0.88158713 | CK26: 0.99926071 | CL26: 1.0056969 | CM26: 0.99599913 | CN26: 0.96938156 | CO26: 0.94085671 | CP26: 0.99460752 | CQ26: 0.99926071 | CR26: 1.0136986 | CS26: 0.998217 | CT26: 0.96977188 | CU26: 0.94320504 | CV26: 0.99878234 | CW26: 0.99926071 | CX26: 1.0283975 | CY26: 0.998217 | CZ26: 0.96977188 | DA26: 0.95994781 | DB26: 1.010611
B27: 600101547 | K27: 10.693151 | L27: 11.517808 | M27: 7.9123288 | N27: 6.5519126 | O27: 2.5424658 | P27: 5.5315068 | Q27: 18.40274 | R27: 22.630137 | S27: 25.432877 | T27: 22.431694 | U27: 26.728767 | V27: 23.534247 | W27: 15.358904 | X27: 10.413699 | Y27: 13.591781 | Z27: 10.989071 | AA27: 11.693151 | AB27: 13.043836 | AC27: 10.342466 | AD27: 10.243836 | AE27: 8.7424658 | AF27: 11.92623 | AG27: 10.178082 | AH27: 12.583562 | AI27: 1.5479452 | AJ27: 1.4657534 | AK27: 1.0520548 | AL27: 2.9098361 | AM27: 1.8712329 | AN27: 0 | AO27: 0 | AP27: 0 | AQ27: 0 | AR27: 0.73497268 | AS27: 2.3945205 | AT27: 1.9863014 | AU27: 1 | AV27: 1 | AW27: 0.95342466 | AX27: 0.47814208 | AY27: 0.021917808 | AZ27: 0 | BA27: 727.99718 | BB27: 747.61137 | BC27: 743.52634 | BD27: 691.9819 | BE27: 679.00267 | BF27: 693.96123 | BG27: 9.4082192 | BH27: 13.523288 | BI27: 11.065753 | BJ27: 8.9262295 | BK27: 8.7424658 | BL27: 7.4493151 | BM27: 9.1616438 | BN27: 6.3232877 | BO27: 6.1863014 | BP27: 4.1775956 | BQ27: 4.3150685 | BR27: 4.8356164 | BS27: 0.84383562 | BT27: 0.74794521 | BU27: 0.98082192 | BV27: 1.9098361 | BW27: 1.1589041 | BX27: 1 | BY27: 0.34454926 | BZ27: 0.36598666 | CA27: 0.3213889 | CB27: 0.27030351 | CC27: 0.25657634 | CD27: 0.23438708 | CE27: 0.65545074 | CF27: 0.63401334 | CG27: 0.6786111 | CH27: 0.72969649 | CI27: 0.74342366 | CJ27: 0.76561292 | CK27: 0.97195264 | CL27: 0.97069886 | CM27: 0.9777107 | CN27: 0.94952302 | CO27: 0.93949385 | CP27: 0.96066868 | CQ27: 0.97320641 | CR27: 0.98045043 | CS27: 0.9777107 | CT27: 0.94989349 | CU27: 0.94441607 | CV27: 0.97069886 | CW27: 0.9850476 | CX27: 0.99363826 | CY27: 0.99893197 | CZ27: 0.96781513 | DA27: 0.96048293 | DB27: 0.98592988
B28: 600103105 | K28: 17.175342 | L28: 11.950685 | M28: 8.9041096 | N28: 4.5163934 | O28: 7.8630137 | P28: 9.030137 | Q28: 34.706849 | R28: 31.169863 | S28: 32.29589 | T28: 39.166667 | U28: 33.668493 | V28: 26.482192 | W28: 9.3671233 | X28: 9.9534247 | Y28: 16.386301 | Z28: 13.937158 | AA28: 17.252055 | AB28: 24.641096 | AC28: 25.473973 | AD28: 32.605479 | AE28: 29.69863 | AF28: 28.336066 | AG28: 15.405479 | AH28: 19.515068 | AI28: 5.3205479 | AJ28: 6.8 | AK28: 6.0821918 | AL28: 5.9125683 | AM28: 6.9753425 | AN28: 4.4520548 | AO28: 7.8876712 | AP28: 5.7369863 | AQ28: 5.060274 | AR28: 3.6939891 | AS28: 8.0876712 | AT28: 7.1150685 | AU28: 0 | AV28: 0 | AW28: 0 | AX28: 0 | AY28: 0 | AZ28: 0 | BA28: 651.37354 | BB28: 615.97144 | BC28: 621.73551 | BD28: 630.50435 | BE28: 630.92304 | BF28: 628.54509 | BG28: 5.1890411 | BH28: 5.1616438 | BI28: 4.5369863 | BJ28: 6 | BK28: 4.2383562 | BL28: 3 | BM28: 0.93150685 | BN28: 2.7424658 | BO28: 3.2328767 | BP28: 3 | BQ28: 6.2821918 | BR28: 7.6465753 | BS28: 0 | BT28: 0 | BU28: 0 | BV28: 0 | BW28: 1.5342466 | BX28: 0.50136986 | BY28: 0.06124743 | BZ28: 0.080476443 | CA28: 0.078940043 | CB28: 0.094178866 | CC28: 0.13506462 | CD28: 0.12218852 | CE28: 0.93875257 | CF28: 0.91952356 | CG28: 0.92105996 | CH28: 0.90582113 | CI28: 0.86493538 | CJ28: 0.87781148 | CK28: 0.99931507 | CL28: 0.98216438 | CM28: 0.98427397 | CN28: 0.95562842 | CO28: 0.89252055 | CP28: 0.91235616 | CQ28: 0.99931507 | CR28: 0.98216438 | CS28: 0.98427397 | CT28: 0.95562842 | CU28: 0.89252055 | CV28: 0.91235616 | CW28: 0.99931507 | CX28: 0.98216438 | CY28: 0.98427397 | CZ28: 0.95562842 | DA28: 0.89252055 | DB28: 0.91235616
B29: 600101513 | K29: 14.526027 | L29: 9.6876712 | M29: 16.293151 | N29: 17.204918 | O29: 20.430137 | P29: 10.465753 | Q29: 62.027397 | R29: 63.153425 | S29: 58.060274 | T29: 53.032787 | U29: 55.865753 | V29: 52.443836 | W29: 18.178082 | X29: 17.810959 | Y29: 17.20274 | Z29: 12.95082 | AA29: 16.920548 | AB29: 16.90137 | AC29: 39.769863 | AD29: 40.309589 | AE29: 36.769863 | AF29: 23.273224 | AG29: 26.868493 | AH29: 28.684932 | AI29: 14.153425 | AJ29: 16.580822 | AK29: 9.4931507 | AL29: 17.724044 | AM29: 10.838356 | AN29: 13.59726 | AO29: 13.257534 | AP29: 8.4493151 | AQ29: 16.673973 | AR29: 22.997268 | AS29: 17.915068 | AT29: 12.99726 | AU29: 0 | AV29: 0.10684932 | AW29: 0 | AX29: 0 | AY29: 1.8520548 | AZ29: 3 | BA29: 616.36011 | BB29: 616.4329 | BC29: 617.51215 | BD29: 585.09161 | BE29: 630.03479 | BF29: 607.22499 | BG29: 53.473973 | BH29: 50.490411 | BI29: 53.975342 | BJ29: 42 | BK29: 48.545205 | BL29: 37.643836 | BM29: 32.057534 | BN29: 32.452055 | BO29: 26.684932 | BP29: 23 | BQ29: 22.342466 | BR29: 26.287671 | BS29: 11.372603 | BT29: 10.764384 | BU29: 12.205479 | BV29: 23 | BW29: 18.180822 | BX29: 12.564384 | BY29: 0.59849741 | BZ29: 0.60071658 | CA29: 0.60109949 | CB29: 0.59789489 | CC29: 0.59842433 | CD29: 0.566257 | CE29: 0.40150259 | CF29: 0.39928342 | CG29: 0.39890051 | CH29: 0.40210511 | CI29: 0.40157567 | CJ29: 0.433743 | CK29: 0.99945882 | CL29: 0.96291223 | CM29: 0.95366142 | CN29: 0.90853741 | CO29: 0.93018772 | CP29: 0.85240994 | CQ29: 0.99945882 | CR29: 0.96291223 | CS29: 0.95366142 | CT29: 0.90853741 | CU29: 0.93018772 | CV29: 0.85240994 | CW29: 0.99945882 | CX29: 0.96291223 | CY29: 0.95366142 | CZ29: 0.90853741 | DA29: 0.93018772 | DB29: 0.85240994
B30: 600102073 | K30: 18.254795 | L30: 19.709589 | M30: 27.408219 | N30: 27.928962 | O30: 19.463014 | P30: 15.279452 | Q30: 54.339726 | R30: 51.361644 | S30: 32.991781 | T30: 35.560109 | U30: 45.958904 | V30: 50.468493 | W30: 12.443836 | X30: 17.460274 | Y30: 22.482192 | Z30: 16.68306 | AA30: 13.265753 | AB30: 11.331507 | AC30: 25.315068 | AD30: 28.010959 | AE30: 40.575342 | AF30: 34.065574 | AG30: 27.986301 | AH30: 29.208219 | AI30: 15.972603 | AJ30: 19.586301 | AK30: 15.424658 | AL30: 8.7513661 | AM30: 11.80274 | AN30: 9.8109589 | AO30: 20.868493 | AP30: 9.6986301 | AQ30: 7 | AR30: 7.8934426 | AS30: 9.8849315 | AT30: 10.849315 | AU30: 5.9808219 | AV30: 5.5753425 | AW30: 3.8958904 | AX30: 2.4125683 | AY30: 4.9068493 | AZ30: 8.2054795 | BA30: 599.20281 | BB30: 628.94377 | BC30: 626.17218 | BD30: 655.99441 | BE30: 640.54 | BF30: 635.15344 | BG30: 17.635616 | BH30: 15.180822 | BI30: 15.372603 | BJ30: 16 | BK30: 18.89589 | BL30: 15.156164 | BM30: 9.1205479 | BN30: 9.1041096 | BO30: 11.690411 | BP30: 8 | BQ30: 6.0767123 | BR30: 6.860274 | BS30: 7.2657534 | BT30: 5 | BU30: 2 | BV30: 1 | BW30: 1 | BX30: 1.0520548 | BY30: 0.23113576 | BZ30: 0.20081913 | CA30: 0.19922249 | CB30: 0.191011 | CC30: 0.20233928 | CD30: 0.18171616 | CE30: 0.76886424 | CF30: 0.79918087 | CG30: 0.80077751 | CH30: 0.808989 | CI30: 0.79766072 | CJ30: 0.81828384 | CK30: 0.98189322 | CL30: 0.97053038 | CM30: 0.96011591 | CN30: 0.85445565 | CO30: 0.85428521 | CP30: 0.86636811 | CQ30: 0.98189322 | CR30: 0.97053038 | CS30: 0.96011591 | CT30: 0.85445565 | CU30: 0.85428521 | CV30: 0.86636811 | CW30: 0.98189322 | CX30: 0.97053038 | CY30: 0.96011591 | CZ30: 0.85445565 | DA30: 0.85428521 | DB30: 0.86636811
B31: 600102529 | K31: 5 | L31: 8.0027397 | M31: 9.6136986 | N31: 6.6912568 | O31: 7.4 | P31: 7.8438356 | Q31: 13.745205 | R31: 16.879452 | S31: 17.783562 | T31: 18.144809 | U31: 26.123288 | V31: 27.553425 | W31: 5.8931507 | X31: 5.2164384 | Y31: 6.6986301 | Z31: 3.9125683 | AA31: 5.8191781 | AB31: 7.6054795 | AC31: 19.087671 | AD31: 15.347945 | AE31: 12.942466 | AF31: 13.63388 | AG31: 9.5013699 | AH31: 5.660274 | AI31: 3.5013699 | AJ31: 3.5123288 | AK31: 3.3589041 | AL31: 2.9672131 | AM31: 1 | AN31: 1.739726 | AO31: 5.8027397 | AP31: 2.7342466 | AQ31: 0.96712329 | AR31: 0.96994536 | AS31: 0.99452055 | AT31: 0.66575342 | AU31: 0 | AV31: 0 | AW31: 0 | AX31: 0 | AY31: 0 | AZ31: 0 | BA31: 560.69642 | BB31: 641.08968 | BC31: 687.56294 | BD31: 670.36572 | BE31: 737.5221 | BF31: 761.0794 | BG31: 5.0493151 | BH31: 6.3589041 | BI31: 5.2 | BJ31: 4.3142077 | BK31: 6.3342466 | BL31: 5.169863 | BM31: 5.8931507 | BN31: 4.8191781 | BO31: 6.2493151 | BP31: 4.4836066 | BQ31: 3.6821918 | BR31: 3 | BS31: 1 | BT31: 17.189041 | BU31: 0.96712329 | BV31: 0.96994536 | BW31: 0.16164384 | BX31: 0 | BY31: 0.22520149 | BZ31: 0.5487598 | CA31: 0.24173245 | CB31: 0.21087713 | CC31: 0.20020479 | CD31: 0.15997854 | CE31: 0.77479851 | CF31: 0.4512402 | CG31: 0.75826755 | CH31: 0.78912287 | CI31: 0.79979521 | CJ31: 0.84002146 | CK31: 1.0005686 | CL31: 0.97534247 | CM31: 0.96913931 | CN31: 0.87395608 | CO31: 0.95921427 | CP31: 0.96355647 | CQ31: 1.0005686 | CR31: 0.97560093 | CS31: 0.96960455 | CT31: 0.87405918 | CU31: 0.95942104 | CV31: 0.96371155 | CW31: 1.0322047 | CX31: 0.99937968 | CY31: 0.99400362 | CZ31: 0.89390659 | DA31: 0.97968467 | DB31: 0.98004652
B32: 600009757 | K32: 11.010959 | L32: 11.621918 | M32: 7.7726027 | N32: 12.090164 | O32: 15.254795 | P32: 9.6630137 | Q32: 27.835616 | R32: 31.756164 | S32: 30.769863 | T32: 31.054645 | U32: 37.038356 | V32: 40.019178 | W32: 17.523288 | X32: 15.832877 | Y32: 15.139726 | Z32: 15.882514 | AA32: 17.668493 | AB32: 17.945205 | AC32: 21.183562 | AD32: 15.808219 | AE32: 15.939726 | AF32: 12.666667 | AG32: 10.649315 | AH32: 13.243836 | AI32: 2.9068493 | AJ32: 2.8684932 | AK32: 6.8410959 | AL32: 6.3087432 | AM32: 2.2164384 | AN32: 1 | AO32: 2.339726 | AP32: 2.3178082 | AQ32: 3.9972603 | AR32: 2.9754098 | AS32: 1.1780822 | AT32: 0.99452055 | AU32: 0.26849315 | AV32: 0.94520548 | AW32: 1.1315068 | AX32: 1 | AY32: 0.41369863 | AZ32: 0 | BA32: 673.25888 | BB32: 701.51836 | BC32: 649.96391 | BD32: 688.63014 | BE32: 751.58796 | BF32: 736.19057 | BG32: 6.4958904 | BH32: 5.4520548 | BI32: 3.3890411 | BJ32: 3.3770492 | BK32: 3.9780822 | BL32: 3.2191781 | BM32: 2.0657534 | BN32: 1.4410959 | BO32: 2.8739726 | BP32: 1.9398907 | BQ32: 1.1616438 | BR32: 1.6082192 | BS32: 0 | BT32: 0 | BU32: 0 | BV32: 0 | BW32: 0 | BX32: 0 | BY32: 0.1034015 | BZ32: 0.085943638 | CA32: 0.077839826 | CB32: 0.065658951 | CC32: 0.061183224 | CD32: 0.058255637 | CE32: 0.8965985 | CF32: 0.91405636 | CG32: 0.92216017 | CH32: 0.93434105 | CI32: 0.93881678 | CJ32: 0.94174436 | CK32: 1.0383562 | CL32: 1.0143836 | CM32: 1.0198973 | CN32: 1.0247268 | CO32: 1.0552397 | CP32: 1.0358219 | CQ32: 1.0394178 | CR32: 1.0161301 | CS32: 1.0215753 | CT32: 1.0257855 | CU32: 1.0557877 | CV32: 1.0363699 | CW32: 1.0696918 | CX32: 1.0470548 | CY32: 1.067089 | CZ32: 1.0492486 | DA32: 1.0735959 | DB32: 1.0575685
B33: 600100622 | K33: 16.728767 | L33: 19.684932 | M33: 20.252055 | N33: 19.603825 | O33: 16.534247 | P33: 12.884932 | Q33: 27.835616 | R33: 29.027397 | S33: 33.336986 | T33: 29.314208 | U33: 25.569863 | V33: 29.435616 | W33: 14.068493 | X33: 13.452055 | Y33: 18.320548 | Z33: 17.751366 | AA33: 17.512329 | AB33: 13.257534 | AC33: 15.216438 | AD33: 14.153425 | AE33: 6.1068493 | AF33: 10.193989 | AG33: 13.621918 | AH33: 16.679452 | AI33: 3.5835616 | AJ33: 1.3150685 | AK33: 0 | AL33: 0.50273224 | AM33: 2.230137 | AN33: 2.339726 | AO33: 0.7890411 | AP33: 0.15890411 | AQ33: 0 | AR33: 0 | AS33: 0.48493151 | AT33: 0.53972603 | AU33: 0 | AV33: 0 | AW33: 0 | AX33: 0 | AY33: 0 | AZ33: 0 | BA33: 725.34552 | BB33: 761.39959 | BC33: 806.38854 | BD33: 780.06781 | BE33: 735.76345 | BF33: 718.53965 | BG33: 14.19726 | BH33: 14.59726 | BI33: 17.235616 | BJ33: 14.765027 | BK33: 11.534247 | BL33: 10.556164 | BM33: 7.0684932 | BN33: 7.2547945 | BO33: 4.6547945 | BP33: 6.3715847 | BQ33: 7.8438356 | BR33: 8.8164384 | BS33: 0 | BT33: 0 | BU33: 0 | BV33: 0.50273224 | BW33: 0.51232877 | BX33: 2.7452055 | BY33: 0.27186438 | BZ33: 0.28090442 | CA33: 0.28058716 | CB33: 0.27970052 | CC33: 0.26187642 | CD33: 0.29436645 | CE33: 0.72813562 | CF33: 0.71909558 | CG33: 0.71941284 | CH33: 0.72029948 | CI33: 0.73812358 | CJ33: 0.70563355 | CK33: 0.97777397 | CL33: 0.97157534 | CM33: 0.97520548 | CN33: 0.9670765 | CO33: 0.94941781 | CP33: 0.93921233 | CQ33: 0.97859589 | CR33: 0.97239726 | CS33: 0.97582192 | CT33: 0.96840847 | CU33: 0.94976027 | CV33: 0.93958904 | CW33: 0.99339041 | CX33: 0.98609589 | CY33: 0.99037671 | CZ33: 0.97387295 | DA33: 0.95876712 | DB33: 0.94626712
B34: 600009732 | K34: 4.7671233 | L34: 4.369863 | M34: 10.528767 | N34: 5.2240437 | O34: 1.5890411 | P34: 3.2630137 | Q34: 21.852055 | R34: 32.221918 | S34: 29.630137 | T34: 31.07377 | U34: 38.789041 | V34: 29.419178 | W34: 18.558904 | X34: 20.293151 | Y34: 18.40274 | Z34: 18.199454 | AA34: 23.243836 | AB34: 21.438356 | AC34: 23.684932 | AD34: 13.424658 | AE34: 14.613699 | AF34: 14.021858 | AG34: 9.7013699 | AH34: 15.405479 | AI34: 1.9917808 | AJ34: 0.098630137 | AK34: 0 | AL34: 0 | AM34: 0.04109589 | AN34: 1.4821918 | AO34: 0 | AP34: 1.8876712 | AQ34: 0 | AR34: 0 | AS34: 0.035616438 | AT34: 0.75068493 | AU34: 0 | AV34: 0 | AW34: 0 | AX34: 0 | AY34: 0 | AZ34: 0 | BA34: 646.63715 | BB34: 700.24595 | BC34: 733.87622 | BD34: 718.43927 | BE34: 730.24672 | BF34: 683.09064 | BG34: 13.287671 | BH34: 14.509589 | BI34: 11.40274 | BJ34: 17.139344 | BK34: 19.635616 | BL34: 13.117808 | BM34: 19.342466 | BN34: 17.347945 | BO34: 14.454795 | BP34: 14.489071 | BQ34: 15.742466 | BR34: 19.923288 | BS34: 0 | BT34: 0 | BU34: 0 | BV34: 0 | BW34: 0.073972603 | BX34: 1.4821918 | BY34: 0.46052123 | BZ34: 0.44065484 | CA34: 0.35336403 | CB34: 0.46159981 | CC34: 0.48299802 | CD34: 0.4811011 | CE34: 0.53947877 | CF34: 0.55934516 | CG34: 0.64663597 | CH34: 0.53840019 | CI34: 0.51700198 | CJ34: 0.5188989 | CK34: 0.93229993 | CL34: 0.95126172 | CM34: 0.96283345 | CN34: 0.90156744 | CO34: 0.96578947 | CP34: 0.94419611 | CQ34: 0.93612112 | CR34: 0.96265321 | CS34: 0.96528479 | CT34: 0.90469514 | CU34: 0.96806056 | CV34: 0.94758472 | CW34: 0.97804614 | CX34: 0.98637347 | CY34: 0.9887527 | CZ34: 0.93780558 | DA34: 0.99971161 | DB34: 0.97837058
B35: 600008379 | K35: 0 | L35: 0 | M35: 10.273973 | N35: 11.333333 | O35: 11.457534 | P35: 11.865753 | Q35: 0 | R35: 0 | S35: 25.043836 | T35: 27.718579 | U35: 28.676712 | V35: 27.068493 | W35: 0 | X35: 0 | Y35: 16.021918 | Z35: 17.786885 | AA35: 16.953425 | AB35: 15.608219 | AC35: 0 | AD35: 0 | AE35: 17.939726 | AF35: 13.234973 | AG35: 13.29589 | AH35: 14.312329 | AI35: 0 | AJ35: 0 | AK35: 7.3342466 | AL35: 6.6530055 | AM35: 5.3068493 | AN35: 8.3287671 | AO35: 0 | AP35: 0 | AQ35: 1.8630137 | AR35: 2.1092896 | AS35: 3.2931507 | AT35: 2.3726027 | AU35: 0 | AV35: 0 | AW35: 0 | AX35: 0 | AY35: 0.36712329 | AZ35: 0 | BA35: #DIV/0! | BB35: #DIV/0! | BC35: 654.76644 | BD35: 681.48853 | BE35: 682.12598 | BF35: 668.25952 | BG35: 0 | BH35: 0 | BI35: 3.2739726 | BJ35: 3.1393443 | BK35: 4.0410959 | BL35: 0 | BM35: 0 | BN35: 0 | BO35: 2.0383562 | BP35: 1.2213115 | BQ35: 0 | BR35: 0 | BS35: 0 | BT35: 0 | BU35: 1.9452055 | BV35: 2 | BW35: 2 | BX35: 0 | BY35: #DIV/0! | BZ35: #DIV/0! | CA35: 0.092480101 | CB35: 0.080682054 | CC35: 0.076485483 | CD35: 0 | CE35: #DIV/0! | CF35: #DIV/0! | CG35: 0.9075199 | CH35: 0.91931795 | CI35: 0.92351452 | CJ35: 1 | CK35: 0.99763234 | CL35: 0.99015728 | CM35: 0.9688483 | CN35: 0.97328476 | CO35: 0.97963809 | CP35: 0.98217487 | CQ35: 1.0147133 | CR35: 0.99015728 | CS35: 0.98190428 | CT35: 0.97736626 | CU35: 0.98379841 | CV35: 0.98217487 | CW35: 1.0156942 | CX35: 0.99015728 | CY35: 0.99083376 | CZ35: 0.98920596 | DA35: 0.99661762 | DB35: 0.98217487
B36: 600111827 | K36: 11.038356 | L36: 7.4410959 | M36: 4.230137 | N36: 5.4371585 | O36: 4.230137 | P36: 2.6027397 | Q36: 21.917808 | R36: 24.315068 | S36: 23.208219 | T36: 27.784153 | U36: 23.208219 | V36: 23.134247 | W36: 24.90411 | X36: 21.621918 | Y36: 32.378082 | Z36: 30.756831 | AA36: 32.378082 | AB36: 26.052055 | AC36: 20.887671 | AD36: 23.030137 | AE36: 12.893151 | AF36: 13.879781 | AG36: 12.893151 | AH36: 17.531507 | AI36: 1.5506849 | AJ36: 3.3041096 | AK36: 0.84931507 | AL36: 0 | AM36: 0.84931507 | AN36: 2.6739726 | AO36: 5.0438356 | AP36: 3.8575342 | AQ36: 4.7972603 | AR36: 1.489071 | AS36: 4.7972603 | AT36: 4.1342466 | AU36: 0 | AV36: 0 | AW36: 0 | AX36: 0 | AY36: 0 | AZ36: 0 | BA36: 649.14446 | BB36: 633.06232 | BC36: 651.61224 | BD36: 693.27261 | BE36: 651.61224 | BF36: 624.61259 | BG36: 4.9315068 | BH36: 5.8712329 | BI36: 3.4547945 | BJ36: 5.6202186 | BK36: 3.4547945 | BL36: 4.1972603 | BM36: 11.156164 | BN36: 10.775342 | BO36: 6.5150685 | BP36: 5.931694 | BQ36: 6.5150685 | BR36: 6.8164384 | BS36: 0.93150685 | BT36: 1.2383562 | BU36: 1.2712329 | BV36: 0 | BW36: 1.2712329 | BX36: 4.3835616 | BY36: 0.19942215 | BZ36: 0.21401174 | CA36: 0.14346154 | CB36: 0.14558727 | CC36: 0.14346154 | CD36: 0.20225285 | CE36: 0.80057785 | CF36: 0.78598826 | CG36: 0.85653846 | CH36: 0.85441273 | CI36: 0.85653846 | CJ36: 0.79774715 | CK36: 0.95890411 | CL36: 0.93898722 | CM36: 0.95915038 | CN36: 0.89153926 | CO36: 0.88040634 | CP36: 0.85537941 | CQ36: 0.985501 | CR36: 0.9403417 | CS36: 0.96130522 | CT36: 0.89344262 | CU36: 0.882161 | CV36: 0.85685701 | CW36: 0.985501 | CX36: 0.95884254 | CY36: 0.9867939 | CZ36: 0.91081844 | DA36: 0.90047714 | DB36: 0.879175
B37: 600010557 | K37: 11.909589 | L37: 17.936986 | M37: 17.079452 | N37: 14.068306 | O37: 12.432877 | P37: 11.457534 | Q37: 34.284932 | R37: 24.09863 | S37: 26.383562 | T37: 34.13388 | U37: 31.10411 | V37: 29.369863 | W37: 13.446575 | X37: 19.117808 | Y37: 14.126027 | Z37: 10.918033 | AA37: 14.50137 | AB37: 14.687671 | AC37: 17.632877 | AD37: 19.575342 | AE37: 17.408219 | AF37: 18.710383 | AG37: 16.641096 | AH37: 15.646575 | AI37: 1.3835616 | AJ37: 0.44383562 | AK37: 4.8465753 | AL37: 2.3387978 | AM37: 3.2054795 | AN37: 2.1260274 | AO37: 1.8164384 | AP37: 0.99726027 | AQ37: 0.52328767 | AR37: 0 | AS37: 0 | AT37: 0 | AU37: 0 | AV37: 0 | AW37: 0 | AX37: 0 | AY37: 0 | AZ37: 0 | BA37: 714.051 | BB37: 720.45879 | BC37: 710.79498 | BD37: 728.32936 | BE37: 718.00619 | BF37: 722.15626 | BG37: 9.6849315 | BH37: 10 | BI37: 10.978082 | BJ37: 48.202186 | BK37: 9.8328767 | BL37: 8.0438356 | BM37: 10.473973 | BN37: 9.2739726 | BO37: 6.1452055 | BP37: 29.628415 | BQ37: 3.0383562 | BR37: 6.2821918 | BS37: 0 | BT37: 0 | BU37: 0.49315068 | BV37: 2.3387978 | BW37: 0.92876712 | BX37: 1 | BY37: 0.25050216 | BZ37: 0.23456255 | CA37: 0.21919956 | CB37: 1 | CC37: 0.17718447 | CD37: 0.2091215 | CE37: 0.74949784 | CF37: 0.76543745 | CG37: 0.78080044 | CH37: 0 | CI37: 0.82281553 | CJ37: 0.7908785 | CK37: 1.0059247 | CL37: 1.0271233 | CM37: 1.004589 | CN37: 1.0021175 | CO37: 0.97356164 | CP37: 0.91609589 | CQ37: 1.0080822 | CR37: 1.0294863 | CS37: 1.0054795 | CT37: 1.0026639 | CU37: 0.97493151 | CV37: 0.91712329 | CW37: 1.0239726 | CX37: 1.0518836 | CY37: 1.0218493 | CZ37: 1.0102117 | DA37: 0.98565068 | DB37: 0.92626712
B38: 600100564 | K38: 17.123288 | L38: 19.780822 | M38: 22.10411 | N38: 23.945355 | O38: 21.578082 | P38: 36.632877 | Q38: 38.59726 | R38: 49.150685 | S38: 43.879452 | T38: 37.781421 | U38: 33.726027 | V38: 38.509589 | W38: 20.909589 | X38: 14.635616 | Y38: 12.739726 | Z38: 14.699454 | AA38: 20.293151 | AB38: 15.849315 | AC38: 23.723288 | AD38: 15.794521 | AE38: 23.161644 | AF38: 19.385246 | AG38: 20.682192 | AH38: 12.879452 | AI38: 8.1232877 | AJ38: 8.0849315 | AK38: 7.090411 | AL38: 11.543716 | AM38: 12.613699 | AN38: 4.5123288 | AO38: 4.769863 | AP38: 4.5863014 | AQ38: 4.0438356 | AR38: 3.352459 | AS38: 3.7643836 | AT38: 4.0219178 | AU38: 0 | AV38: 0 | AW38: 0 | AX38: 0 | AY38: 0 | AZ38: 0 | BA38: 668.2216 | BB38: 711.42399 | BC38: 700.36459 | BD38: 692.32607 | BE38: 669.32831 | BF38: 767.40446 | BG38: 12.961644 | BH38: 16.419178 | BI38: 8.5287671 | BJ38: 17.221311 | BK38: 18.254795 | BL38: 23.564384 | BM38: 11.479452 | BN38: 8.2684932 | BO38: 8.9726027 | BP38: 11.579235 | BQ38: 14.920548 | BR38: 8.1945205 | BS38: 2.3890411 | BT38: 1.3780822 | BU38: 1 | BV38: 4.136612 | BW38: 4.230137 | BX38: 4.0958904 | BY38: 0.23691787 | BZ38: 0.23266165 | CA38: 0.16370115 | CB38: 0.29751475 | CC38: 0.33202821 | CD38: 0.31897728 | CE38: 0.76308213 | CF38: 0.76733835 | CG38: 0.83629885 | CH38: 0.70248525 | CI38: 0.66797179 | CJ38: 0.68102272 | CK38: 0.98475283 | CL38: 0.97419893 | CM38: 0.98277546 | CN38: 0.96267522 | CO38: 0.97963073 | CP38: 0.97743895 | CQ38: 0.98489577 | CR38: 0.97484217 | CS38: 0.98289458 | CT38: 0.96291281 | CU38: 0.97977367 | CV38: 0.9778916 | CW38: 0.99411554 | CX38: 0.99542585 | CY38: 0.99490173 | CZ38: 0.98310763 | DA38: 0.99218582 | DB38: 0.99321024
B39: 600102602 | K39: 3.3041096 | L39: 3.3589041 | M39: 4.5315068 | N39: 8.7404372 | O39: 4.3506849 | P39: 9.8684932 | Q39: 27.742466 | R39: 27.945205 | S39: 23.816438 | T39: 27.901639 | U39: 28.928767 | V39: 26.309589 | W39: 19.654795 | X39: 18.326027 | Y39: 18.928767 | Z39: 23.983607 | AA39: 25.515068 | AB39: 27.580822 | AC39: 17.791781 | AD39: 25.660274 | AE39: 31.175342 | AF39: 14.218579 | AG39: 12.767123 | AH39: 15.684932 | AI39: 4.9178082 | AJ39: 7.3287671 | AK39: 6.9726027 | AL39: 5.9480874 | AM39: 5.5726027 | AN39: 4.5890411 | AO39: 0.79726027 | AP39: 0.74246575 | AQ39: 0 | AR39: 0.95628415 | AS39: 1.0657534 | AT39: 1.9780822 | AU39: 0 | AV39: 0 | AW39: 0 | AX39: 0 | AY39: 0 | AZ39: 0 | BA39: 651.38005 | BB39: 618.86417 | BC39: 607.16774 | BD39: 679.31116 | BE39: 669.06317 | BF39: 674.85921 | BG39: 11.526027 | BH39: 13.342466 | BI39: 11.463014 | BJ39: 21.060109 | BK39: 20.542466 | BL39: 20.112329 | BM39: 13.972603 | BN39: 23.391781 | BO39: 29.484932 | BP39: 23.928962 | BQ39: 23.419178 | BR39: 28.021918 | BS39: 1.460274 | BT39: 3.2438356 | BU39: 2.8410959 | BV39: 3.8743169 | BW39: 5.5205479 | BX39: 4.0684932 | BY39: 0.36328731 | BZ39: 0.47957406 | CA39: 0.51260423 | CB39: 0.59772727 | CC39: 0.6327646 | CD39: 0.60693126 | CE39: 0.63671269 | CF39: 0.52042594 | CG39: 0.48739577 | CH39: 0.40227273 | CI39: 0.3672354 | CJ39: 0.39306874 | CK39: 0.78113915 | CL39: 0.87749099 | CM39: 0.89920692 | CN39: 0.86051194 | CO39: 0.82315789 | CP39: 0.90537851 | CQ39: 0.79760634 | CR39: 0.87927902 | CS39: 0.90142754 | CT39: 0.86134599 | CU39: 0.82393655 | CV39: 0.90682048 | CW39: 0.79760634 | CX39: 0.89848594 | CY39: 0.93462149 | CZ39: 0.88455565 | DA39: 0.85147801 | DB39: 0.92158616
B40: 600014062 | K40: 0 | L40: 0 | M40: 0 | N40: 12.576503 | O40: 9.569863 | P40: 12.158904 | Q40: 0 | R40: 0 | S40: 0 | T40: 43.26776 | U40: 49.805479 | V40: 53.810959 | W40: 0 | X40: 0 | Y40: 0 | Z40: 18.622951 | AA40: 22.539726 | AB40: 11.219178 | AC40: 0 | AD40: 0 | AE40: 0 | AF40: 16.964481 | AG40: 14.679452 | AH40: 18.164384 | AI40: 0 | AJ40: 0 | AK40: 0 | AL40: 4.7213115 | AM40: 6.2821918 | AN40: 6.8 | AO40: 0 | AP40: 0 | AQ40: 0 | AR40: 3.726776 | AS40: 2.1123288 | AT40: 1.0383562 | AU40: 0 | AV40: 0 | AW40: 0 | AX40: 0 | AY40: 0 | AZ40: 0 | BA40: #DIV/0! | BB40: #DIV/0! | BC40: #DIV/0! | BD40: 698.62841 | BE40: 706.42102 | BF40: 718.72481 | BG40: 0 | BH40: 0 | BI40: 0 | BJ40: 26.743169 | BK40: 25.419178 | BL40: 27.556164 | BM40: 0 | BN40: 0 | BO40: 0 | BP40: 17.830601 | BQ40: 12.246575 | BR40: 11.673973 | BS40: 0 | BT40: 0 | BU40: 0 | BV40: 2.8551913 | BW40: 4.2328767 | BX40: 2.1178082 | BY40: #DIV/0! | BZ40: #DIV/0! | CA40: #DIV/0! | CB40: 0.47486049 | CC40: 0.39907622 | CD40: 0.4006903 | CE40: #DIV/0! | CF40: #DIV/0! | CG40: #DIV/0! | CH40: 0.52513951 | CI40: 0.60092378 | CJ40: 0.5993097 | CN40: 0.89981785 | CO40: 0.94584722 | CP40: 0.92965568 | CT40: 0.90208241 | CU40: 0.94673578 | CV40: 0.92965568 | CZ40: 0.95150889 | DA40: 0.98551154 | DB40: 0.98788103
B41: 600013866 | K41: 0 | L41: 5.4438356 | M41: 2 | N41: 6.5519126 | O41: 5.0191781 | P41: 8.3232877 | Q41: 0 | R41: 17.693151 | S41: 16.564384 | T41: 13.508197 | U41: 16.59726 | V41: 13.150685 | W41: 0 | X41: 4.4712329 | Y41: 5.6273973 | Z41: 10.002732 | AA41: 12.416438 | AB41: 8.3315068 | AC41: 0 | AD41: 5.309589 | AE41: 9.5917808 | AF41: 4.9617486 | AG41: 1.8684932 | AH41: 4.2246575 | AI41: 0 | AJ41: 2.4438356 | AK41: 3 | AL41: 1.0464481 | AM41: 0.84109589 | AN41: 2.4136986 | AO41: 0 | AP41: 0 | AQ41: 0 | AR41: 0 | AS41: 0.25205479 | AT41: 0.98630137 | AU41: 0 | AV41: 0 | AW41: 0 | AX41: 0 | AY41: 0 | AZ41: 0 | BA41: #DIV/0! | BB41: 738.03363 | BC41: 663.52227 | BD41: 744.25769 | BE41: 761.42117 | BF41: 729.77236 | BG41: 0 | BH41: 3.0657534 | BI41: 3.7232877 | BJ41: 4.4617486 | BK41: 5.0684932 | BL41: 3.5726027 | BM41: 0 | BN41: 1.4931507 | BO41: 2.9890411 | BP41: 2.7213115 | BQ41: 3.3232877 | BR41: 1.1753425 | BS41: 0 | BT41: 0 | BU41: 1 | BV41: 0 | BW41: 0 | BX41: 0 | BY41: #DIV/0! | BZ41: 0.12892229 | CA41: 0.20966781 | CB41: 0.19913649 | CC41: 0.22683848 | CD41: 0.12684819 | CE41: #DIV/0! | CF41: 0.87107771 | CG41: 0.79033219 | CH41: 0.80086351 | CI41: 0.77316152 | CJ41: 0.87315181 | CL41: 0.93056957 | CM41: 0.96798846 | CN41: 0.94923785 | CO41: 0.97354001 | CP41: 0.9850036 | CR41: 0.93056957 | CS41: 0.96849315 | CT41: 0.95010066 | CU41: 0.97354001 | CV41: 0.9852199 | CX41: 0.93056957 | CY41: 0.99105984 | CZ41: 0.96325856 | DA41: 0.97354001 | DB41: 0.99567412
B42: 600102677 | K42: 0 | L42: 0 | M42: 3.0931507 | N42: 2.0519126 | O42: 2.1835616 | P42: 3.1013699 | Q42: 0 | R42: 0 | S42: 18.328767 | T42: 16.912568 | U42: 18.594521 | V42: 11.742466 | W42: 0 | X42: 0 | Y42: 6.8219178 | Z42: 4.9453552 | AA42: 4.5890411 | AB42: 8.9479452 | AC42: 0 | AD42: 0 | AE42: 7.9808219 | AF42: 7.1584699 | AG42: 9.3753425 | AH42: 10.652055 | AI42: 0 | AJ42: 0 | AK42: 6.3369863 | AL42: 7.7978142 | AM42: 3.3260274 | AN42: 3.1753425 | AO42: 0 | AP42: 0 | AQ42: 1.169863 | AR42: 1.1912568 | AS42: 2.3424658 | AT42: 3.7945205 | AU42: 0 | AV42: 0 | AW42: 0 | AX42: 0 | AY42: 0 | AZ42: 0 | BA42: #DIV/0! | BB42: #DIV/0! | BC42: 640.49618 | BD42: 613.16554 | BE42: 637.57085 | BF42: 589.27362 | BG42: 0 | BH42: 0 | BI42: 8.1178082 | BJ42: 5.8934426 | BK42: 8.6328767 | BL42: 4.2986301 | BM42: 0 | BN42: 0 | BO42: 6.4657534 | BP42: 4.8907104 | BQ42: 5.0164384 | BR42: 5.5013699 | BS42: 0 | BT42: 0 | BU42: 2.0712329 | BV42: 0.13114754 | BW42: 0 | BX42: 1.7178082 | BY42: #DIV/0! | BZ42: #DIV/0! | CA42: 0.380842 | CB42: 0.27249164 | CC42: 0.33776271 | CD42: 0.2781159 | CE42: #DIV/0! | CF42: #DIV/0! | CG42: 0.619158 | CH42: 0.72750836 | CI42: 0.66223729 | CJ42: 0.7218841 | CL42: 0.90076712 | CM42: 0.87463014 | CN42: 0.80114754 | CO42: 0.80821918 | CP42: 0.82827397 | CR42: 0.90076712 | CS42: 0.87550685 | CT42: 0.80147541 | CU42: 0.80821918 | CV42: 0.82936986 | CX42: 0.90076712 | CY42: 0.89868493 | CZ42: 0.82142077 | DA42: 0.80821918 | DB42: 0.83736986
B43: 600100978 | K43: 3.9424658 | L43: 5.9643836 | M43: 9.5041096 | N43: 11.642077 | O43: 7.3287671 | P43: 9.7013699 | Q43: 17.887671 | R43: 17.408219 | S43: 14.630137 | T43: 13.071038 | U43: 14.70137 | V43: 17.556164 | W43: 8.2191781 | X43: 4.8821918 | Y43: 9.5452055 | Z43: 7.1939891 | AA43: 8.5452055 | AB43: 6.309589 | AC43: 5.8164384 | AD43: 9.3972603 | AE43: 7.3561644 | AF43: 7.9453552 | AG43: 6.5835616 | AH43: 4.7013699 | AI43: 5.2986301 | AJ43: 4.9808219 | AK43: 2.2657534 | AL43: 2 | AM43: 2.5123288 | AN43: 3.5890411 | AO43: 0.74794521 | AP43: 0 | AQ43: 0 | AR43: 0 | AS43: 0 | AT43: 0 | AU43: 0 | AV43: 0 | AW43: 0 | AX43: 0 | AY43: 0 | AZ43: 0 | BA43: 673.1357 | BB43: 680.26348 | BC43: 733.2167 | BD43: 745.63912 | BE43: 723.72169 | BF43: 752.18746 | BG43: 2.6767123 | BH43: 2 | BI43: 2.0849315 | BJ43: 2 | BK43: 3.0849315 | BL43: 4 | BM43: 1.5808219 | BN43: 2.5123288 | BO43: 1.0931507 | BP43: 0.74863388 | BQ43: 1.9972603 | BR43: 1 | BS43: 0.17260274 | BT43: 0.39178082 | BU43: 0 | BV43: 0 | BW43: 0 | BX43: 0 | BY43: 0.10570009 | BZ43: 0.11503117 | CA43: 0.073394495 | CB43: 0.06567437 | CC43: 0.12810773 | CD43: 0.11945281 | CE43: 0.89429991 | CF43: 0.88496883 | CG43: 0.9266055 | CH43: 0.93432563 | CI43: 0.87189227 | CJ43: 0.88054719 | CK43: 0.95255293 | CL43: 0.96892902 | CM43: 0.98412204 | CN43: 0.95119225 | CO43: 0.90161893 | CP43: 0.9513076 | CQ43: 0.95311333 | CR43: 0.96942715 | CS43: 0.98455791 | CT43: 0.95156483 | CU43: 0.90211706 | CV43: 0.95230386 | CW43: 0.97191781 | CX43: 0.9760274 | CY43: 0.99364882 | CZ43: 0.95963736 | DA43: 0.9122665 | DB43: 0.96220423
B44: 600101083 | K44: 0 | L44: 0 | M44: 6.2383562 | N44: 2.1311475 | O44: 3.0219178 | P44: 5.2356164 | Q44: 0 | R44: 0 | S44: 8.7890411 | T44: 6.6010929 | U44: 13.961644 | V44: 20.60274 | W44: 0 | X44: 0 | Y44: 7.630137 | Z44: 14.86612 | AA44: 13.575342 | AB44: 8.2027397 | AC44: 0 | AD44: 0 | AE44: 13.986301 | AF44: 19.453552 | AG44: 22.630137 | AH44: 16.175342 | AI44: 0 | AJ44: 0 | AK44: 7.490411 | AL44: 4.863388 | AM44: 2.4438356 | AN44: 3.3863014 | AO44: 0 | AP44: 0 | AQ44: 11.8 | AR44: 6.7185792 | AS44: 1.4712329 | AT44: 0 | AU44: 0 | AV44: 0 | AW44: 0 | AX44: 0 | AY44: 0 | AZ44: 0 | BA44: #DIV/0! | BB44: #DIV/0! | BC44: 486.81965 | BD44: 500.5016 | BE44: 594.14336 | BF44: 664.06951 | BG44: 0 | BH44: 0 | BI44: 2.5041096 | BJ44: 0.99726776 | BK44: 2.6547945 | BL44: 5.4328767 | BM44: 0 | BN44: 0 | BO44: 5.2219178 | BP44: 7.3415301 | BQ44: 9.9123288 | BR44: 6.5123288 | BS44: 0 | BT44: 0 | BU44: 6.169863 | BV44: 6.2595628 | BW44: 2.0273973 | BX44: 2.5013699 | BY44: #DIV/0! | BZ44: #DIV/0! | CA44: 0.2484326 | CB44: 0.26720344 | CC44: 0.25557741 | CD44: 0.26951188 | CE44: #DIV/0! | CF44: #DIV/0! | CG44: 0.7515674 | CH44: 0.73279656 | CI44: 0.74442259 | CJ44: 0.73048812 | CM44: 0.86052687 | CN44: 0.84052123 | CO44: 0.87852476 | CP44: 0.82465753 | CS44: 0.86507903 | CT44: 0.84199243 | CU44: 0.87907271 | CV44: 0.82478398 | CY44: 0.88859852 | CZ44: 0.85468684 | DA44: 0.89589041 | DB44: 0.83709168
B45: 600111058 | K45: 5.9808219 | L45: 2.660274 | M45: 4.6849315 | N45: 3.3114754 | O45: 3.0164384 | P45: 2.1726027 | Q45: 21.131507 | R45: 12.317808 | S45: 22.342466 | T45: 19.603825 | U45: 17.569863 | V45: 20.016438 | W45: 9.2849315 | X45: 24.312329 | Y45: 11.221918 | Z45: 12.122951 | AA45: 6.7808219 | AB45: 8.5260274 | AC45: 14.520548 | AD45: 3.2821918 | AE45: 12.134247 | AF45: 13.166667 | AG45: 16.021918 | AH45: 18.454795 | AI45: 1.6931507 | AJ45: 1.3972603 | AK45: 3.0630137 | AL45: 3.0956284 | AM45: 9.3369863 | AN45: 2.9808219 | AO45: 2.5150685 | AP45: 0.35890411 | AQ45: 0.66575342 | AR45: 0.2295082 | AS45: 0.29041096 | AT45: 0 | AU45: 0 | AV45: 0 | AW45: 0.035616438 | AX45: 0 | AY45: 0 | AZ45: 0 | BA45: 663.15889 | BB45: 694.95117 | BC45: 679.47193 | BD45: 661.74602 | BE45: 591.02889 | BF45: 634.88731 | BG45: 9.1726027 | BH45: 7.6082192 | BI45: 5.2328767 | BJ45: 6.3087432 | BK45: 5.3506849 | BL45: 5.5945205 | BM45: 2.7013699 | BN45: 2.6191781 | BO45: 5.4246575 | BP45: 5.7513661 | BQ45: 3.3753425 | BR45: 4.8712329 | BS45: 2.2849315 | BT45: 3.169863 | BU45: 1.6438356 | BV45: 1 | BW45: 2.769863 | BX45: 0.90684932 | BY45: 0.25684608 | BZ45: 0.30222497 | CA45: 0.22733026 | CB45: 0.25344645 | CC45: 0.21683634 | CD45: 0.21807197 | CE45: 0.74315392 | CF45: 0.69777503 | CG45: 0.77266974 | CH45: 0.74655355 | CI45: 0.78316366 | CJ45: 0.78192803 | CK45: 0.91876712 | CL45: 0.73881279 | CM45: 0.90246575 | CN45: 0.85883424 | CO45: 0.88360731 | CP45: 0.86917808 | CQ45: 0.9196347 | CR45: 0.73931507 | CS45: 0.90319635 | CT45: 0.8598816 | CU45: 0.88452055 | CV45: 0.86917808 | CW45: 0.94287671 | CX45: 0.75296804 | CY45: 0.92114155 | CZ45: 0.87076503 | DA45: 0.89543379 | DB45: 0.89315068
B46: 600006589 | K46: 0 | L46: 0 | M46: 17.260274 | N46: 14.095628 | O46: 21.950685 | P46: 15.531507 | Q46: 0 | R46: 0 | S46: 32.769863 | T46: 27.046448 | U46: 36.424658 | V46: 33.471233 | W46: 0 | X46: 0 | Y46: 11.60274 | Z46: 16.825137 | AA46: 6.890411 | AB46: 7.5917808 | AC46: 0 | AD46: 0 | AE46: 8.630137 | AF46: 16.877049 | AG46: 6.860274 | AH46: 5.4794521 | AI46: 0 | AJ46: 0 | AK46: 4.7123288 | AL46: 6.0819672 | AM46: 2.090411 | AN46: 3.5616438 | AO46: 0 | AP46: 0 | AQ46: 2.9616438 | AR46: 1.8306011 | AS46: 0 | AT46: 1.1232877 | AU46: 0 | AV46: 0 | AW46: 0 | AX46: 0 | AY46: 0.43287671 | AZ46: 1.1808219 | BA46: #DIV/0! | BB46: #DIV/0! | BC46: 737.19584 | BD46: 684.61091 | BE46: 815.16963 | BF46: 777.84873 | BG46: 0 | BH46: 0 | BI46: 12.230137 | BJ46: 7.2923497 | BK46: 19.4 | BL46: 16.052055 | BM46: 0 | BN46: 0 | BO46: 5.2986301 | BP46: 12.295082 | BQ46: 4.8465753 | BR46: 4.4356164 | BS46: 0 | BT46: 0 | BU46: 4.3643836 | BV46: 3.1174863 | BW46: 2.0493151 | BX46: 3 | BY46: #DIV/0! | BZ46: #DIV/0! | CA46: 0.28090836 | CB46: 0.27435703 | CC46: 0.35431356 | CD46: 0.35182829 | CE46: #DIV/0! | CF46: #DIV/0! | CG46: 0.71909164 | CH46: 0.72564297 | CI46: 0.64568644 | CJ46: 0.64817171 | CM46: 0.86596651 | CN46: 0.91952034 | CO46: 0.82943683 | CP46: 0.75488584 | CS46: 0.8674277 | CT46: 0.92046145 | CU46: 0.8299239 | CV46: 0.75512938 | CY46: 0.87625571 | CZ46: 0.93724954 | DA46: 0.83598174 | DB46: 0.76398782
B47: 600002729 | K47: 10.208219 | L47: 7.7424658 | M47: 6.1616438 | N47: 6.1939891 | O47: 5.9068493 | P47: 4.2657534 | Q47: 37.090411 | R47: 35.128767 | S47: 30.69589 | T47: 30.368852 | U47: 24.983562 | V47: 24.553425 | W47: 10.99726 | X47: 16.854795 | Y47: 18.254795 | Z47: 26.098361 | AA47: 11.926027 | AB47: 11.805479 | AC47: 21.487671 | AD47: 21.772603 | AE47: 24.40274 | AF47: 17.322404 | AG47: 22.830137 | AH47: 31.452055 | AI47: 5.2383562 | AJ47: 4.9506849 | AK47: 4.4082192 | AL47: 4.4754098 | AM47: 5.2493151 | AN47: 7.4465753 | AO47: 3.1945205 | AP47: 3.6849315 | AQ47: 3.8438356 | AR47: 3.3797814 | AS47: 3.5726027 | AT47: 5.690411 | AU47: 1.0547945 | AV47: 0.58082192 | AW47: 0.32876712 | AX47: 0 | AY47: 0 | AZ47: 0.56712329 | BA47: 670.85437 | BB47: 654.74452 | BC47: 633.66131 | BD47: 655.28663 | BE47: 616.57334 | BF47: 565.07443 | BG47: 19.30411 | BH47: 10.016438 | BI47: 10.016438 | BJ47: 7.5874317 | BK47: 9.8986301 | BL47: 8.6383562 | BM47: 7.7780822 | BN47: 10.150685 | BO47: 10.150685 | BP47: 11.934426 | BQ47: 10.923288 | BR47: 16.213699 | BS47: 2.5917808 | BT47: 30.145205 | BU47: 30.145205 | BV47: 1.9726776 | BW47: 2.539726 | BX47: 3.2520548 | BY47: 0.33637691 | BZ47: 0.55819326 | CA47: 0.57324801 | CB47: 0.24470435 | CC47: 0.31371178 | CD47: 0.32980741 | CE47: 0.66362309 | CF47: 0.44180674 | CG47: 0.42675199 | CH47: 0.75529565 | CI47: 0.68628822 | CJ47: 0.67019259 | CK47: 0.93969719 | CL47: 0.95489546 | CM47: 0.92732516 | CN47: 0.92461892 | CO47: 0.78387888 | CP47: 0.90295602 | CQ47: 0.94295602 | CR47: 0.95780822 | CS47: 0.92856525 | CT47: 0.92522289 | CU47: 0.78483057 | CV47: 0.90431146 | CW47: 0.96262437 | CX47: 0.98232156 | CY47: 0.95665465 | CZ47: 0.94765603 | DA47: 0.80798846 | DB47: 0.9288248
B48: 600103824 | K48: 6.1863014 | L48: 8.8958904 | M48: 8.7452055 | N48: 10.016393 | O48: 10.030137 | P48: 11.219178 | Q48: 29.583562 | R48: 36.536986 | S48: 31.331507 | T48: 30.972678 | U48: 38.463014 | V48: 35.087671 | W48: 25.731507 | X48: 19.6 | Y48: 24.268493 | Z48: 14.23224 | AA48: 15.454795 | AB48: 12.586301 | AC48: 17.008219 | AD48: 14.589041 | AE48: 12.879452 | AF48: 7.2295082 | AG48: 9.6273973 | AH48: 18.857534 | AI48: 2.7041096 | AJ48: 2.9424658 | AK48: 2.9917808 | AL48: 2.6721311 | AM48: 1.6849315 | AN48: 0.9890411 | AO48: 0 | AP48: 0.20273973 | AQ48: 1.3315068 | AR48: 2.1721311 | AS48: 1.0410959 | AT48: 0 | AU48: 0 | AV48: 0 | AW48: 0 | AX48: 0 | AY48: 0 | AZ48: 0 | BA48: 687.55355 | BB48: 717.67825 | BC48: 703.03914 | BD48: 732.3447 | BE48: 748.04488 | BF48: 726.02749 | BG48: 17.430137 | BH48: 19.780822 | BI48: 16.731507 | BJ48: 20.472678 | BK48: 25.410959 | BL48: 24.186301 | BM48: 15.961644 | BN48: 13.010959 | BO48: 14.8 | BP48: 9.3114754 | BQ48: 11.909589 | BR48: 14.194521 | BS48: 2.369863 | BT48: 1.7561644 | BU48: 0.99178082 | BV48: 0.99726776 | BW48: 1 | BX48: 0.82739726 | BY48: 0.44034005 | BZ48: 0.41741145 | CA48: 0.39882412 | CB48: 0.45740966 | CC48: 0.50222621 | CD48: 0.49794711 | CE48: 0.55965995 | CF48: 0.58258855 | CG48: 0.60117588 | CH48: 0.54259034 | CI48: 0.49777379 | CJ48: 0.50205289 | CK48: 0.96682975 | CL48: 0.9853229 | CM48: 0.97080887 | CN48: 0.80113193 | CO48: 0.90834964 | CP48: 0.93737769 | CQ48: 0.97002609 | CR48: 0.9882257 | CS48: 0.9727332 | CT48: 0.80331122 | CU48: 0.91001305 | CV48: 0.93737769 | CW48: 1.0088389 | CX48: 1.0196347 | CY48: 0.99699935 | CZ48: 0.82643768 | DA48: 0.92586432 | DB48: 0.96924331
B49: 600008759 | K49: 14.117808 | L49: 14.873973 | M49: 11.728767 | N49: 10.122951 | O49: 9.3150685 | P49: 6.739726 | Q49: 25.210959 | R49: 25.569863 | S49: 22.50411 | T49: 20.445355 | U49: 23.756164 | V49: 29.947945 | W49: 14.706849 | X49: 15.591781 | Y49: 22.00274 | Z49: 25.035519 | AA49: 22.509589 | AB49: 14.323288 | AC49: 14.969863 | AD49: 14.123288 | AE49: 14.712329 | AF49: 11.76776 | AG49: 9.6246575 | AH49: 20.145205 | AI49: 4.0438356 | AJ49: 1.3534247 | AK49: 1.2027397 | AL49: 0.93715847 | AM49: 2.6219178 | AN49: 0.14246575 | AO49: 0.035616438 | AP49: 0.71780822 | AQ49: 0.41643836 | AR49: 2.0382514 | AS49: 0.65753425 | AT49: 0 | AU49: 0.73150685 | AV49: 0.61369863 | AW49: 0 | AX49: 0 | AY49: 0.65205479 | AZ49: 0 | BA49: 715.63765 | BB49: 733.26202 | BC49: 711.93453 | BD49: 698.53614 | BE49: 713.59403 | BF49: 699.11543 | BG49: 29.961644 | BH49: 30.369863 | BI49: 26.027397 | BJ49: 24.396175 | BK49: 26.309589 | BL49: 27.652055 | BM49: 21.991781 | BN49: 22.252055 | BO49: 29.389041 | BP49: 30.568306 | BQ49: 22.928767 | BR49: 21.90137 | BS49: 1.7013699 | BT49: 1.2986301 | BU49: 0.82739726 | BV49: 0 | BW49: 2.4383562 | BX49: 0.14520548 | BY49: 0.73414305 | BZ49: 0.74651039 | CA49: 0.77505946 | CB49: 0.78133375 | CC49: 0.75457055 | CD49: 0.69704888 | CE49: 0.26585695 | CF49: 0.25348961 | CG49: 0.22494054 | CH49: 0.21866625 | CI49: 0.24542945 | CJ49: 0.30295112 | CK49: 0.97126893 | CL49: 0.95847152 | CM49: 0.95483057 | CN49: 0.92561835 | CO49: 0.90969719 | CP49: 0.93813987 | CQ49: 0.97126893 | CR49: 0.95879596 | CS49: 0.95508291 | CT49: 0.92583405 | CU49: 0.91034607 | CV49: 0.93813987 | CW49: 0.97840663 | CX49: 0.97393655 | CY49: 0.96802451 | CZ49: 0.93075928 | DA49: 0.91438356 | DB49: 0.95288392
B50: 600102933 | K50: 5.2575342 | L50: 8.8493151 | M50: 6.0246575 | N50: 8.8579235 | O50: 8.4931507 | P50: 5.5013699 | Q50: 20.936986 | R50: 20.427397 | S50: 18.00274 | T50: 11.546448 | U50: 10.657534 | V50: 14.243836 | W50: 17.027397 | X50: 10.909589 | Y50: 20.331507 | Z50: 16.73224 | AA50: 17.172603 | AB50: 19.69589 | AC50: 14.019178 | AD50: 16.594521 | AE50: 13.536986 | AF50: 15.248634 | AG50: 20.378082 | AH50: 18.027397 | AI50: 0 | AJ50: 0 | AK50: 0 | AL50: 0 | AM50: 0 | AN50: 0 | AO50: 0 | AP50: 0 | AQ50: 0 | AR50: 0 | AS50: 0 | AT50: 0 | AU50: 0 | AV50: 0 | AW50: 0 | AX50: 0 | AY50: 0 | AZ50: 0 | BA50: 698.28746 | BB50: 707.60434 | BC50: 695.23566 | BD50: 687.30506 | BE50: 658.50599 | BF50: 661.87548 | BG50: 21.89589 | BH50: 23.216438 | BI50: 19.408219 | BJ50: 0 | BK50: 14.923288 | BL50: 14.610959 | BM50: 25.975342 | BN50: 17.676712 | BO50: 26.813699 | BP50: 0 | BQ50: 34.216438 | BR50: 32.019178 | BS50: 0 | BT50: 0 | BU50: 0 | BV50: 0 | BW50: 0 | BX50: 0 | BY50: 0.83630881 | BZ50: 0.720193 | CA50: 0.79836267 | CB50: 0 | CC50: 0.8666409 | CD50: 0.81140351 | CE50: 0.16369119 | CF50: 0.279807 | CG50: 0.20163733 | CH50: 1 | CI50: 0.1333591 | CJ50: 0.18859649 | CK50: 0.97018807 | CL50: 0.96238681 | CM50: 0.98128628 | CN50: 0.88788552 | CO50: 0.96104017 | CP50: 0.97404226 | CQ50: 0.99326678 | CR50: 0.96424425 | CS50: 0.98319016 | CT50: 0.888256 | CU50: 0.96192245 | CV50: 0.97464593 | CW50: 0.99326678 | CX50: 0.99577432 | CY50: 0.99930346 | CZ50: 0.91381865 | DA50: 0.98704435 | DB50: 0.99363826
B51: 600007967 | K51: 11.819178 | L51: 14.778082 | M51: 14.19726 | N51: 10.371585 | O51: 7.8246575 | P51: 7.1260274 | Q51: 30.578082 | R51: 27.156164 | S51: 28.906849 | T51: 23.811475 | U51: 24.252055 | V51: 19.120548 | W51: 11.624658 | X51: 10.315068 | Y51: 14.49589 | Z51: 21.715847 | AA51: 21.019178 | AB51: 33.493151 | AC51: 23.734247 | AD51: 22.39726 | AE51: 19.312329 | AF51: 14.948087 | AG51: 19.419178 | AH51: 16.60274 | AI51: 7.1150685 | AJ51: 6.569863 | AK51: 5.1150685 | AL51: 2.6748634 | AM51: 5.8493151 | AN51: 2.7616438 | AO51: 3.3972603 | AP51: 5.2821918 | AQ51: 7.2410959 | AR51: 9.2459016 | AS51: 3.3972603 | AT51: 0.91506849 | AU51: 0 | AV51: 0 | AW51: 0 | AX51: 0 | AY51: 0 | AZ51: 0 | BA51: 647.59234 | BB51: 645.28506 | BC51: 649.08817 | BD51: 631.88624 | BE51: 635.08059 | BF51: 662.59595 | BG51: 25.071233 | BH51: 25.386301 | BI51: 20.186301 | BJ51: 16.005464 | BK51: 16.19726 | BL51: 12.780822 | BM51: 15.945205 | BN51: 15.958904 | BO51: 18.394521 | BP51: 17.909836 | BQ51: 21.632877 | BR51: 29.821918 | BS51: 3.4630137 | BT51: 4.4219178 | BU51: 5.6109589 | BV51: 1.6775956 | BW51: 3.6493151 | BX51: 0.91506849 | BY51: 0.50391086 | BZ51: 0.52910807 | CA51: 0.49504343 | CB51: 0.43003334 | CC51: 0.50732165 | CD51: 0.54384223 | CE51: 0.49608914 | CF51: 0.47089193 | CG51: 0.50495657 | CH51: 0.56996666 | CI51: 0.49267835 | CJ51: 0.45615777 | CK51: 0.93902652 | CL51: 0.92019819 | CM51: 0.94966482 | CN51: 0.88050808 | CO51: 0.86980472 | CP51: 0.85126785 | CQ51: 0.93981347 | CR51: 0.92139318 | CS51: 0.95080152 | CT51: 0.88207767 | CU51: 0.87044593 | CV51: 0.85126785 | CW51: 0.96269309 | CX51: 0.94182454 | CY51: 0.96610318 | CZ51: 0.89940123 | DA51: 0.89239289 | DB51: 0.87420577
B52: 600102792 | K52: 15.416438 | L52: 9.0328767 | M52: 6.909589 | N52: 13.532787 | O52: 13.221918 | P52: 12.041096 | Q52: 21.539726 | R52: 28.553425 | S52: 25.832877 | T52: 20.800546 | U52: 23.219178 | V52: 22.813699 | W52: 12.909589 | X52: 11.641096 | Y52: 12.115068 | Z52: 17.382514 | AA52: 15.238356 | AB52: 15.627397 | AC52: 14.09589 | AD52: 13.378082 | AE52: 17.265753 | AF52: 14.278689 | AG52: 14.271233 | AH52: 14.323288 | AI52: 2.5342466 | AJ52: 4.1534247 | AK52: 3.9561644 | AL52: 2.9043716 | AM52: 2 | AN52: 0 | AO52: 2.3890411 | AP52: 2.4356164 | AQ52: 2.7917808 | AR52: 0 | AS52: 0 | AT52: 0 | AU52: 0.97534247 | AV52: 0 | AW52: 1.5808219 | AX52: 0 | AY52: 0 | AZ52: 1 | BA52: 707.71944 | BB52: 686.88272 | BC52: 653.99196 | BD52: 714.10199 | BE52: 725.19152 | BF52: 733.49455 | BG52: 22.652055 | BH52: 22.676712 | BI52: 18.846575 | BJ52: 20.325137 | BK52: 18.589041 | BL52: 12.758904 | BM52: 17.649315 | BN52: 19.435616 | BO52: 19.950685 | BP52: 17.218579 | BQ52: 7.5123288 | BR52: 9.4630137 | BS52: 1.9479452 | BT52: 2.9643836 | BU52: 2.8630137 | BV52: 2.5956284 | BW52: 1 | BX52: 0 | BY52: 0.61333174 | BZ52: 0.65144916 | CA52: 0.60490095 | CB52: 0.58258318 | CC52: 0.3988388 | CD52: 0.34290183 | CE52: 0.38666826 | CF52: 0.34855084 | CG52: 0.39509905 | CH52: 0.41741682 | CI52: 0.6011612 | CJ52: 0.65709817 | CK52: 0.98394752 | CL52: 0.97457071 | CM52: 0.99228246 | CN52: 0.97040714 | CO52: 0.9570519 | CP52: 0.92683774 | CQ52: 0.98394752 | CR52: 0.97457071 | CS52: 0.99228246 | CT52: 0.97040714 | CU52: 0.9570519 | CV52: 0.92683774 | CW52: 0.98394752 | CX52: 0.97457071 | CY52: 0.99228246 | CZ52: 0.97040714 | DA52: 0.9570519 | DB52: 0.92683774
B53: 600110696 | K53: 8.2712329 | L53: 8.9863014 | M53: 7.2684932 | N53: 6.6748634 | O53: 4.2684932 | P53: 7.9424658 | Q53: 22.353425 | R53: 24.356164 | S53: 22.726027 | T53: 23.060109 | U53: 19.178082 | V53: 27.621918 | W53: 14.49863 | X53: 16.967123 | Y53: 18.153425 | Z53: 18.379781 | AA53: 18.060274 | AB53: 19.257534 | AC53: 8.1260274 | AD53: 15.978082 | AE53: 16.430137 | AF53: 16.117486 | AG53: 17.383562 | AH53: 13.986301 | AI53: 6.0821918 | AJ53: 5.1972603 | AK53: 1.9945205 | AL53: 8 | AM53: 9.3917808 | AN53: 5.8109589 | AO53: 6.2493151 | AP53: 5.1123288 | AQ53: 10.780822 | AR53: 1.2540984 | AS53: 2.8 | AT53: 2.2794521 | AU53: 0 | AV53: 0 | AW53: 0 | AX53: 0 | AY53: 0.83287671 | AZ53: 0.92328767 | BA53: 640.25024 | BB53: 639.86301 | BC53: 601.05369 | BD53: 640.02565 | BE53: 592.8757 | BF53: 667.65035 | BG53: 19.6 | BH53: 20.405479 | BI53: 17.068493 | BJ53: 17.748634 | BK53: 12.830137 | BL53: 20.334247 | BM53: 12.961644 | BN53: 19.389041 | BO53: 22.854795 | BP53: 19.628415 | BQ53: 20.043836 | BR53: 19.490411 | BS53: 9.0109589 | BT53: 7.309589 | BU53: 6.0356164 | BV53: 13.224044 | BW53: 9.430137 | BX53: 7.0438356 | BY53: 0.63391402 | BZ53: 0.61495815 | CA53: 0.59414181 | CB53: 0.68857823 | CC53: 0.59514357 | CD53: 0.60948411 | CE53: 0.36608598 | CF53: 0.38504185 | CG53: 0.40585819 | CH53: 0.31142177 | CI53: 0.40485643 | CJ53: 0.39051589 | CK53: 0.81976027 | CL53: 0.95746575 | CM53: 0.96691781 | CN53: 0.91857923 | CO53: 0.89893836 | CP53: 0.97277397 | CQ53: 0.82164384 | CR53: 0.9769863 | CS53: 0.97284247 | CT53: 0.92363388 | CU53: 0.9039726 | CV53: 0.9780137 | CW53: 0.83589041 | CX53: 0.98982877 | CY53: 0.98856164 | CZ53: 0.94159836 | DA53: 0.91828767 | DB53: 0.99315068
B54: 600110266 | K54: 3.4575342 | L54: 2.9589041 | M54: 3.7890411 | N54: 9.6666667 | O54: 6.9342466 | P54: 7.6657534 | Q54: 14.745205 | R54: 19.534247 | S54: 23.10137 | T54: 22.937158 | U54: 17.654795 | V54: 22.964384 | W54: 18.216438 | X54: 16.794521 | Y54: 14.572603 | Z54: 11.128415 | AA54: 13.449315 | AB54: 13.936986 | AC54: 18.205479 | AD54: 18.279452 | AE54: 17.742466 | AF54: 14.97541 | AG54: 19.060274 | AH54: 14.939726 | AI54: 5.0082192 | AJ54: 2.9205479 | AK54: 1.8958904 | AL54: 2.2021858 | AM54: 2.4849315 | AN54: 3.2191781 | AO54: 2.1534247 | AP54: 0.7260274 | AQ54: 0.071232877 | AR54: 0.71038251 | AS54: 0.1369863 | AT54: 0 | AU54: 0 | AV54: 0 | AW54: 0 | AX54: 0 | AY54: 0.21917808 | AZ54: 0.46027397 | BA54: 597.46985 | BB54: 635.6483 | BC54: 666.03189 | BD54: 700.55868 | BE54: 657.67914 | BF54: 689.247 | BG54: 4.4328767 | BH54: 6.0082192 | BI54: 5.0191781 | BJ54: 5.4945355 | BK54: 3.3205479 | BL54: 6.0684932 | BM54: 12.189041 | BN54: 10.630137 | BO54: 8.2219178 | BP54: 7.3169399 | BQ54: 11.126027 | BR54: 9.0246575 | BS54: 1.9534247 | BT54: 0.087671233 | BU54: 1 | BV54: 2.6120219 | BW54: 0.55342466 | BX54: 0.91232877 | BY54: 0.30063852 | BZ54: 0.27323994 | CA54: 0.23280186 | CB54: 0.25029929 | CC54: 0.25116983 | CD54: 0.25516488 | CE54: 0.69936148 | CF54: 0.72676006 | CG54: 0.76719814 | CH54: 0.74970071 | CI54: 0.74883017 | CJ54: 0.74483512 | CK54: 0.93615608 | CL54: 0.92748028 | CM54: 0.92685762 | CN54: 0.93363968 | CO54: 0.90817767 | CP54: 0.9573682 | CQ54: 0.93819012 | CR54: 0.9671648 | CS54: 0.93163138 | CT54: 0.93711707 | CU54: 0.91046077 | CV54: 0.96210046 | CW54: 0.9611457 | CX54: 0.99792445 | CY54: 0.94171856 | CZ54: 0.95272396 | DA54: 0.91934413 | DB54: 0.97617269
B55: 600113674 | K55: 19.663014 | L55: 23 | M55: 24.120548 | N55: 24.051913 | O55: 15.145205 | P55: 14.191781 | Q55: 37.19726 | R55: 37 | S55: 34.835616 | T55: 32.387978 | U55: 30.073973 | V55: 32.273973 | W55: 9.4356164 | X55: 16 | Y55: 13.227397 | Z55: 11.655738 | AA55: 17.838356 | AB55: 23.358904 | AC55: 23.421918 | AD55: 19 | AE55: 21.005479 | AF55: 24.527322 | AG55: 32.479452 | AH55: 22.136986 | AI55: 3.8273973 | AJ55: 3 | AK55: 4.1260274 | AL55: 1.147541 | AM55: 2.4739726 | AN55: 5.1506849 | AO55: 1.9534247 | AP55: 0.94520548 | AQ55: 1.2712329 | AR55: 0 | AS55: 0.46849315 | AT55: 0 | AU55: 0 | AV55: 0 | AW55: 0.032876712 | AX55: 0.098360656 | AY55: 0 | AZ55: 0 | BA55: 712.75382 | BB55: 742.19023 | BC55: 730.88595 | BD55: 741.58683 | BE55: 674.9968 | BF55: 693.05309 | BG55: 6.2849315 | BH55: 2.0958904 | BI55: 6.0876712 | BJ55: 6.431694 | BK55: 5.090411 | BL55: 4.7534247 | BM55: 3.3369863 | BN55: 2 | BO55: 4.7890411 | BP55: 3.3442623 | BQ55: 5.8767123 | BR55: 5.5835616 | BS55: 1 | BT55: 0 | BU55: 0.32876712 | BV55: 0 | BW55: 0.19178082 | BX55: 0.084931507 | BY55: 0.11122587 | BZ55: 0.041395542 | CA55: 0.11366163 | CB55: 0.10425408 | CC55: 0.113312 | CD55: 0.10731817 | CE55: 0.88877413 | CF55: 0.95860446 | CG55: 0.88633837 | CH55: 0.89574592 | CI55: 0.886688 | CJ55: 0.89268183 | CK55: 0.9549863 | CL55: 0.98945205 | CM55: 0.98586301 | CN55: 0.93868852 | CO55: 0.98479452 | CP55: 0.97112329 | CQ55: 0.96835616 | CR55: 0.99613699 | CS55: 0.98619178 | CT55: 0.94120219 | CU55: 0.98794521 | CV55: 0.97449315 | CW55: 0.96835616 | CX55: 0.99613699 | CY55: 0.98726027 | CZ55: 0.94120219 | DA55: 1.015589 | DB55: 0.99687671
B56: 600009740 | K56: 6.290411 | L56: 4.8493151 | M56: 6.1808219 | N56: 4.9371585 | O56: 4.2246575 | P56: 5.4630137 | Q56: 28.038356 | R56: 25.482192 | S56: 26.687671 | T56: 33.5 | U56: 35.29589 | V56: 35.147945 | W56: 8.8438356 | X56: 9.4712329 | Y56: 9.6082192 | Z56: 8.8852459 | AA56: 7.4328767 | AB56: 12.980822 | AC56: 24.958904 | AD56: 30.249315 | AE56: 24.838356 | AF56: 16.620219 | AG56: 14.265753 | AH56: 14.169863 | AI56: 4.0986301 | AJ56: 3.3452055 | AK56: 3.5178082 | AL56: 4.0928962 | AM56: 2.8712329 | AN56: 2.5424658 | AO56: 0.92328767 | AP56: 0.04109589 | AQ56: 0 | AR56: 0 | AS56: 0.78082192 | AT56: 0.77260274 | AU56: 0 | AV56: 0 | AW56: 0 | AX56: 0 | AY56: 0 | AZ56: 0 | BA56: 645.9245 | BB56: 627.04645 | BC56: 652.96589 | BD56: 690.00924 | BE56: 702.05212 | BF56: 706.21825 | BG56: 5.3068493 | BH56: 7.0630137 | BI56: 5.6958904 | BJ56: 6.5163934 | BK56: 7.0876712 | BL56: 10.928767 | BM56: 4.1150685 | BN56: 7.1972603 | BO56: 6.909589 | BP56: 7.1010929 | BQ56: 8.5643836 | BR56: 9.0986301 | BS56: 3.8219178 | BT56: 1.7479452 | BU56: 0.98082192 | BV56: 1.4754098 | BW56: 0 | BX56: 0.33150685 | BY56: 0.18104191 | BZ56: 0.21798172 | CA56: 0.19180784 | CB56: 0.22183848 | CC56: 0.24127882 | CD56: 0.28643565 | CE56: 0.81895809 | CF56: 0.78201828 | CG56: 0.80819216 | CH56: 0.77816152 | CI56: 0.75872118 | CJ56: 0.71356435 | CK56: 0.91441781 | CL56: 0.91797945 | CM56: 0.88541096 | CN56: 0.85044399 | CO56: 0.81089041 | CP56: 0.8884589 | CQ56: 0.9160274 | CR56: 0.93462329 | CS56: 0.8905137 | CT56: 0.8539276 | CU56: 0.8140411 | CV56: 0.89373288 | CW56: 0.93476027 | CX56: 0.9475 | CY56: 0.90349315 | CZ56: 0.86362705 | DA56: 0.82363014 | DB56: 0.91407534
B57: 600014153 | K57: 0 | L57: 0 | M57: 6.673089 | N57: 8.0027322 | O57: 7.5232877 | P57: 6.9506849 | Q57: 0 | R57: 0 | S57: 19.367065 | T57: 16.972678 | U57: 25.005479 | V57: 25.608219 | W57: 0 | X57: 0 | Y57: 12.256132 | Z57: 22.150273 | AA57: 19.345205 | AB57: 20.789041 | AC57: 0 | AD57: 0 | AE57: 19.459688 | AF57: 20.45082 | AG57: 14.315068 | AH57: 14.813699 | AI57: 0 | AJ57: 0 | AK57: 6.4818386 | AL57: 1.2076503 | AM57: 2.5452055 | AN57: 0.15068493 | AO57: 0 | AP57: 0 | AQ57: 0 | AR57: 0 | AS57: 0 | AT57: 0 | AU57: 0 | AV57: 0 | AW57: 0 | AX57: 0 | AY57: 1 | AZ57: 1 | BA57: #DIV/0! | BB57: #DIV/0! | BC57: 635.51353 | BD57: 665.41807 | BE57: 697.53229 | BF57: 709.12208 | BG57: 0 | BH57: 0 | BI57: 21.073682 | BJ57: 20.724044 | BK57: 25.350685 | BL57: 26.331507 | BM57: 0 | BN57: 0 | BO57: 22.223337 | BP57: 31.229508 | BQ57: 26.808219 | BR57: 30.452055 | BS57: 0 | BT57: 0 | BU57: 6.1835616 | BV57: 0.85519126 | BW57: 2.2986301 | BX57: 0.15068493 | BY57: #DIV/0! | BZ57: #DIV/0! | CA57: 0.77027188 | CB57: 0.76774578 | CC57: 0.79229114 | CD57: 0.83344028 | CE57: #DIV/0! | CF57: #DIV/0! | CG57: 0.22972812 | CH57: 0.23225422 | CI57: 0.20770886 | CJ57: 0.16655972 | CM57: 0.91768303 | CN57: 0.98263076 | CO57: 0.99620352 | CP57: 0.99017613 | CS57: 0.91783958 | CT57: 0.98278689 | CU57: 0.99686888 | CV57: 0.99076321 | CY57: 0.91783958 | CZ57: 1.0148322 | DA57: 1.0028571 | DB57: 0.99749511
B58: 600110670 | K58: 1.460274 | L58: 7.3150685 | M58: 13.39726 | N58: 14.661202 | O58: 12.287671 | P58: 9.0328767 | Q58: 23.334247 | R58: 29.361644 | S58: 33.624658 | T58: 26.959016 | U58: 22.10411 | V58: 17.865753 | W58: 11.520548 | X58: 12.627397 | Y58: 14.260274 | Z58: 15.674863 | AA58: 13.416438 | AB58: 14.169863 | AC58: 33.336986 | AD58: 14.594521 | AE58: 9.4876712 | AF58: 9.3469945 | AG58: 10.353425 | AH58: 16.753425 | AI58: 0 | AJ58: 0.48219178 | AK58: 1.7315068 | AL58: 2.2431694 | AM58: 2.5753425 | AN58: 5.7150685 | AO58: 0 | AP58: 0 | AQ58: 0.095890411 | AR58: 0.14754098 | AS58: 0.50410959 | AT58: 0.92328767 | AU58: 0 | AV58: 0 | AW58: 0 | AX58: 1.0928962 | AY58: 2.5123288 | AZ58: 1.3452055 | BA58: 612.56107 | BB58: 723.2461 | BC58: 764.19088 | BD58: 755.42429 | BE58: 730.51492 | BF58: 650.3549 | BG58: 16.435616 | BH58: 20.068493 | BI58: 23.353425 | BJ58: 23.778689 | BK58: 17.942466 | BL58: 11.945205 | BM58: 21.775342 | BN58: 14.30137 | BO58: 12.638356 | BP58: 11.169399 | BQ58: 10.263014 | BR58: 17.808219 | BS58: 0 | BT58: 0 | BU58: 1.4410959 | BV58: 1.9945355 | BW58: 2.2739726 | BX58: 4.3232877 | BY58: 0.54859773 | BZ58: 0.5338525 | CA58: 0.51562382 | CB58: 0.53514605 | CC58: 0.49769606 | CD58: 0.52864672 | CE58: 0.45140227 | CF58: 0.4661475 | CG58: 0.48437618 | CH58: 0.46485395 | CI58: 0.50230394 | CJ58: 0.47135328 | CK58: 0.91647441 | CL58: 0.84711608 | CM58: 0.95522711 | CN58: 0.92270636 | CO58: 0.83886085 | CP58: 0.86586157 | CQ58: 0.91647441 | CR58: 0.84751262 | CS58: 0.95775054 | CT58: 0.92443198 | CU58: 0.84005047 | CV58: 0.86701514 | CW58: 0.91647441 | CX58: 0.8591204 | CY58: 0.98060562 | CZ58: 0.93758988 | DA58: 0.84963951 | DB58: 0.8943403
B59: 600103121 | K59: 16.939726 | L59: 16.594521 | M59: 17.619178 | N59: 15.945355 | O59: 9.7123288 | P59: 20.238356 | Q59: 55.679452 | R59: 48.194521 | S59: 45.975342 | T59: 46 | U59: 44.890411 | V59: 63.167123 | W59: 10.731507 | X59: 15.243836 | Y59: 21.756164 | Z59: 16.819672 | AA59: 15.682192 | AB59: 18.819178 | AC59: 36.172603 | AD59: 38.20274 | AE59: 38.328767 | AF59: 38.038251 | AG59: 37.589041 | AH59: 26.164384 | AI59: 9.2219178 | AJ59: 9.1917808 | AK59: 5.0246575 | AL59: 3.8688525 | AM59: 8.1589041 | AN59: 1 | AO59: 0 | AP59: 0 | AQ59: 0 | AR59: 0 | AS59: 0 | AT59: 0 | AU59: 0 | AV59: 0 | AW59: 0 | AX59: 0 | AY59: 0 | AZ59: 0 | BA59: 685.78269 | BB59: 670.82862 | BC59: 683.3642 | BD59: 684.74483 | BE59: 651.51917 | BF59: 749.35588 | BG59: 12.945205 | BH59: 10.742466 | BI59: 14.358904 | BJ59: 13.669399 | BK59: 11.010959 | BL59: 0 | BM59: 9.2465753 | BN59: 5.5863014 | BO59: 8.830137 | BP59: 9.9480874 | BQ59: 7.9616438 | BR59: 0 | BS59: 1.8547945 | BT59: 0 | BU59: 1 | BV59: 1 | BW59: 1.1205479 | BX59: 0 | BY59: 0.18677647 | BZ59: 0.12814173 | CA59: 0.18794304 | CB59: 0.20400308 | CC59: 0.17316774 | CD59: 0 | CE59: 0.81322353 | CF59: 0.87185827 | CG59: 0.81205696 | CH59: 0.79599692 | CI59: 0.82683226 | CJ59: 1 | CK59: 1.0382678 | CL59: 1.0276403 | CM59: 1.0379364 | CN59: 0.97316235 | CO59: 0.93574901 | CP59: 1.04346 | CQ59: 1.0382678 | CR59: 1.0293195 | CS59: 1.0395935 | CT59: 0.97613696 | CU59: 0.96716748 | CV59: 1.04346 | CW59: 1.0565621 | CX59: 1.0539549 | CY59: 1.0623509 | CZ59: 1.0068086 | DA59: 0.96979673 | DB59: 1.0577773
B60: 600110597 | K60: 19.852055 | L60: 27.923288 | M60: 25.884932 | N60: 21.23224 | O60: 16.715068 | P60: 17.594521 | Q60: 25.010959 | R60: 27.158904 | S60: 29.857534 | T60: 26.262295 | U60: 26.161644 | V60: 27.506849 | W60: 17.076712 | X60: 14.183562 | Y60: 16.230137 | Z60: 17.371585 | AA60: 20.191781 | AB60: 20.523288 | AC60: 19.446575 | AD60: 14.753425 | AE60: 13.728767 | AF60: 12.368852 | AG60: 10.605479 | AH60: 9.7917808 | AI60: 1.309589 | AJ60: 1.8520548 | AK60: 2.1123288 | AL60: 2.0191257 | AM60: 0.5890411 | AN60: 3.6328767 | AO60: 4.2520548 | AP60: 1.5041096 | AQ60: 0.87945205 | AR60: 0.68032787 | AS60: 0.054794521 | AT60: 2.0465753 | AU60: 0.010958904 | AV60: 0 | AW60: 0 | AX60: 0 | AY60: 0.23287671 | AZ60: 0.93150685 | BA60: 700.70078 | BB60: 765.23486 | BC60: 767.05897 | BD60: 756.93465 | BE60: 761.90113 | BF60: 732.58547 | BG60: 23.808219 | BH60: 25.457534 | BI60: 20.093151 | BJ60: 16.778689 | BK60: 13.717808 | BL60: 8.6 | BM60: 16.065753 | BN60: 8.6657534 | BO60: 10.347945 | BP60: 9.420765 | BQ60: 11.191781 | BR60: 12.882192 | BS60: 2.460274 | BT60: 2.4438356 | BU60: 1.4520548 | BV60: 0.81420765 | BW60: 0.054794521 | BX60: 0.25479452 | BY60: 0.48689186 | BZ60: 0.41850621 | CA60: 0.35958978 | CB60: 0.33794777 | CC60: 0.33591388 | CD60: 0.26804054 | CE60: 0.51310814 | CF60: 0.58149379 | CG60: 0.64041022 | CH60: 0.66205223 | CI60: 0.66408612 | CJ60: 0.73195946 | CK60: 0.91535689 | CL60: 0.91974045 | CM60: 0.93361211 | CN60: 0.84141501 | CO60: 0.78474405 | CP60: 0.86344629 | CQ60: 0.9193367 | CR60: 0.92331651 | CS60: 0.9341889 | CT60: 0.84199022 | CU60: 0.78607066 | CV60: 0.86442682 | CW60: 0.94791637 | CX60: 0.94771449 | CY60: 0.96458544 | CZ60: 0.86189244 | DA60: 0.79818313 | DB60: 0.88158616
B61: 600111520 | K61: 13.210959 | L61: 13.405479 | M61: 11.512329 | N61: 12.647541 | O61: 8.5616438 | P61: 9.2958904 | Q61: 20.786301 | R61: 22.471233 | S61: 29.682192 | T61: 24.303279 | U61: 24.408219 | V61: 25.950685 | W61: 10.517808 | X61: 12.884932 | Y61: 8.8410959 | Z61: 7.4863388 | AA61: 14.342466 | AB61: 16.027397 | AC61: 19.087671 | AD61: 15.758904 | AE61: 14.769863 | AF61: 12.352459 | AG61: 11.194521 | AH61: 9.9232877 | AI61: 0.78630137 | AJ61: 1 | AK61: 1 | AL61: 0 | AM61: 0.12054795 | AN61: 2 | AO61: 0 | AP61: 0 | AQ61: 0 | AR61: 0 | AS61: 0 | AT61: 0 | AU61: 0 | AV61: 0.2 | AW61: 0.098630137 | AX61: 0.22131148 | AY61: 0.4739726 | AZ61: 1.1616438 | BA61: 711.71432 | BB61: 727.31549 | BC61: 740.57413 | BD61: 760.54943 | BE61: 737.9214 | BF61: 733.26484 | BG61: 12.10411 | BH61: 14.758904 | BI61: 16.342466 | BJ61: 15.081967 | BK61: 13.476712 | BL61: 11.186301 | BM61: 15.643836 | BN61: 14.065753 | BO61: 11.364384 | BP61: 8.1803279 | BQ61: 8.4712329 | BR61: 9.6794521 | BS61: 0 | BT61: 0 | BU61: 0 | BV61: 0 | BW61: 0 | BX61: 0 | BY61: 0.43094205 | BZ61: 0.4399331 | CA61: 0.42104168 | CB61: 0.40962232 | CC61: 0.37436329 | CD61: 0.33016864 | CE61: 0.56905795 | CF61: 0.5600669 | CG61: 0.57895832 | CH61: 0.59037768 | CI61: 0.62563671 | CJ61: 0.66983136 | CK61: 0.93317451 | CL61: 0.95247171 | CM61: 0.95513202 | CN61: 0.82624535 | CO61: 0.85654159 | CP61: 0.93273774 | CQ61: 0.93317451 | CR61: 0.95278936 | CS61: 0.9556482 | CT61: 0.82644334 | CU61: 0.85713718 | CV61: 0.93321421 | CW61: 0.94750844 | CX61: 0.96315267 | CY61: 0.96617034 | CZ61: 0.83317494 | DA61: 0.86182251 | DB61: 0.94885845
B62: 600109755 | K62: 5.8191781 | L62: 2.3068493 | M62: 1 | N62: 3.1885246 | O62: 3.4684932 | P62: 1.6739726 | Q62: 9.490411 | R62: 9.3808219 | S62: 13.726027 | T62: 15.106557 | U62: 17.665753 | V62: 14.706849 | W62: 9.2438356 | X62: 10.40274 | Y62: 9.1479452 | Z62: 12.907104 | AA62: 11.315068 | AB62: 11.268493 | AC62: 7.3534247 | AD62: 11.224658 | AE62: 11.408219 | AF62: 6.8715847 | AG62: 6.4465753 | AH62: 7.339726 | AI62: 1.0547945 | AJ62: 2.6931507 | AK62: 2.7232877 | AL62: 0 | AM62: 0 | AN62: 0 | AO62: 5.5205479 | AP62: 0.28219178 | AQ62: 0.071232877 | AR62: 0 | AS62: 0 | AT62: 0 | AU62: 0 | AV62: 0 | AW62: 0.91506849 | AX62: 0 | AY62: 0 | AZ62: 0 | BA62: 614.06664 | BB62: 618.89476 | BC62: 631.48223 | BD62: 716.57696 | BE62: 732.29415 | BF62: 701.58014 | BG62: 0 | BH62: 0 | BI62: 8.2136986 | BJ62: 8.4617486 | BK62: 8.8191781 | BL62: 6.7589041 | BM62: 0 | BN62: 0 | BO62: 8.7835616 | BP62: 4.3032787 | BQ62: 3 | BR62: 4.1013699 | BS62: 0 | BT62: 0 | BU62: 0 | BV62: 0 | BW62: 0 | BX62: 0 | BY62: 0 | BZ62: 0 | CA62: 0.44639516 | CB62: 0.3352709 | CC62: 0.30386701 | CD62: 0.31039073 | CE62: 1 | CF62: 1 | CG62: 0.55360484 | CH62: 0.6647291 | CI62: 0.69613299 | CJ62: 0.68960927 | CK62: 0.96205479 | CL62: 0.90726027 | CM62: 0.97479452 | CN62: 0.95184426 | CO62: 0.97239726 | CP62: 0.87472603 | CQ62: 0.96205479 | CR62: 0.90726027 | CS62: 0.97589041 | CT62: 0.95239071 | CU62: 0.97239726 | CV62: 0.87575342 | CW62: 0.96205479 | CX62: 0.90726027 | CY62: 0.98767123 | CZ62: 0.96038251 | DA62: 0.98075342 | DB62: 0.88856164
B63: 600102461 | K63: 5.739726 | L63: 9.6 | M63: 4.9013699 | N63: 3.0655738 | O63: 4.4712329 | P63: 2.1835616 | Q63: 18.621918 | R63: 26.879452 | S63: 28.172603 | T63: 25.117486 | U63: 28.032877 | V63: 23.29863 | W63: 10.515068 | X63: 19.2 | Y63: 16.8 | Z63: 15.188525 | AA63: 21.70137 | AB63: 22.594521 | AC63: 26.947945 | AD63: 16.320548 | AE63: 21.550685 | AF63: 26.713115 | AG63: 20.463014 | AH63: 23.865753 | AI63: 6.4547945 | AJ63: 4.8 | AK63: 8.030137 | AL63: 7.6857923 | AM63: 4.5643836 | AN63: 3.5369863 | AO63: 12.931507 | AP63: 2.7972603 | AQ63: 2.5150685 | AR63: 3.2978142 | AS63: 2.5205479 | AT63: 3.7917808 | AU63: 0 | AV63: 0 | AW63: 0 | AX63: 1 | AY63: 0 | AZ63: 0 | BA63: 519.13096 | BB63: 667.12319 | BC63: 620.82857 | BD63: 586.67183 | BE63: 639.16287 | BF63: 603.49865 | BG63: 6.6136986 | BH63: 9.6 | BI63: 22.156164 | BJ63: 17.180328 | BK63: 15.328767 | BL63: 12.876712 | BM63: 12.561644 | BN63: 17.967123 | BO63: 28.679452 | BP63: 30.166667 | BQ63: 29.008219 | BR63: 27.646575 | BS63: 1.369863 | BT63: 3.5013699 | BU63: 6.4 | BV63: 6.3087432 | BW63: 4.4136986 | BX63: 4.4 | BY63: 0.25298563 | BZ63: 0.39032114 | CA63: 0.69825195 | CB63: 0.66185838 | CC63: 0.59631367 | CD63: 0.56670353 | CE63: 0.74701437 | CF63: 0.60967886 | CG63: 0.30174805 | CH63: 0.33814162 | CI63: 0.40368633 | CJ63: 0.43329647 | CK63: 0.97844529 | CL63: 0.95900314 | CM63: 0.98758871 | CN63: 0.98877477 | CO63: 0.98498102 | CP63: 0.95507509 | CQ63: 0.97844529 | CR63: 0.96081862 | CS63: 0.98758871 | CT63: 0.98976233 | CU63: 0.98663146 | CV63: 0.95830995 | CW63: 0.99270507 | CX63: 0.96550586 | CY63: 0.98758871 | CZ63: 0.99519389 | DA63: 0.9954778 | DB63: 0.97233867
B64: 600008817 | K64: 16.824658 | L64: 12.054795 | M64: 11.487671 | N64: 10.628415 | O64: 9.2767123 | P64: 10.926027 | Q64: 24.153425 | R64: 33.69589 | S64: 38.290411 | T64: 29.852459 | U64: 30.405479 | V64: 27.008219 | W64: 13.646575 | X64: 12.20274 | Y64: 11.89589 | Z64: 8.3743169 | AA64: 12.221918 | AB64: 18.449315 | AC64: 15.624658 | AD64: 15.391781 | AE64: 9.8657534 | AF64: 7.9562842 | AG64: 12.306849 | AH64: 12.821918 | AI64: 1.6794521 | AJ64: 0.084931507 | AK64: 1.3150685 | AL64: 3.1393443 | AM64: 1.7780822 | AN64: 2.230137 | AO64: 0 | AP64: 0 | AQ64: 0 | AR64: 0.67213115 | AS64: 0.83287671 | AT64: 0 | AU64: 0 | AV64: 0 | AW64: 0 | AX64: 0 | AY64: 0 | AZ64: 0 | BA64: 738.26503 | BB64: 747.63488 | BC64: 768.31303 | BD64: 748.97467 | BE64: 726.64002 | BF64: 724.17964 | BG64: 11.460274 | BH64: 13.452055 | BI64: 16.268493 | BJ64: 13.510929 | BK64: 12.627397 | BL64: 10.375342 | BM64: 10.808219 | BN64: 7.3863014 | BO64: 2.4438356 | BP64: 3.0737705 | BQ64: 5.8410959 | BR64: 9.9342466 | BS64: 0 | BT64: 0 | BU64: 0 | BV64: 0.15027322 | BW64: 0 | BX64: 0.084931507 | BY64: 0.30959092 | BZ64: 0.28378479 | CA64: 0.25684416 | CB64: 0.27605012 | CC64: 0.27638376 | CD64: 0.28549513 | CE64: 0.69040908 | CF64: 0.71621521 | CG64: 0.74315584 | CH64: 0.72394988 | CI64: 0.72361624 | CJ64: 0.71450487 | CK64: 0.92216368 | CL64: 0.94141201 | CM64: 0.93403583 | CN64: 0.77721732 | CO64: 0.85669125 | CP64: 0.91584124 | CQ64: 0.92279593 | CR64: 0.942536 | CS64: 0.93452757 | CT64: 0.77781281 | CU64: 0.85700738 | CV64: 0.91584124 | CW64: 0.95749912 | CX64: 0.97116263 | CY64: 0.95721812 | CZ64: 0.78734062 | DA64: 0.8714085 | DB64: 0.93614331
B65: 600113484 | K65: 11.526027 | L65: 9.4465753 | M65: 12.893151 | N65: 14.26776 | O65: 10.8 | P65: 11.309589 | Q65: 23.317808 | R65: 23.512329 | S65: 25.123288 | T65: 24.68306 | U65: 19.613699 | V65: 20.145205 | W65: 11.506849 | X65: 8.8986301 | Y65: 11.964384 | Z65: 16.502732 | AA65: 16.882192 | AB65: 16.849315 | AC65: 16.035616 | AD65: 26.956164 | AE65: 17.706849 | AF65: 11.775956 | AG65: 17.106849 | AH65: 13.80274 | AI65: 3.5972603 | AJ65: 0 | AK65: 1 | AL65: 1 | AM65: 1.3643836 | AN65: 2.0082192 | AO65: 0.46575342 | AP65: 0.56164384 | AQ65: 1 | AR65: 0.99180328 | AS65: 1.6465753 | AT65: 1.2520548 | AU65: 0 | AV65: 0 | AW65: 0 | AX65: 0 | AY65: 0 | AZ65: 0 | BA65: 697.89107 | BB65: 669.27138 | BC65: 712.4658 | BD65: 739.0594 | BE65: 683.22889 | BF65: 699.72421 | BG65: 17.106849 | BH65: 14.167123 | BI65: 15.476712 | BJ65: 15.409836 | BK65: 13.421918 | BL65: 14.167123 | BM65: 11.808219 | BN65: 14.619178 | BO65: 10.556164 | BP65: 11.532787 | BQ65: 16.430137 | BR65: 17.975342 | BS65: 1.5835616 | BT65: 0.56164384 | BU65: 1 | BV65: 0 | BW65: 2.0109589 | BX65: 1.3178082 | BY65: 0.45897584 | BZ65: 0.42303136 | CA65: 0.38791477 | CB65: 0.38922439 | CC65: 0.47264895 | CD65: 0.51188231 | CE65: 0.54102416 | CF65: 0.57696864 | CG65: 0.61208523 | CH65: 0.61077561 | CI65: 0.52735105 | CJ65: 0.48811769 | CK65: 0.88599087 | CL65: 0.92500457 | CM65: 0.92916895 | CN65: 0.92295082 | CO65: 0.89884932 | CP65: 0.87156164 | CQ65: 0.88624658 | CR65: 0.92595434 | CS65: 0.93008219 | CT65: 0.92415301 | CU65: 0.89965297 | CV65: 0.87156164 | CW65: 0.89625571 | CX65: 0.95046575 | CY65: 0.96405479 | CZ65: 0.94076503 | DA65: 0.90823744 | DB65: 0.89760731
B66: 600111066 | K66: 13.342466 | L66: 11.432877 | M66: 17.019178 | N66: 9.8469945 | O66: 7.5890411 | P66: 7.4767123 | Q66: 34.09863 | R66: 29.920548 | S66: 26.243836 | T66: 28.874317 | U66: 22.232877 | V66: 20.854795 | W66: 15.339726 | X66: 15.572603 | Y66: 12.605479 | Z66: 16.404372 | AA66: 20.413699 | AB66: 25.005479 | AC66: 6.8438356 | AD66: 11.358904 | AE66: 16.430137 | AF66: 12.360656 | AG66: 15.435616 | AH66: 16.750685 | AI66: 2.6219178 | AJ66: 3 | AK66: 1 | AL66: 2 | AM66: 2.9972603 | AN66: 1.2876712 | AO66: 2.0109589 | AP66: 2 | AQ66: 0.36986301 | AR66: 1 | AS66: 1 | AT66: 2.1616438 | AU66: 0 | AV66: 0 | AW66: 0 | AX66: 0 | AY66: 0 | AZ66: 0 | BA66: 751.17215 | BB66: 716.44734 | BC66: 740.61735 | BD66: 719.14334 | BE66: 675.19722 | BF66: 666.42487 | BG66: 25.769863 | BH66: 19.326027 | BI66: 21.652055 | BJ66: 19.125683 | BK66: 15.021918 | BL66: 16.106849 | BM66: 9.0712329 | BN66: 16.528767 | BO66: 14.849315 | BP66: 13.245902 | BQ66: 19.356164 | BR66: 19.967123 | BS66: 0.8 | BT66: 0.010958904 | BU66: 0.54246575 | BV66: 1 | BW66: 1 | BX66: 0.56986301 | BY66: 0.47996606 | BZ66: 0.48940147 | CA66: 0.50284503 | CB66: 0.47344755 | CC66: 0.50780605 | CD66: 0.49830483 | CE66: 0.52003394 | CF66: 0.51059853 | CG66: 0.49715497 | CH66: 0.52655245 | CI66: 0.49219395 | CJ66: 0.50169517 | CK66: 0.96438356 | CL66: 0.95175236 | CM66: 0.95673368 | CN66: 0.915407 | CO66: 0.90478563 | CP66: 0.9550258 | CQ66: 0.98146237 | CR66: 0.95374489 | CS66: 0.95893969 | CT66: 0.91664892 | CU66: 0.90674257 | CV66: 0.95573741 | CW66: 0.99854118 | CX66: 0.9882939 | CY66: 0.98381071 | CZ66: 0.92725853 | DA66: 0.91425013 | DB66: 0.96836862
B67: 600011274 | K67: 2.3479452 | L67: 2.4191781 | M67: 3.9479452 | N67: 2.7295082 | O67: 3.4219178 | P67: 9.2 | Q67: 22.10137 | R67: 23.810959 | S67: 23.342466 | T67: 23.010929 | U67: 28.29863 | V67: 31.29589 | W67: 18.476712 | X67: 22.465753 | Y67: 17.706849 | Z67: 18.120219 | AA67: 16.10137 | AB67: 17.465753 | AC67: 27.750685 | AD67: 27.717808 | AE67: 26.750685 | AF67: 22.42623 | AG67: 14.715068 | AH67: 11.931507 | AI67: 2.5945205 | AJ67: 1.5287671 | AK67: 1.0027397 | AL67: 0.62021858 | AM67: 0.64931507 | AN67: 1.9424658 | AO67: 0.99452055 | AP67: 1 | AQ67: 0.9890411 | AR67: 1.1229508 | AS67: 1.1506849 | AT67: 0 | AU67: 0 | AV67: 0 | AW67: 0 | AX67: 0 | AY67: 0 | AZ67: 0 | BA67: 612.41229 | BB67: 625.03054 | BC67: 634.62865 | BD67: 641.93261 | BE67: 687.67406 | BF67: 731.01335 | BG67: 0 | BH67: 0 | BI67: 8.5150685 | BJ67: 5.4071038 | BK67: 6.8246575 | BL67: 9.1424658 | BM67: 0 | BN67: 0 | BO67: 14.575342 | BP67: 14.693989 | BQ67: 10.575342 | BR67: 8.1178082 | BS67: 0 | BT67: 0 | BU67: 0.9890411 | BV67: 1 | BW67: 0.99178082 | BX67: 0.36164384 | BY67: 0 | BZ67: 0 | CA67: 0.32654654 | CB67: 0.3101731 | CC67: 0.28586637 | CD67: 0.24530892 | CE67: 1 | CF67: 1 | CG67: 0.67345346 | CH67: 0.6898269 | CI67: 0.71413363 | CJ67: 0.75469108 | CK67: 0.92832192 | CL67: 0.98678082 | CM67: 0.92174658 | CN67: 0.85037568 | CO67: 0.80421233 | CP67: 0.89794521 | CQ67: 0.93205479 | CR67: 0.98678082 | CS67: 0.92691781 | CT67: 0.85184426 | CU67: 0.80681507 | CV67: 0.90017123 | CW67: 0.97883562 | CX67: 0.98678082 | CY67: 0.95017123 | CZ67: 0.86079235 | DA67: 0.82030822 | DB67: 0.91414384
B68: 600102636 | K68: 6.5671233 | L68: 9.4739726 | M68: 8.8410959 | N68: 2.9016393 | O68: 4.6273973 | P68: 6.4465753 | Q68: 22.649315 | R68: 23.232877 | S68: 25.142466 | T68: 29.412568 | U68: 25.279452 | V68: 24.186301 | W68: 6.2054795 | X68: 7.3863014 | Y68: 5.5917808 | Z68: 2.0027322 | AA68: 2.169863 | AB68: 3.1671233 | AC68: 9.8767123 | AD68: 5.8438356 | AE68: 5.2739726 | AF68: 5.7540984 | AG68: 5.3534247 | AH68: 5.5671233 | AI68: 1.6054795 | AJ68: 2.539726 | AK68: 0.7260274 | AL68: 0 | AM68: 0 | AN68: 0.37534247 | AO68: 1.7013699 | AP68: 1.5945205 | AQ68: 2.6520548 | AR68: 2.8961749 | AS68: 2.7342466 | AT68: 3.2657534 | AU68: 0 | AV68: 0 | AW68: 0 | AX68: 0 | AY68: 0 | AZ68: 0 | BA68: 706.85136 | BB68: 740.25553 | BC68: 751.3066 | BD68: 734.26809 | BE68: 740.30969 | BF68: 732.74366 | BG68: 0 | BH68: 8.0410959 | BI68: 8.4082192 | BJ68: 9.0956284 | BK68: 7.5315068 | BL68: 7.2109589 | BM68: 0 | BN68: 2.9671233 | BO68: 3.3342466 | BP68: 1.8934426 | BQ68: 0.98356164 | BR68: 0.4 | BS68: 0 | BT68: 2.7041096 | BU68: 2.3972603 | BV68: 1.9808743 | BW68: 1.8438356 | BX68: 1.9534247 | BY68: 0 | BZ68: 0.27385642 | CA68: 0.29318866 | CB68: 0.3018568 | CC68: 0.25791269 | CD68: 0.22238502 | CE68: 1 | CF68: 0.72614358 | CG68: 0.70681134 | CH68: 0.6981432 | CI68: 0.74208731 | CJ68: 0.77761498 | CK68: 0.91708452 | CL68: 0.94474024 | CM68: 0.90995089 | CN68: 0.81070213 | CO68: 0.75781856 | CP68: 0.81147583 | CQ68: 0.91992763 | CR68: 0.94639442 | CS68: 0.91765314 | CT68: 0.8126611 | CU68: 0.76092013 | CV68: 0.8153528 | CW68: 0.93957095 | CX68: 0.96050659 | CY68: 0.9421039 | CZ68: 0.81905351 | DA68: 0.76898423 | DB68: 0.8337038
B69: 600112478 | K69: 8.8575342 | L69: 9.0547945 | M69: 9.2109589 | N69: 11.26776 | O69: 11.032877 | P69: 9.9123288 | Q69: 23.693151 | R69: 25.021918 | S69: 21.010959 | T69: 20.311475 | U69: 14.953425 | V69: 14.312329 | W69: 15.235616 | X69: 10.690411 | Y69: 12.567123 | Z69: 7.4262295 | AA69: 15.890411 | AB69: 15.821918 | AC69: 17.49589 | AD69: 18.879452 | AE69: 19.10411 | AF69: 20.382514 | AG69: 12.164384 | AH69: 19.317808 | AI69: 2.5013699 | AJ69: 3.9287671 | AK69: 4.6876712 | AL69: 3.8661202 | AM69: 3.1917808 | AN69: 6.1342466 | AO69: 0 | AP69: 0.25479452 | AQ69: 1.0219178 | AR69: 1.6693989 | AS69: 2.3917808 | AT69: 0 | AU69: 0 | AV69: 0 | AW69: 0 | AX69: 0 | AY69: 0 | AZ69: 0 | BA69: 690.26919 | BB69: 679.02375 | BC69: 657.09828 | BD69: 660.38886 | BE69: 673.477 | BF69: 641.60413 | BG69: 20.572603 | BH69: 21.238356 | BI69: 17.947945 | BJ69: 17.743169 | BK69: 15.484932 | BL69: 15.580822 | BM69: 25.008219 | BN69: 18.528767 | BO69: 19.441096 | BP69: 18.226776 | BQ69: 20.756164 | BR69: 25.561644 | BS69: 2.5013699 | BT69: 4.0986301 | BU69: 3.1369863 | BV69: 2.8661202 | BW69: 2.8082192 | BX69: 3.4219178 | BY69: 0.70934885 | BZ69: 0.64670006 | CA69: 0.59947315 | CB69: 0.59818197 | CC69: 0.6549189 | CD69: 0.6803865 | CE69: 0.29065115 | CF69: 0.35329994 | CG69: 0.40052685 | CH69: 0.40181803 | CI69: 0.3450811 | CJ69: 0.3196135 | CK69: 0.98237046 | CL69: 0.98304546 | CM69: 0.97974985 | CN69: 0.94092025 | CO69: 0.86412547 | CP69: 0.94925551 | CQ69: 0.9832837 | CR69: 0.98395871 | CS69: 0.97974985 | CT69: 0.94092025 | CU69: 0.86412547 | CV69: 0.94925551 | CW69: 1.014731 | CX69: 1.0053206 | CY69: 0.99058964 | CZ69: 0.9538291 | DA69: 0.87087552 | DB69: 0.96648799
