Workbook
Name C_LOCALISATION: Tableau1[LOCALISATION]
Name TableauLOCALISATION: Tableau2[LOCALISATION]

Sheet CREATION NOM
H3: LOCALISATION
H4: CHAMBRE 1
H5: CHAMBRE 2
H6: CHAMBRE 3
H7: CUISINE
H8: SEJOUR
H9: CHAMBRE 1
H10: CUISINE
H11: CHAMBRE 1
H12: SALON

Sheet RUBRIQUE
H3: LOCALISATION
H4: CHAMBRE 1
H5: CHAMBRE 2
H6: CHAMBRE 3
H7: CHAMBRE 4
H8: CHAMBRE 5
H9: SEJOUR
H10: CUISINE
H11: SALON
H12: COULOIR
H13: SALLE DE BAIN

Sheet RECAPITULATIF
J4: =INDEX(C_LOCALISATION,MATCH('CREATION NOM'!H4,C_LOCALISATION,0)) -> CHAMBRE 1 | K4: =COUNTIF(C_LOCALISATION,RUBRIQUE!H4) -> 3 | N4: CHAMBRE 1 | O4: 3
A5: Bonjour, | J5: =INDEX(C_LOCALISATION,MATCH('CREATION NOM'!H5,C_LOCALISATION,0)) -> CHAMBRE 2 | K5: =COUNTIF(C_LOCALISATION,RUBRIQUE!H5) -> 1 | N5: CHAMBRE 2 | O5: 1
A6: Dans l'onglet creation nom, je selectionne dans le tableau LOCALISATION (C_LOCALISATION) | J6: =INDEX(C_LOCALISATION,MATCH('CREATION NOM'!H6,C_LOCALISATION,0)) -> CHAMBRE 3 | K6: =COUNTIF(C_LOCALISATION,RUBRIQUE!H6) -> 1 | N6: CHAMBRE 3 | O6: 1
A7: par l'intermédiaire d'une liste deroulante | J7: =INDEX(C_LOCALISATION,MATCH('CREATION NOM'!H7,C_LOCALISATION,0)) -> CUISINE | K7: =COUNTIF(C_LOCALISATION,RUBRIQUE!H7) -> 0 | N7: CUISINE | O7: 2
A8: des données de l’onglet rubrique dans le tableau LOCALISATION (tableauLOCALISATION). | J8: =INDEX(C_LOCALISATION,MATCH('CREATION NOM'!H8,C_LOCALISATION,0)) -> SEJOUR | K8: =COUNTIF(C_LOCALISATION,RUBRIQUE!H8) -> 0 | N8: SEJOUR | O8: 1
J9: =INDEX(C_LOCALISATION,MATCH('CREATION NOM'!H9,C_LOCALISATION,0)) -> CHAMBRE 1 | K9: =COUNTIF(C_LOCALISATION,RUBRIQUE!H9) -> 1 | N9: SALON | O9: 1
A10: J'arrive dans la colonne H par l'intermédiaire d'INDEX ET EQUIV et en colonne K par l'intermédiaire de NB.SI | J10: =INDEX(C_LOCALISATION,MATCH('CREATION NOM'!H10,C_LOCALISATION,0)) -> CUISINE | K10: =COUNTIF(C_LOCALISATION,RUBRIQUE!H10) -> 2
A11: à récuper des données. | J11: =INDEX(C_LOCALISATION,MATCH('CREATION NOM'!H11,C_LOCALISATION,0)) -> CHAMBRE 1 | K11: =COUNTIF(C_LOCALISATION,RUBRIQUE!H11) -> 1
J12: =INDEX(C_LOCALISATION,MATCH('CREATION NOM'!H12,C_LOCALISATION,0)) -> SALON | K12: =COUNTIF(C_LOCALISATION,RUBRIQUE!H12) -> 0
A13: Mais je n'arrive pas à avoir la synthése de la colonne N et O | J13: =INDEX(C_LOCALISATION,MATCH('CREATION NOM'!H13,C_LOCALISATION,0)) -> #N/A | K13: =COUNTIF(C_LOCALISATION,RUBRIQUE!H13) -> 0
J14: =INDEX(C_LOCALISATION,MATCH('CREATION NOM'!H14,C_LOCALISATION,0)) -> #N/A | K14: =COUNTIF(C_LOCALISATION,RUBRIQUE!H14) -> 0
A15: Si quelqu'un a une solution. | J15: =INDEX(C_LOCALISATION,MATCH('CREATION NOM'!H15,C_LOCALISATION,0)) -> #N/A | K15: =COUNTIF(C_LOCALISATION,RUBRIQUE!H15) -> 0
J16: =INDEX(C_LOCALISATION,MATCH('CREATION NOM'!H16,C_LOCALISATION,0)) -> #N/A | K16: =COUNTIF(C_LOCALISATION,RUBRIQUE!H16) -> 0
A17: En vous remerciant. | J17: =INDEX(C_LOCALISATION,MATCH('CREATION NOM'!H17,C_LOCALISATION,0)) -> #N/A | K17: =COUNTIF(C_LOCALISATION,RUBRIQUE!H17) -> 0
J18: =INDEX(C_LOCALISATION,MATCH('CREATION NOM'!H18,C_LOCALISATION,0)) -> #N/A | K18: =COUNTIF(C_LOCALISATION,RUBRIQUE!H18) -> 0
A19: Cordialement. | J19: =INDEX(C_LOCALISATION,MATCH('CREATION NOM'!H19,C_LOCALISATION,0)) -> #N/A | K19: =COUNTIF(C_LOCALISATION,RUBRIQUE!H19) -> 0
K22: =SUM(K4:K21) -> 9 | L22: total
