Workbook
Name date_du_jour: 'Base DD'!$N$5
Name liste_services: Tableau2[Services]

Sheet Base DD
K1: Total colis reçu | L1: =SUBTOTAL(9,Tableau1[Nbre de colis]) -> 8
A3: N°COLIS | B3: NOM | C3: PRENOM | D3: SERVICE | E3: DATE RECEPTION SECTION LOG -INFO PRESTACHOP | F3: DATE RELANCE + 7 | G3: DATE PERCEPTION PAR LE DESTINATAIRE | H3: RELANCE "X" | I3: DATE PREVISIBLE RETOUR COLIS VERS SALON (date réception + 45) | J3: OBSERVATIONS/SIGNATURE | K3: MOIS | L3: Nbre de colis
A4: FHHGHGFSH | B4: DUPONT | C4: ALAIN | D4: A | E4: 44256 | F4: =IF(E4="","",E4+7) -> 44263 | H4: X | I4: =IF(G4="",E4+45,"") -> 44301 | K4: =IF(Tableau1[[#This Row],[DATE RECEPTION SECTION LOG -INFO PRESTACHOP]],INDEX(Liste!$I$3:$J$14,MONTH(Tableau1[[#This Row],[DATE RECEPTION SECTION LOG -INFO PRESTACHOP]]),2),"") -> mars | L4: 1 | N4: Date du jour
A5: NVCVCNBGF | B5: LE GALL | C5: JULES | D5: B | E5: 44256 | F5: =IF(E5="","",E5+7) -> 44263 | G5: 44258 | I5: =IF(G5="",E5+45,"") | K5: =IF(Tableau1[[#This Row],[DATE RECEPTION SECTION LOG -INFO PRESTACHOP]],INDEX(Liste!$I$3:$J$14,MONTH(Tableau1[[#This Row],[DATE RECEPTION SECTION LOG -INFO PRESTACHOP]]),2),"") -> mars | L5: 1 | N5: =TODAY() -> 44306
A6: BFHBFNBGF | B6: BOUCHER | C6: GILDAS | D6: C | E6: 44288 | F6: =IF(E6="","",E6+7) -> 44295 | I6: =IF(G6="",E6+45,"") -> 44333 | K6: =IF(Tableau1[[#This Row],[DATE RECEPTION SECTION LOG -INFO PRESTACHOP]],INDEX(Liste!$I$3:$J$14,MONTH(Tableau1[[#This Row],[DATE RECEPTION SECTION LOG -INFO PRESTACHOP]]),2),"") -> avril | L6: 1
A7: FHBFFDFBRE | B7: COURTES | C7: BENJAMIN | D7: D | E7: 44288 | F7: =IF(E7="","",E7+7) -> 44295 | H7: X | I7: =IF(G7="",E7+45,"") -> 44333 | K7: =IF(Tableau1[[#This Row],[DATE RECEPTION SECTION LOG -INFO PRESTACHOP]],INDEX(Liste!$I$3:$J$14,MONTH(Tableau1[[#This Row],[DATE RECEPTION SECTION LOG -INFO PRESTACHOP]]),2),"") -> avril | L7: 1
A8: FHHGHGFSH | B8: HGFHGFH | C8: GFHHGF | D8: F | E8: 44296 | F8: =IF(E8="","",E8+7) -> 44303 | G8: 44259 | I8: =IF(G8="",E8+45,"") | K8: =IF(Tableau1[[#This Row],[DATE RECEPTION SECTION LOG -INFO PRESTACHOP]],INDEX(Liste!$I$3:$J$14,MONTH(Tableau1[[#This Row],[DATE RECEPTION SECTION LOG -INFO PRESTACHOP]]),2),"") -> avril | L8: 1
A9: THGHG | B9: FHGFSHGFS | C9: HGFH | D9: E | E9: 44296 | F9: =IF(E9="","",E9+7) -> 44303 | H9: X | I9: =IF(G9="",E9+45,"") -> 44341 | K9: =IF(Tableau1[[#This Row],[DATE RECEPTION SECTION LOG -INFO PRESTACHOP]],INDEX(Liste!$I$3:$J$14,MONTH(Tableau1[[#This Row],[DATE RECEPTION SECTION LOG -INFO PRESTACHOP]]),2),"") -> avril | L9: 1
A10: GTJJHGJHGJ | B10: GFHGFH | C10: HGFHGFH | D10: F | E10: 44306 | F10: =IF(E10="","",E10+7) -> 44313 | I10: =IF(G10="",E10+45,"") -> 44351 | K10: =IF(Tableau1[[#This Row],[DATE RECEPTION SECTION LOG -INFO PRESTACHOP]],INDEX(Liste!$I$3:$J$14,MONTH(Tableau1[[#This Row],[DATE RECEPTION SECTION LOG -INFO PRESTACHOP]]),2),"") -> avril | L10: 1
A11: RJGKJGJH | B11: GFHGFH | C11: Tetrgtr | D11: E | E11: 44306 | F11: =IF(E11="","",E11+7) -> 44313 | I11: =IF(G11="",E11+45,"") -> 44351 | K11: =IF(Tableau1[[#This Row],[DATE RECEPTION SECTION LOG -INFO PRESTACHOP]],INDEX(Liste!$I$3:$J$14,MONTH(Tableau1[[#This Row],[DATE RECEPTION SECTION LOG -INFO PRESTACHOP]]),2),"") -> avril | L11: 1
A12: dgfgdff | F12: =IF(E12="","",E12+7) | I12: =IF(G12="",E12+45,"") -> 45 | K12: =IF(Tableau1[[#This Row],[DATE RECEPTION SECTION LOG -INFO PRESTACHOP]],INDEX(Liste!$I$3:$J$14,MONTH(Tableau1[[#This Row],[DATE RECEPTION SECTION LOG -INFO PRESTACHOP]]),2),"")

Sheet Liste
A1: Services
A2: A
A3: B | I3: 1 | J3: janvier
A4: C | I4: 2 | J4: février
A5: D | I5: 3 | J5: mars
A6: E | I6: 4 | J6: avril
A7: F | I7: 5 | J7: mai
A8: G | I8: 6 | J8: juin
A9: H | I9: 7 | J9: juillet
A10: I | I10: 8 | J10: août
A11: J | I11: 9 | J11: septembre
A12: K | I12: 10 | J12: octobre
A13: L | I13: 11 | J13: novembre
A14: M | I14: 12 | J14: décembre
A15: N
A16: P
A17: Q
A18: R
A19: S
A20: T
A21: U
A22: V
A23: W
A24: X
A25: Y
A26: Z
