Workbook

Sheet Choix
H2: 2015
H3: 2016
C4: Entrée | D4: Sortie | E4: Stock | H4: 2017
H5: 2018
C6: 2015 | D6: 2015 | E6: 2015 | H6: 2019
H7: 2020

Sheet Données
B1: Entrée | K1: Sortie | T1: Stock
B2: 2015 | C2: 2016 | D2: 2017 | E2: 2018 | F2: 2019 | G2: 2020 | H2: Choix | K2: 2015 | L2: 2016 | M2: 2017 | N2: 2018 | O2: 2019 | P2: 2020 | Q2: Choix | T2: 2015 | U2: 2016 | V2: 2017 | W2: 2018 | X2: 2019 | Y2: 2020 | Z2: Choix
A3: 1 | B3: 199 | C3: 226.52 | D3: 226.36 | E3: 219 | F3: 253.71001 | G3: 229.06 | H3: =IF(Choix!$C$6=Choix!$H$2,B3:B17,IF(Choix!$C$6=Choix!$H$3,C3:C17,IF(Choix!$C$6=Choix!$H$4,D3:D17,IF(Choix!$C$6=Choix!$H$5,E3:E17,IF(Choix!$C$6=Choix!$H$6,F3:F17,IF(Choix!$C$6=Choix!$H$7,G3:G17,0)))))) -> 199 | J3: 1 | K3: 65 | L3: 234.87 | M3: 207.12 | N3: 241.28242 | O3: 69 | P3: 80 | Q3: =IF(Choix!$D$6=Choix!$H$2,K3:K17,IF(Choix!$D$6=Choix!$H$3,L3:L17,IF(Choix!$D$6=Choix!$H$4,M3:M17,IF(Choix!$D$6=Choix!$H$5,N3:N17,IF(Choix!$D$6=Choix!$H$6,O3:O17,IF(Choix!$D$6=Choix!$H$7,P3:P17,0)))))) -> 65 | S3: 1 | T3: 135 | U3: 195.5 | V3: 156.88 | W3: 206.95 | X3: 287.17853 | Y3: 229.06 | Z3: =IF(Choix!$E$6=Choix!$H$2,T3:T17,IF(Choix!$E$6=Choix!$H$3,U3:U17,IF(Choix!$E$6=Choix!$H$4,V3:V17,IF(Choix!$E$6=Choix!$H$5,W3:W17,IF(Choix!$E$6=Choix!$H$6,X3:X17,IF(Choix!$E$6=Choix!$H$7,Y3:Y17,0)))))) -> 135
A4: 2 | B4: 200 | C4: 228.11999 | D4: 235.88001 | E4: 220 | F4: 253.92999 | G4: 229.51 | H4: =IF(Choix!$C$6=Choix!$H$2,B4:B18,IF(Choix!$C$6=Choix!$H$3,C4:C18,IF(Choix!$C$6=Choix!$H$4,D4:D18,IF(Choix!$C$6=Choix!$H$5,E4:E18,IF(Choix!$C$6=Choix!$H$6,F4:F18,IF(Choix!$C$6=Choix!$H$7,G4:G18,0)))))) -> 200 | J4: 2 | K4: 66 | L4: 240.4 | M4: 206.56 | N4: 146.50779 | O4: 70 | P4: 229.51 | Q4: =IF(Choix!$D$6=Choix!$H$2,K4:K18,IF(Choix!$D$6=Choix!$H$3,L4:L18,IF(Choix!$D$6=Choix!$H$4,M4:M18,IF(Choix!$D$6=Choix!$H$5,N4:N18,IF(Choix!$D$6=Choix!$H$6,O4:O18,IF(Choix!$D$6=Choix!$H$7,P4:P18,0)))))) -> 66 | S4: 2 | T4: 136 | U4: 155.79 | V4: 156.53 | W4: 199.96001 | X4: 313.07583 | Y4: 229.51 | Z4: =IF(Choix!$E$6=Choix!$H$2,T4:T18,IF(Choix!$E$6=Choix!$H$3,U4:U18,IF(Choix!$E$6=Choix!$H$4,V4:V18,IF(Choix!$E$6=Choix!$H$5,W4:W18,IF(Choix!$E$6=Choix!$H$6,X4:X18,IF(Choix!$E$6=Choix!$H$7,Y4:Y18,0)))))) -> 136
A5: 3 | B5: 201 | C5: 224.06 | D5: 231.75 | E5: 225 | F5: 229.58 | G5: 255.32 | H5: =IF(Choix!$C$6=Choix!$H$2,B5:B19,IF(Choix!$C$6=Choix!$H$3,C5:C19,IF(Choix!$C$6=Choix!$H$4,D5:D19,IF(Choix!$C$6=Choix!$H$5,E5:E19,IF(Choix!$C$6=Choix!$H$6,F5:F19,IF(Choix!$C$6=Choix!$H$7,G5:G19,0)))))) -> 201 | J5: 3 | K5: 67 | L5: 229.51 | M5: 207.27 | N5: 137.64172 | O5: 71 | P5: 191.54 | Q5: =IF(Choix!$D$6=Choix!$H$2,K5:K19,IF(Choix!$D$6=Choix!$H$3,L5:L19,IF(Choix!$D$6=Choix!$H$4,M5:M19,IF(Choix!$D$6=Choix!$H$5,N5:N19,IF(Choix!$D$6=Choix!$H$6,O5:O19,IF(Choix!$D$6=Choix!$H$7,P5:P19,0)))))) -> 67 | S5: 3 | T5: 137 | U5: 133.52 | V5: 154.55 | W5: 202.17 | X5: 155.18313 | Y5: 255.32 | Z5: =IF(Choix!$E$6=Choix!$H$2,T5:T19,IF(Choix!$E$6=Choix!$H$3,U5:U19,IF(Choix!$E$6=Choix!$H$4,V5:V19,IF(Choix!$E$6=Choix!$H$5,W5:W19,IF(Choix!$E$6=Choix!$H$6,X5:X19,IF(Choix!$E$6=Choix!$H$7,Y5:Y19,0)))))) -> 137
A6: 4 | B6: 282 | C6: 261.22 | D6: 277.4 | E6: 226 | F6: 223.94 | G6: 274.32 | H6: =IF(Choix!$C$6=Choix!$H$2,B6:B20,IF(Choix!$C$6=Choix!$H$3,C6:C20,IF(Choix!$C$6=Choix!$H$4,D6:D20,IF(Choix!$C$6=Choix!$H$5,E6:E20,IF(Choix!$C$6=Choix!$H$6,F6:F20,IF(Choix!$C$6=Choix!$H$7,G6:G20,0)))))) -> 282 | J6: 4 | K6: 68 | L6: 235.12 | M6: 207.69 | N6: 103.93774 | O6: 72 | P6: 190.53 | Q6: =IF(Choix!$D$6=Choix!$H$2,K6:K20,IF(Choix!$D$6=Choix!$H$3,L6:L20,IF(Choix!$D$6=Choix!$H$4,M6:M20,IF(Choix!$D$6=Choix!$H$5,N6:N20,IF(Choix!$D$6=Choix!$H$6,O6:O20,IF(Choix!$D$6=Choix!$H$7,P6:P20,0)))))) -> 68 | S6: 4 | T6: 138 | U6: 144.34 | V6: 158.75 | W6: 201.65 | X6: 104.00708 | Y6: 274.32 | Z6: =IF(Choix!$E$6=Choix!$H$2,T6:T20,IF(Choix!$E$6=Choix!$H$3,U6:U20,IF(Choix!$E$6=Choix!$H$4,V6:V20,IF(Choix!$E$6=Choix!$H$5,W6:W20,IF(Choix!$E$6=Choix!$H$6,X6:X20,IF(Choix!$E$6=Choix!$H$7,Y6:Y20,0)))))) -> 138
A7: 5 | B7: 283 | C7: 241.27 | D7: 236.25 | E7: 227 | F7: 230.64 | G7: 275.8 | H7: =IF(Choix!$C$6=Choix!$H$2,B7:B21,IF(Choix!$C$6=Choix!$H$3,C7:C21,IF(Choix!$C$6=Choix!$H$4,D7:D21,IF(Choix!$C$6=Choix!$H$5,E7:E21,IF(Choix!$C$6=Choix!$H$6,F7:F21,IF(Choix!$C$6=Choix!$H$7,G7:G21,0)))))) -> 283 | J7: 5 | K7: 69 | L7: 233.88 | M7: 208.01 | N7: 98.015442 | O7: 163 | P7: 192.65 | Q7: =IF(Choix!$D$6=Choix!$H$2,K7:K21,IF(Choix!$D$6=Choix!$H$3,L7:L21,IF(Choix!$D$6=Choix!$H$4,M7:M21,IF(Choix!$D$6=Choix!$H$5,N7:N21,IF(Choix!$D$6=Choix!$H$6,O7:O21,IF(Choix!$D$6=Choix!$H$7,P7:P21,0)))))) -> 69 | S7: 5 | T7: 139 | U7: 155.88 | V7: 164.29 | W7: 52.694669 | X7: 230.64 | Y7: 275.8 | Z7: =IF(Choix!$E$6=Choix!$H$2,T7:T21,IF(Choix!$E$6=Choix!$H$3,U7:U21,IF(Choix!$E$6=Choix!$H$4,V7:V21,IF(Choix!$E$6=Choix!$H$5,W7:W21,IF(Choix!$E$6=Choix!$H$6,X7:X21,IF(Choix!$E$6=Choix!$H$7,Y7:Y21,0)))))) -> 139
A8: 6 | B8: 284 | C8: 285.10001 | D8: 234.61 | E8: 228 | F8: 209.61999 | G8: 277.4 | H8: =IF(Choix!$C$6=Choix!$H$2,B8:B22,IF(Choix!$C$6=Choix!$H$3,C8:C22,IF(Choix!$C$6=Choix!$H$4,D8:D22,IF(Choix!$C$6=Choix!$H$5,E8:E22,IF(Choix!$C$6=Choix!$H$6,F8:F22,IF(Choix!$C$6=Choix!$H$7,G8:G22,0)))))) -> 284 | J8: 6 | K8: 253.71001 | L8: 233.72 | M8: 208.94 | N8: 147.76289 | O8: 150 | P8: 189.32 | Q8: =IF(Choix!$D$6=Choix!$H$2,K8:K22,IF(Choix!$D$6=Choix!$H$3,L8:L22,IF(Choix!$D$6=Choix!$H$4,M8:M22,IF(Choix!$D$6=Choix!$H$5,N8:N22,IF(Choix!$D$6=Choix!$H$6,O8:O22,IF(Choix!$D$6=Choix!$H$7,P8:P22,0)))))) -> 253.71001 | S8: 6 | T8: 140 | U8: 195.51 | V8: 166.46 | W8: 212.79444 | X8: 209.61999 | Y8: 277.4 | Z8: =IF(Choix!$E$6=Choix!$H$2,T8:T22,IF(Choix!$E$6=Choix!$H$3,U8:U22,IF(Choix!$E$6=Choix!$H$4,V8:V22,IF(Choix!$E$6=Choix!$H$5,W8:W22,IF(Choix!$E$6=Choix!$H$6,X8:X22,IF(Choix!$E$6=Choix!$H$7,Y8:Y22,0)))))) -> 140
A9: 7 | B9: 196.19 | C9: 220.66 | D9: 261.22 | E9: 229 | F9: 261.98001 | G9: 236.25 | H9: =IF(Choix!$C$6=Choix!$H$2,B9:B23,IF(Choix!$C$6=Choix!$H$3,C9:C23,IF(Choix!$C$6=Choix!$H$4,D9:D23,IF(Choix!$C$6=Choix!$H$5,E9:E23,IF(Choix!$C$6=Choix!$H$6,F9:F23,IF(Choix!$C$6=Choix!$H$7,G9:G23,0)))))) -> 196.19 | J9: 7 | K9: 253.92999 | L9: 234.57 | M9: 209.74 | N9: 173.85525 | O9: 216.62 | P9: 189.49 | Q9: =IF(Choix!$D$6=Choix!$H$2,K9:K23,IF(Choix!$D$6=Choix!$H$3,L9:L23,IF(Choix!$D$6=Choix!$H$4,M9:M23,IF(Choix!$D$6=Choix!$H$5,N9:N23,IF(Choix!$D$6=Choix!$H$6,O9:O23,IF(Choix!$D$6=Choix!$H$7,P9:P23,0)))))) -> 253.92999 | S9: 7 | T9: 141 | U9: 198.82 | V9: 169.17 | W9: 123.11418 | X9: 261.98001 | Y9: 236.25 | Z9: =IF(Choix!$E$6=Choix!$H$2,T9:T23,IF(Choix!$E$6=Choix!$H$3,U9:U23,IF(Choix!$E$6=Choix!$H$4,V9:V23,IF(Choix!$E$6=Choix!$H$5,W9:W23,IF(Choix!$E$6=Choix!$H$6,X9:X23,IF(Choix!$E$6=Choix!$H$7,Y9:Y23,0)))))) -> 141
A10: 8 | B10: 230.64 | C10: 275.8 | D10: 241.27 | E10: 282 | F10: 261.22 | G10: 234.61 | H10: =IF(Choix!$C$6=Choix!$H$2,B10:B24,IF(Choix!$C$6=Choix!$H$3,C10:C24,IF(Choix!$C$6=Choix!$H$4,D10:D24,IF(Choix!$C$6=Choix!$H$5,E10:E24,IF(Choix!$C$6=Choix!$H$6,F10:F24,IF(Choix!$C$6=Choix!$H$7,G10:G24,0)))))) -> 230.64 | J10: 8 | K10: 226.15 | L10: 234.81 | M10: 200.27 | N10: 274.14916 | O10: 224.05 | P10: 189.77 | Q10: =IF(Choix!$D$6=Choix!$H$2,K10:K24,IF(Choix!$D$6=Choix!$H$3,L10:L24,IF(Choix!$D$6=Choix!$H$4,M10:M24,IF(Choix!$D$6=Choix!$H$5,N10:N24,IF(Choix!$D$6=Choix!$H$6,O10:O24,IF(Choix!$D$6=Choix!$H$7,P10:P24,0)))))) -> 226.15 | S10: 8 | T10: 142 | U10: 192.29 | V10: 168.82 | W10: 221.1993 | X10: 261.22 | Y10: 234.61 | Z10: =IF(Choix!$E$6=Choix!$H$2,T10:T24,IF(Choix!$E$6=Choix!$H$3,U10:U24,IF(Choix!$E$6=Choix!$H$4,V10:V24,IF(Choix!$E$6=Choix!$H$5,W10:W24,IF(Choix!$E$6=Choix!$H$6,X10:X24,IF(Choix!$E$6=Choix!$H$7,Y10:Y24,0)))))) -> 142
A11: 9 | B11: 199 | C11: 226.52 | D11: 226.36 | E11: 283 | F11: 241.27 | G11: 234.21 | H11: =IF(Choix!$C$6=Choix!$H$2,B11:B25,IF(Choix!$C$6=Choix!$H$3,C11:C25,IF(Choix!$C$6=Choix!$H$4,D11:D25,IF(Choix!$C$6=Choix!$H$5,E11:E25,IF(Choix!$C$6=Choix!$H$6,F11:F25,IF(Choix!$C$6=Choix!$H$7,G11:G25,0)))))) -> 199 | J11: 9 | K11: 181.73 | L11: 236.03999 | M11: 206.95 | N11: 287.17853 | O11: 227.14 | P11: 190.22 | Q11: =IF(Choix!$D$6=Choix!$H$2,K11:K25,IF(Choix!$D$6=Choix!$H$3,L11:L25,IF(Choix!$D$6=Choix!$H$4,M11:M25,IF(Choix!$D$6=Choix!$H$5,N11:N25,IF(Choix!$D$6=Choix!$H$6,O11:O25,IF(Choix!$D$6=Choix!$H$7,P11:P25,0)))))) -> 181.73 | S11: 9 | T11: 143 | U11: 166.12 | V11: 166.83 | W11: 195.60881 | X11: 241.27 | Y11: 234.21 | Z11: =IF(Choix!$E$6=Choix!$H$2,T11:T25,IF(Choix!$E$6=Choix!$H$3,U11:U25,IF(Choix!$E$6=Choix!$H$4,V11:V25,IF(Choix!$E$6=Choix!$H$5,W11:W25,IF(Choix!$E$6=Choix!$H$6,X11:X25,IF(Choix!$E$6=Choix!$H$7,Y11:Y25,0)))))) -> 143
A12: 10 | B12: 200 | C12: 228.11999 | D12: 235.88001 | E12: 284 | F12: 285.10001 | G12: 234.88 | H12: =IF(Choix!$C$6=Choix!$H$2,B12:B26,IF(Choix!$C$6=Choix!$H$3,C12:C26,IF(Choix!$C$6=Choix!$H$4,D12:D26,IF(Choix!$C$6=Choix!$H$5,E12:E26,IF(Choix!$C$6=Choix!$H$6,F12:F26,IF(Choix!$C$6=Choix!$H$7,G12:G26,0)))))) -> 200 | J12: 10 | K12: 180.84 | L12: 237.84 | M12: 199.96001 | N12: 313.07583 | O12: 215.88 | P12: 189.85 | Q12: =IF(Choix!$D$6=Choix!$H$2,K12:K26,IF(Choix!$D$6=Choix!$H$3,L12:L26,IF(Choix!$D$6=Choix!$H$4,M12:M26,IF(Choix!$D$6=Choix!$H$5,N12:N26,IF(Choix!$D$6=Choix!$H$6,O12:O26,IF(Choix!$D$6=Choix!$H$7,P12:P26,0)))))) -> 180.84 | S12: 10 | T12: 144 | U12: 158.95 | V12: 167.47 | W12: 128.23622 | X12: 285.10001 | Y12: 234.88 | Z12: =IF(Choix!$E$6=Choix!$H$2,T12:T26,IF(Choix!$E$6=Choix!$H$3,U12:U26,IF(Choix!$E$6=Choix!$H$4,V12:V26,IF(Choix!$E$6=Choix!$H$5,W12:W26,IF(Choix!$E$6=Choix!$H$6,X12:X26,IF(Choix!$E$6=Choix!$H$7,Y12:Y26,0)))))) -> 144
A13: 11 | B13: 219 | C13: 253.71001 | D13: 229.06 | E13: 266.3 | F13: 220.62 | G13: 199 | H13: =IF(Choix!$C$6=Choix!$H$2,B13:B27,IF(Choix!$C$6=Choix!$H$3,C13:C27,IF(Choix!$C$6=Choix!$H$4,D13:D27,IF(Choix!$C$6=Choix!$H$5,E13:E27,IF(Choix!$C$6=Choix!$H$6,F13:F27,IF(Choix!$C$6=Choix!$H$7,G13:G27,0)))))) -> 219 | J13: 11 | K13: 226.03 | L13: 227.48 | M13: 202.17 | N13: 155.18313 | O13: 179.99 | P13: 191.11 | Q13: =IF(Choix!$D$6=Choix!$H$2,K13:K27,IF(Choix!$D$6=Choix!$H$3,L13:L27,IF(Choix!$D$6=Choix!$H$4,M13:M27,IF(Choix!$D$6=Choix!$H$5,N13:N27,IF(Choix!$D$6=Choix!$H$6,O13:O27,IF(Choix!$D$6=Choix!$H$7,P13:P27,0)))))) -> 226.03 | S13: 11 | T13: 145 | U13: 166.84 | V13: 167.07 | W13: 93.030154 | X13: 220.62 | Y13: 199 | Z13: =IF(Choix!$E$6=Choix!$H$2,T13:T27,IF(Choix!$E$6=Choix!$H$3,U13:U27,IF(Choix!$E$6=Choix!$H$4,V13:V27,IF(Choix!$E$6=Choix!$H$5,W13:W27,IF(Choix!$E$6=Choix!$H$6,X13:X27,IF(Choix!$E$6=Choix!$H$7,Y13:Y27,0)))))) -> 145
A14: 12 | B14: 220 | C14: 253.92999 | D14: 229.51 | E14: 199.38 | F14: 214.03 | G14: 200 | H14: =IF(Choix!$C$6=Choix!$H$2,B14:B28,IF(Choix!$C$6=Choix!$H$3,C14:C28,IF(Choix!$C$6=Choix!$H$4,D14:D28,IF(Choix!$C$6=Choix!$H$5,E14:E28,IF(Choix!$C$6=Choix!$H$6,F14:F28,IF(Choix!$C$6=Choix!$H$7,G14:G28,0)))))) -> 220 | J14: 12 | K14: 76 | L14: 241.99 | M14: 201.65 | N14: 104.00708 | O14: 180.04 | P14: 187.62 | Q14: =IF(Choix!$D$6=Choix!$H$2,K14:K28,IF(Choix!$D$6=Choix!$H$3,L14:L28,IF(Choix!$D$6=Choix!$H$4,M14:M28,IF(Choix!$D$6=Choix!$H$5,N14:N28,IF(Choix!$D$6=Choix!$H$6,O14:O28,IF(Choix!$D$6=Choix!$H$7,P14:P28,0)))))) -> 76 | S14: 12 | T14: 146 | U14: 220.81 | V14: 150.26 | W14: 84.924352 | X14: 214.03 | Y14: 200 | Z14: =IF(Choix!$E$6=Choix!$H$2,T14:T28,IF(Choix!$E$6=Choix!$H$3,U14:U28,IF(Choix!$E$6=Choix!$H$4,V14:V28,IF(Choix!$E$6=Choix!$H$5,W14:W28,IF(Choix!$E$6=Choix!$H$6,X14:X28,IF(Choix!$E$6=Choix!$H$7,Y14:Y28,0)))))) -> 146
... A17: 15 | B17: 229 | C17: 261.98001 | D17: 201 | E17: 224.06 | F17: 231.75 | G17: 230.64 | H17: =IF(Choix!$C$6=Choix!$H$2,B17:B31,IF(Choix!$C$6=Choix!$H$3,C17:C31,IF(Choix!$C$6=Choix!$H$4,D17:D31,IF(Choix!$C$6=Choix!$H$5,E17:E31,IF(Choix!$C$6=Choix!$H$6,F17:F31,IF(Choix!$C$6=Choix!$H$7,G17:G31,0)))))) -> 229 | J17: 15 | K17: 79 | L17: 244.87 | M17: 201.71 | N17: 271.86775 | O17: 222.05 | P17: 188.29 | Q17: =IF(Choix!$D$6=Choix!$H$2,K17:K31,IF(Choix!$D$6=Choix!$H$3,L17:L31,IF(Choix!$D$6=Choix!$H$4,M17:M31,IF(Choix!$D$6=Choix!$H$5,N17:N31,IF(Choix!$D$6=Choix!$H$6,O17:O31,IF(Choix!$D$6=Choix!$H$7,P17:P31,0)))))) -> 79 | S17: 15 | T17: 229 | U17: 261.98001 | V17: 201 | W17: 224.06 | X17: 231.75 | Y17: 195.51 | Z17: =IF(Choix!$E$6=Choix!$H$2,T17:T31,IF(Choix!$E$6=Choix!$H$3,U17:U31,IF(Choix!$E$6=Choix!$H$4,V17:V31,IF(Choix!$E$6=Choix!$H$5,W17:W31,IF(Choix!$E$6=Choix!$H$6,X17:X31,IF(Choix!$E$6=Choix!$H$7,Y17:Y31,0)))))) -> 229
