Workbook

Sheet 12,5KG
E2: 43833 | G2: 44805 | J2: 44806 | M2: 44807 | P2: 44808 | S2: 44809 | V2: 44810 | Y2: 44811 | AB2: 44812 | AE2: 44813 | AH2: 44814 | AK2: 44815 | AN2: 44816 | AQ2: 44817 | AT2: 44818 | AW2: 44819 | AZ2: 44820 | BC2: 44821 | BF2: 44822 | BI2: 44823 | BL2: 44824 | BO2: 44825 | BR2: 44826 | BU2: Nb Sation en rupture
A3: ZONE | B3: CODE TIERS | C3: STATIONS | D3: Ventes Moy Jour | E3: P | F3: V | G3: P | H3: V | I3: Nb Jr Vente | J3: P | K3: V | L3: Nb Jr Vente | M3: P | N3: V | O3: Nb Jr Vente | P3: P | Q3: V | R3: Nb Jr Vente | S3: P | T3: V | U3: Nb Jr Vente | V3: P | W3: V | X3: Nb Jr Vente | Y3: P | Z3: V | AA3: Nb Jr Vente | AB3: P | AC3: V | AD3: Nb Jr Vente | AE3: P | AF3: V | AG3: Nb Jr Vente | AH3: P | AI3: V | AJ3: Nb Jr Vente | AK3: P | AL3: V | AM3: Nb Jr Vente | AN3: P | AO3: V | AP3: Nb Jr Vente | AQ3: P | AR3: V | AS3: Nb Jr Vente | AT3: P | AU3: V | AV3: Nb Jr Vente | AW3: P | AX3: V | AY3: Nb Jr Vente | AZ3: P | BA3: V | BB3: Nb Jr Vente | BC3: P | BD3: V | BE3: Nb Jr Vente | BF3: P | BG3: V | BH3: Nb Jr Vente | BI3: P | BJ3: V | BK3: Nb Jr Vente | BL3: P | BM3: V | BN3: Nb Jr Vente | BO3: P | BP3: V | BQ3: Nb Jr Vente | BR3: P | BS3: V | BT3: Nb Jr Vente
A4: HAUT- NKAM | B4: 510576 | C4: BAFANG CENTRE | D4: 6 | E4: 53 | F4: 40 | G4: 65 | H4: 34 | I4: =G4/$D4 -> 10.833333 | J4: 56 | K4: 43 | L4: =J4/$D4 -> 9.3333333 | O4: =M4/$D4 -> 0 | R4: =P4/$D4 -> 0 | S4: 20 | T4: 79 | U4: =S4/$D4 -> 3.3333333 | V4: 10 | W4: 89 | X4: =V4/$D4 -> 1.6666667 | Y4: 3 | Z4: 96 | AA4: =Y4/$D4 -> 0.5 | AB4: 96 | AD4: =AB4/$D4 -> 16 | AE4: 10 | AF4: 89 | AG4: =AE4/$D4 -> 1.6666667 | AJ4: =AH4/$D4 -> 0 | AM4: =AK4/$D4 -> 0 | AN4: 79 | AO4: 20 | AP4: =AN4/$D4 -> 13.166667 | AQ4: 68 | AR4: 31 | AS4: =AQ4/$D4 -> 11.333333 | AT4: 52 | AU4: 47 | AV4: =AT4/$D4 -> 8.6666667 | AW4: 45 | AX4: 54 | AY4: =AW4/$D4 -> 7.5 | AZ4: 29 | BA4: 70 | BB4: =AZ4/$D4 -> 4.8333333 | BC4: 10 | BD4: 89 | BE4: =BC4/$D4 -> 1.6666667 | BH4: =BF4/$D4 -> 0 | BK4: =BI4/$D4 -> 0 | BL4: 10 | BM4: 89 | BN4: =BL4/$D4 -> 1.6666667 | BO4: 8 | BP4: 91 | BQ4: =BO4/$D4 -> 1.3333333 | BR4: 10 | BS4: 89 | BT4: =BR4/$D4 -> 1.6666667 | BU4: =COUNTIFS(E4:BT4,"<3",E4:BT4,">0",$E$3:$BT$3,"=Nb Jr Vente") -> 7
A5: HAUT- NKAM | B5: 518420 | C5: BAFANG CHEFFERIE | D5: 3 | E5: 46 | F5: 11 | G5: 44 | H5: 14 | I5: =G5/$D5 -> 14.666667 | J5: 43 | K5: 15 | L5: =J5/$D5 -> 14.333333 | O5: =M5/$D5 -> 0 | R5: =P5/$D5 -> 0 | S5: 40 | T5: 18 | U5: =S5/$D5 -> 13.333333 | V5: 37 | W5: 21 | X5: =V5/$D5 -> 12.333333 | Y5: 29 | Z5: 29 | AA5: =Y5/$D5 -> 9.6666667 | AB5: 26 | AC5: 32 | AD5: =AB5/$D5 -> 8.6666667 | AE5: 16 | AF5: 42 | AG5: =AE5/$D5 -> 5.3333333 | AJ5: =AH5/$D5 -> 0 | AM5: =AK5/$D5 -> 0 | AN5: 37 | AO5: 21 | AP5: =AN5/$D5 -> 12.333333 | AQ5: 37 | AR5: 21 | AS5: =AQ5/$D5 -> 12.333333 | AT5: 35 | AU5: 23 | AV5: =AT5/$D5 -> 11.666667 | AW5: 32 | AX5: 26 | AY5: =AW5/$D5 -> 10.666667 | AZ5: 29 | BA5: 29 | BB5: =AZ5/$D5 -> 9.6666667 | BC5: 24 | BD5: 34 | BE5: =BC5/$D5 -> 8 | BH5: =BF5/$D5 -> 0 | BK5: =BI5/$D5 -> 0 | BL5: 19 | BM5: 39 | BN5: =BL5/$D5 -> 6.3333333 | BO5: 14 | BP5: 44 | BQ5: =BO5/$D5 -> 4.6666667 | BR5: 12 | BS5: 46 | BT5: =BR5/$D5 -> 4 | BU5: =COUNTIFS(E5:BT5,"<3",E5:BT5,">0",$E$3:$BT$3,"=Nb Jr Vente") -> 0
A6: HAUT- NKAM | B6: 518506 | C6: BONDJA BAFANG | D6: 4 | E6: 48 | F6: 23 | G6: 47 | H6: 20 | I6: =G6/$D6 -> 11.75 | J6: 40 | K6: 28 | L6: =J6/$D6 -> 10 | O6: =M6/$D6 -> 0 | R6: =P6/$D6 -> 0 | S6: 30 | T6: 38 | U6: =S6/$D6 -> 7.5 | V6: 30 | W6: 38 | X6: =V6/$D6 -> 7.5 | Y6: 19 | Z6: 48 | AA6: =Y6/$D6 -> 4.75 | AB6: 13 | AC6: 54 | AD6: =AB6/$D6 -> 3.25 | AE6: 12 | AF6: 55 | AG6: =AE6/$D6 -> 3 | AJ6: =AH6/$D6 -> 0 | AM6: =AK6/$D6 -> 0 | AN6: 43 | AO6: 34 | AP6: =AN6/$D6 -> 10.75 | AQ6: 39 | AR6: 28 | AS6: =AQ6/$D6 -> 9.75 | AT6: 35 | AU6: 32 | AV6: =AT6/$D6 -> 8.75 | AW6: 30 | AX6: 37 | AY6: =AW6/$D6 -> 7.5 | AZ6: 29 | BA6: 38 | BB6: =AZ6/$D6 -> 7.25 | BC6: 20 | BD6: 46 | BE6: =BC6/$D6 -> 5 | BH6: =BF6/$D6 -> 0 | BK6: =BI6/$D6 -> 0 | BL6: 18 | BM6: 49 | BN6: =BL6/$D6 -> 4.5 | BO6: 16 | BP6: 51 | BQ6: =BO6/$D6 -> 4 | BR6: 13 | BS6: 54 | BT6: =BR6/$D6 -> 3.25 | BU6: =COUNTIFS(E6:BT6,"<3",E6:BT6,">0",$E$3:$BT$3,"=Nb Jr Vente") -> 0
A7: HAUT- NKAM | B7: 520470 | C7: BANDJOUN | D7: 6 | E7: 29 | F7: 20 | G7: 20 | H7: 28 | I7: =G7/$D7 -> 3.3333333 | J7: 10 | K7: 38 | L7: =J7/$D7 -> 1.6666667 | O7: =M7/$D7 -> 0 | R7: =P7/$D7 -> 0 | S7: 2 | T7: 46 | U7: =S7/$D7 -> 0.33333333 | V7: 2 | W7: 46 | X7: =V7/$D7 -> 0.33333333 | Y7: 2 | Z7: 46 | AA7: =Y7/$D7 -> 0.33333333 | AB7: 2 | AC7: 46 | AD7: =AB7/$D7 -> 0.33333333 | AE7: 2 | AF7: 46 | AG7: =AE7/$D7 -> 0.33333333 | AJ7: =AH7/$D7 -> 0 | AM7: =AK7/$D7 -> 0 | AN7: 31 | AO7: 17 | AP7: =AN7/$D7 -> 5.1666667 | AQ7: 18 | AR7: 30 | AS7: =AQ7/$D7 -> 3 | AT7: 5 | AU7: 43 | AV7: =AT7/$D7 -> 0.83333333 | AW7: 33 | AX7: 15 | AY7: =AW7/$D7 -> 5.5 | AZ7: 28 | BA7: 20 | BB7: =AZ7/$D7 -> 4.6666667 | BC7: 3 | BD7: 45 | BE7: =BC7/$D7 -> 0.5 | BH7: =BF7/$D7 -> 0 | BK7: =BI7/$D7 -> 0 | BL7: 3 | BM7: 45 | BN7: =BL7/$D7 -> 0.5 | BO7: 2 | BP7: 46 | BQ7: =BO7/$D7 -> 0.33333333 | BR7: 2 | BS7: 46 | BT7: =BR7/$D7 -> 0.33333333 | BU7: =COUNTIFS(E7:BT7,"<3",E7:BT7,">0",$E$3:$BT$3,"=Nb Jr Vente") -> 11
A8: HAUT- NKAM | B8: 518888 | C8: BAHAM | D8: 5 | E8: 33 | F8: 15 | G8: 30 | H8: 12 | I8: =G8/$D8 -> 6 | J8: 24 | K8: 18 | L8: =J8/$D8 -> 4.8 | O8: =M8/$D8 -> 0 | R8: =P8/$D8 -> 0 | S8: 10 | T8: 32 | U8: =S8/$D8 -> 2 | V8: 10 | W8: 32 | X8: =V8/$D8 -> 2 | Y8: 10 | Z8: 32 | AA8: =Y8/$D8 -> 2 | AB8: 9 | AC8: 33 | AD8: =AB8/$D8 -> 1.8 | AE8: 8 | AF8: 34 | AG8: =AE8/$D8 -> 1.6 | AJ8: =AH8/$D8 -> 0 | AM8: =AK8/$D8 -> 0 | AN8: 33 | AO8: 9 | AP8: =AN8/$D8 -> 6.6 | AQ8: 27 | AR8: 15 | AS8: =AQ8/$D8 -> 5.4 | AT8: 20 | AU8: 22 | AV8: =AT8/$D8 -> 4 | AW8: 17 | AX8: 25 | AY8: =AW8/$D8 -> 3.4 | AZ8: 13 | BA8: 29 | BB8: =AZ8/$D8 -> 2.6 | BC8: 3 | BD8: 39 | BE8: =BC8/$D8 -> 0.6 | BH8: =BF8/$D8 -> 0 | BK8: =BI8/$D8 -> 0 | BL8: 3 | BM8: 39 | BN8: =BL8/$D8 -> 0.6 | BO8: 3 | BP8: 39 | BQ8: =BO8/$D8 -> 0.6 | BR8: 3 | BS8: 39 | BT8: =BR8/$D8 -> 0.6 | BU8: =COUNTIFS(E8:BT8,"<3",E8:BT8,">0",$E$3:$BT$3,"=Nb Jr Vente") -> 10
E9: =SUM(E4:E8) -> 209 | F9: =SUM(F4:F8) -> 109 | G9: =SUM(G4:G8) -> 206 | H9: =SUM(H4:H8) -> 108 | I9: =IFERROR((G9)/(H9+G9),"-") -> 0.65605096 | J9: =SUM(J4:J8) -> 173 | K9: =SUM(K4:K8) -> 142 | L9: =IFERROR((J9)/(K9+J9),"-") -> 0.54920635 | M9: =SUM(M4:M8) -> 0 | N9: =SUM(N4:N8) -> 0 | O9: =IFERROR((M9)/(N9+M9),"-") -> - | P9: =SUM(P4:P8) -> 0 | Q9: =SUM(Q4:Q8) -> 0 | R9: =IFERROR((P9)/(Q9+P9),"-") -> - | S9: =SUM(S4:S8) -> 102 | T9: =SUM(T4:T8) -> 213 | U9: =IFERROR((S9)/(T9+S9),"-") -> 0.32380952 | V9: =SUM(V4:V8) -> 89 | W9: =SUM(W4:W8) -> 226 | X9: =IFERROR((V9)/(W9+V9),"-") -> 0.28253968 | Y9: =SUM(Y4:Y8) -> 63 | Z9: =SUM(Z4:Z8) -> 251 | AA9: =IFERROR((Y9)/(Z9+Y9),"-") -> 0.20063694 | AB9: =SUM(AB4:AB8) -> 146 | AC9: =SUM(AC4:AC8) -> 165 | AD9: =IFERROR((AB9)/(AC9+AB9),"-") -> 0.46945338 | AE9: =SUM(AE4:AE8) -> 48 | AF9: =SUM(AF4:AF8) -> 266 | AG9: =IFERROR((AE9)/(AF9+AE9),"-") -> 0.15286624 | AH9: =SUM(AH4:AH8) -> 0 | AI9: =SUM(AI4:AI8) -> 0 | AJ9: =IFERROR((AH9)/(AI9+AH9),"-") -> - | AK9: =SUM(AK4:AK8) -> 0 | AL9: =SUM(AL4:AL8) -> 0 | AM9: =IFERROR((AK9)/(AL9+AK9),"-") -> - | AN9: =SUM(AN4:AN8) -> 223 | AO9: =SUM(AO4:AO8) -> 101 | AP9: =IFERROR((AN9)/(AO9+AN9),"-") -> 0.6882716 | AQ9: =SUM(AQ4:AQ8) -> 189 | AR9: =SUM(AR4:AR8) -> 125 | AS9: =IFERROR((AQ9)/(AR9+AQ9),"-") -> 0.60191083 | AT9: =SUM(AT4:AT8) -> 147 | AU9: =SUM(AU4:AU8) -> 167 | AV9: =IFERROR((AT9)/(AU9+AT9),"-") -> 0.46815287 | AW9: =SUM(AW4:AW8) -> 157 | AX9: =SUM(AX4:AX8) -> 157 | AY9: =IFERROR((AW9)/(AX9+AW9),"-") -> 0.5 | AZ9: =SUM(AZ4:AZ8) -> 128 | BA9: =SUM(BA4:BA8) -> 186 | BB9: =IFERROR((AZ9)/(BA9+AZ9),"-") -> 0.40764331 | BC9: =SUM(BC4:BC8) -> 60 | BD9: =SUM(BD4:BD8) -> 253 | BE9: =IFERROR((BC9)/(BD9+BC9),"-") -> 0.19169329 | BF9: =SUM(BF4:BF8) -> 0 | BG9: =SUM(BG4:BG8) -> 0 | BH9: =IFERROR((BF9)/(BG9+BF9),"-") -> - | BI9: =SUM(BI4:BI8) -> 0 | BJ9: =SUM(BJ4:BJ8) -> 0 | BK9: =IFERROR((BI9)/(BJ9+BI9),"-") -> - | BL9: =SUM(BL4:BL8) -> 53 | BM9: =SUM(BM4:BM8) -> 261 | BN9: =IFERROR((BL9)/(BM9+BL9),"-") -> 0.16878981 | BO9: =SUM(BO4:BO8) -> 43 | BP9: =SUM(BP4:BP8) -> 271 | BQ9: =IFERROR((BO9)/(BP9+BO9),"-") -> 0.13694268 | BR9: =SUM(BR4:BR8) -> 40 | BS9: =SUM(BS4:BS8) -> 274 | BT9: =IFERROR((BR9)/(BS9+BR9),"-") -> 0.12738854 | BU9: =SUM(BU4:BU8) -> 28
A11: NOUN | B11: 510477 | C11: ROUTE FOUMBAN | D11: 10 | E11: 41 | F11: 43 | G11: 6 | H11: 56 | I11: =G11/$D11 -> 0.6 | J11: 9 | K11: 53 | L11: =J11/$D11 -> 0.9 | O11: =M11/$D11 -> 0 | R11: =P11/$D11 -> 0 | S11: 9 | T11: 53 | U11: =S11/$D11 -> 0.9 | V11: 37 | W11: 25 | X11: =V11/$D11 -> 3.7 | Y11: 10 | Z11: 52 | AA11: =Y11/$D11 -> 1 | AB11: 6 | AC11: 56 | AD11: =AB11/$D11 -> 0.6 | AE11: 5 | AF11: 57 | AG11: =AE11/$D11 -> 0.5 | AJ11: =AH11/$D11 -> 0 | AM11: =AK11/$D11 -> 0 | AN11: 4 | AO11: 58 | AP11: =AN11/$D11 -> 0.4 | AQ11: 50 | AR11: 12 | AS11: =AQ11/$D11 -> 5 | AT11: 30 | AU11: 32 | AV11: =AT11/$D11 -> 3 | AW11: 5 | AX11: 57 | AY11: =AW11/$D11 -> 0.5 | AZ11: 5 | BA11: 57 | BB11: =AZ11/$D11 -> 0.5 | BC11: 4 | BD11: 58 | BE11: =BC11/$D11 -> 0.4 | BH11: =BF11/$D11 -> 0 | BK11: =BI11/$D11 -> 0 | BL11: 13 | BM11: 49 | BN11: =BL11/$D11 -> 1.3 | BO11: 4 | BP11: 58 | BQ11: =BO11/$D11 -> 0.4 | BR11: 45 | BS11: 17 | BT11: =BR11/$D11 -> 4.5 | BU11: =COUNTIFS(E11:BT11,"<3",E11:BT11,">0",$E$3:$BT$3,"=Nb Jr Vente") -> 12
A12: NOUN | B12: 520502 | C12: FOUMBOT1&2 | D12: 15 | E12: 63 | F12: 138 | G12: 1 | H12: 208 | I12: =G12/$D12 -> 0.066666667 | J12: 200 | K12: 9 | L12: =J12/$D12 -> 13.333333 | O12: =M12/$D12 -> 0 | R12: =P12/$D12 -> 0 | S12: 55 | T12: 154 | U12: =S12/$D12 -> 3.6666667 | V12: 19 | W12: 190 | X12: =V12/$D12 -> 1.2666667 | Y12: 1 | Z12: 208 | AA12: =Y12/$D12 -> 0.066666667 | AB12: 200 | AC12: 9 | AD12: =AB12/$D12 -> 13.333333 | AE12: 181 | AF12: 28 | AG12: =AE12/$D12 -> 12.066667 | AJ12: =AH12/$D12 -> 0 | AM12: =AK12/$D12 -> 0 | AN12: 67 | AO12: 142 | AP12: =AN12/$D12 -> 4.4666667 | AQ12: 51 | AR12: 158 | AS12: =AQ12/$D12 -> 3.4 | AT12: 15 | AU12: 194 | AV12: =AT12/$D12 -> 1 | AW12: 1 | AX12: 209 | AY12: =AW12/$D12 -> 0.066666667 | AZ12: 1 | BA12: 209 | BB12: =AZ12/$D12 -> 0.066666667 | BC12: 1 | BD12: 209 | BE12: =BC12/$D12 -> 0.066666667 | BH12: =BF12/$D12 -> 0 | BK12: =BI12/$D12 -> 0 | BL12: 164 | BM12: 45 | BN12: =BL12/$D12 -> 10.933333 | BO12: 137 | BP12: 72 | BQ12: =BO12/$D12 -> 9.1333333 | BR12: 98 | BS12: 111 | BT12: =BR12/$D12 -> 6.5333333 | BU12: =COUNTIFS(E12:BT12,"<3",E12:BT12,">0",$E$3:$BT$3,"=Nb Jr Vente") -> 7
A13: NOUN | B13: 506180 | C13: FOUMBAN HOPITAL | D13: 15 | E13: 9 | F13: 136 | G13: 10 | H13: 139 | I13: =G13/$D13 -> 0.66666667 | J13: 128 | K13: 21 | L13: =J13/$D13 -> 8.5333333 | O13: =M13/$D13 -> 0 | R13: =P13/$D13 -> 0 | S13: 66 | T13: 82 | U13: =S13/$D13 -> 4.4 | V13: 19 | W13: 125 | X13: =V13/$D13 -> 1.2666667 | Y13: 8 | Z13: 140 | AA13: =Y13/$D13 -> 0.53333333 | AB13: 140 | AC13: 8 | AD13: =AB13/$D13 -> 9.3333333 | AE13: 96 | AF13: 47 | AG13: =AE13/$D13 -> 6.4 | AJ13: =AH13/$D13 -> 0 | AM13: =AK13/$D13 -> 0 | AN13: 10 | AO13: 137 | AP13: =AN13/$D13 -> 0.66666667 | AQ13: 10 | AR13: 137 | AS13: =AQ13/$D13 -> 0.66666667 | AT13: 135 | AU13: 12 | AV13: =AT13/$D13 -> 9 | AW13: 74 | AX13: 73 | AY13: =AW13/$D13 -> 4.9333333 | AZ13: 39 | BA13: 108 | BB13: =AZ13/$D13 -> 2.6 | BC13: 9 | BD13: 138 | BE13: =BC13/$D13 -> 0.6 | BH13: =BF13/$D13 -> 0 | BK13: =BI13/$D13 -> 0 | BL13: 8 | BM13: 139 | BN13: =BL13/$D13 -> 0.53333333 | BO13: 8 | BP13: 139 | BQ13: =BO13/$D13 -> 0.53333333 | BR13: 6 | BS13: 141 | BT13: =BR13/$D13 -> 0.4 | BU13: =COUNTIFS(E13:BT13,"<3",E13:BT13,">0",$E$3:$BT$3,"=Nb Jr Vente") -> 10
A14: NOUN | B14: 192476 | C14: FOUMBAN 1&2 | D14: 25 | E14: 1 | F14: 220 | G14: 1 | H14: 196 | I14: =G14/$D14 -> 0.04 | J14: 180 | K14: 17 | L14: =J14/$D14 -> 7.2 | O14: =M14/$D14 -> 0 | R14: =P14/$D14 -> 0 | S14: 0 | T14: 197 | U14: =S14/$D14 -> 0 | V14: 1 | W14: 196 | X14: =V14/$D14 -> 0.04 | Y14: 1 | Z14: 196 | AA14: =Y14/$D14 -> 0.04 | AB14: 190 | AC14: 7 | AD14: =AB14/$D14 -> 7.6 | AE14: 66 | AF14: 131 | AG14: =AE14/$D14 -> 2.64 | AJ14: =AH14/$D14 -> 0 | AM14: =AK14/$D14 -> 0 | AN14: 0 | AO14: 197 | AP14: =AN14/$D14 -> 0 | AQ14: 1 | AR14: 196 | AS14: =AQ14/$D14 -> 0.04 | AT14: 185 | AU14: 12 | AV14: =AT14/$D14 -> 7.4 | AW14: 46 | AX14: 151 | AY14: =AW14/$D14 -> 1.84 | AZ14: 1 | BA14: 197 | BB14: =AZ14/$D14 -> 0.04 | BC14: 1 | BD14: 197 | BE14: =BC14/$D14 -> 0.04 | BH14: =BF14/$D14 -> 0 | BK14: =BI14/$D14 -> 0 | BL14: 1 | BM14: 197 | BN14: =BL14/$D14 -> 0.04 | BO14: 1 | BP14: 197 | BQ14: =BO14/$D14 -> 0.04 | BR14: 1 | BS14: 197 | BT14: =BR14/$D14 -> 0.04 | BU14: =COUNTIFS(E14:BT14,"<3",E14:BT14,">0",$E$3:$BT$3,"=Nb Jr Vente") -> 11
E15: =SUM(E11:E14) -> 114 | F15: =SUM(F11:F14) -> 537 | G15: =SUM(G11:G14) -> 18 | H15: =SUM(H11:H14) -> 599 | I15: =IFERROR((G15)/(H15+G15),"-") -> 0.02917342 | J15: =SUM(J11:J14) -> 517 | K15: =SUM(K11:K14) -> 100 | L15: =IFERROR((J15)/(K15+J15),"-") -> 0.83792545 | M15: =SUM(M11:M14) -> 0 | N15: =SUM(N11:N14) -> 0 | O15: =IFERROR((M15)/(N15+M15),"-") -> - | P15: =SUM(P11:P14) -> 0 | Q15: =SUM(Q11:Q14) -> 0 | R15: =IFERROR((P15)/(Q15+P15),"-") -> - | S15: =SUM(S11:S14) -> 130 | T15: =SUM(T11:T14) -> 486 | U15: =IFERROR((S15)/(T15+S15),"-") -> 0.21103896 | V15: =SUM(V11:V14) -> 76 | W15: =SUM(W11:W14) -> 536 | X15: =IFERROR((V15)/(W15+V15),"-") -> 0.12418301 | Y15: =SUM(Y11:Y14) -> 20 | Z15: =SUM(Z11:Z14) -> 596 | AA15: =IFERROR((Y15)/(Z15+Y15),"-") -> 0.032467532 | AB15: =SUM(AB11:AB14) -> 536 | AC15: =SUM(AC11:AC14) -> 80 | AD15: =IFERROR((AB15)/(AC15+AB15),"-") -> 0.87012987 | AE15: =SUM(AE11:AE14) -> 348 | AF15: =SUM(AF11:AF14) -> 263 | AG15: =IFERROR((AE15)/(AF15+AE15),"-") -> 0.5695581 | AH15: =SUM(AH11:AH14) -> 0 | AI15: =SUM(AI11:AI14) -> 0 | AJ15: =IFERROR((AH15)/(AI15+AH15),"-") -> - | AK15: =SUM(AK11:AK14) -> 0 | AL15: =SUM(AL11:AL14) -> 0 | AM15: =IFERROR((AK15)/(AL15+AK15),"-") -> - | AN15: =SUM(AN11:AN14) -> 81 | AO15: =SUM(AO11:AO14) -> 534 | AP15: =IFERROR((AN15)/(AO15+AN15),"-") -> 0.13170732 | AQ15: =SUM(AQ11:AQ14) -> 112 | AR15: =SUM(AR11:AR14) -> 503 | AS15: =IFERROR((AQ15)/(AR15+AQ15),"-") -> 0.18211382 | AT15: =SUM(AT11:AT14) -> 365 | AU15: =SUM(AU11:AU14) -> 250 | AV15: =IFERROR((AT15)/(AU15+AT15),"-") -> 0.59349593 | AW15: =SUM(AW11:AW14) -> 126 | AX15: =SUM(AX11:AX14) -> 490 | AY15: =IFERROR((AW15)/(AX15+AW15),"-") -> 0.20454545 | AZ15: =SUM(AZ11:AZ14) -> 46 | BA15: =SUM(BA11:BA14) -> 571 | BB15: =IFERROR((AZ15)/(BA15+AZ15),"-") -> 0.074554295 | BC15: =SUM(BC11:BC14) -> 15 | BD15: =SUM(BD11:BD14) -> 602 | BE15: =IFERROR((BC15)/(BD15+BC15),"-") -> 0.024311183 | BF15: =SUM(BF11:BF14) -> 0 | BG15: =SUM(BG11:BG14) -> 0 | BH15: =IFERROR((BF15)/(BG15+BF15),"-") -> - | BI15: =SUM(BI11:BI14) -> 0 | BJ15: =SUM(BJ11:BJ14) -> 0 | BK15: =IFERROR((BI15)/(BJ15+BI15),"-") -> - | BL15: =SUM(BL11:BL14) -> 186 | BM15: =SUM(BM11:BM14) -> 430 | BN15: =IFERROR((BL15)/(BM15+BL15),"-") -> 0.30194805 | BO15: =SUM(BO11:BO14) -> 150 | BP15: =SUM(BP11:BP14) -> 466 | BQ15: =IFERROR((BO15)/(BP15+BO15),"-") -> 0.24350649 | BR15: =SUM(BR11:BR14) -> 150 | BS15: =SUM(BS11:BS14) -> 466 | BT15: =IFERROR((BR15)/(BS15+BR15),"-") -> 0.24350649 | BU15: =SUM(BU11:BU14) -> 40
A17: MIFI | B17: 518975 | C17: CENTRE COMMERCIAL | D17: 9 | E17: 14 | F17: 44 | G17: 37 | H17: 10 | I17: =G17/$D17 -> 4.1111111 | J17: 15 | K17: 32 | L17: =J17/$D17 -> 1.6666667 | O17: =M17/$D17 -> 0 | R17: =P17/$D17 -> 0 | S17: 2 | T17: 45 | U17: =S17/$D17 -> 0.22222222 | V17: 47 | W17: 0 | X17: =V17/$D17 -> 5.2222222 | Y17: 26 | Z17: 21 | AA17: =Y17/$D17 -> 2.8888889 | AB17: 13 | AC17: 34 | AD17: =AB17/$D17 -> 1.4444444 | AE17: 4 | AF17: 43 | AG17: =AE17/$D17 -> 0.44444444 | AJ17: =AH17/$D17 -> 0 | AM17: =AK17/$D17 -> 0 | AN17: 6 | AO17: 41 | AP17: =AN17/$D17 -> 0.66666667 | AQ17: 44 | AR17: 3 | AS17: =AQ17/$D17 -> 4.8888889 | AT17: 24 | AU17: 23 | AV17: =AT17/$D17 -> 2.6666667 | AW17: 9 | AX17: 38 | AY17: =AW17/$D17 -> 1 | AZ17: 29 | BA17: 18 | BB17: =AZ17/$D17 -> 3.2222222 | BC17: 11 | BD17: 36 | BE17: =BC17/$D17 -> 1.2222222 | BH17: =BF17/$D17 -> 0 | BK17: =BI17/$D17 -> 0 | BL17: 11 | BM17: 36 | BN17: =BL17/$D17 -> 1.2222222 | BO17: 6 | BP17: 41 | BQ17: =BO17/$D17 -> 0.66666667 | BR17: 46 | BS17: 1 | BT17: =BR17/$D17 -> 5.1111111 | BU17: =COUNTIFS(E17:BT17,"<3",E17:BT17,">0",$E$3:$BT$3,"=Nb Jr Vente") -> 11
A18: MIFI | B18: 514401 | C18: UNITE | D18: 10 | E18: 60 | F18: 57 | G18: 25 | H18: 63 | I18: =G18/$D18 -> 2.5 | J18: 4 | K18: 84 | L18: =J18/$D18 -> 0.4 | O18: =M18/$D18 -> 0 | R18: =P18/$D18 -> 0 | S18: 2 | T18: 86 | U18: =S18/$D18 -> 0.2 | V18: 81 | W18: 7 | X18: =V18/$D18 -> 8.1 | Y18: 46 | Z18: 42 | AA18: =Y18/$D18 -> 4.6 | AB18: 7 | AC18: 81 | AD18: =AB18/$D18 -> 0.7 | AE18: 4 | AF18: 86 | AG18: =AE18/$D18 -> 0.4 | AJ18: =AH18/$D18 -> 0 | AM18: =AK18/$D18 -> 0 | AN18: 6 | AO18: 82 | AP18: =AN18/$D18 -> 0.6 | AQ18: 73 | AR18: 15 | AS18: =AQ18/$D18 -> 7.3 | AT18: 46 | AU18: 42 | AV18: =AT18/$D18 -> 4.6 | AW18: 27 | AX18: 62 | AY18: =AW18/$D18 -> 2.7 | AZ18: 37 | BA18: 51 | BB18: =AZ18/$D18 -> 3.7 | BC18: 3 | BD18: 85 | BE18: =BC18/$D18 -> 0.3 | BH18: =BF18/$D18 -> 0 | BK18: =BI18/$D18 -> 0 | BL18: 3 | BM18: 85 | BN18: =BL18/$D18 -> 0.3 | BO18: 3 | BP18: 85 | BQ18: =BO18/$D18 -> 0.3 | BR18: 83 | BS18: 5 | BT18: =BR18/$D18 -> 8.3 | BU18: =COUNTIFS(E18:BT18,"<3",E18:BT18,">0",$E$3:$BT$3,"=Nb Jr Vente") -> 10
A19: MIFI | B19: 520410 | C19: CHEFFERIE BAFOUSSAM | D19: 10 | E19: 13 | F19: 76 | G19: 12 | H19: 61 | I19: =G19/$D19 -> 1.2 | J19: 46 | K19: 27 | L19: =J19/$D19 -> 4.6 | O19: =M19/$D19 -> 0 | R19: =P19/$D19 -> 0 | S19: 16 | T19: 57 | U19: =S19/$D19 -> 1.6 | V19: 55 | W19: 18 | X19: =V19/$D19 -> 5.5 | Y19: 30 | Z19: 43 | AA19: =Y19/$D19 -> 3 | AB19: 12 | AC19: 61 | AD19: =AB19/$D19 -> 1.2 | AE19: 10 | AF19: 62 | AG19: =AE19/$D19 -> 1 | AJ19: =AH19/$D19 -> 0 | AM19: =AK19/$D19 -> 0 | AN19: 9 | AO19: 62 | AP19: =AN19/$D19 -> 0.9 | AQ19: 64 | AR19: 4 | AS19: =AQ19/$D19 -> 6.4 | AT19: 45 | AU19: 28 | AV19: =AT19/$D19 -> 4.5 | AW19: 27 | AX19: 45 | AY19: =AW19/$D19 -> 2.7 | AZ19: 45 | BA19: 27 | BB19: =AZ19/$D19 -> 4.5 | BC19: 15 | BD19: 57 | BE19: =BC19/$D19 -> 1.5 | BH19: =BF19/$D19 -> 0 | BK19: =BI19/$D19 -> 0 | BL19: 11 | BM19: 61 | BN19: =BL19/$D19 -> 1.1 | BO19: 10 | BP19: 62 | BQ19: =BO19/$D19 -> 1 | BR19: 70 | BS19: 2 | BT19: =BR19/$D19 -> 7 | BU19: =COUNTIFS(E19:BT19,"<3",E19:BT19,">0",$E$3:$BT$3,"=Nb Jr Vente") -> 9
A20: MIFI | B20: 514391 | C20: BAMENDZI | D20: 9 | E20: 52 | F20: 50 | G20: 6 | H20: 101 | I20: =G20/$D20 -> 0.66666667 | J20: 6 | K20: 101 | L20: =J20/$D20 -> 0.66666667 | O20: =M20/$D20 -> 0 | R20: =P20/$D20 -> 0 | S20: 4 | T20: 102 | U20: =S20/$D20 -> 0.44444444 | V20: 89 | W20: 17 | X20: =V20/$D20 -> 9.8888889 | Y20: 52 | Z20: 53 | AA20: =Y20/$D20 -> 5.7777778 | AB20: 74 | AC20: 31 | AD20: =AB20/$D20 -> 8.2222222 | AE20: 38 | AF20: 67 | AG20: =AE20/$D20 -> 4.2222222 | AJ20: =AH20/$D20 -> 0 | AM20: =AK20/$D20 -> 0 | AN20: 24 | AO20: 81 | AP20: =AN20/$D20 -> 2.6666667 | AQ20: 95 | AR20: 10 | AS20: =AQ20/$D20 -> 10.555556 | AT20: 92 | AU20: 12 | AV20: =AT20/$D20 -> 10.222222 | AW20: 67 | AX20: 38 | AY20: =AW20/$D20 -> 7.4444444 | AZ20: 49 | BA20: 56 | BB20: =AZ20/$D20 -> 5.4444444 | BC20: 15 | BD20: 90 | BE20: =BC20/$D20 -> 1.6666667 | BH20: =BF20/$D20 -> 0 | BK20: =BI20/$D20 -> 0 | BL20: 13 | BM20: 92 | BN20: =BL20/$D20 -> 1.4444444 | BO20: 13 | BP20: 92 | BQ20: =BO20/$D20 -> 1.4444444 | BR20: 90 | BS20: 15 | BT20: =BR20/$D20 -> 10 | BU20: =COUNTIFS(E20:BT20,"<3",E20:BT20,">0",$E$3:$BT$3,"=Nb Jr Vente") -> 7
A21: MIFI | B21: 192482 | C21: ROUTE BAMENDA | D21: 10 | E21: 28 | F21: 56 | G21: 43 | H21: 4 | I21: =G21/$D21 -> 4.3 | J21: 8 | K21: 35 | L21: =J21/$D21 -> 0.8 | O21: =M21/$D21 -> 0 | R21: =P21/$D21 -> 0 | S21: 7 | T21: 40 | U21: =S21/$D21 -> 0.7 | V21: 47 | W21: 0 | X21: =V21/$D21 -> 4.7 | Y21: 12 | Z21: 35 | AA21: =Y21/$D21 -> 1.2 | AB21: 9 | AC21: 38 | AD21: =AB21/$D21 -> 0.9 | AG21: =AE21/$D21 -> 0 | AJ21: =AH21/$D21 -> 0 | AM21: =AK21/$D21 -> 0 | AN21: 5 | AO21: 42 | AP21: =AN21/$D21 -> 0.5 | AQ21: 44 | AR21: 3 | AS21: =AQ21/$D21 -> 4.4 | AT21: 27 | AU21: 20 | AV21: =AT21/$D21 -> 2.7 | AW21: 5 | AX21: 41 | AY21: =AW21/$D21 -> 0.5 | AZ21: 29 | BA21: 17 | BB21: =AZ21/$D21 -> 2.9 | BC21: 5 | BD21: 41 | BE21: =BC21/$D21 -> 0.5 | BH21: =BF21/$D21 -> 0 | BK21: =BI21/$D21 -> 0 | BL21: 5 | BM21: 41 | BN21: =BL21/$D21 -> 0.5 | BO21: 4 | BP21: 42 | BQ21: =BO21/$D21 -> 0.4 | BR21: 41 | BS21: 5 | BT21: =BR21/$D21 -> 4.1 | BU21: =COUNTIFS(E21:BT21,"<3",E21:BT21,">0",$E$3:$BT$3,"=Nb Jr Vente") -> 11
A22: MIFI | B22: 111848 | C22: DSCHANG1 | D22: 20 | E22: 73 | F22: 95 | G22: 24 | H22: 169 | I22: =G22/$D22 -> 1.2 | J22: 191 | K22: 0 | L22: =J22/$D22 -> 9.55 | O22: =M22/$D22 -> 0 | R22: =P22/$D22 -> 0 | S22: 18 | T22: 173 | U22: =S22/$D22 -> 0.9 | V22: 126 | W22: 65 | X22: =V22/$D22 -> 6.3 | Y22: 62 | Z22: 126 | AA22: =Y22/$D22 -> 3.1 | AB22: 44 | AC22: 147 | AD22: =AB22/$D22 -> 2.2 | AE22: 40 | AF22: 151 | AG22: =AE22/$D22 -> 2 | AJ22: =AH22/$D22 -> 0 | AM22: =AK22/$D22 -> 0 | AN22: 30 | AO22: 161 | AP22: =AN22/$D22 -> 1.5 | AQ22: 157 | AR22: 13 | AS22: =AQ22/$D22 -> 7.85 | AT22: 82 | AU22: 100 | AV22: =AT22/$D22 -> 4.1 | AW22: 69 | AX22: 112 | AY22: =AW22/$D22 -> 3.45 | AZ22: 69 | BA22: 112 | BB22: =AZ22/$D22 -> 3.45 | BC22: 62 | BD22: 129 | BE22: =BC22/$D22 -> 3.1 | BH22: =BF22/$D22 -> 0 | BK22: =BI22/$D22 -> 0 | BL22: 58 | BM22: 133 | BN22: =BL22/$D22 -> 2.9 | BO22: 57 | BP22: 134 | BQ22: =BO22/$D22 -> 2.85 | BR22: 54 | BS22: 137 | BT22: =BR22/$D22 -> 2.7 | BU22: =COUNTIFS(E22:BT22,"<3",E22:BT22,">0",$E$3:$BT$3,"=Nb Jr Vente") -> 8
A23: MIFI | B23: 510575 | C23: DSCHANG 2 | D23: 5 | E23: 40 | F23: 28 | G23: 9 | H23: 56 | I23: =G23/$D23 -> 1.8 | J23: 41 | K23: 24 | L23: =J23/$D23 -> 8.2 | O23: =M23/$D23 -> 0 | R23: =P23/$D23 -> 0 | S23: 6 | T23: 59 | U23: =S23/$D23 -> 1.2 | V23: 48 | W23: 17 | X23: =V23/$D23 -> 9.6 | Y23: 11 | Z23: 54 | AA23: =Y23/$D23 -> 2.2 | AB23: 7 | AC23: 58 | AD23: =AB23/$D23 -> 1.4 | AE23: 7 | AF23: 58 | AG23: =AE23/$D23 -> 1.4 | AJ23: =AH23/$D23 -> 0 | AM23: =AK23/$D23 -> 0 | AN23: 7 | AO23: 58 | AP23: =AN23/$D23 -> 1.4 | AQ23: 58 | AR23: 7 | AS23: =AQ23/$D23 -> 11.6 | AT23: 39 | AU23: 26 | AV23: =AT23/$D23 -> 7.8 | AW23: 19 | AX23: 46 | AY23: =AW23/$D23 -> 3.8 | AZ23: 15 | BA23: 50 | BB23: =AZ23/$D23 -> 3 | BC23: 14 | BD23: 51 | BE23: =BC23/$D23 -> 2.8 | BH23: =BF23/$D23 -> 0 | BK23: =BI23/$D23 -> 0 | BL23: 12 | BM23: 53 | BN23: =BL23/$D23 -> 2.4 | BO23: 12 | BP23: 53 | BQ23: =BO23/$D23 -> 2.4 | BR23: 11 | BS23: 54 | BT23: =BR23/$D23 -> 2.2 | BU23: =COUNTIFS(E23:BT23,"<3",E23:BT23,">0",$E$3:$BT$3,"=Nb Jr Vente") -> 10
A24: MIFI | B24: 510406 | C24: MBOUDA 1 | D24: 5 | E24: 10 | F24: 33 | G24: 8 | H24: 39 | I24: =G24/$D24 -> 1.6 | J24: 31 | K24: 16 | L24: =J24/$D24 -> 6.2 | O24: =M24/$D24 -> 0 | R24: =P24/$D24 -> 0 | S24: 14 | T24: 33 | U24: =S24/$D24 -> 2.8 | V24: 10 | W24: 37 | X24: =V24/$D24 -> 2 | Y24: 7 | Z24: 37 | AA24: =Y24/$D24 -> 1.4 | AB24: 7 | AC24: 40 | AD24: =AB24/$D24 -> 1.4 | AE24: 47 | AF24: 0 | AG24: =AE24/$D24 -> 9.4 | AJ24: =AH24/$D24 -> 0 | AM24: =AK24/$D24 -> 0 | AN24: 30 | AO24: 17 | AP24: =AN24/$D24 -> 6 | AQ24: 27 | AR24: 20 | AS24: =AQ24/$D24 -> 5.4 | AT24: 25 | AU24: 22 | AV24: =AT24/$D24 -> 5 | AW24: 20 | AX24: 27 | AY24: =AW24/$D24 -> 4 | AZ24: 47 | BA24: 0 | BB24: =AZ24/$D24 -> 9.4 | BC24: 27 | BD24: 20 | BE24: =BC24/$D24 -> 5.4 | BH24: =BF24/$D24 -> 0 | BK24: =BI24/$D24 -> 0 | BL24: 22 | BM24: 25 | BN24: =BL24/$D24 -> 4.4 | BO24: 20 | BP24: 27 | BQ24: =BO24/$D24 -> 4 | BR24: 18 | BS24: 29 | BT24: =BR24/$D24 -> 3.6 | BU24: =COUNTIFS(E24:BT24,"<3",E24:BT24,">0",$E$3:$BT$3,"=Nb Jr Vente") -> 5
A25: MIFI | B25: 514392 | C25: MBOUDA 2 | D25: 12 | E25: 98 | F25: 104 | G25: 8 | H25: 190 | I25: =G25/$D25 -> 0.66666667 | J25: 133 | K25: 65 | L25: =J25/$D25 -> 11.083333 | O25: =M25/$D25 -> 0 | R25: =P25/$D25 -> 0 | S25: 38 | T25: 160 | U25: =S25/$D25 -> 3.1666667 | V25: 10 | W25: 188 | X25: =V25/$D25 -> 0.83333333 | Y25: 10 | Z25: 188 | AA25: =Y25/$D25 -> 0.83333333 | AB25: 9 | AC25: 189 | AD25: =AB25/$D25 -> 0.75 | AE25: 184 | AF25: 9 | AG25: =AE25/$D25 -> 15.333333 | AJ25: =AH25/$D25 -> 0 | AM25: =AK25/$D25 -> 0 | AN25: 96 | AO25: 102 | AP25: =AN25/$D25 -> 8 | AQ25: 71 | AR25: 127 | AS25: =AQ25/$D25 -> 5.9166667 | AT25: 39 | AU25: 159 | AV25: =AT25/$D25 -> 3.25 | AW25: 13 | AX25: 185 | AY25: =AW25/$D25 -> 1.0833333 | AZ25: 163 | BA25: 35 | BB25: =AZ25/$D25 -> 13.583333 | BC25: 73 | BD25: 124 | BE25: =BC25/$D25 -> 6.0833333 | BH25: =BF25/$D25 -> 0 | BK25: =BI25/$D25 -> 0 | BL25: 48 | BM25: 148 | BN25: =BL25/$D25 -> 4 | BO25: 27 | BP25: 170 | BQ25: =BO25/$D25 -> 2.25 | BR25: 15 | BS25: 182 | BT25: =BR25/$D25 -> 1.25 | BU25: =COUNTIFS(E25:BT25,"<3",E25:BT25,">0",$E$3:$BT$3,"=Nb Jr Vente") -> 7
A26: MIFI | B26: 507111 | C26: BABADJOU | D26: 3 | E26: 23 | F26: 13 | G26: 3 | H26: 30 | I26: =G26/$D26 -> 1 | J26: 17 | K26: 17 | L26: =J26/$D26 -> 5.6666667 | O26: =M26/$D26 -> 0 | R26: =P26/$D26 -> 0 | S26: 6 | T26: 28 | U26: =S26/$D26 -> 2 | V26: 6 | W26: 28 | X26: =V26/$D26 -> 2 | Y26: 6 | Z26: 28 | AA26: =Y26/$D26 -> 2 | AB26: 6 | AC26: 28 | AD26: =AB26/$D26 -> 2 | AE26: 34 | AF26: 0 | AG26: =AE26/$D26 -> 11.333333 | AJ26: =AH26/$D26 -> 0 | AM26: =AK26/$D26 -> 0 | AN26: 22 | AO26: 12 | AP26: =AN26/$D26 -> 7.3333333 | AQ26: 17 | AR26: 15 | AS26: =AQ26/$D26 -> 5.6666667 | AT26: 14 | AU26: 18 | AV26: =AT26/$D26 -> 4.6666667 | AW26: 9 | AX26: 23 | AY26: =AW26/$D26 -> 3 | AZ26: 29 | BA26: 3 | BB26: =AZ26/$D26 -> 9.6666667 | BC26: 20 | BD26: 15 | BE26: =BC26/$D26 -> 6.6666667 | BH26: =BF26/$D26 -> 0 | BK26: =BI26/$D26 -> 0 | BL26: 17 | BM26: 17 | BN26: =BL26/$D26 -> 5.6666667 | BO26: 9 | BP26: 24 | BQ26: =BO26/$D26 -> 3 | BR26: 6 | BS26: 27 | BT26: =BR26/$D26 -> 2 | BU26: =COUNTIFS(E26:BT26,"<3",E26:BT26,">0",$E$3:$BT$3,"=Nb Jr Vente") -> 6
A27: MIFI | C27: FEUMBAT BANGANGTE | D27: 3 | E27: 82 | F27: 28 | G27: 45 | H27: 46 | I27: =G27/$D27 -> 15 | J27: 43 | K27: 48 | L27: =J27/$D27 -> 14.333333 | O27: =M27/$D27 -> 0 | R27: =P27/$D27 -> 0 | S27: 8 | T27: 83 | U27: =S27/$D27 -> 2.6666667 | V27: 7 | W27: 83 | X27: =V27/$D27 -> 2.3333333 | Y27: 6 | Z27: 84 | AA27: =Y27/$D27 -> 2 | AB27: 81 | AC27: 7 | AD27: =AB27/$D27 -> 27 | AE27: 79 | AF27: 10 | AG27: =AE27/$D27 -> 26.333333 | AJ27: =AH27/$D27 -> 0 | AM27: =AK27/$D27 -> 0 | AN27: 73 | AO27: 15 | AP27: =AN27/$D27 -> 24.333333 | AQ27: 56 | AR27: 32 | AS27: =AQ27/$D27 -> 18.666667 | AT27: 46 | AU27: 40 | AV27: =AT27/$D27 -> 15.333333 | AW27: 77 | AX27: 11 | AY27: =AW27/$D27 -> 25.666667 | AZ27: 62 | BA27: 26 | BB27: =AZ27/$D27 -> 20.666667 | BC27: 56 | BD27: 32 | BE27: =BC27/$D27 -> 18.666667 | BH27: =BF27/$D27 -> 0 | BK27: =BI27/$D27 -> 0 | BL27: 47 | BM27: 41 | BN27: =BL27/$D27 -> 15.666667 | BO27: 38 | BP27: 50 | BQ27: =BO27/$D27 -> 12.666667 | BR27: 28 | BS27: 60 | BT27: =BR27/$D27 -> 9.3333333 | BU27: =COUNTIFS(E27:BT27,"<3",E27:BT27,">0",$E$3:$BT$3,"=Nb Jr Vente") -> 3
A28: MIFI | B28: 515601 | C28: BANGANGTE 1 | D28: 10 | E28: 25 | F28: 104 | G28: 63 | H28: 86 | I28: =G28/$D28 -> 6.3 | J28: 50 | K28: 99 | L28: =J28/$D28 -> 5 | O28: =M28/$D28 -> 0 | R28: =P28/$D28 -> 0 | S28: 9 | T28: 140 | U28: =S28/$D28 -> 0.9 | V28: 8 | W28: 141 | X28: =V28/$D28 -> 0.8 | Y28: 6 | Z28: 109 | AA28: =Y28/$D28 -> 0.6 | AB28: 92 | AC28: 23 | AD28: =AB28/$D28 -> 9.2 | AE28: 84 | AF28: 36 | AG28: =AE28/$D28 -> 8.4 | AJ28: =AH28/$D28 -> 0 | AM28: =AK28/$D28 -> 0 | AN28: 49 | AO28: 95 | AP28: =AN28/$D28 -> 4.9 | AQ28: 25 | AR28: 119 | AS28: =AQ28/$D28 -> 2.5 | AT28: 10 | AU28: 134 | AV28: =AT28/$D28 -> 1 | AW28: 110 | AX28: 5 | AY28: =AW28/$D28 -> 11 | AZ28: 91 | BA28: 29 | BB28: =AZ28/$D28 -> 9.1 | BC28: 34 | BD28: 85 | BE28: =BC28/$D28 -> 3.4 | BH28: =BF28/$D28 -> 0 | BK28: =BI28/$D28 -> 0 | BL28: 21 | BM28: 98 | BN28: =BL28/$D28 -> 2.1 | BO28: 6 | BP28: 113 | BQ28: =BO28/$D28 -> 0.6 | BR28: 5 | BS28: 113 | BT28: =BR28/$D28 -> 0.5 | BU28: =COUNTIFS(E28:BT28,"<3",E28:BT28,">0",$E$3:$BT$3,"=Nb Jr Vente") -> 8
A29: MIFI | B29: 518883 | C29: BANGANGTE 2 | D29: 7 | E29: 5 | F29: 82 | G29: 29 | H29: 32 | I29: =G29/$D29 -> 4.1428571 | J29: 22 | K29: 39 | L29: =J29/$D29 -> 3.1428571 | O29: =M29/$D29 -> 0 | R29: =P29/$D29 -> 0 | S29: 12 | T29: 49 | U29: =S29/$D29 -> 1.7142857 | V29: 11 | W29: 50 | X29: =V29/$D29 -> 1.5714286 | Y29: 11 | Z29: 50 | AA29: =Y29/$D29 -> 1.5714286 | AB29: 38 | AC29: 23 | AD29: =AB29/$D29 -> 5.4285714 | AE29: 34 | AF29: 27 | AG29: =AE29/$D29 -> 4.8571429 | AJ29: =AH29/$D29 -> 0 | AM29: =AK29/$D29 -> 0 | AN29: 18 | AO29: 43 | AP29: =AN29/$D29 -> 2.5714286 | AQ29: 12 | AR29: 49 | AS29: =AQ29/$D29 -> 1.7142857 | AT29: 10 | AU29: 51 | AV29: =AT29/$D29 -> 1.4285714 | AW29: 60 | AX29: 1 | AY29: =AW29/$D29 -> 8.5714286 | AZ29: 41 | BA29: 10 | BB29: =AZ29/$D29 -> 5.8571429 | BC29: 15 | BD29: 46 | BE29: =BC29/$D29 -> 2.1428571 | BH29: =BF29/$D29 -> 0 | BK29: =BI29/$D29 -> 0 | BL29: 7 | BM29: 54 | BN29: =BL29/$D29 -> 1 | BO29: 5 | BP29: 56 | BQ29: =BO29/$D29 -> 0.71428571 | BR29: 5 | BS29: 56 | BT29: =BR29/$D29 -> 0.71428571 | BU29: =COUNTIFS(E29:BT29,"<3",E29:BT29,">0",$E$3:$BT$3,"=Nb Jr Vente") -> 10
E30: =SUM(E17:E29) -> 523 | F30: =SUM(F17:F29) -> 770 | G30: =SUM(G17:G29) -> 312 | H30: =SUM(H17:H29) -> 887 | I30: =IFERROR((G30)/(H30+G30),"-") -> 0.26021685 | J30: =SUM(J17:J29) -> 607 | K30: =SUM(K17:K29) -> 587 | L30: =IFERROR((J30)/(K30+J30),"-") -> 0.50837521 | M30: =SUM(M17:M29) -> 0 | N30: =SUM(N17:N29) -> 0 | O30: =IFERROR((M30)/(N30+M30),"-") -> - | P30: =SUM(P17:P29) -> 0 | Q30: =SUM(Q17:Q29) -> 0 | R30: =IFERROR((P30)/(Q30+P30),"-") -> - | S30: =SUM(S17:S29) -> 142 | T30: =SUM(T17:T29) -> 1055 | U30: =IFERROR((S30)/(T30+S30),"-") -> 0.11862991 | V30: =SUM(V17:V29) -> 545 | W30: =SUM(W17:W29) -> 651 | X30: =IFERROR((V30)/(W30+V30),"-") -> 0.45568562 | Y30: =SUM(Y17:Y29) -> 285 | Z30: =SUM(Z17:Z29) -> 870 | AA30: =IFERROR((Y30)/(Z30+Y30),"-") -> 0.24675325 | AB30: =SUM(AB17:AB29) -> 399 | AC30: =SUM(AC17:AC29) -> 760 | AD30: =IFERROR((AB30)/(AC30+AB30),"-") -> 0.3442623 | AE30: =SUM(AE17:AE29) -> 565 | AF30: =SUM(AF17:AF29) -> 549 | AG30: =IFERROR((AE30)/(AF30+AE30),"-") -> 0.50718133 | AH30: =SUM(AH17:AH29) -> 0 | AI30: =SUM(AI17:AI29) -> 0 | AJ30: =IFERROR((AH30)/(AI30+AH30),"-") -> - | AK30: =SUM(AK17:AK29) -> 0 | AL30: =SUM(AL17:AL29) -> 0 | AM30: =IFERROR((AK30)/(AL30+AK30),"-") -> - | AN30: =SUM(AN17:AN29) -> 375 | AO30: =SUM(AO17:AO29) -> 811 | AP30: =IFERROR((AN30)/(AO30+AN30),"-") -> 0.31618887 | AQ30: =SUM(AQ17:AQ29) -> 743 | AR30: =SUM(AR17:AR29) -> 417 | AS30: =IFERROR((AQ30)/(AR30+AQ30),"-") -> 0.64051724 | AT30: =SUM(AT17:AT29) -> 499 | AU30: =SUM(AU17:AU29) -> 675 | AV30: =IFERROR((AT30)/(AU30+AT30),"-") -> 0.42504259 | AW30: =SUM(AW17:AW29) -> 512 | AX30: =SUM(AX17:AX29) -> 634 | AY30: =IFERROR((AW30)/(AX30+AW30),"-") -> 0.44677138 | AZ30: =SUM(AZ17:AZ29) -> 706 | BA30: =SUM(BA17:BA29) -> 434 | BB30: =IFERROR((AZ30)/(BA30+AZ30),"-") -> 0.61929825 | BC30: =SUM(BC17:BC29) -> 350 | BD30: =SUM(BD17:BD29) -> 811 | BE30: =IFERROR((BC30)/(BD30+BC30),"-") -> 0.30146425 | BF30: =SUM(BF17:BF29) -> 0 | BG30: =SUM(BG17:BG29) -> 0 | BH30: =IFERROR((BF30)/(BG30+BF30),"-") -> - | BI30: =SUM(BI17:BI29) -> 0 | BJ30: =SUM(BJ17:BJ29) -> 0 | BK30: =IFERROR((BI30)/(BJ30+BI30),"-") -> - | BL30: =SUM(BL17:BL29) -> 275 | BM30: =SUM(BM17:BM29) -> 884 | BN30: =IFERROR((BL30)/(BM30+BL30),"-") -> 0.23727351 | BO30: =SUM(BO17:BO29) -> 210 | BP30: =SUM(BP17:BP29) -> 949 | BQ30: =IFERROR((BO30)/(BP30+BO30),"-") -> 0.18119068 | BR30: =SUM(BR17:BR29) -> 472 | BS30: =SUM(BS17:BS29) -> 686 | BT30: =IFERROR((BR30)/(BS30+BR30),"-") -> 0.40759931 | BU30: =SUM(BU17:BU29) -> 105
A33: RING ROAD | B33: 509937 | C33: BAMENDA 1 | D33: 9 | E33: 53 | F33: 7 | G33: 11 | H33: 62 | I33: =G33/$D33 -> 1.2222222 | J33: 9 | K33: 63 | L33: =J33/$D33 -> 1 | O33: =M33/$D33 -> 0 | R33: =P33/$D33 -> 0 | S33: 6 | T33: 65 | U33: =S33/$D33 -> 0.66666667 | V33: 6 | W33: 65 | X33: =V33/$D33 -> 0.66666667 | Y33: 6 | Z33: 65 | AA33: =Y33/$D33 -> 0.66666667 | AB33: 4 | AC33: 67 | AD33: =AB33/$D33 -> 0.44444444 | AE33: 4 | AF33: 67 | AG33: =AE33/$D33 -> 0.44444444 | AJ33: =AH33/$D33 -> 0 | AM33: =AK33/$D33 -> 0 | AN33: 1 | AO33: 70 | AP33: =AN33/$D33 -> 0.11111111 | AQ33: 1 | AR33: 70 | AS33: =AQ33/$D33 -> 0.11111111 | AT33: 1 | AU33: 70 | AV33: =AT33/$D33 -> 0.11111111 | AW33: 1 | AX33: 70 | AY33: =AW33/$D33 -> 0.11111111 | AZ33: 1 | BA33: 70 | BB33: =AZ33/$D33 -> 0.11111111 | BC33: 13 | BD33: 58 | BE33: =BC33/$D33 -> 1.4444444 | BH33: =BF33/$D33 -> 0 | BK33: =BI33/$D33 -> 0 | BL33: 13 | BM33: 58 | BN33: =BL33/$D33 -> 1.4444444 | BO33: 11 | BP33: 60 | BQ33: =BO33/$D33 -> 1.2222222 | BR33: 10 | BS33: 61 | BT33: =BR33/$D33 -> 1.1111111 | BU33: =COUNTIFS(E33:BT33,"<3",E33:BT33,">0",$E$3:$BT$3,"=Nb Jr Vente") -> 16
A34: RING ROAD | B34: 509918 | C34: BAMENDA 2 | D34: 7 | E34: 102 | F34: 11 | G34: 77 | H34: 46 | I34: =G34/$D34 -> 11 | J34: 62 | K34: 61 | L34: =J34/$D34 -> 8.8571429 | O34: =M34/$D34 -> 0 | R34: =P34/$D34 -> 0 | S34: 36 | T34: 87 | U34: =S34/$D34 -> 5.1428571 | V34: 36 | W34: 87 | X34: =V34/$D34 -> 5.1428571 | Y34: 36 | Z34: 87 | AA34: =Y34/$D34 -> 5.1428571 | AB34: 36 | AC34: 87 | AD34: =AB34/$D34 -> 5.1428571 | AE34: 36 | AF34: 87 | AG34: =AE34/$D34 -> 5.1428571 | AJ34: =AH34/$D34 -> 0 | AM34: =AK34/$D34 -> 0 | AN34: 36 | AO34: 87 | AP34: =AN34/$D34 -> 5.1428571 | AQ34: 36 | AR34: 87 | AS34: =AQ34/$D34 -> 5.1428571 | AT34: 36 | AU34: 87 | AV34: =AT34/$D34 -> 5.1428571 | AW34: 36 | AX34: 87 | AY34: =AW34/$D34 -> 5.1428571 | AZ34: 36 | BA34: 87 | BB34: =AZ34/$D34 -> 5.1428571 | BC34: 96 | BD34: 27 | BE34: =BC34/$D34 -> 13.714286 | BH34: =BF34/$D34 -> 0 | BK34: =BI34/$D34 -> 0 | BL34: 96 | BM34: 27 | BN34: =BL34/$D34 -> 13.714286 | BO34: 25 | BP34: 71 | BQ34: =BO34/$D34 -> 3.5714286 | BR34: 25 | BS34: 71 | BT34: =BR34/$D34 -> 3.5714286 | BU34: =COUNTIFS(E34:BT34,"<3",E34:BT34,">0",$E$3:$BT$3,"=Nb Jr Vente") -> 0
A35: RING ROAD | B35: 199145 | C35: NKWEN | D35: 5 | E35: 50 | F35: 8 | G35: 20 | H35: 46 | I35: =G35/$D35 -> 4 | J35: 14 | K35: 52 | L35: =J35/$D35 -> 2.8 | O35: =M35/$D35 -> 0 | R35: =P35/$D35 -> 0 | S35: 12 | T35: 54 | U35: =S35/$D35 -> 2.4 | V35: 12 | W35: 54 | X35: =V35/$D35 -> 2.4 | Y35: 12 | Z35: 54 | AA35: =Y35/$D35 -> 2.4 | AB35: 9 | AC35: 57 | AD35: =AB35/$D35 -> 1.8 | AE35: 9 | AF35: 57 | AG35: =AE35/$D35 -> 1.8 | AJ35: =AH35/$D35 -> 0 | AM35: =AK35/$D35 -> 0 | AN35: 7 | AO35: 59 | AP35: =AN35/$D35 -> 1.4 | AQ35: 7 | AR35: 59 | AS35: =AQ35/$D35 -> 1.4 | AT35: 7 | AU35: 59 | AV35: =AT35/$D35 -> 1.4 | AW35: 7 | AX35: 59 | AY35: =AW35/$D35 -> 1.4 | AZ35: 7 | BA35: 59 | BB35: =AZ35/$D35 -> 1.4 | BC35: 50 | BD35: 16 | BE35: =BC35/$D35 -> 10 | BH35: =BF35/$D35 -> 0 | BK35: =BI35/$D35 -> 0 | BL35: 50 | BM35: 16 | BN35: =BL35/$D35 -> 10 | BO35: 33 | BP35: 33 | BQ35: =BO35/$D35 -> 6.6 | BR35: 29 | BS35: 37 | BT35: =BR35/$D35 -> 5.8 | BU35: =COUNTIFS(E35:BT35,"<3",E35:BT35,">0",$E$3:$BT$3,"=Nb Jr Vente") -> 11
A36: RING ROAD | B36: 515132 | C36: NTARINKON | D36: 7 | E36: 92 | F36: 15 | I36: =G36/$D36 -> 0 | L36: =J36/$D36 -> 0 | O36: =M36/$D36 -> 0 | R36: =P36/$D36 -> 0 | U36: =S36/$D36 -> 0 | X36: =V36/$D36 -> 0 | AA36: =Y36/$D36 -> 0 | AD36: =AB36/$D36 -> 0 | AG36: =AE36/$D36 -> 0 | AJ36: =AH36/$D36 -> 0 | AM36: =AK36/$D36 -> 0 | AP36: =AN36/$D36 -> 0 | AS36: =AQ36/$D36 -> 0 | AV36: =AT36/$D36 -> 0 | AY36: =AW36/$D36 -> 0 | BB36: =AZ36/$D36 -> 0 | BE36: =BC36/$D36 -> 0 | BH36: =BF36/$D36 -> 0 | BK36: =BI36/$D36 -> 0 | BN36: =BL36/$D36 -> 0 | BQ36: =BO36/$D36 -> 0 | BT36: =BR36/$D36 -> 0 | BU36: =COUNTIFS(E36:BT36,"<3",E36:BT36,">0",$E$3:$BT$3,"=Nb Jr Vente") -> 0
E37: =SUM(E33:E36) -> 297 | F37: =SUM(F33:F36) -> 41 | G37: =SUM(G33:G36) -> 108 | H37: =SUM(H33:H36) -> 154 | I37: =IFERROR((G37)/(H37+G37),"-") -> 0.41221374 | J37: =SUM(J33:J36) -> 85 | K37: =SUM(K33:K36) -> 176 | L37: =IFERROR((J37)/(K37+J37),"-") -> 0.3256705 | M37: =SUM(M33:M36) -> 0 | N37: =SUM(N33:N36) -> 0 | O37: =IFERROR((M37)/(N37+M37),"-") -> - | P37: =SUM(P33:P36) -> 0 | Q37: =SUM(Q33:Q36) -> 0 | R37: =IFERROR((P37)/(Q37+P37),"-") -> - | S37: =SUM(S33:S36) -> 54 | T37: =SUM(T33:T36) -> 206 | U37: =IFERROR((S37)/(T37+S37),"-") -> 0.20769231 | V37: =SUM(V33:V36) -> 54 | W37: =SUM(W33:W36) -> 206 | X37: =IFERROR((V37)/(W37+V37),"-") -> 0.20769231 | Y37: =SUM(Y33:Y36) -> 54 | Z37: =SUM(Z33:Z36) -> 206 | AA37: =IFERROR((Y37)/(Z37+Y37),"-") -> 0.20769231 | AB37: =SUM(AB33:AB36) -> 49 | AC37: =SUM(AC33:AC36) -> 211 | AD37: =IFERROR((AB37)/(AC37+AB37),"-") -> 0.18846154 | AE37: =SUM(AE33:AE36) -> 49 | AF37: =SUM(AF33:AF36) -> 211 | AG37: =IFERROR((AE37)/(AF37+AE37),"-") -> 0.18846154 | AH37: =SUM(AH33:AH36) -> 0 | AI37: =SUM(AI33:AI36) -> 0 | AJ37: =IFERROR((AH37)/(AI37+AH37),"-") -> - | AK37: =SUM(AK33:AK36) -> 0 | AL37: =SUM(AL33:AL36) -> 0 | AM37: =IFERROR((AK37)/(AL37+AK37),"-") -> - | AN37: =SUM(AN33:AN36) -> 44 | AO37: =SUM(AO33:AO36) -> 216 | AP37: =IFERROR((AN37)/(AO37+AN37),"-") -> 0.16923077 | AQ37: =SUM(AQ33:AQ36) -> 44 | AR37: =SUM(AR33:AR36) -> 216 | AS37: =IFERROR((AQ37)/(AR37+AQ37),"-") -> 0.16923077 | AT37: =SUM(AT33:AT36) -> 44 | AU37: =SUM(AU33:AU36) -> 216 | AV37: =IFERROR((AT37)/(AU37+AT37),"-") -> 0.16923077 | AW37: =SUM(AW33:AW36) -> 44 | AX37: =SUM(AX33:AX36) -> 216 | AY37: =IFERROR((AW37)/(AX37+AW37),"-") -> 0.16923077 | AZ37: =SUM(AZ33:AZ36) -> 44 | BA37: =SUM(BA33:BA36) -> 216 | BB37: =IFERROR((AZ37)/(BA37+AZ37),"-") -> 0.16923077 | BC37: =SUM(BC33:BC36) -> 159 | BD37: =SUM(BD33:BD36) -> 101 | BE37: =IFERROR((BC37)/(BD37+BC37),"-") -> 0.61153846 | BF37: =SUM(BF33:BF36) -> 0 | BG37: =SUM(BG33:BG36) -> 0 | BH37: =IFERROR((BF37)/(BG37+BF37),"-") -> - | BI37: =SUM(BI33:BI36) -> 0 | BJ37: =SUM(BJ33:BJ36) -> 0 | BK37: =IFERROR((BI37)/(BJ37+BI37),"-") -> - | BL37: =SUM(BL33:BL36) -> 159 | BM37: =SUM(BM33:BM36) -> 101 | BN37: =IFERROR((BL37)/(BM37+BL37),"-") -> 0.61153846 | BO37: =SUM(BO33:BO36) -> 69 | BP37: =SUM(BP33:BP36) -> 164 | BQ37: =IFERROR((BO37)/(BP37+BO37),"-") -> 0.29613734 | BR37: =SUM(BR33:BR36) -> 64 | BS37: =SUM(BS33:BS36) -> 169 | BT37: =IFERROR((BR37)/(BS37+BR37),"-") -> 0.27467811 | BU37: =SUM(BU33:BU36) -> 27
C39: Nb Sation en rupture

Sheet Sources
A2: ='12,5KG'!C4 -> BAFANG CENTRE | B2: =IF(AND('12,5KG'!I4>0,'12,5KG'!I4<3),"R","OK") -> OK | C2: =IF(AND('12,5KG'!L4>0,'12,5KG'!L4<3),"R","OK") -> OK | D2: =IF(AND('12,5KG'!R4>0,'12,5KG'!R4<3),"R","OK") -> OK | E2: =IF(AND('12,5KG'!U4>0,'12,5KG'!U4<3),"R","OK") -> OK | F2: =IF(AND('12,5KG'!X4>0,'12,5KG'!X4<3),"R","OK") -> R | G2: =IF(AND('12,5KG'!AA4>0,'12,5KG'!AA4<3),"R","OK") -> R | H2: =IF(AND('12,5KG'!AD4>0,'12,5KG'!AD4<3),"R","OK") -> OK | I2: =IF(AND('12,5KG'!AG4>0,'12,5KG'!AG4<3),"R","OK") -> R | J2: =IF(AND('12,5KG'!AP4>0,'12,5KG'!AP4<3),"R","OK") -> OK | K2: =IF(AND('12,5KG'!AS4>0,'12,5KG'!AS4<3),"R","OK") -> OK | L2: =IF(AND('12,5KG'!AV4>0,'12,5KG'!AV4<3),"R","OK") -> OK | M2: =IF(AND('12,5KG'!AY4>0,'12,5KG'!AY4<3),"R","OK") -> OK | N2: =IF(AND('12,5KG'!BB4>0,'12,5KG'!BB4<3),"R","OK") -> OK | O2: =IF(AND('12,5KG'!BE4>0,'12,5KG'!BE4<3),"R","OK") -> R | P2: =IF(AND('12,5KG'!BK4>0,'12,5KG'!BK4<3),"R","OK") -> OK | Q2: =IF(AND('12,5KG'!BN4>0,'12,5KG'!BN4<3),"R","OK") -> R | R2: =IF(AND('12,5KG'!BQ4>0,'12,5KG'!BQ4<3),"R","OK") -> R | S2: =IF(AND('12,5KG'!BT4>0,'12,5KG'!BT4<3),"R","OK") -> R
A3: ='12,5KG'!C5 -> BAFANG CHEFFERIE | B3: =IF(AND('12,5KG'!I5>0,'12,5KG'!I5<3),"R","OK") -> OK | C3: =IF(AND('12,5KG'!L5>0,'12,5KG'!L5<3),"R","OK") -> OK | D3: =IF(AND('12,5KG'!R5>0,'12,5KG'!R5<3),"R","OK") -> OK | E3: =IF(AND('12,5KG'!U5>0,'12,5KG'!U5<3),"R","OK") -> OK | F3: =IF(AND('12,5KG'!X5>0,'12,5KG'!X5<3),"R","OK") -> OK | G3: =IF(AND('12,5KG'!AA5>0,'12,5KG'!AA5<3),"R","OK") -> OK | H3: =IF(AND('12,5KG'!AD5>0,'12,5KG'!AD5<3),"R","OK") -> OK | I3: =IF(AND('12,5KG'!AG5>0,'12,5KG'!AG5<3),"R","OK") -> OK | J3: =IF(AND('12,5KG'!AP5>0,'12,5KG'!AP5<3),"R","OK") -> OK | K3: =IF(AND('12,5KG'!AS5>0,'12,5KG'!AS5<3),"R","OK") -> OK | L3: =IF(AND('12,5KG'!AV5>0,'12,5KG'!AV5<3),"R","OK") -> OK | M3: =IF(AND('12,5KG'!AY5>0,'12,5KG'!AY5<3),"R","OK") -> OK | N3: =IF(AND('12,5KG'!BB5>0,'12,5KG'!BB5<3),"R","OK") -> OK | O3: =IF(AND('12,5KG'!BE5>0,'12,5KG'!BE5<3),"R","OK") -> OK | P3: =IF(AND('12,5KG'!BK5>0,'12,5KG'!BK5<3),"R","OK") -> OK | Q3: =IF(AND('12,5KG'!BN5>0,'12,5KG'!BN5<3),"R","OK") -> OK | R3: =IF(AND('12,5KG'!BQ5>0,'12,5KG'!BQ5<3),"R","OK") -> OK | S3: =IF(AND('12,5KG'!BT5>0,'12,5KG'!BT5<3),"R","OK") -> OK
A4: ='12,5KG'!C6 -> BONDJA BAFANG | B4: =IF(AND('12,5KG'!I6>0,'12,5KG'!I6<3),"R","OK") -> OK | C4: =IF(AND('12,5KG'!L6>0,'12,5KG'!L6<3),"R","OK") -> OK | D4: =IF(AND('12,5KG'!R6>0,'12,5KG'!R6<3),"R","OK") -> OK | E4: =IF(AND('12,5KG'!U6>0,'12,5KG'!U6<3),"R","OK") -> OK | F4: =IF(AND('12,5KG'!X6>0,'12,5KG'!X6<3),"R","OK") -> OK | G4: =IF(AND('12,5KG'!AA6>0,'12,5KG'!AA6<3),"R","OK") -> OK | H4: =IF(AND('12,5KG'!AD6>0,'12,5KG'!AD6<3),"R","OK") -> OK | I4: =IF(AND('12,5KG'!AG6>0,'12,5KG'!AG6<3),"R","OK") -> OK | J4: =IF(AND('12,5KG'!AP6>0,'12,5KG'!AP6<3),"R","OK") -> OK | K4: =IF(AND('12,5KG'!AS6>0,'12,5KG'!AS6<3),"R","OK") -> OK | L4: =IF(AND('12,5KG'!AV6>0,'12,5KG'!AV6<3),"R","OK") -> OK | M4: =IF(AND('12,5KG'!AY6>0,'12,5KG'!AY6<3),"R","OK") -> OK | N4: =IF(AND('12,5KG'!BB6>0,'12,5KG'!BB6<3),"R","OK") -> OK | O4: =IF(AND('12,5KG'!BE6>0,'12,5KG'!BE6<3),"R","OK") -> OK | P4: =IF(AND('12,5KG'!BK6>0,'12,5KG'!BK6<3),"R","OK") -> OK | Q4: =IF(AND('12,5KG'!BN6>0,'12,5KG'!BN6<3),"R","OK") -> OK | R4: =IF(AND('12,5KG'!BQ6>0,'12,5KG'!BQ6<3),"R","OK") -> OK | S4: =IF(AND('12,5KG'!BT6>0,'12,5KG'!BT6<3),"R","OK") -> OK
A5: ='12,5KG'!C7 -> BANDJOUN | B5: =IF(AND('12,5KG'!I7>0,'12,5KG'!I7<3),"R","OK") -> OK | C5: =IF(AND('12,5KG'!L7>0,'12,5KG'!L7<3),"R","OK") -> R | D5: =IF(AND('12,5KG'!R7>0,'12,5KG'!R7<3),"R","OK") -> OK | E5: =IF(AND('12,5KG'!U7>0,'12,5KG'!U7<3),"R","OK") -> R | F5: =IF(AND('12,5KG'!X7>0,'12,5KG'!X7<3),"R","OK") -> R | G5: =IF(AND('12,5KG'!AA7>0,'12,5KG'!AA7<3),"R","OK") -> R | H5: =IF(AND('12,5KG'!AD7>0,'12,5KG'!AD7<3),"R","OK") -> R | I5: =IF(AND('12,5KG'!AG7>0,'12,5KG'!AG7<3),"R","OK") -> R | J5: =IF(AND('12,5KG'!AP7>0,'12,5KG'!AP7<3),"R","OK") -> OK | K5: =IF(AND('12,5KG'!AS7>0,'12,5KG'!AS7<3),"R","OK") -> OK | L5: =IF(AND('12,5KG'!AV7>0,'12,5KG'!AV7<3),"R","OK") -> R | M5: =IF(AND('12,5KG'!AY7>0,'12,5KG'!AY7<3),"R","OK") -> OK | N5: =IF(AND('12,5KG'!BB7>0,'12,5KG'!BB7<3),"R","OK") -> OK | O5: =IF(AND('12,5KG'!BE7>0,'12,5KG'!BE7<3),"R","OK") -> R | P5: =IF(AND('12,5KG'!BK7>0,'12,5KG'!BK7<3),"R","OK") -> OK | Q5: =IF(AND('12,5KG'!BN7>0,'12,5KG'!BN7<3),"R","OK") -> R | R5: =IF(AND('12,5KG'!BQ7>0,'12,5KG'!BQ7<3),"R","OK") -> R | S5: =IF(AND('12,5KG'!BT7>0,'12,5KG'!BT7<3),"R","OK") -> R
A6: ='12,5KG'!C8 -> BAHAM | B6: =IF(AND('12,5KG'!I8>0,'12,5KG'!I8<3),"R","OK") -> OK | C6: =IF(AND('12,5KG'!L8>0,'12,5KG'!L8<3),"R","OK") -> OK | D6: =IF(AND('12,5KG'!R8>0,'12,5KG'!R8<3),"R","OK") -> OK | E6: =IF(AND('12,5KG'!U8>0,'12,5KG'!U8<3),"R","OK") -> R | F6: =IF(AND('12,5KG'!X8>0,'12,5KG'!X8<3),"R","OK") -> R | G6: =IF(AND('12,5KG'!AA8>0,'12,5KG'!AA8<3),"R","OK") -> R | H6: =IF(AND('12,5KG'!AD8>0,'12,5KG'!AD8<3),"R","OK") -> R | I6: =IF(AND('12,5KG'!AG8>0,'12,5KG'!AG8<3),"R","OK") -> R | J6: =IF(AND('12,5KG'!AP8>0,'12,5KG'!AP8<3),"R","OK") -> OK | K6: =IF(AND('12,5KG'!AS8>0,'12,5KG'!AS8<3),"R","OK") -> OK | L6: =IF(AND('12,5KG'!AV8>0,'12,5KG'!AV8<3),"R","OK") -> OK | M6: =IF(AND('12,5KG'!AY8>0,'12,5KG'!AY8<3),"R","OK") -> OK | N6: =IF(AND('12,5KG'!BB8>0,'12,5KG'!BB8<3),"R","OK") -> R | O6: =IF(AND('12,5KG'!BE8>0,'12,5KG'!BE8<3),"R","OK") -> R | P6: =IF(AND('12,5KG'!BK8>0,'12,5KG'!BK8<3),"R","OK") -> OK | Q6: =IF(AND('12,5KG'!BN8>0,'12,5KG'!BN8<3),"R","OK") -> R | R6: =IF(AND('12,5KG'!BQ8>0,'12,5KG'!BQ8<3),"R","OK") -> R | S6: =IF(AND('12,5KG'!BT8>0,'12,5KG'!BT8<3),"R","OK") -> R
A9: ='12,5KG'!C11 -> ROUTE FOUMBAN | B9: =IF(AND('12,5KG'!I11>0,'12,5KG'!I11<3),"R","OK") -> R | C9: =IF(AND('12,5KG'!L11>0,'12,5KG'!L11<3),"R","OK") -> R | D9: =IF(AND('12,5KG'!R11>0,'12,5KG'!R11<3),"R","OK") -> OK | E9: =IF(AND('12,5KG'!U11>0,'12,5KG'!U11<3),"R","OK") -> R | F9: =IF(AND('12,5KG'!X11>0,'12,5KG'!X11<3),"R","OK") -> OK | G9: =IF(AND('12,5KG'!AA11>0,'12,5KG'!AA11<3),"R","OK") -> R | H9: =IF(AND('12,5KG'!AD11>0,'12,5KG'!AD11<3),"R","OK") -> R | I9: =IF(AND('12,5KG'!AG11>0,'12,5KG'!AG11<3),"R","OK") -> R | J9: =IF(AND('12,5KG'!AP11>0,'12,5KG'!AP11<3),"R","OK") -> R | K9: =IF(AND('12,5KG'!AS11>0,'12,5KG'!AS11<3),"R","OK") -> OK | L9: =IF(AND('12,5KG'!AV11>0,'12,5KG'!AV11<3),"R","OK") -> OK | M9: =IF(AND('12,5KG'!AY11>0,'12,5KG'!AY11<3),"R","OK") -> R | N9: =IF(AND('12,5KG'!BB11>0,'12,5KG'!BB11<3),"R","OK") -> R | O9: =IF(AND('12,5KG'!BE11>0,'12,5KG'!BE11<3),"R","OK") -> R | P9: =IF(AND('12,5KG'!BK11>0,'12,5KG'!BK11<3),"R","OK") -> OK | Q9: =IF(AND('12,5KG'!BN11>0,'12,5KG'!BN11<3),"R","OK") -> R | R9: =IF(AND('12,5KG'!BQ11>0,'12,5KG'!BQ11<3),"R","OK") -> R | S9: =IF(AND('12,5KG'!BT11>0,'12,5KG'!BT11<3),"R","OK") -> OK
A10: ='12,5KG'!C12 -> FOUMBOT1&2 | B10: =IF(AND('12,5KG'!I12>0,'12,5KG'!I12<3),"R","OK") -> R | C10: =IF(AND('12,5KG'!L12>0,'12,5KG'!L12<3),"R","OK") -> OK | D10: =IF(AND('12,5KG'!R12>0,'12,5KG'!R12<3),"R","OK") -> OK | E10: =IF(AND('12,5KG'!U12>0,'12,5KG'!U12<3),"R","OK") -> OK | F10: =IF(AND('12,5KG'!X12>0,'12,5KG'!X12<3),"R","OK") -> R | G10: =IF(AND('12,5KG'!AA12>0,'12,5KG'!AA12<3),"R","OK") -> R | H10: =IF(AND('12,5KG'!AD12>0,'12,5KG'!AD12<3),"R","OK") -> OK | I10: =IF(AND('12,5KG'!AG12>0,'12,5KG'!AG12<3),"R","OK") -> OK | J10: =IF(AND('12,5KG'!AP12>0,'12,5KG'!AP12<3),"R","OK") -> OK | K10: =IF(AND('12,5KG'!AS12>0,'12,5KG'!AS12<3),"R","OK") -> OK | L10: =IF(AND('12,5KG'!AV12>0,'12,5KG'!AV12<3),"R","OK") -> R | M10: =IF(AND('12,5KG'!AY12>0,'12,5KG'!AY12<3),"R","OK") -> R | N10: =IF(AND('12,5KG'!BB12>0,'12,5KG'!BB12<3),"R","OK") -> R | O10: =IF(AND('12,5KG'!BE12>0,'12,5KG'!BE12<3),"R","OK") -> R | P10: =IF(AND('12,5KG'!BK12>0,'12,5KG'!BK12<3),"R","OK") -> OK | Q10: =IF(AND('12,5KG'!BN12>0,'12,5KG'!BN12<3),"R","OK") -> OK | R10: =IF(AND('12,5KG'!BQ12>0,'12,5KG'!BQ12<3),"R","OK") -> OK | S10: =IF(AND('12,5KG'!BT12>0,'12,5KG'!BT12<3),"R","OK") -> OK
A11: ='12,5KG'!C13 -> FOUMBAN HOPITAL | B11: =IF(AND('12,5KG'!I13>0,'12,5KG'!I13<3),"R","OK") -> R | C11: =IF(AND('12,5KG'!L13>0,'12,5KG'!L13<3),"R","OK") -> OK | D11: =IF(AND('12,5KG'!R13>0,'12,5KG'!R13<3),"R","OK") -> OK | E11: =IF(AND('12,5KG'!U13>0,'12,5KG'!U13<3),"R","OK") -> OK | F11: =IF(AND('12,5KG'!X13>0,'12,5KG'!X13<3),"R","OK") -> R | G11: =IF(AND('12,5KG'!AA13>0,'12,5KG'!AA13<3),"R","OK") -> R | H11: =IF(AND('12,5KG'!AD13>0,'12,5KG'!AD13<3),"R","OK") -> OK | I11: =IF(AND('12,5KG'!AG13>0,'12,5KG'!AG13<3),"R","OK") -> OK | J11: =IF(AND('12,5KG'!AP13>0,'12,5KG'!AP13<3),"R","OK") -> R | K11: =IF(AND('12,5KG'!AS13>0,'12,5KG'!AS13<3),"R","OK") -> R | L11: =IF(AND('12,5KG'!AV13>0,'12,5KG'!AV13<3),"R","OK") -> OK | M11: =IF(AND('12,5KG'!AY13>0,'12,5KG'!AY13<3),"R","OK") -> OK | N11: =IF(AND('12,5KG'!BB13>0,'12,5KG'!BB13<3),"R","OK") -> R | O11: =IF(AND('12,5KG'!BE13>0,'12,5KG'!BE13<3),"R","OK") -> R | P11: =IF(AND('12,5KG'!BK13>0,'12,5KG'!BK13<3),"R","OK") -> OK | Q11: =IF(AND('12,5KG'!BN13>0,'12,5KG'!BN13<3),"R","OK") -> R | R11: =IF(AND('12,5KG'!BQ13>0,'12,5KG'!BQ13<3),"R","OK") -> R | S11: =IF(AND('12,5KG'!BT13>0,'12,5KG'!BT13<3),"R","OK") -> R
A12: ='12,5KG'!C14 -> FOUMBAN 1&2 | B12: =IF(AND('12,5KG'!I14>0,'12,5KG'!I14<3),"R","OK") -> R | C12: =IF(AND('12,5KG'!L14>0,'12,5KG'!L14<3),"R","OK") -> OK | D12: =IF(AND('12,5KG'!R14>0,'12,5KG'!R14<3),"R","OK") -> OK | E12: =IF(AND('12,5KG'!U14>0,'12,5KG'!U14<3),"R","OK") -> OK | F12: =IF(AND('12,5KG'!X14>0,'12,5KG'!X14<3),"R","OK") -> R | G12: =IF(AND('12,5KG'!AA14>0,'12,5KG'!AA14<3),"R","OK") -> R | H12: =IF(AND('12,5KG'!AD14>0,'12,5KG'!AD14<3),"R","OK") -> OK | I12: =IF(AND('12,5KG'!AG14>0,'12,5KG'!AG14<3),"R","OK") -> R | J12: =IF(AND('12,5KG'!AP14>0,'12,5KG'!AP14<3),"R","OK") -> OK | K12: =IF(AND('12,5KG'!AS14>0,'12,5KG'!AS14<3),"R","OK") -> R | L12: =IF(AND('12,5KG'!AV14>0,'12,5KG'!AV14<3),"R","OK") -> OK | M12: =IF(AND('12,5KG'!AY14>0,'12,5KG'!AY14<3),"R","OK") -> R | N12: =IF(AND('12,5KG'!BB14>0,'12,5KG'!BB14<3),"R","OK") -> R | O12: =IF(AND('12,5KG'!BE14>0,'12,5KG'!BE14<3),"R","OK") -> R | P12: =IF(AND('12,5KG'!BK14>0,'12,5KG'!BK14<3),"R","OK") -> OK | Q12: =IF(AND('12,5KG'!BN14>0,'12,5KG'!BN14<3),"R","OK") -> R | R12: =IF(AND('12,5KG'!BQ14>0,'12,5KG'!BQ14<3),"R","OK") -> R | S12: =IF(AND('12,5KG'!BT14>0,'12,5KG'!BT14<3),"R","OK") -> R
A15: ='12,5KG'!C17 -> CENTRE COMMERCIAL | B15: =IF(AND('12,5KG'!I17>0,'12,5KG'!I17<3),"R","OK") -> OK | C15: =IF(AND('12,5KG'!L17>0,'12,5KG'!L17<3),"R","OK") -> R | D15: =IF(AND('12,5KG'!R17>0,'12,5KG'!R17<3),"R","OK") -> OK | E15: =IF(AND('12,5KG'!U17>0,'12,5KG'!U17<3),"R","OK") -> R | F15: =IF(AND('12,5KG'!X17>0,'12,5KG'!X17<3),"R","OK") -> OK | G15: =IF(AND('12,5KG'!AA17>0,'12,5KG'!AA17<3),"R","OK") -> R | H15: =IF(AND('12,5KG'!AD17>0,'12,5KG'!AD17<3),"R","OK") -> R | I15: =IF(AND('12,5KG'!AG17>0,'12,5KG'!AG17<3),"R","OK") -> R | J15: =IF(AND('12,5KG'!AP17>0,'12,5KG'!AP17<3),"R","OK") -> R | K15: =IF(AND('12,5KG'!AS17>0,'12,5KG'!AS17<3),"R","OK") -> OK | L15: =IF(AND('12,5KG'!AV17>0,'12,5KG'!AV17<3),"R","OK") -> R | M15: =IF(AND('12,5KG'!AY17>0,'12,5KG'!AY17<3),"R","OK") -> R | N15: =IF(AND('12,5KG'!BB17>0,'12,5KG'!BB17<3),"R","OK") -> OK | O15: =IF(AND('12,5KG'!BE17>0,'12,5KG'!BE17<3),"R","OK") -> R | P15: =IF(AND('12,5KG'!BK17>0,'12,5KG'!BK17<3),"R","OK") -> OK | Q15: =IF(AND('12,5KG'!BN17>0,'12,5KG'!BN17<3),"R","OK") -> R | R15: =IF(AND('12,5KG'!BQ17>0,'12,5KG'!BQ17<3),"R","OK") -> R | S15: =IF(AND('12,5KG'!BT17>0,'12,5KG'!BT17<3),"R","OK") -> OK
A16: ='12,5KG'!C18 -> UNITE | B16: =IF(AND('12,5KG'!I18>0,'12,5KG'!I18<3),"R","OK") -> R | C16: =IF(AND('12,5KG'!L18>0,'12,5KG'!L18<3),"R","OK") -> R | D16: =IF(AND('12,5KG'!R18>0,'12,5KG'!R18<3),"R","OK") -> OK | E16: =IF(AND('12,5KG'!U18>0,'12,5KG'!U18<3),"R","OK") -> R | F16: =IF(AND('12,5KG'!X18>0,'12,5KG'!X18<3),"R","OK") -> OK | G16: =IF(AND('12,5KG'!AA18>0,'12,5KG'!AA18<3),"R","OK") -> OK | H16: =IF(AND('12,5KG'!AD18>0,'12,5KG'!AD18<3),"R","OK") -> R | I16: =IF(AND('12,5KG'!AG18>0,'12,5KG'!AG18<3),"R","OK") -> R | J16: =IF(AND('12,5KG'!AP18>0,'12,5KG'!AP18<3),"R","OK") -> R | K16: =IF(AND('12,5KG'!AS18>0,'12,5KG'!AS18<3),"R","OK") -> OK | L16: =IF(AND('12,5KG'!AV18>0,'12,5KG'!AV18<3),"R","OK") -> OK | M16: =IF(AND('12,5KG'!AY18>0,'12,5KG'!AY18<3),"R","OK") -> R | N16: =IF(AND('12,5KG'!BB18>0,'12,5KG'!BB18<3),"R","OK") -> OK | O16: =IF(AND('12,5KG'!BE18>0,'12,5KG'!BE18<3),"R","OK") -> R | P16: =IF(AND('12,5KG'!BK18>0,'12,5KG'!BK18<3),"R","OK") -> OK | Q16: =IF(AND('12,5KG'!BN18>0,'12,5KG'!BN18<3),"R","OK") -> R | R16: =IF(AND('12,5KG'!BQ18>0,'12,5KG'!BQ18<3),"R","OK") -> R | S16: =IF(AND('12,5KG'!BT18>0,'12,5KG'!BT18<3),"R","OK") -> OK
A17: ='12,5KG'!C19 -> CHEFFERIE BAFOUSSAM | B17: =IF(AND('12,5KG'!I19>0,'12,5KG'!I19<3),"R","OK") -> R | C17: =IF(AND('12,5KG'!L19>0,'12,5KG'!L19<3),"R","OK") -> OK | D17: =IF(AND('12,5KG'!R19>0,'12,5KG'!R19<3),"R","OK") -> OK | E17: =IF(AND('12,5KG'!U19>0,'12,5KG'!U19<3),"R","OK") -> R | F17: =IF(AND('12,5KG'!X19>0,'12,5KG'!X19<3),"R","OK") -> OK | G17: =IF(AND('12,5KG'!AA19>0,'12,5KG'!AA19<3),"R","OK") -> OK | H17: =IF(AND('12,5KG'!AD19>0,'12,5KG'!AD19<3),"R","OK") -> R | I17: =IF(AND('12,5KG'!AG19>0,'12,5KG'!AG19<3),"R","OK") -> R | J17: =IF(AND('12,5KG'!AP19>0,'12,5KG'!AP19<3),"R","OK") -> R | K17: =IF(AND('12,5KG'!AS19>0,'12,5KG'!AS19<3),"R","OK") -> OK | L17: =IF(AND('12,5KG'!AV19>0,'12,5KG'!AV19<3),"R","OK") -> OK | M17: =IF(AND('12,5KG'!AY19>0,'12,5KG'!AY19<3),"R","OK") -> R | N17: =IF(AND('12,5KG'!BB19>0,'12,5KG'!BB19<3),"R","OK") -> OK | O17: =IF(AND('12,5KG'!BE19>0,'12,5KG'!BE19<3),"R","OK") -> R | P17: =IF(AND('12,5KG'!BK19>0,'12,5KG'!BK19<3),"R","OK") -> OK | Q17: =IF(AND('12,5KG'!BN19>0,'12,5KG'!BN19<3),"R","OK") -> R | R17: =IF(AND('12,5KG'!BQ19>0,'12,5KG'!BQ19<3),"R","OK") -> R | S17: =IF(AND('12,5KG'!BT19>0,'12,5KG'!BT19<3),"R","OK") -> OK
... A34: ='12,5KG'!C36 -> NTARINKON | B34: =IF(AND('12,5KG'!I36>0,'12,5KG'!I36<3),"R","OK") -> OK | C34: =IF(AND('12,5KG'!L36>0,'12,5KG'!L36<3),"R","OK") -> OK | D34: =IF(AND('12,5KG'!R36>0,'12,5KG'!R36<3),"R","OK") -> OK | E34: =IF(AND('12,5KG'!U36>0,'12,5KG'!U36<3),"R","OK") -> OK | F34: =IF(AND('12,5KG'!X36>0,'12,5KG'!X36<3),"R","OK") -> OK | G34: =IF(AND('12,5KG'!AA36>0,'12,5KG'!AA36<3),"R","OK") -> OK | H34: =IF(AND('12,5KG'!AD36>0,'12,5KG'!AD36<3),"R","OK") -> OK | I34: =IF(AND('12,5KG'!AG36>0,'12,5KG'!AG36<3),"R","OK") -> OK | J34: =IF(AND('12,5KG'!AP36>0,'12,5KG'!AP36<3),"R","OK") -> OK | K34: =IF(AND('12,5KG'!AS36>0,'12,5KG'!AS36<3),"R","OK") -> OK | L34: =IF(AND('12,5KG'!AV36>0,'12,5KG'!AV36<3),"R","OK") -> OK | M34: =IF(AND('12,5KG'!AY36>0,'12,5KG'!AY36<3),"R","OK") -> OK | N34: =IF(AND('12,5KG'!BB36>0,'12,5KG'!BB36<3),"R","OK") -> OK | O34: =IF(AND('12,5KG'!BE36>0,'12,5KG'!BE36<3),"R","OK") -> OK | P34: =IF(AND('12,5KG'!BK36>0,'12,5KG'!BK36<3),"R","OK") -> OK | Q34: =IF(AND('12,5KG'!BN36>0,'12,5KG'!BN36<3),"R","OK") -> OK | R34: =IF(AND('12,5KG'!BQ36>0,'12,5KG'!BQ36<3),"R","OK") -> OK | S34: =IF(AND('12,5KG'!BT36>0,'12,5KG'!BT36<3),"R","OK") -> OK
