Workbook

Sheet ti client
A1: Code Client | B1: Code Postal | C1: Categories | D1: departement | E1: Regions
A2: C001825 | B2: 77550 | C2: AERONAUTIQUE | D2: =LEFT(B2,2) -> 77 | E2: =LOOKUP(D2,Tab_regions!A:A,Tab_regions!B:B) -> Corse
A3: C002808 | B3: 13804 | C3: AERONAUTIQUE | D3: =LEFT(B3,2) -> 13 | E3: =LOOKUP(D3,Tab_regions!A:A,Tab_regions!B:B) -> #N/A
A4: C002827 | B4: 77950 | C4: AERONAUTIQUE | D4: =LEFT(B4,2) -> 77 | E4: =LOOKUP(D4,Tab_regions!A:A,Tab_regions!B:B) -> Corse
A5: C002865 | B5: 38190 | C5: AERONAUTIQUE | D5: =LEFT(B5,2) -> 38 | E5: =LOOKUP(D5,Tab_regions!A:A,Tab_regions!B:B) -> Corse
A6: C002904 | B6: 32600 | C6: AERONAUTIQUE | D6: =LEFT(B6,2) -> 32 | E6: =LOOKUP(D6,Tab_regions!A:A,Tab_regions!B:B) -> Corse
A7: C003035 | B7: 95580 | C7: AERONAUTIQUE | D7: =LEFT(B7,2) -> 95 | E7: =LOOKUP(D7,Tab_regions!A:A,Tab_regions!B:B) -> Corse
A8: C003492 | B8: BE-1000 | C8: AERONAUTIQUE | D8: =LEFT(B8,2) -> BE | E8: =LOOKUP(D8,Tab_regions!A:A,Tab_regions!B:B) -> Corse
A9: C000171 | B9: 20162 | C9: ARMEE POLICE GENDARMERIE | D9: =LEFT(B9,2) -> 20 | E9: =LOOKUP(D9,Tab_regions!A:A,Tab_regions!B:B) -> #N/A
A10: C000580 | B10: 57404 | C10: ARMEE POLICE GENDARMERIE | D10: =LEFT(B10,2) -> 57 | E10: =LOOKUP(D10,Tab_regions!A:A,Tab_regions!B:B) -> Corse
A11: C001402 | B11: 33076 | C11: ARMEE POLICE GENDARMERIE | D11: =LEFT(B11,2) -> 33 | E11: =LOOKUP(D11,Tab_regions!A:A,Tab_regions!B:B) -> Corse
A12: C001717 | B12: 31605 | C12: ARMEE POLICE GENDARMERIE | D12: =LEFT(B12,2) -> 31 | E12: =LOOKUP(D12,Tab_regions!A:A,Tab_regions!B:B) -> Corse
A13: C001731 | B13: 31100 | C13: ARMEE POLICE GENDARMERIE | D13: =LEFT(B13,2) -> 31 | E13: =LOOKUP(D13,Tab_regions!A:A,Tab_regions!B:B) -> Corse
... A742: C003704 | B742: 75015 | C742: NR | D742: =LEFT(B742,2) -> 75 | E742: =LOOKUP(D742,Tab_regions!A:A,Tab_regions!B:B) -> Corse

Sheet Tab_regions
A1: departements | B1: REGION
A2: 1 | B2: Auvergne-Rhône-Alpes
A3: 2 | B3: Hauts-de-France
A4: 3 | B4: Auvergne-Rhône-Alpes
A5: 4 | B5: Provence-Alpes-Côte d'Azur
A6: 5 | B6: Provence-Alpes-Côte d'Azur
A7: 6 | B7: Provence-Alpes-Côte d'Azur
A8: 7 | B8: Auvergne-Rhône-Alpes
A9: 8 | B9: Grand Est
A10: 9 | B10: Occitanie
A11: 10 | B11: Grand Est
A12: 11 | B12: Occitanie
A13: 12 | B13: Occitanie
... A20: 19 | B20: Nouvelle-Aquitaine
A21: 2A | B21: Corse
A22: 2A | B22: Corse
A23: 21 | B23: Bourgogne-Franche-Comté
A24: 22 | B24: Bretagne
A25: 23 | B25: Nouvelle-Aquitaine
A26: 24 | B26: Nouvelle-Aquitaine
A27: 25 | B27: Bourgogne-Franche-Comté
A28: 26 | B28: Auvergne-Rhône-Alpes
A29: 27 | B29: Normandie
A30: 28 | B30: Centre-Val de Loire
A31: 29 | B31: Bretagne
A32: 30 | B32: Occitanie
A33: 31 | B33: Occitanie
A34: 32 | B34: Occitanie
... A98: 97 | B98: DOM-TOM
