Workbook

Sheet Report Data 31 03
A1: Number | B1: Assignment Group | C1: Priority | D1: State | E1: Closed | F1: Task type | G1: Tools
A2: ATF:C10163040 | B2: Logistic | D2: Closed Satisfied | E2: 44266 | F2: Change | G2: SDM
A3: ATF:C10299137 | B3: Logistic | D3: Closed Satisfied | E3: 44266 | F3: Change | G3: SDM
A4: ATF:C10304037 | B4: Logistic | D4: Closed Satisfied | E4: 44266 | F4: Change | G4: SDM
A5: ATF:C10307948 | B5: Logistic | D5: Closed Satisfied | E5: 44266 | F5: Change | G5: SDM
A6: ATF:C10310285 | B6: Logistic | D6: Closed Invalid | E6: 44266 | F6: Change | G6: SDM
A7: ATF:C10312900 | B7: Logistic | D7: Closed Invalid | E7: 44266 | F7: Change | G7: SDM
A8: ATF:C10316250 | B8: Logistic | D8: Closed Withdrawn by Atos | E8: 44242 | F8: Change | G8: SDM
A9: ATF:C10365675 | B9: Logistic | D9: Closed Satisfied | E9: 44266 | F9: Change | G9: SDM
A10: ATF:C10375584 | B10: Logistic | D10: Closed Satisfied | E10: 44266 | F10: Change | G10: SDM
A11: ATF:C10388347 | B11: Logistic | D11: Closed Satisfied | E11: 44266 | F11: Change | G11: SDM
A12: ATF:C10390369 | B12: Logistic | D12: Closed Satisfied | E12: 44266 | F12: Change | G12: SDM
A13: ATF:C10397015 | B13: Logistic | D13: Closed Satisfied | E13: 44266 | F13: Change | G13: SDM
... A18: ATF:C10432988 | B18: Logistic | D18: Closed Satisfied | E18: 44233 | F18: Change | G18: SDM
A19: ATF:C10433076 | B19: Logistic | D19: On Hold - Clock Stopped Waiting for Requester Input | F19: Change | G19: SDM
A20: ATF:C10435895 | B20: Logistic | D20: Closed Satisfied | E20: 44266 | F20: Change | G20: SDM
A21: ATF:C10444622 | B21: Logistic | D21: Closed Withdrawn by Client | E21: 44266 | F21: Change | G21: SDM
A22: ATF:C10446770 | B22: Logistic | D22: Closed Satisfied | E22: 44266 | F22: Change | G22: SDM
A23: ATF:C10449206 | B23: Logistic | D23: Closed Satisfied | E23: 44266 | F23: Change | G23: SDM
A24: ATF:C10450776 | B24: Logistic | D24: Closed Satisfied | E24: 44266 | F24: Change | G24: SDM
A25: ATF:C10454415 | B25: Logistic | D25: Closed Satisfied | E25: 44266 | F25: Change | G25: SDM
A26: ATF:C10461213 | B26: Logistic | D26: Closed Satisfied | E26: 44266 | F26: Change | G26: SDM
A27: ATF:C10461403 | B27: Logistic | D27: Closed Satisfied | E27: 44266 | F27: Change | G27: SDM
A28: ATF:C10475345 | B28: Logistic | D28: Closed Satisfied | E28: 44266 | F28: Change | G28: SDM
A29: ATF:C10475709 | B29: Logistic | D29: Closed Satisfied | E29: 44268 | F29: Change | G29: SDM
A30: ATF:C10478965 | B30: Logistic | D30: Closed Withdrawn by Client | E30: 44266 | F30: Change | G30: SDM
A31: ATF:C10484197 | B31: Logistic | D31: Closed Satisfied | E31: 44266 | F31: Change | G31: SDM
... A53: ATF:C10655646 | B53: Logistic | D53: Closed Invalid | E53: 44266 | F53: Change | G53: SDM
A54: ATF:C10659917 | B54: Logistic | D54: Resolved | F54: Change | G54: SDM
A55: ATF:C10664254 | B55: Logistic | D55: Closed Satisfied | E55: 44233 | F55: Change | G55: SDM
A56: ATF:C10667357 | B56: Logistic | D56: Closed Satisfied | E56: 44266 | F56: Change | G56: SDM
A57: ATF:C10667391 | B57: Logistic | D57: Closed Satisfied | E57: 44266 | F57: Change | G57: SDM
A58: ATF:C10694582 | B58: Logistic | D58: Closed Satisfied | E58: 44233 | F58: Change | G58: SDM
A59: ATF:C10694634 | B59: Logistic | D59: Closed Satisfied | E59: 44233 | F59: Change | G59: SDM
A60: ATF:C10694780 | B60: Logistic | D60: Closed Withdrawn by Atos | E60: 44239 | F60: Change | G60: SDM
A61: ATF:C10706499 | B61: Security | D61: Closed Satisfied | E61: 44266 | F61: Change | G61: SDM
A62: ATF:C10719228 | B62: Security | D62: Closed Satisfied | E62: 44266 | F62: Change | G62: SDM
A63: ATF:C10724625 | B63: Financial | D63: Closed Satisfied | E63: 44266 | F63: Change | G63: SDM
A64: ATF:C10730520 | B64: Financial | D64: Closed Satisfied | E64: 44266 | F64: Change | G64: SDM
A65: ATF:C10732880 | B65: Financial | D65: Closed Satisfied | E65: 44266 | F65: Change | G65: SDM
...

Sheet Backlog 31 03
A2: Tickets not closed | H2: Ticket Closed
O3: Tools | P3: WLSD
A4: Tools | B4: PISA | H4: Tools | I4: PISA | O4: Task type | P4: (Tous)
A5: State | B5: (Plusieurs éléments) | H5: State | I5: (Plusieurs éléments) | O5: Closed | P5: (Tous)
A6: Closed | B6: (Tous) | H6: Closed | I6: (Tous)
O7: Nombre de Number | P7: Étiquettes de colonnes
A8: Nombre de Number | B8: Étiquettes de colonnes | H8: Nombre de Number | I8: Étiquettes de colonnes | O8: Étiquettes de lignes | P8: In Progress | Q8: On Hold | R8: Pending Assignment | S8: Total général
A9: Groups | B9: Change Request | C9: Incident | D9: Total général | H9: Groups | I9: Change Request | J9: Incident | K9: Total général | O9: FR4WL.AppsMgmt.BCM | Q9: 2 | S9: 2
A10: FR4WL.AppsMgmt.BCM | B10: 4 | D10: 4 | H10: FR4WL.AppsMgmt.BCM | I10: 13 | J10: 33 | K10: 46 | O10: FR4WL.AppsMgmt.Clarity | R10: 1 | S10: 1
A11: FR4WL.AppsMgmt.Clarity | B11: 1 | D11: 1 | H11: FR4WL.AppsMgmt.Clarity | I11: 1 | J11: 30 | K11: 31 | O11: FR4WL.AppsMgmt.Development | Q11: 1 | S11: 1
A12: FR4WL.AppsMgmt.Financial | B12: 13 | D12: 13 | H12: FR4WL.AppsMgmt.Development | J12: 8 | K12: 8 | O12: FR4WL.AppsMgmt.Financial | Q12: 1 | R12: 1 | S12: 2
A13: FR4WL.AppsMgmt.HR | B13: 7 | C13: 1 | D13: 8 | H13: FR4WL.AppsMgmt.Financial | I13: 81 | J13: 146 | K13: 227 | O13: FR4WL.AppsMgmt.HR | P13: 1 | Q13: 1 | S13: 2
A14: FR4WL.AppsMgmt.Logistics | B14: 6 | D14: 6 | H14: FR4WL.AppsMgmt.HR | I14: 30 | J14: 90 | K14: 120 | O14: FR4WL.AppsMgmt.Logistics | P14: 1 | S14: 1
A15: FR4WL.AppsMgmt.MyHR | B15: 1 | D15: 1 | H15: FR4WL.AppsMgmt.Logistics | I15: 56 | J15: 59 | K15: 115 | O15: FR4WL.AppsMgmt.PARMA | P15: 1 | Q15: 3 | S15: 4
A16: FR4WL.AppsMgmt.PARMA | C16: 1 | D16: 1 | H16: FR4WL.AppsMgmt.MyHR | J16: 1 | K16: 1 | O16: FR4WL.AppsMgmt.Portal.DEV | P16: 1 | Q16: 1 | S16: 2
A17: FR4WL.AppsMgmt.Portal.DEV | B17: 2 | D17: 2 | H17: FR4WL.AppsMgmt.PARMA | I17: 2 | J17: 61 | K17: 63 | O17: FR4WL.AppsMgmt.Security | P17: 1 | Q17: 9 | R17: 1 | S17: 11
A18: FR4WL.AppsMgmt.Security | B18: 3 | D18: 3 | H18: FR4WL.AppsMgmt.Portal.DEV | I18: 2 | J18: 17 | K18: 19 | O18: FR4WL.AppsMgmt.SRM | P18: 1 | S18: 1
A19: FR4WL.AppsMgmt.SRM | B19: 2 | C19: 2 | D19: 4 | H19: FR4WL.AppsMgmt.Saperion | I19: 1 | J19: 1 | K19: 2 | O19: FR4WL.AppsMgmt.TimeAndExpense | P19: 1 | Q19: 1 | R19: 2 | S19: 4
A20: FR4WL.AppsMgmt.TimeAndExpense | B20: 2 | D20: 2 | H20: FR4WL.AppsMgmt.Security | I20: 24 | J20: 104 | K20: 128 | O20: FR4WL.Backup&Restore | Q20: 1 | S20: 1
A21: FR4WL.AppsMgmt.Travel | B21: 1 | D21: 1 | H21: FR4WL.AppsMgmt.SRM | I21: 1 | J21: 38 | K21: 39 | O21: FR4WL.Security.DAS | P21: 2 | Q21: 5 | S21: 7
A22: WL.AppsMgmt.WL-Learning | B22: 1 | D22: 1 | H22: FR4WL.AppsMgmt.TimeAndExpense | I22: 15 | J22: 26 | K22: 41 | O22: FR4WL.Security.DAS.WAC | Q22: 2 | S22: 2
A23: WL.AppsMgmt.WL-MyCareer | C23: 1 | D23: 1 | H23: FR4WL.AppsMgmt.Travel | J23: 1 | K23: 1 | O23: WL.AppsMgmt.WL-Learning | Q23: 6 | R23: 1 | S23: 7
A24: Total général | B24: 43 | C24: 5 | D24: 48 | H24: FR4WL.Infrastructure.PKI.Trustcenter.2nd | J24: 2 | K24: 2 | O24: WL.AppsMgmt.WL-MyCareer | P24: 1 | Q24: 3 | R24: 1 | S24: 5
H25: WL.AppsMgmt.WL-Learning | I25: 3 | J25: 28 | K25: 31 | O25: WL.AppsMgmt.WL-Recruitment | P25: 1 | Q25: 1 | S25: 2
H26: WL.AppsMgmt.WL-MyCareer | I26: 10 | J26: 118 | K26: 128 | O26: Total général | P26: 11 | Q26: 37 | R26: 7 | S26: 55
H27: WL.AppsMgmt.WL-Recruitment | I27: 11 | J27: 43 | K27: 54
H28: Total général | I28: 250 | J28: 806 | K28: 1056

Sheet J
A2: Tickets not closed | H2: Ticket Closed en fevrier
B4: Change Request | C4: Incident | D4: Requested Item | E4: Change | F4: Total général | I4: Change | J4: Change Request | K4: Incident | L4: Requested Item | M4: Total général
A5: CIT.FR4WL.AppsMgmt.Clarity | B5: =VLOOKUP(A5,'Backlog 31 03'!A:F,2,FALSE) -> #N/A | C5: =VLOOKUP(A5,'Backlog 31 03'!A:F,3,FALSE) -> #N/A | D5: =VLOOKUP(A5,'Backlog 31 03'!A:F,4,FALSE) -> #N/A | E5: =VLOOKUP(A5,'Backlog 31 03'!A:F,5,FALSE) -> #N/A | F5: =VLOOKUP(A5,'Backlog 31 03'!A:F,6,FALSE) -> #N/A | H5: CIT.FR4WL.AppsMgmt.Clarity | I5: =VLOOKUP(H5,'Backlog 31 03'!H:M,2,FALSE) -> #N/A | J5: =VLOOKUP(H5,'Backlog 31 03'!H:M,3,FALSE) -> #N/A | K5: =VLOOKUP(H5,'Backlog 31 03'!H:M,4,FALSE) -> #N/A | L5: =VLOOKUP(H5,'Backlog 31 03'!H:M,5,FALSE) -> #N/A | M5: =VLOOKUP(H5,'Backlog 31 03'!H:M,6,FALSE) -> #N/A
A6: CIT.FR4WL.AppsMgmt.Development | B6: =VLOOKUP(A6,'Backlog 31 03'!A:F,2,FALSE) -> #N/A | C6: =VLOOKUP(A6,'Backlog 31 03'!A:F,3,FALSE) -> #N/A | D6: =VLOOKUP(A6,'Backlog 31 03'!A:F,4,FALSE) -> #N/A | E6: =VLOOKUP(A6,'Backlog 31 03'!A:F,5,FALSE) -> #N/A | F6: =VLOOKUP(A6,'Backlog 31 03'!A:F,6,FALSE) -> #N/A | H6: CIT.FR4WL.AppsMgmt.Development | I6: =VLOOKUP(H6,'Backlog 31 03'!H:M,2,FALSE) -> #N/A | J6: =VLOOKUP(H6,'Backlog 31 03'!H:M,3,FALSE) -> #N/A | K6: =VLOOKUP(H6,'Backlog 31 03'!H:M,4,FALSE) -> #N/A | L6: =VLOOKUP(H6,'Backlog 31 03'!H:M,5,FALSE) -> #N/A | M6: =VLOOKUP(H6,'Backlog 31 03'!H:M,6,FALSE) -> #N/A
A7: CIT.FR4WL.AppsMgmt.Financial | B7: =VLOOKUP(A7,'Backlog 31 03'!A:F,2,FALSE) -> #N/A | C7: =VLOOKUP(A7,'Backlog 31 03'!A:F,3,FALSE) -> #N/A | D7: =VLOOKUP(A7,'Backlog 31 03'!A:F,4,FALSE) -> #N/A | E7: =VLOOKUP(A7,'Backlog 31 03'!A:F,5,FALSE) -> #N/A | F7: =VLOOKUP(A7,'Backlog 31 03'!A:F,6,FALSE) -> #N/A | H7: CIT.FR4WL.AppsMgmt.Financial | I7: =VLOOKUP(H7,'Backlog 31 03'!H:M,2,FALSE) -> #N/A | J7: =VLOOKUP(H7,'Backlog 31 03'!H:M,3,FALSE) -> #N/A | K7: =VLOOKUP(H7,'Backlog 31 03'!H:M,4,FALSE) -> #N/A | L7: =VLOOKUP(H7,'Backlog 31 03'!H:M,5,FALSE) -> #N/A | M7: =VLOOKUP(H7,'Backlog 31 03'!H:M,6,FALSE) -> #N/A
A8: CIT.FR4WL.AppsMgmt.HR | B8: =VLOOKUP(A8,'Backlog 31 03'!A:F,2,FALSE) -> #N/A | C8: =VLOOKUP(A8,'Backlog 31 03'!A:F,3,FALSE) -> #N/A | D8: =VLOOKUP(A8,'Backlog 31 03'!A:F,4,FALSE) -> #N/A | E8: =VLOOKUP(A8,'Backlog 31 03'!A:F,5,FALSE) -> #N/A | F8: =VLOOKUP(A8,'Backlog 31 03'!A:F,6,FALSE) -> #N/A | H8: CIT.FR4WL.AppsMgmt.HR | I8: =VLOOKUP(H8,'Backlog 31 03'!H:M,2,FALSE) -> #N/A | J8: =VLOOKUP(H8,'Backlog 31 03'!H:M,3,FALSE) -> #N/A | K8: =VLOOKUP(H8,'Backlog 31 03'!H:M,4,FALSE) -> #N/A | L8: =VLOOKUP(H8,'Backlog 31 03'!H:M,5,FALSE) -> #N/A | M8: =VLOOKUP(H8,'Backlog 31 03'!H:M,6,FALSE) -> #N/A
A9: CIT.FR4WL.AppsMgmt.IRIS | B9: =VLOOKUP(A9,'Backlog 31 03'!A:F,2,FALSE) -> #N/A | C9: =VLOOKUP(A9,'Backlog 31 03'!A:F,3,FALSE) -> #N/A | D9: =VLOOKUP(A9,'Backlog 31 03'!A:F,4,FALSE) -> #N/A | E9: =VLOOKUP(A9,'Backlog 31 03'!A:F,5,FALSE) -> #N/A | F9: =VLOOKUP(A9,'Backlog 31 03'!A:F,6,FALSE) -> #N/A | H9: CIT.FR4WL.AppsMgmt.IRIS | I9: =VLOOKUP(H9,'Backlog 31 03'!H:M,2,FALSE) -> #N/A | J9: =VLOOKUP(H9,'Backlog 31 03'!H:M,3,FALSE) -> #N/A | K9: =VLOOKUP(H9,'Backlog 31 03'!H:M,4,FALSE) -> #N/A | L9: =VLOOKUP(H9,'Backlog 31 03'!H:M,5,FALSE) -> #N/A | M9: =VLOOKUP(H9,'Backlog 31 03'!H:M,6,FALSE) -> #N/A
A10: CIT.FR4WL.AppsMgmt.Logistics | B10: =VLOOKUP(A10,'Backlog 31 03'!A:F,2,FALSE) -> #N/A | C10: =VLOOKUP(A10,'Backlog 31 03'!A:F,3,FALSE) -> #N/A | D10: =VLOOKUP(A10,'Backlog 31 03'!A:F,4,FALSE) -> #N/A | E10: =VLOOKUP(A10,'Backlog 31 03'!A:F,5,FALSE) -> #N/A | F10: =VLOOKUP(A10,'Backlog 31 03'!A:F,6,FALSE) -> #N/A | H10: CIT.FR4WL.AppsMgmt.Logistics | I10: =VLOOKUP(H10,'Backlog 31 03'!H:M,2,FALSE) -> #N/A | J10: =VLOOKUP(H10,'Backlog 31 03'!H:M,3,FALSE) -> #N/A | K10: =VLOOKUP(H10,'Backlog 31 03'!H:M,4,FALSE) -> #N/A | L10: =VLOOKUP(H10,'Backlog 31 03'!H:M,5,FALSE) -> #N/A | M10: =VLOOKUP(H10,'Backlog 31 03'!H:M,6,FALSE) -> #N/A
A11: CIT.FR4WL.AppsMgmt.PARMA | B11: =VLOOKUP(A11,'Backlog 31 03'!A:F,2,FALSE) -> #N/A | C11: =VLOOKUP(A11,'Backlog 31 03'!A:F,3,FALSE) -> #N/A | D11: =VLOOKUP(A11,'Backlog 31 03'!A:F,4,FALSE) -> #N/A | E11: =VLOOKUP(A11,'Backlog 31 03'!A:F,5,FALSE) -> #N/A | F11: =VLOOKUP(A11,'Backlog 31 03'!A:F,6,FALSE) -> #N/A | H11: CIT.FR4WL.AppsMgmt.PARMA | I11: =VLOOKUP(H11,'Backlog 31 03'!H:M,2,FALSE) -> #N/A | J11: =VLOOKUP(H11,'Backlog 31 03'!H:M,3,FALSE) -> #N/A | K11: =VLOOKUP(H11,'Backlog 31 03'!H:M,4,FALSE) -> #N/A | L11: =VLOOKUP(H11,'Backlog 31 03'!H:M,5,FALSE) -> #N/A | M11: =VLOOKUP(H11,'Backlog 31 03'!H:M,6,FALSE) -> #N/A
A12: CIT.FR4WL.AppsMgmt.Security | B12: =VLOOKUP(A12,'Backlog 31 03'!A:F,2,FALSE) -> #N/A | C12: =VLOOKUP(A12,'Backlog 31 03'!A:F,3,FALSE) -> #N/A | D12: =VLOOKUP(A12,'Backlog 31 03'!A:F,4,FALSE) -> #N/A | E12: =VLOOKUP(A12,'Backlog 31 03'!A:F,5,FALSE) -> #N/A | F12: =VLOOKUP(A12,'Backlog 31 03'!A:F,6,FALSE) -> #N/A | H12: CIT.FR4WL.AppsMgmt.Parma.3rd | I12: =VLOOKUP(H12,'Backlog 31 03'!H:M,2,FALSE) -> #N/A | J12: =VLOOKUP(H12,'Backlog 31 03'!H:M,3,FALSE) -> #N/A | K12: =VLOOKUP(H12,'Backlog 31 03'!H:M,4,FALSE) -> #N/A | L12: =VLOOKUP(H12,'Backlog 31 03'!H:M,5,FALSE) -> #N/A | M12: =VLOOKUP(H12,'Backlog 31 03'!H:M,6,FALSE) -> #N/A
A13: CIT.FR4WL.AppsMgmt.SRM | B13: =VLOOKUP(A13,'Backlog 31 03'!A:F,2,FALSE) -> #N/A | C13: =VLOOKUP(A13,'Backlog 31 03'!A:F,3,FALSE) -> #N/A | D13: =VLOOKUP(A13,'Backlog 31 03'!A:F,4,FALSE) -> #N/A | E13: =VLOOKUP(A13,'Backlog 31 03'!A:F,5,FALSE) -> #N/A | F13: =VLOOKUP(A13,'Backlog 31 03'!A:F,6,FALSE) -> #N/A | H13: CIT.FR4WL.AppsMgmt.Portal | I13: =VLOOKUP(H13,'Backlog 31 03'!H:M,2,FALSE) -> #N/A | J13: =VLOOKUP(H13,'Backlog 31 03'!H:M,3,FALSE) -> #N/A | K13: =VLOOKUP(H13,'Backlog 31 03'!H:M,4,FALSE) -> #N/A | L13: =VLOOKUP(H13,'Backlog 31 03'!H:M,5,FALSE) -> #N/A | M13: =VLOOKUP(H13,'Backlog 31 03'!H:M,6,FALSE) -> #N/A
A14: CIT.FR4WL.AppsMgmt.TimeAndExpense | B14: =VLOOKUP(A14,'Backlog 31 03'!A:F,2,FALSE) -> #N/A | C14: =VLOOKUP(A14,'Backlog 31 03'!A:F,3,FALSE) -> #N/A | D14: =VLOOKUP(A14,'Backlog 31 03'!A:F,4,FALSE) -> #N/A | E14: =VLOOKUP(A14,'Backlog 31 03'!A:F,5,FALSE) -> #N/A | F14: =VLOOKUP(A14,'Backlog 31 03'!A:F,6,FALSE) -> #N/A | H14: CIT.FR4WL.AppsMgmt.Portal.DEV | I14: =VLOOKUP(H14,'Backlog 31 03'!H:M,2,FALSE) -> #N/A | J14: =VLOOKUP(H14,'Backlog 31 03'!H:M,3,FALSE) -> #N/A | K14: =VLOOKUP(H14,'Backlog 31 03'!H:M,4,FALSE) -> #N/A | L14: =VLOOKUP(H14,'Backlog 31 03'!H:M,5,FALSE) -> #N/A | M14: =VLOOKUP(H14,'Backlog 31 03'!H:M,6,FALSE) -> #N/A
A15: CIT.FR4WL.AppsMgmt.WL-Learning | B15: =VLOOKUP(A15,'Backlog 31 03'!A:F,2,FALSE) -> #N/A | C15: =VLOOKUP(A15,'Backlog 31 03'!A:F,3,FALSE) -> #N/A | D15: =VLOOKUP(A15,'Backlog 31 03'!A:F,4,FALSE) -> #N/A | E15: =VLOOKUP(A15,'Backlog 31 03'!A:F,5,FALSE) -> #N/A | F15: =VLOOKUP(A15,'Backlog 31 03'!A:F,6,FALSE) -> #N/A | H15: CIT.FR4WL.AppsMgmt.Security | I15: =VLOOKUP(H15,'Backlog 31 03'!H:M,2,FALSE) -> #N/A | J15: =VLOOKUP(H15,'Backlog 31 03'!H:M,3,FALSE) -> #N/A | K15: =VLOOKUP(H15,'Backlog 31 03'!H:M,4,FALSE) -> #N/A | L15: =VLOOKUP(H15,'Backlog 31 03'!H:M,5,FALSE) -> #N/A | M15: =VLOOKUP(H15,'Backlog 31 03'!H:M,6,FALSE) -> #N/A
A16: CIT.FR4WL.AppsMgmt.WL-MyCareer | B16: =VLOOKUP(A16,'Backlog 31 03'!A:F,2,FALSE) -> #N/A | C16: =VLOOKUP(A16,'Backlog 31 03'!A:F,3,FALSE) -> #N/A | D16: =VLOOKUP(A16,'Backlog 31 03'!A:F,4,FALSE) -> #N/A | E16: =VLOOKUP(A16,'Backlog 31 03'!A:F,5,FALSE) -> #N/A | F16: =VLOOKUP(A16,'Backlog 31 03'!A:F,6,FALSE) -> #N/A | H16: CIT.FR4WL.AppsMgmt.SRM | I16: =VLOOKUP(H16,'Backlog 31 03'!H:M,2,FALSE) -> #N/A | J16: =VLOOKUP(H16,'Backlog 31 03'!H:M,3,FALSE) -> #N/A | K16: =VLOOKUP(H16,'Backlog 31 03'!H:M,4,FALSE) -> #N/A | L16: =VLOOKUP(H16,'Backlog 31 03'!H:M,5,FALSE) -> #N/A | M16: =VLOOKUP(H16,'Backlog 31 03'!H:M,6,FALSE) -> #N/A
... A30: Total général | B30: =VLOOKUP(A30,'Backlog 31 03'!A:F,2,FALSE) -> 43 | C30: =VLOOKUP(A30,'Backlog 31 03'!A:F,3,FALSE) -> 5 | D30: =VLOOKUP(A30,'Backlog 31 03'!A:F,4,FALSE) -> 48 | E30: =VLOOKUP(A30,'Backlog 31 03'!A:F,5,FALSE) -> 0 | F30: =VLOOKUP(A30,'Backlog 31 03'!A:F,6,FALSE) -> 0 | H30: FR4WL.AppsMgmt.Interfaces | I30: =VLOOKUP(H30,'Backlog 31 03'!H:M,2,FALSE) -> #N/A | J30: =VLOOKUP(H30,'Backlog 31 03'!H:M,3,FALSE) -> #N/A | K30: =VLOOKUP(H30,'Backlog 31 03'!H:M,4,FALSE) -> #N/A | L30: =VLOOKUP(H30,'Backlog 31 03'!H:M,5,FALSE) -> #N/A | M30: =VLOOKUP(H30,'Backlog 31 03'!H:M,6,FALSE) -> #N/A
H31: FR4WL.AppsMgmt.Logistics | I31: =VLOOKUP(H31,'Backlog 31 03'!H:M,2,FALSE) -> 56 | J31: =VLOOKUP(H31,'Backlog 31 03'!H:M,3,FALSE) -> 59 | K31: =VLOOKUP(H31,'Backlog 31 03'!H:M,4,FALSE) -> 115 | L31: =VLOOKUP(H31,'Backlog 31 03'!H:M,5,FALSE) -> 0 | M31: =VLOOKUP(H31,'Backlog 31 03'!H:M,6,FALSE) -> 0
H32: FR4WL.AppsMgmt.MyHR | I32: =VLOOKUP(H32,'Backlog 31 03'!H:M,2,FALSE) -> 0 | J32: =VLOOKUP(H32,'Backlog 31 03'!H:M,3,FALSE) -> 1 | K32: =VLOOKUP(H32,'Backlog 31 03'!H:M,4,FALSE) -> 1 | L32: =VLOOKUP(H32,'Backlog 31 03'!H:M,5,FALSE) -> 0 | M32: =VLOOKUP(H32,'Backlog 31 03'!H:M,6,FALSE) -> 0
H33: FR4WL.AppsMgmt.PARMA | I33: =VLOOKUP(H33,'Backlog 31 03'!H:M,2,FALSE) -> 2 | J33: =VLOOKUP(H33,'Backlog 31 03'!H:M,3,FALSE) -> 61 | K33: =VLOOKUP(H33,'Backlog 31 03'!H:M,4,FALSE) -> 63 | L33: =VLOOKUP(H33,'Backlog 31 03'!H:M,5,FALSE) -> 0 | M33: =VLOOKUP(H33,'Backlog 31 03'!H:M,6,FALSE) -> 0
H34: FR4WL.AppsMgmt.Portal.DEV | I34: =VLOOKUP(H34,'Backlog 31 03'!H:M,2,FALSE) -> 2 | J34: =VLOOKUP(H34,'Backlog 31 03'!H:M,3,FALSE) -> 17 | K34: =VLOOKUP(H34,'Backlog 31 03'!H:M,4,FALSE) -> 19 | L34: =VLOOKUP(H34,'Backlog 31 03'!H:M,5,FALSE) -> 0 | M34: =VLOOKUP(H34,'Backlog 31 03'!H:M,6,FALSE) -> 0
H35: FR4WL.AppsMgmt.Security | I35: =VLOOKUP(H35,'Backlog 31 03'!H:M,2,FALSE) -> 24 | J35: =VLOOKUP(H35,'Backlog 31 03'!H:M,3,FALSE) -> 104 | K35: =VLOOKUP(H35,'Backlog 31 03'!H:M,4,FALSE) -> 128 | L35: =VLOOKUP(H35,'Backlog 31 03'!H:M,5,FALSE) -> 0 | M35: =VLOOKUP(H35,'Backlog 31 03'!H:M,6,FALSE) -> 0
H36: FR4WL.AppsMgmt.TimeAndExpense | I36: =VLOOKUP(H36,'Backlog 31 03'!H:M,2,FALSE) -> 15 | J36: =VLOOKUP(H36,'Backlog 31 03'!H:M,3,FALSE) -> 26 | K36: =VLOOKUP(H36,'Backlog 31 03'!H:M,4,FALSE) -> 41 | L36: =VLOOKUP(H36,'Backlog 31 03'!H:M,5,FALSE) -> 0 | M36: =VLOOKUP(H36,'Backlog 31 03'!H:M,6,FALSE) -> 0
H37: FR4WL.AppsMgmt.Travel | I37: =VLOOKUP(H37,'Backlog 31 03'!H:M,2,FALSE) -> 0 | J37: =VLOOKUP(H37,'Backlog 31 03'!H:M,3,FALSE) -> 1 | K37: =VLOOKUP(H37,'Backlog 31 03'!H:M,4,FALSE) -> 1 | L37: =VLOOKUP(H37,'Backlog 31 03'!H:M,5,FALSE) -> 0 | M37: =VLOOKUP(H37,'Backlog 31 03'!H:M,6,FALSE) -> 0
H38: FR4WL.Infrastructure.PKI.Trustcenter.2nd | I38: =VLOOKUP(H38,'Backlog 31 03'!H:M,2,FALSE) -> 0 | J38: =VLOOKUP(H38,'Backlog 31 03'!H:M,3,FALSE) -> 2 | K38: =VLOOKUP(H38,'Backlog 31 03'!H:M,4,FALSE) -> 2 | L38: =VLOOKUP(H38,'Backlog 31 03'!H:M,5,FALSE) -> 0 | M38: =VLOOKUP(H38,'Backlog 31 03'!H:M,6,FALSE) -> 0
H39: WL.AppsMgmt.WL-Learning | I39: =VLOOKUP(H39,'Backlog 31 03'!H:M,2,FALSE) -> 3 | J39: =VLOOKUP(H39,'Backlog 31 03'!H:M,3,FALSE) -> 28 | K39: =VLOOKUP(H39,'Backlog 31 03'!H:M,4,FALSE) -> 31 | L39: =VLOOKUP(H39,'Backlog 31 03'!H:M,5,FALSE) -> 0 | M39: =VLOOKUP(H39,'Backlog 31 03'!H:M,6,FALSE) -> 0
H40: WL.AppsMgmt.WL-MyCareer | I40: =VLOOKUP(H40,'Backlog 31 03'!H:M,2,FALSE) -> 10 | J40: =VLOOKUP(H40,'Backlog 31 03'!H:M,3,FALSE) -> 118 | K40: =VLOOKUP(H40,'Backlog 31 03'!H:M,4,FALSE) -> 128 | L40: =VLOOKUP(H40,'Backlog 31 03'!H:M,5,FALSE) -> 0 | M40: =VLOOKUP(H40,'Backlog 31 03'!H:M,6,FALSE) -> 0
H41: WL.AppsMgmt.WL-Recruitment | I41: =VLOOKUP(H41,'Backlog 31 03'!H:M,2,FALSE) -> 11 | J41: =VLOOKUP(H41,'Backlog 31 03'!H:M,3,FALSE) -> 43 | K41: =VLOOKUP(H41,'Backlog 31 03'!H:M,4,FALSE) -> 54 | L41: =VLOOKUP(H41,'Backlog 31 03'!H:M,5,FALSE) -> 0 | M41: =VLOOKUP(H41,'Backlog 31 03'!H:M,6,FALSE) -> 0
H42: Total général | I42: =VLOOKUP(H42,'Backlog 31 03'!H:M,2,FALSE) -> 250 | J42: =VLOOKUP(H42,'Backlog 31 03'!H:M,3,FALSE) -> 806 | K42: =VLOOKUP(H42,'Backlog 31 03'!H:M,4,FALSE) -> 1056 | L42: =VLOOKUP(H42,'Backlog 31 03'!H:M,5,FALSE) -> 0 | M42: =VLOOKUP(H42,'Backlog 31 03'!H:M,6,FALSE) -> 0
B48: Assess | C48: Build | D48: Implement | E48: In Progress | F48: New | G48: On Hold | H48: Pending | I48: Review | J48: Work in Progress | K48: Authorize | L48: Pending Assignment | M48: Total général
A49: CIT.FR4WL.AppsMgmt.Clarity | B49: =VLOOKUP(A49,'Backlog 31 03'!O:AA,2,FALSE) -> #N/A | C49: =VLOOKUP(A49,'Backlog 31 03'!O:AA,3,FALSE) -> #N/A | D49: =VLOOKUP(A49,'Backlog 31 03'!O:AA,4,FALSE) -> #N/A | E49: =VLOOKUP(A49,'Backlog 31 03'!O:AA,5,FALSE) -> #N/A | F49: =VLOOKUP(A49,'Backlog 31 03'!O:AA,6,FALSE) -> #N/A | G49: =VLOOKUP(A49,'Backlog 31 03'!O:AA,7,FALSE) -> #N/A | H49: =VLOOKUP(A49,'Backlog 31 03'!O:AA,8,FALSE) -> #N/A | I49: =VLOOKUP(A49,'Backlog 31 03'!O:AA,9,FALSE) -> #N/A | J49: =VLOOKUP(A49,'Backlog 31 03'!O:AA,10,FALSE) -> #N/A | K49: =VLOOKUP(A49,'Backlog 31 03'!O:AA,11,FALSE) -> #N/A | L49: =VLOOKUP(A49,'Backlog 31 03'!O:AA,12,FALSE) -> #N/A | M49: =VLOOKUP(A49,'Backlog 31 03'!O:AA,13,FALSE) -> #N/A
A50: CIT.FR4WL.AppsMgmt.Development | B50: =VLOOKUP(A50,'Backlog 31 03'!O:AA,2,FALSE) -> #N/A | C50: =VLOOKUP(A50,'Backlog 31 03'!O:AA,3,FALSE) -> #N/A | D50: =VLOOKUP(A50,'Backlog 31 03'!O:AA,4,FALSE) -> #N/A | E50: =VLOOKUP(A50,'Backlog 31 03'!O:AA,5,FALSE) -> #N/A | F50: =VLOOKUP(A50,'Backlog 31 03'!O:AA,6,FALSE) -> #N/A | G50: =VLOOKUP(A50,'Backlog 31 03'!O:AA,7,FALSE) -> #N/A | H50: =VLOOKUP(A50,'Backlog 31 03'!O:AA,8,FALSE) -> #N/A | I50: =VLOOKUP(A50,'Backlog 31 03'!O:AA,9,FALSE) -> #N/A | J50: =VLOOKUP(A50,'Backlog 31 03'!O:AA,10,FALSE) -> #N/A | K50: =VLOOKUP(A50,'Backlog 31 03'!O:AA,11,FALSE) -> #N/A | L50: =VLOOKUP(A50,'Backlog 31 03'!O:AA,12,FALSE) -> #N/A | M50: =VLOOKUP(A50,'Backlog 31 03'!O:AA,13,FALSE) -> #N/A
A51: CIT.FR4WL.AppsMgmt.Financial | B51: =VLOOKUP(A51,'Backlog 31 03'!O:AA,2,FALSE) -> #N/A | C51: =VLOOKUP(A51,'Backlog 31 03'!O:AA,3,FALSE) -> #N/A | D51: =VLOOKUP(A51,'Backlog 31 03'!O:AA,4,FALSE) -> #N/A | E51: =VLOOKUP(A51,'Backlog 31 03'!O:AA,5,FALSE) -> #N/A | F51: =VLOOKUP(A51,'Backlog 31 03'!O:AA,6,FALSE) -> #N/A | G51: =VLOOKUP(A51,'Backlog 31 03'!O:AA,7,FALSE) -> #N/A | H51: =VLOOKUP(A51,'Backlog 31 03'!O:AA,8,FALSE) -> #N/A | I51: =VLOOKUP(A51,'Backlog 31 03'!O:AA,9,FALSE) -> #N/A | J51: =VLOOKUP(A51,'Backlog 31 03'!O:AA,10,FALSE) -> #N/A | K51: =VLOOKUP(A51,'Backlog 31 03'!O:AA,11,FALSE) -> #N/A | L51: =VLOOKUP(A51,'Backlog 31 03'!O:AA,12,FALSE) -> #N/A | M51: =VLOOKUP(A51,'Backlog 31 03'!O:AA,13,FALSE) -> #N/A
A52: CIT.FR4WL.AppsMgmt.HR | B52: =VLOOKUP(A52,'Backlog 31 03'!O:AA,2,FALSE) -> #N/A | C52: =VLOOKUP(A52,'Backlog 31 03'!O:AA,3,FALSE) -> #N/A | D52: =VLOOKUP(A52,'Backlog 31 03'!O:AA,4,FALSE) -> #N/A | E52: =VLOOKUP(A52,'Backlog 31 03'!O:AA,5,FALSE) -> #N/A | F52: =VLOOKUP(A52,'Backlog 31 03'!O:AA,6,FALSE) -> #N/A | G52: =VLOOKUP(A52,'Backlog 31 03'!O:AA,7,FALSE) -> #N/A | H52: =VLOOKUP(A52,'Backlog 31 03'!O:AA,8,FALSE) -> #N/A | I52: =VLOOKUP(A52,'Backlog 31 03'!O:AA,9,FALSE) -> #N/A | J52: =VLOOKUP(A52,'Backlog 31 03'!O:AA,10,FALSE) -> #N/A | K52: =VLOOKUP(A52,'Backlog 31 03'!O:AA,11,FALSE) -> #N/A | L52: =VLOOKUP(A52,'Backlog 31 03'!O:AA,12,FALSE) -> #N/A | M52: =VLOOKUP(A52,'Backlog 31 03'!O:AA,13,FALSE) -> #N/A
A53: CIT.FR4WL.AppsMgmt.Logistics | B53: =VLOOKUP(A53,'Backlog 31 03'!O:AA,2,FALSE) -> #N/A | C53: =VLOOKUP(A53,'Backlog 31 03'!O:AA,3,FALSE) -> #N/A | D53: =VLOOKUP(A53,'Backlog 31 03'!O:AA,4,FALSE) -> #N/A | E53: =VLOOKUP(A53,'Backlog 31 03'!O:AA,5,FALSE) -> #N/A | F53: =VLOOKUP(A53,'Backlog 31 03'!O:AA,6,FALSE) -> #N/A | G53: =VLOOKUP(A53,'Backlog 31 03'!O:AA,7,FALSE) -> #N/A | H53: =VLOOKUP(A53,'Backlog 31 03'!O:AA,8,FALSE) -> #N/A | I53: =VLOOKUP(A53,'Backlog 31 03'!O:AA,9,FALSE) -> #N/A | J53: =VLOOKUP(A53,'Backlog 31 03'!O:AA,10,FALSE) -> #N/A | K53: =VLOOKUP(A53,'Backlog 31 03'!O:AA,11,FALSE) -> #N/A | L53: =VLOOKUP(A53,'Backlog 31 03'!O:AA,12,FALSE) -> #N/A | M53: =VLOOKUP(A53,'Backlog 31 03'!O:AA,13,FALSE) -> #N/A
A54: CIT.FR4WL.AppsMgmt.Security | B54: =VLOOKUP(A54,'Backlog 31 03'!O:AA,2,FALSE) -> #N/A | C54: =VLOOKUP(A54,'Backlog 31 03'!O:AA,3,FALSE) -> #N/A | D54: =VLOOKUP(A54,'Backlog 31 03'!O:AA,4,FALSE) -> #N/A | E54: =VLOOKUP(A54,'Backlog 31 03'!O:AA,5,FALSE) -> #N/A | F54: =VLOOKUP(A54,'Backlog 31 03'!O:AA,6,FALSE) -> #N/A | G54: =VLOOKUP(A54,'Backlog 31 03'!O:AA,7,FALSE) -> #N/A | H54: =VLOOKUP(A54,'Backlog 31 03'!O:AA,8,FALSE) -> #N/A | I54: =VLOOKUP(A54,'Backlog 31 03'!O:AA,9,FALSE) -> #N/A | J54: =VLOOKUP(A54,'Backlog 31 03'!O:AA,10,FALSE) -> #N/A | K54: =VLOOKUP(A54,'Backlog 31 03'!O:AA,11,FALSE) -> #N/A | L54: =VLOOKUP(A54,'Backlog 31 03'!O:AA,12,FALSE) -> #N/A | M54: =VLOOKUP(A54,'Backlog 31 03'!O:AA,13,FALSE) -> #N/A
A55: CIT.FR4WL.AppsMgmt.Sharepoint | B55: =VLOOKUP(A55,'Backlog 31 03'!O:AA,2,FALSE) -> #N/A | C55: =VLOOKUP(A55,'Backlog 31 03'!O:AA,3,FALSE) -> #N/A | D55: =VLOOKUP(A55,'Backlog 31 03'!O:AA,4,FALSE) -> #N/A | E55: =VLOOKUP(A55,'Backlog 31 03'!O:AA,5,FALSE) -> #N/A | F55: =VLOOKUP(A55,'Backlog 31 03'!O:AA,6,FALSE) -> #N/A | G55: =VLOOKUP(A55,'Backlog 31 03'!O:AA,7,FALSE) -> #N/A | H55: =VLOOKUP(A55,'Backlog 31 03'!O:AA,8,FALSE) -> #N/A | I55: =VLOOKUP(A55,'Backlog 31 03'!O:AA,9,FALSE) -> #N/A | J55: =VLOOKUP(A55,'Backlog 31 03'!O:AA,10,FALSE) -> #N/A | K55: =VLOOKUP(A55,'Backlog 31 03'!O:AA,11,FALSE) -> #N/A | L55: =VLOOKUP(A55,'Backlog 31 03'!O:AA,12,FALSE) -> #N/A | M55: =VLOOKUP(A55,'Backlog 31 03'!O:AA,13,FALSE) -> #N/A
A56: CIT.FR4WL.AppsMgmt.SRM | B56: =VLOOKUP(A56,'Backlog 31 03'!O:AA,2,FALSE) -> #N/A | C56: =VLOOKUP(A56,'Backlog 31 03'!O:AA,3,FALSE) -> #N/A | D56: =VLOOKUP(A56,'Backlog 31 03'!O:AA,4,FALSE) -> #N/A | E56: =VLOOKUP(A56,'Backlog 31 03'!O:AA,5,FALSE) -> #N/A | F56: =VLOOKUP(A56,'Backlog 31 03'!O:AA,6,FALSE) -> #N/A | G56: =VLOOKUP(A56,'Backlog 31 03'!O:AA,7,FALSE) -> #N/A | H56: =VLOOKUP(A56,'Backlog 31 03'!O:AA,8,FALSE) -> #N/A | I56: =VLOOKUP(A56,'Backlog 31 03'!O:AA,9,FALSE) -> #N/A | J56: =VLOOKUP(A56,'Backlog 31 03'!O:AA,10,FALSE) -> #N/A | K56: =VLOOKUP(A56,'Backlog 31 03'!O:AA,11,FALSE) -> #N/A | L56: =VLOOKUP(A56,'Backlog 31 03'!O:AA,12,FALSE) -> #N/A | M56: =VLOOKUP(A56,'Backlog 31 03'!O:AA,13,FALSE) -> #N/A
A57: CIT.FR4WL.AppsMgmt.TimeAndExpense | B57: =VLOOKUP(A57,'Backlog 31 03'!O:AA,2,FALSE) -> #N/A | C57: =VLOOKUP(A57,'Backlog 31 03'!O:AA,3,FALSE) -> #N/A | D57: =VLOOKUP(A57,'Backlog 31 03'!O:AA,4,FALSE) -> #N/A | E57: =VLOOKUP(A57,'Backlog 31 03'!O:AA,5,FALSE) -> #N/A | F57: =VLOOKUP(A57,'Backlog 31 03'!O:AA,6,FALSE) -> #N/A | G57: =VLOOKUP(A57,'Backlog 31 03'!O:AA,7,FALSE) -> #N/A | H57: =VLOOKUP(A57,'Backlog 31 03'!O:AA,8,FALSE) -> #N/A | I57: =VLOOKUP(A57,'Backlog 31 03'!O:AA,9,FALSE) -> #N/A | J57: =VLOOKUP(A57,'Backlog 31 03'!O:AA,10,FALSE) -> #N/A | K57: =VLOOKUP(A57,'Backlog 31 03'!O:AA,11,FALSE) -> #N/A | L57: =VLOOKUP(A57,'Backlog 31 03'!O:AA,12,FALSE) -> #N/A | M57: =VLOOKUP(A57,'Backlog 31 03'!O:AA,13,FALSE) -> #N/A
A58: CIT.FR4WL.AppsMgmt.Web.Middleware | B58: =VLOOKUP(A58,'Backlog 31 03'!O:AA,2,FALSE) -> #N/A | C58: =VLOOKUP(A58,'Backlog 31 03'!O:AA,3,FALSE) -> #N/A | D58: =VLOOKUP(A58,'Backlog 31 03'!O:AA,4,FALSE) -> #N/A | E58: =VLOOKUP(A58,'Backlog 31 03'!O:AA,5,FALSE) -> #N/A | F58: =VLOOKUP(A58,'Backlog 31 03'!O:AA,6,FALSE) -> #N/A | G58: =VLOOKUP(A58,'Backlog 31 03'!O:AA,7,FALSE) -> #N/A | H58: =VLOOKUP(A58,'Backlog 31 03'!O:AA,8,FALSE) -> #N/A | I58: =VLOOKUP(A58,'Backlog 31 03'!O:AA,9,FALSE) -> #N/A | J58: =VLOOKUP(A58,'Backlog 31 03'!O:AA,10,FALSE) -> #N/A | K58: =VLOOKUP(A58,'Backlog 31 03'!O:AA,11,FALSE) -> #N/A | L58: =VLOOKUP(A58,'Backlog 31 03'!O:AA,12,FALSE) -> #N/A | M58: =VLOOKUP(A58,'Backlog 31 03'!O:AA,13,FALSE) -> #N/A
A59: CIT.FR4WL.AppsMgmt.WL-Learning | B59: =VLOOKUP(A59,'Backlog 31 03'!O:AA,2,FALSE) -> #N/A | C59: =VLOOKUP(A59,'Backlog 31 03'!O:AA,3,FALSE) -> #N/A | D59: =VLOOKUP(A59,'Backlog 31 03'!O:AA,4,FALSE) -> #N/A | E59: =VLOOKUP(A59,'Backlog 31 03'!O:AA,5,FALSE) -> #N/A | F59: =VLOOKUP(A59,'Backlog 31 03'!O:AA,6,FALSE) -> #N/A | G59: =VLOOKUP(A59,'Backlog 31 03'!O:AA,7,FALSE) -> #N/A | H59: =VLOOKUP(A59,'Backlog 31 03'!O:AA,8,FALSE) -> #N/A | I59: =VLOOKUP(A59,'Backlog 31 03'!O:AA,9,FALSE) -> #N/A | J59: =VLOOKUP(A59,'Backlog 31 03'!O:AA,10,FALSE) -> #N/A | K59: =VLOOKUP(A59,'Backlog 31 03'!O:AA,11,FALSE) -> #N/A | L59: =VLOOKUP(A59,'Backlog 31 03'!O:AA,12,FALSE) -> #N/A | M59: =VLOOKUP(A59,'Backlog 31 03'!O:AA,13,FALSE) -> #N/A
A60: CIT.FR4WL.AppsMgmt.WL-MyCareer | B60: =VLOOKUP(A60,'Backlog 31 03'!O:AA,2,FALSE) -> #N/A | C60: =VLOOKUP(A60,'Backlog 31 03'!O:AA,3,FALSE) -> #N/A | D60: =VLOOKUP(A60,'Backlog 31 03'!O:AA,4,FALSE) -> #N/A | E60: =VLOOKUP(A60,'Backlog 31 03'!O:AA,5,FALSE) -> #N/A | F60: =VLOOKUP(A60,'Backlog 31 03'!O:AA,6,FALSE) -> #N/A | G60: =VLOOKUP(A60,'Backlog 31 03'!O:AA,7,FALSE) -> #N/A | H60: =VLOOKUP(A60,'Backlog 31 03'!O:AA,8,FALSE) -> #N/A | I60: =VLOOKUP(A60,'Backlog 31 03'!O:AA,9,FALSE) -> #N/A | J60: =VLOOKUP(A60,'Backlog 31 03'!O:AA,10,FALSE) -> #N/A | K60: =VLOOKUP(A60,'Backlog 31 03'!O:AA,11,FALSE) -> #N/A | L60: =VLOOKUP(A60,'Backlog 31 03'!O:AA,12,FALSE) -> #N/A | M60: =VLOOKUP(A60,'Backlog 31 03'!O:AA,13,FALSE) -> #N/A
...

Sheet J-1
A2: Tickets not closed | H2: Ticket Closed en fevrier
B4: Change Request | C4: Incident | D4: Requested Item | E4: Change | F4: Total général | I4: Change | J4: Change Request | K4: Incident | L4: Requested Item | M4: Total général
A5: CIT.FR4WL.AppsMgmt.Clarity | B5: 13 | C5: 2 | D5: 2 | E5: 0 | F5: 17 | H5: CIT.FR4WL.AppsMgmt.Clarity | I5: 0 | J5: 1 | K5: 16 | L5: 1 | M5: 18
A6: CIT.FR4WL.AppsMgmt.Development | B6: 1 | C6: 0 | D6: 0 | E6: 0 | F6: 1 | H6: CIT.FR4WL.AppsMgmt.Development | I6: 0 | J6: 0 | K6: 2 | L6: 0 | M6: 2
A7: CIT.FR4WL.AppsMgmt.Financial | B7: 61 | C7: 12 | D7: 7 | E7: 0 | F7: 80 | H7: CIT.FR4WL.AppsMgmt.Financial | I7: 0 | J7: 75 | K7: 53 | L7: 12 | M7: 140
A8: CIT.FR4WL.AppsMgmt.HR | B8: 17 | C8: 2 | D8: 9 | E8: 0 | F8: 28 | H8: CIT.FR4WL.AppsMgmt.HR | I8: 0 | J8: 26 | K8: 70 | L8: 15 | M8: 111
A9: CIT.FR4WL.AppsMgmt.IRIS | B9: 0 | C9: 3 | D9: 0 | E9: 0 | F9: 3 | H9: CIT.FR4WL.AppsMgmt.IRIS | I9: 0 | J9: 0 | K9: 2 | L9: 0 | M9: 2
A10: CIT.FR4WL.AppsMgmt.Logistics | B10: 12 | C10: 3 | D10: 0 | E10: 0 | F10: 15 | H10: CIT.FR4WL.AppsMgmt.Logistics | I10: 0 | J10: 18 | K10: 13 | L10: 2 | M10: 33
A11: CIT.FR4WL.AppsMgmt.PARMA | B11: 0 | C11: 3 | D11: 0 | E11: 0 | F11: 3 | H11: CIT.FR4WL.AppsMgmt.PARMA | I11: 0 | J11: 5 | K11: 34 | L11: 9 | M11: 48
A12: CIT.FR4WL.AppsMgmt.Security | B12: 1 | C12: 6 | D12: 57 | E12: 0 | F12: 64 | H12: CIT.FR4WL.AppsMgmt.Parma.3rd | I12: 0 | J12: 0 | K12: 6 | L12: 0 | M12: 6
A13: CIT.FR4WL.AppsMgmt.SRM | B13: 0 | C13: 4 | D13: 6 | E13: 0 | F13: 10 | H13: CIT.FR4WL.AppsMgmt.Portal | I13: 0 | J13: 4 | K13: 1 | L13: 0 | M13: 5
A14: CIT.FR4WL.AppsMgmt.TimeAndExpense | B14: 2 | C14: 2 | D14: 1 | E14: 0 | F14: 5 | H14: CIT.FR4WL.AppsMgmt.Portal.DEV | I14: 0 | J14: 2 | K14: 0 | L14: 2 | M14: 4
A15: CIT.FR4WL.AppsMgmt.WL-Learning | B15: 2 | C15: 1 | D15: 0 | E15: 0 | F15: 3 | H15: CIT.FR4WL.AppsMgmt.Security | I15: 0 | J15: 8 | K15: 62 | L15: 268 | M15: 338
A16: CIT.FR4WL.AppsMgmt.WL-MyCareer | B16: 5 | C16: 5 | D16: 2 | E16: 0 | F16: 12 | H16: CIT.FR4WL.AppsMgmt.SRM | I16: 0 | J16: 1 | K16: 14 | L16: 8 | M16: 23
... A30: Total général | B30: 192 | C30: 48 | D30: 107 | E30: 8 | F30: 355 | H30: FR4WL.AppsMgmt.Interfaces | I30: 0 | J30: 0 | K30: 0 | L30: 1 | M30: 1
H31: FR4WL.AppsMgmt.Logistics | I31: 11 | J31: 66 | K31: 35 | L31: 5 | M31: 117
H32: FR4WL.AppsMgmt.MyHR | I32: 0 | J32: 0 | K32: 2 | L32: 0 | M32: 2
H33: FR4WL.AppsMgmt.PARMA | I33: 0 | J33: 1 | K33: 123 | L33: 23 | M33: 147
H34: FR4WL.AppsMgmt.Portal.DEV | I34: 0 | J34: 13 | K34: 13 | L34: 0 | M34: 26
H35: FR4WL.AppsMgmt.Security | I35: 64 | J35: 16 | K35: 128 | L35: 670 | M35: 878
H36: FR4WL.AppsMgmt.TimeAndExpense | I36: 0 | J36: 14 | K36: 57 | L36: 1 | M36: 72
H37: FR4WL.AppsMgmt.Travel | I37: 0 | J37: 1 | K37: 4 | L37: 0 | M37: 5
H38: FR4WL.Infrastructure.PKI.Trustcenter.2nd | I38: 0 | J38: 0 | K38: 5 | L38: 0 | M38: 5
H39: WL.AppsMgmt.WL-Learning | I39: 0 | J39: 9 | K39: 115 | L39: 8 | M39: 132
H40: WL.AppsMgmt.WL-MyCareer | I40: 0 | J40: 20 | K40: 131 | L40: 29 | M40: 180
H41: WL.AppsMgmt.WL-Recruitment | I41: 0 | J41: 24 | K41: 37 | L41: 71 | M41: 132
H42: Total général | I42: 90 | J42: 619 | K42: 1251 | L42: 1244 | M42: 3204
B48: Assess | C48: Build | D48: Implement | E48: In Progress | F48: New | G48: On Hold | H48: Pending | I48: Review | J48: Work in Progress | K48: Authorize | L48: Pending Assignment | M48: Total général
A49: CIT.FR4WL.AppsMgmt.Clarity | B49: =VLOOKUP(A49,'Backlog 31 03'!O:AA,2,FALSE) -> #N/A | C49: =VLOOKUP(A49,'Backlog 31 03'!O:AA,3,FALSE) -> #N/A | D49: =VLOOKUP(A49,'Backlog 31 03'!O:AA,4,FALSE) -> #N/A | E49: =VLOOKUP(A49,'Backlog 31 03'!O:AA,5,FALSE) -> #N/A | F49: =VLOOKUP(A49,'Backlog 31 03'!O:AA,6,FALSE) -> #N/A | G49: =VLOOKUP(A49,'Backlog 31 03'!O:AA,7,FALSE) -> #N/A | H49: =VLOOKUP(A49,'Backlog 31 03'!O:AA,8,FALSE) -> #N/A | I49: =VLOOKUP(A49,'Backlog 31 03'!O:AA,9,FALSE) -> #N/A | J49: =VLOOKUP(A49,'Backlog 31 03'!O:AA,10,FALSE) -> #N/A | K49: =VLOOKUP(A49,'Backlog 31 03'!O:AA,11,FALSE) -> #N/A | L49: =VLOOKUP(A49,'Backlog 31 03'!O:AA,12,FALSE) -> #N/A | M49: =VLOOKUP(A49,'Backlog 31 03'!O:AA,13,FALSE) -> #N/A
A50: CIT.FR4WL.AppsMgmt.Development | B50: =VLOOKUP(A50,'Backlog 31 03'!O:AA,2,FALSE) -> #N/A | C50: =VLOOKUP(A50,'Backlog 31 03'!O:AA,3,FALSE) -> #N/A | D50: =VLOOKUP(A50,'Backlog 31 03'!O:AA,4,FALSE) -> #N/A | E50: =VLOOKUP(A50,'Backlog 31 03'!O:AA,5,FALSE) -> #N/A | F50: =VLOOKUP(A50,'Backlog 31 03'!O:AA,6,FALSE) -> #N/A | G50: =VLOOKUP(A50,'Backlog 31 03'!O:AA,7,FALSE) -> #N/A | H50: =VLOOKUP(A50,'Backlog 31 03'!O:AA,8,FALSE) -> #N/A | I50: =VLOOKUP(A50,'Backlog 31 03'!O:AA,9,FALSE) -> #N/A | J50: =VLOOKUP(A50,'Backlog 31 03'!O:AA,10,FALSE) -> #N/A | K50: =VLOOKUP(A50,'Backlog 31 03'!O:AA,11,FALSE) -> #N/A | L50: =VLOOKUP(A50,'Backlog 31 03'!O:AA,12,FALSE) -> #N/A | M50: =VLOOKUP(A50,'Backlog 31 03'!O:AA,13,FALSE) -> #N/A
A51: CIT.FR4WL.AppsMgmt.Financial | B51: =VLOOKUP(A51,'Backlog 31 03'!O:AA,2,FALSE) -> #N/A | C51: =VLOOKUP(A51,'Backlog 31 03'!O:AA,3,FALSE) -> #N/A | D51: =VLOOKUP(A51,'Backlog 31 03'!O:AA,4,FALSE) -> #N/A | E51: =VLOOKUP(A51,'Backlog 31 03'!O:AA,5,FALSE) -> #N/A | F51: =VLOOKUP(A51,'Backlog 31 03'!O:AA,6,FALSE) -> #N/A | G51: =VLOOKUP(A51,'Backlog 31 03'!O:AA,7,FALSE) -> #N/A | H51: =VLOOKUP(A51,'Backlog 31 03'!O:AA,8,FALSE) -> #N/A | I51: =VLOOKUP(A51,'Backlog 31 03'!O:AA,9,FALSE) -> #N/A | J51: =VLOOKUP(A51,'Backlog 31 03'!O:AA,10,FALSE) -> #N/A | K51: =VLOOKUP(A51,'Backlog 31 03'!O:AA,11,FALSE) -> #N/A | L51: =VLOOKUP(A51,'Backlog 31 03'!O:AA,12,FALSE) -> #N/A | M51: =VLOOKUP(A51,'Backlog 31 03'!O:AA,13,FALSE) -> #N/A
A52: CIT.FR4WL.AppsMgmt.HR | B52: =VLOOKUP(A52,'Backlog 31 03'!O:AA,2,FALSE) -> #N/A | C52: =VLOOKUP(A52,'Backlog 31 03'!O:AA,3,FALSE) -> #N/A | D52: =VLOOKUP(A52,'Backlog 31 03'!O:AA,4,FALSE) -> #N/A | E52: =VLOOKUP(A52,'Backlog 31 03'!O:AA,5,FALSE) -> #N/A | F52: =VLOOKUP(A52,'Backlog 31 03'!O:AA,6,FALSE) -> #N/A | G52: =VLOOKUP(A52,'Backlog 31 03'!O:AA,7,FALSE) -> #N/A | H52: =VLOOKUP(A52,'Backlog 31 03'!O:AA,8,FALSE) -> #N/A | I52: =VLOOKUP(A52,'Backlog 31 03'!O:AA,9,FALSE) -> #N/A | J52: =VLOOKUP(A52,'Backlog 31 03'!O:AA,10,FALSE) -> #N/A | K52: =VLOOKUP(A52,'Backlog 31 03'!O:AA,11,FALSE) -> #N/A | L52: =VLOOKUP(A52,'Backlog 31 03'!O:AA,12,FALSE) -> #N/A | M52: =VLOOKUP(A52,'Backlog 31 03'!O:AA,13,FALSE) -> #N/A
A53: CIT.FR4WL.AppsMgmt.Logistics | B53: =VLOOKUP(A53,'Backlog 31 03'!O:AA,2,FALSE) -> #N/A | C53: =VLOOKUP(A53,'Backlog 31 03'!O:AA,3,FALSE) -> #N/A | D53: =VLOOKUP(A53,'Backlog 31 03'!O:AA,4,FALSE) -> #N/A | E53: =VLOOKUP(A53,'Backlog 31 03'!O:AA,5,FALSE) -> #N/A | F53: =VLOOKUP(A53,'Backlog 31 03'!O:AA,6,FALSE) -> #N/A | G53: =VLOOKUP(A53,'Backlog 31 03'!O:AA,7,FALSE) -> #N/A | H53: =VLOOKUP(A53,'Backlog 31 03'!O:AA,8,FALSE) -> #N/A | I53: =VLOOKUP(A53,'Backlog 31 03'!O:AA,9,FALSE) -> #N/A | J53: =VLOOKUP(A53,'Backlog 31 03'!O:AA,10,FALSE) -> #N/A | K53: =VLOOKUP(A53,'Backlog 31 03'!O:AA,11,FALSE) -> #N/A | L53: =VLOOKUP(A53,'Backlog 31 03'!O:AA,12,FALSE) -> #N/A | M53: =VLOOKUP(A53,'Backlog 31 03'!O:AA,13,FALSE) -> #N/A
A54: CIT.FR4WL.AppsMgmt.Security | B54: =VLOOKUP(A54,'Backlog 31 03'!O:AA,2,FALSE) -> #N/A | C54: =VLOOKUP(A54,'Backlog 31 03'!O:AA,3,FALSE) -> #N/A | D54: =VLOOKUP(A54,'Backlog 31 03'!O:AA,4,FALSE) -> #N/A | E54: =VLOOKUP(A54,'Backlog 31 03'!O:AA,5,FALSE) -> #N/A | F54: =VLOOKUP(A54,'Backlog 31 03'!O:AA,6,FALSE) -> #N/A | G54: =VLOOKUP(A54,'Backlog 31 03'!O:AA,7,FALSE) -> #N/A | H54: =VLOOKUP(A54,'Backlog 31 03'!O:AA,8,FALSE) -> #N/A | I54: =VLOOKUP(A54,'Backlog 31 03'!O:AA,9,FALSE) -> #N/A | J54: =VLOOKUP(A54,'Backlog 31 03'!O:AA,10,FALSE) -> #N/A | K54: =VLOOKUP(A54,'Backlog 31 03'!O:AA,11,FALSE) -> #N/A | L54: =VLOOKUP(A54,'Backlog 31 03'!O:AA,12,FALSE) -> #N/A | M54: =VLOOKUP(A54,'Backlog 31 03'!O:AA,13,FALSE) -> #N/A
A55: CIT.FR4WL.AppsMgmt.Sharepoint | B55: =VLOOKUP(A55,'Backlog 31 03'!O:AA,2,FALSE) -> #N/A | C55: =VLOOKUP(A55,'Backlog 31 03'!O:AA,3,FALSE) -> #N/A | D55: =VLOOKUP(A55,'Backlog 31 03'!O:AA,4,FALSE) -> #N/A | E55: =VLOOKUP(A55,'Backlog 31 03'!O:AA,5,FALSE) -> #N/A | F55: =VLOOKUP(A55,'Backlog 31 03'!O:AA,6,FALSE) -> #N/A | G55: =VLOOKUP(A55,'Backlog 31 03'!O:AA,7,FALSE) -> #N/A | H55: =VLOOKUP(A55,'Backlog 31 03'!O:AA,8,FALSE) -> #N/A | I55: =VLOOKUP(A55,'Backlog 31 03'!O:AA,9,FALSE) -> #N/A | J55: =VLOOKUP(A55,'Backlog 31 03'!O:AA,10,FALSE) -> #N/A | K55: =VLOOKUP(A55,'Backlog 31 03'!O:AA,11,FALSE) -> #N/A | L55: =VLOOKUP(A55,'Backlog 31 03'!O:AA,12,FALSE) -> #N/A | M55: =VLOOKUP(A55,'Backlog 31 03'!O:AA,13,FALSE) -> #N/A
A56: CIT.FR4WL.AppsMgmt.SRM | B56: =VLOOKUP(A56,'Backlog 31 03'!O:AA,2,FALSE) -> #N/A | C56: =VLOOKUP(A56,'Backlog 31 03'!O:AA,3,FALSE) -> #N/A | D56: =VLOOKUP(A56,'Backlog 31 03'!O:AA,4,FALSE) -> #N/A | E56: =VLOOKUP(A56,'Backlog 31 03'!O:AA,5,FALSE) -> #N/A | F56: =VLOOKUP(A56,'Backlog 31 03'!O:AA,6,FALSE) -> #N/A | G56: =VLOOKUP(A56,'Backlog 31 03'!O:AA,7,FALSE) -> #N/A | H56: =VLOOKUP(A56,'Backlog 31 03'!O:AA,8,FALSE) -> #N/A | I56: =VLOOKUP(A56,'Backlog 31 03'!O:AA,9,FALSE) -> #N/A | J56: =VLOOKUP(A56,'Backlog 31 03'!O:AA,10,FALSE) -> #N/A | K56: =VLOOKUP(A56,'Backlog 31 03'!O:AA,11,FALSE) -> #N/A | L56: =VLOOKUP(A56,'Backlog 31 03'!O:AA,12,FALSE) -> #N/A | M56: =VLOOKUP(A56,'Backlog 31 03'!O:AA,13,FALSE) -> #N/A
A57: CIT.FR4WL.AppsMgmt.TimeAndExpense | B57: =VLOOKUP(A57,'Backlog 31 03'!O:AA,2,FALSE) -> #N/A | C57: =VLOOKUP(A57,'Backlog 31 03'!O:AA,3,FALSE) -> #N/A | D57: =VLOOKUP(A57,'Backlog 31 03'!O:AA,4,FALSE) -> #N/A | E57: =VLOOKUP(A57,'Backlog 31 03'!O:AA,5,FALSE) -> #N/A | F57: =VLOOKUP(A57,'Backlog 31 03'!O:AA,6,FALSE) -> #N/A | G57: =VLOOKUP(A57,'Backlog 31 03'!O:AA,7,FALSE) -> #N/A | H57: =VLOOKUP(A57,'Backlog 31 03'!O:AA,8,FALSE) -> #N/A | I57: =VLOOKUP(A57,'Backlog 31 03'!O:AA,9,FALSE) -> #N/A | J57: =VLOOKUP(A57,'Backlog 31 03'!O:AA,10,FALSE) -> #N/A | K57: =VLOOKUP(A57,'Backlog 31 03'!O:AA,11,FALSE) -> #N/A | L57: =VLOOKUP(A57,'Backlog 31 03'!O:AA,12,FALSE) -> #N/A | M57: =VLOOKUP(A57,'Backlog 31 03'!O:AA,13,FALSE) -> #N/A
A58: CIT.FR4WL.AppsMgmt.Web.Middleware | B58: =VLOOKUP(A58,'Backlog 31 03'!O:AA,2,FALSE) -> #N/A | C58: =VLOOKUP(A58,'Backlog 31 03'!O:AA,3,FALSE) -> #N/A | D58: =VLOOKUP(A58,'Backlog 31 03'!O:AA,4,FALSE) -> #N/A | E58: =VLOOKUP(A58,'Backlog 31 03'!O:AA,5,FALSE) -> #N/A | F58: =VLOOKUP(A58,'Backlog 31 03'!O:AA,6,FALSE) -> #N/A | G58: =VLOOKUP(A58,'Backlog 31 03'!O:AA,7,FALSE) -> #N/A | H58: =VLOOKUP(A58,'Backlog 31 03'!O:AA,8,FALSE) -> #N/A | I58: =VLOOKUP(A58,'Backlog 31 03'!O:AA,9,FALSE) -> #N/A | J58: =VLOOKUP(A58,'Backlog 31 03'!O:AA,10,FALSE) -> #N/A | K58: =VLOOKUP(A58,'Backlog 31 03'!O:AA,11,FALSE) -> #N/A | L58: =VLOOKUP(A58,'Backlog 31 03'!O:AA,12,FALSE) -> #N/A | M58: =VLOOKUP(A58,'Backlog 31 03'!O:AA,13,FALSE) -> #N/A
A59: CIT.FR4WL.AppsMgmt.WL-Learning | B59: =VLOOKUP(A59,'Backlog 31 03'!O:AA,2,FALSE) -> #N/A | C59: =VLOOKUP(A59,'Backlog 31 03'!O:AA,3,FALSE) -> #N/A | D59: =VLOOKUP(A59,'Backlog 31 03'!O:AA,4,FALSE) -> #N/A | E59: =VLOOKUP(A59,'Backlog 31 03'!O:AA,5,FALSE) -> #N/A | F59: =VLOOKUP(A59,'Backlog 31 03'!O:AA,6,FALSE) -> #N/A | G59: =VLOOKUP(A59,'Backlog 31 03'!O:AA,7,FALSE) -> #N/A | H59: =VLOOKUP(A59,'Backlog 31 03'!O:AA,8,FALSE) -> #N/A | I59: =VLOOKUP(A59,'Backlog 31 03'!O:AA,9,FALSE) -> #N/A | J59: =VLOOKUP(A59,'Backlog 31 03'!O:AA,10,FALSE) -> #N/A | K59: =VLOOKUP(A59,'Backlog 31 03'!O:AA,11,FALSE) -> #N/A | L59: =VLOOKUP(A59,'Backlog 31 03'!O:AA,12,FALSE) -> #N/A | M59: =VLOOKUP(A59,'Backlog 31 03'!O:AA,13,FALSE) -> #N/A
A60: CIT.FR4WL.AppsMgmt.WL-MyCareer | B60: =VLOOKUP(A60,'Backlog 31 03'!O:AA,2,FALSE) -> #N/A | C60: =VLOOKUP(A60,'Backlog 31 03'!O:AA,3,FALSE) -> #N/A | D60: =VLOOKUP(A60,'Backlog 31 03'!O:AA,4,FALSE) -> #N/A | E60: =VLOOKUP(A60,'Backlog 31 03'!O:AA,5,FALSE) -> #N/A | F60: =VLOOKUP(A60,'Backlog 31 03'!O:AA,6,FALSE) -> #N/A | G60: =VLOOKUP(A60,'Backlog 31 03'!O:AA,7,FALSE) -> #N/A | H60: =VLOOKUP(A60,'Backlog 31 03'!O:AA,8,FALSE) -> #N/A | I60: =VLOOKUP(A60,'Backlog 31 03'!O:AA,9,FALSE) -> #N/A | J60: =VLOOKUP(A60,'Backlog 31 03'!O:AA,10,FALSE) -> #N/A | K60: =VLOOKUP(A60,'Backlog 31 03'!O:AA,11,FALSE) -> #N/A | L60: =VLOOKUP(A60,'Backlog 31 03'!O:AA,12,FALSE) -> #N/A | M60: =VLOOKUP(A60,'Backlog 31 03'!O:AA,13,FALSE) -> #N/A
...

Sheet State per Group
A2: Tools | B2: WLSD
A3: Task type | B3: (Tous)
A4: Closed | B4: (Tous)
A6: assignement Group | B6: State
A7: Groups | B7: In Progress | C7: On Hold | D7: Pending Assignment | E7: Total général
A8: FR4WL.AppsMgmt.BCM | C8: 2 | E8: 2
A9: FR4WL.AppsMgmt.Clarity | D9: 1 | E9: 1
A10: FR4WL.AppsMgmt.Development | C10: 1 | E10: 1
A11: FR4WL.AppsMgmt.Financial | C11: 1 | D11: 1 | E11: 2
A12: FR4WL.AppsMgmt.HR | B12: 1 | C12: 1 | E12: 2
A13: FR4WL.AppsMgmt.Logistics | B13: 1 | E13: 1
A14: FR4WL.AppsMgmt.PARMA | B14: 1 | C14: 3 | E14: 4
A15: FR4WL.AppsMgmt.Portal.DEV | B15: 1 | C15: 1 | E15: 2
A16: FR4WL.AppsMgmt.Security | B16: 1 | C16: 9 | D16: 1 | E16: 11
A17: FR4WL.AppsMgmt.SRM | B17: 1 | E17: 1
A18: FR4WL.AppsMgmt.TimeAndExpense | B18: 1 | C18: 1 | D18: 2 | E18: 4
A19: FR4WL.Backup&Restore | C19: 1 | E19: 1
A20: FR4WL.Infrastructure.AD.GlobalIT | C20: 1 | E20: 1
A21: FR4WL.SAP | B21: 1 | C21: 2 | E21: 3
A22: FR4WL.Security.DAS | B22: 2 | C22: 5 | E22: 7
A23: FR4WL.Security.DAS.WAC | C23: 2 | E23: 2
A24: WL.AppsMgmt.WL-Learning | C24: 6 | D24: 1 | E24: 7
A25: WL.AppsMgmt.WL-MyCareer | B25: 1 | C25: 3 | D25: 1 | E25: 5
A26: WL.AppsMgmt.WL-Recruitment | B26: 1 | C26: 1 | E26: 2
A27: WL.AppsMgmt.WL-Salesforce | B27: 2 | C27: 6 | E27: 8
A28: Total général | B28: 14 | C28: 46 | D28: 7 | E28: 67
