Workbook

Sheet Feuil1
A1: Sujet | B1: Ref | C1: Oui/non/na | D1: libellé
A2: gestion | B2: 1.1, 1.2, 1.10, 1.14 | C2: x | D2: Manus et in flagrans superior enim procursu procursu neque praeterito.
A3: flux | B3: 2.5, 2.9, 2.12 | C3: N/A | D3: Manus et in flagrans superior enim procursu procursu neque praeterito.

Sheet Feuil2
A1: Sujet | B1: ref | C1: libellé | D1: exigence embarquée
A2: 1. Gestion | B2: 1.1 | C2: Unam sunt amicis se nos ut alteram fines nosmet simus erga nosmet quisque in et.
B3: 1.2 | C3: Unam sunt amicis se nos ut alteram fines nosmet simus erga nosmet quisque in et.
B4: 1.3 | C4: Unam sunt amicis se nos ut alteram fines nosmet simus erga nosmet quisque in et.
B5: 1.4 | C5: Unam sunt amicis se nos ut alteram fines nosmet simus erga nosmet quisque in et.
B6: 1.5 | C6: Unam sunt amicis se nos ut alteram fines nosmet simus erga nosmet quisque in et.
B7: 1.6 | C7: Unam sunt amicis se nos ut alteram fines nosmet simus erga nosmet quisque in et.
B8: 1.7 | C8: Unam sunt amicis se nos ut alteram fines nosmet simus erga nosmet quisque in et.
B9: 1.8 | C9: Unam sunt amicis se nos ut alteram fines nosmet simus erga nosmet quisque in et.
B10: 1.9 | C10: Unam sunt amicis se nos ut alteram fines nosmet simus erga nosmet quisque in et.
B11: 1.10 | C11: Unam sunt amicis se nos ut alteram fines nosmet simus erga nosmet quisque in et.
B12: 1.11 | C12: Unam sunt amicis se nos ut alteram fines nosmet simus erga nosmet quisque in et.
B13: 1.12 | C13: Unam sunt amicis se nos ut alteram fines nosmet simus erga nosmet quisque in et.
B14: 1.13 | C14: Unam sunt amicis se nos ut alteram fines nosmet simus erga nosmet quisque in et.
... B18: 1.17 | C18: Unam sunt amicis se nos ut alteram fines nosmet simus erga nosmet quisque in et.
A19: 2. Flux | B19: 2.1 | C19: Unam sunt amicis se nos ut alteram fines nosmet simus erga nosmet quisque in et.
B20: 2.2 | C20: Unam sunt amicis se nos ut alteram fines nosmet simus erga nosmet quisque in et.
B21: 2.3 | C21: Unam sunt amicis se nos ut alteram fines nosmet simus erga nosmet quisque in et.
B22: 2.4 | C22: Unam sunt amicis se nos ut alteram fines nosmet simus erga nosmet quisque in et.
B23: 2.5 | C23: Unam sunt amicis se nos ut alteram fines nosmet simus erga nosmet quisque in et.
B24: 2.6 | C24: Unam sunt amicis se nos ut alteram fines nosmet simus erga nosmet quisque in et.
B25: 2.7 | C25: Unam sunt amicis se nos ut alteram fines nosmet simus erga nosmet quisque in et.
B26: 2.8 | C26: Unam sunt amicis se nos ut alteram fines nosmet simus erga nosmet quisque in et.
B27: 2.9 | C27: Unam sunt amicis se nos ut alteram fines nosmet simus erga nosmet quisque in et.
B28: 2.10 | C28: Unam sunt amicis se nos ut alteram fines nosmet simus erga nosmet quisque in et.
B29: 2.11 | C29: Unam sunt amicis se nos ut alteram fines nosmet simus erga nosmet quisque in et.
B30: 2.12 | C30: Unam sunt amicis se nos ut alteram fines nosmet simus erga nosmet quisque in et.
B31: 2.13 | C31: Unam sunt amicis se nos ut alteram fines nosmet simus erga nosmet quisque in et.
... B33: 2.15 | C33: Unam sunt amicis se nos ut alteram fines nosmet simus erga nosmet quisque in et.

Sheet Exemple
A1: Sujet | B1: ref | C1: libellé | D1: exigence embarquée
A2: 1. Gestion | B2: 1.1 | C2: Unam sunt amicis se nos ut alteram fines nosmet simus erga nosmet quisque in et. | D2: =IFERROR(IF(VLOOKUP("*"& Exemple!B2&"*",Feuil1!$B$2:$D$3,2,FALSE)="x","OUI","N/A"),"") -> OUI
B3: 1.2 | C3: Unam sunt amicis se nos ut alteram fines nosmet simus erga nosmet quisque in et. | D3: =IFERROR(IF(VLOOKUP("*"& Exemple!B3&"*",Feuil1!$B$2:$D$3,2,FALSE)="x","OUI","N/A"),"") -> OUI
B4: 1.3 | C4: Unam sunt amicis se nos ut alteram fines nosmet simus erga nosmet quisque in et. | D4: =IFERROR(IF(VLOOKUP("*"& Exemple!B4&"*",Feuil1!$B$2:$D$3,2,FALSE)="x","OUI","N/A"),"")
B5: 1.4 | C5: Unam sunt amicis se nos ut alteram fines nosmet simus erga nosmet quisque in et. | D5: =IFERROR(IF(VLOOKUP("*"& Exemple!B5&"*",Feuil1!$B$2:$D$3,2,FALSE)="x","OUI","N/A"),"")
B6: 1.5 | C6: Unam sunt amicis se nos ut alteram fines nosmet simus erga nosmet quisque in et. | D6: =IFERROR(IF(VLOOKUP("*"& Exemple!B6&"*",Feuil1!$B$2:$D$3,2,FALSE)="x","OUI","N/A"),"")
B7: 1.6 | C7: Unam sunt amicis se nos ut alteram fines nosmet simus erga nosmet quisque in et. | D7: =IFERROR(IF(VLOOKUP("*"& Exemple!B7&"*",Feuil1!$B$2:$D$3,2,FALSE)="x","OUI","N/A"),"")
B8: 1.7 | C8: Unam sunt amicis se nos ut alteram fines nosmet simus erga nosmet quisque in et. | D8: =IFERROR(IF(VLOOKUP("*"& Exemple!B8&"*",Feuil1!$B$2:$D$3,2,FALSE)="x","OUI","N/A"),"")
B9: 1.8 | C9: Unam sunt amicis se nos ut alteram fines nosmet simus erga nosmet quisque in et. | D9: =IFERROR(IF(VLOOKUP("*"& Exemple!B9&"*",Feuil1!$B$2:$D$3,2,FALSE)="x","OUI","N/A"),"")
B10: 1.9 | C10: Unam sunt amicis se nos ut alteram fines nosmet simus erga nosmet quisque in et. | D10: =IFERROR(IF(VLOOKUP("*"& Exemple!B10&"*",Feuil1!$B$2:$D$3,2,FALSE)="x","OUI","N/A"),"")
B11: 1.10 | C11: Unam sunt amicis se nos ut alteram fines nosmet simus erga nosmet quisque in et. | D11: =IFERROR(IF(VLOOKUP("*"& Exemple!B11&"*",Feuil1!$B$2:$D$3,2,FALSE)="x","OUI","N/A"),"") -> OUI
B12: 1.11 | C12: Unam sunt amicis se nos ut alteram fines nosmet simus erga nosmet quisque in et. | D12: =IFERROR(IF(VLOOKUP("*"& Exemple!B12&"*",Feuil1!$B$2:$D$3,2,FALSE)="x","OUI","N/A"),"")
B13: 1.12 | C13: Unam sunt amicis se nos ut alteram fines nosmet simus erga nosmet quisque in et. | D13: =IFERROR(IF(VLOOKUP("*"& Exemple!B13&"*",Feuil1!$B$2:$D$3,2,FALSE)="x","OUI","N/A"),"")
B14: 1.13 | C14: Unam sunt amicis se nos ut alteram fines nosmet simus erga nosmet quisque in et. | D14: =IFERROR(IF(VLOOKUP("*"& Exemple!B14&"*",Feuil1!$B$2:$D$3,2,FALSE)="x","OUI","N/A"),"")
... B18: 1.17 | C18: Unam sunt amicis se nos ut alteram fines nosmet simus erga nosmet quisque in et. | D18: =IFERROR(IF(VLOOKUP("*"& Exemple!B18&"*",Feuil1!$B$2:$D$3,2,FALSE)="x","OUI","N/A"),"")
A19: 2. Flux | B19: 2.1 | C19: Unam sunt amicis se nos ut alteram fines nosmet simus erga nosmet quisque in et. | D19: =IFERROR(IF(VLOOKUP("*"& Exemple!B19&"*",Feuil1!$B$2:$D$3,2,FALSE)="x","OUI","N/A"),"") -> N/A
B20: 2.2 | C20: Unam sunt amicis se nos ut alteram fines nosmet simus erga nosmet quisque in et. | D20: =IFERROR(IF(VLOOKUP("*"& Exemple!B20&"*",Feuil1!$B$2:$D$3,2,FALSE)="x","OUI","N/A"),"")
B21: 2.3 | C21: Unam sunt amicis se nos ut alteram fines nosmet simus erga nosmet quisque in et. | D21: =IFERROR(IF(VLOOKUP("*"& Exemple!B21&"*",Feuil1!$B$2:$D$3,2,FALSE)="x","OUI","N/A"),"")
B22: 2.4 | C22: Unam sunt amicis se nos ut alteram fines nosmet simus erga nosmet quisque in et. | D22: =IFERROR(IF(VLOOKUP("*"& Exemple!B22&"*",Feuil1!$B$2:$D$3,2,FALSE)="x","OUI","N/A"),"")
B23: 2.5 | C23: Unam sunt amicis se nos ut alteram fines nosmet simus erga nosmet quisque in et. | D23: =IFERROR(IF(VLOOKUP("*"& Exemple!B23&"*",Feuil1!$B$2:$D$3,2,FALSE)="x","OUI","N/A"),"") -> N/A
B24: 2.6 | C24: Unam sunt amicis se nos ut alteram fines nosmet simus erga nosmet quisque in et. | D24: =IFERROR(IF(VLOOKUP("*"& Exemple!B24&"*",Feuil1!$B$2:$D$3,2,FALSE)="x","OUI","N/A"),"")
B25: 2.7 | C25: Unam sunt amicis se nos ut alteram fines nosmet simus erga nosmet quisque in et. | D25: =IFERROR(IF(VLOOKUP("*"& Exemple!B25&"*",Feuil1!$B$2:$D$3,2,FALSE)="x","OUI","N/A"),"")
B26: 2.8 | C26: Unam sunt amicis se nos ut alteram fines nosmet simus erga nosmet quisque in et. | D26: =IFERROR(IF(VLOOKUP("*"& Exemple!B26&"*",Feuil1!$B$2:$D$3,2,FALSE)="x","OUI","N/A"),"")
B27: 2.9 | C27: Unam sunt amicis se nos ut alteram fines nosmet simus erga nosmet quisque in et. | D27: =IFERROR(IF(VLOOKUP("*"& Exemple!B27&"*",Feuil1!$B$2:$D$3,2,FALSE)="x","OUI","N/A"),"") -> N/A
B28: 2.10 | C28: Unam sunt amicis se nos ut alteram fines nosmet simus erga nosmet quisque in et. | D28: =IFERROR(IF(VLOOKUP("*"& Exemple!B28&"*",Feuil1!$B$2:$D$3,2,FALSE)="x","OUI","N/A"),"")
B29: 2.11 | C29: Unam sunt amicis se nos ut alteram fines nosmet simus erga nosmet quisque in et. | D29: =IFERROR(IF(VLOOKUP("*"& Exemple!B29&"*",Feuil1!$B$2:$D$3,2,FALSE)="x","OUI","N/A"),"")
B30: 2.12 | C30: Unam sunt amicis se nos ut alteram fines nosmet simus erga nosmet quisque in et. | D30: =IFERROR(IF(VLOOKUP("*"& Exemple!B30&"*",Feuil1!$B$2:$D$3,2,FALSE)="x","OUI","N/A"),"") -> N/A
B31: 2.13 | C31: Unam sunt amicis se nos ut alteram fines nosmet simus erga nosmet quisque in et. | D31: =IFERROR(IF(VLOOKUP("*"& Exemple!B31&"*",Feuil1!$B$2:$D$3,2,FALSE)="x","OUI","N/A"),"")
... B33: 2.15 | C33: Unam sunt amicis se nos ut alteram fines nosmet simus erga nosmet quisque in et. | D33: =IFERROR(IF(VLOOKUP("*"& Exemple!B33&"*",Feuil1!$B$2:$D$3,2,FALSE)="x","OUI","N/A"),"")
