Workbook

Sheet inventaire matériel
A3: matériel | B3: emplacement | C3: nombre materiel en état | D3: nombre materiel à réparer | E3: total | F3: nombre materiel emprunté | G3: reste en stock
A4: pelles de maçon | C4: 10 | D4: 3 | E4: =C4+D4 -> 13 | F4: =SUMPRODUCT((emprunt!B2:B50="pelles de maçon")*(emprunt!C2:C50)) -> #VALUE! | G4: =C4-F4 -> #VALUE!
A5: pioches | C5: 8 | D5: 1 | E5: =C5+D5 -> 9 | F5: =SUMPRODUCT((emprunt!B3:B51="pioche")*(emprunt!C3:C51)) -> #VALUE! | G5: =C5-F5 -> #VALUE!
A6: truelles | C6: 24 | D6: 4 | E6: =C6+D6 -> 28 | F6: =SUMPRODUCT((emprunt!B4:B52="truelles")*(emprunt!C4:C52)) -> #VALUE! | G6: =C6-F6 -> #VALUE!
A7: balayettes | C7: 25 | D7: 4 | E7: =C7+D7 -> 29 | F7: =SUMPRODUCT((emprunt!B5:B53="Balayettes")*(emprunt!C5:C53)) -> #VALUE! | G7: =C7-F7 -> #VALUE!
A8: seaux | C8: 21 | D8: 3 | E8: =C8+D8 -> 24 | F8: =SUMPRODUCT((emprunt!B6:B54="seaux")*(emprunt!C6:C54)) -> #VALUE! | G8: =C8-F8 -> #VALUE!
E9: =C9+D9 -> 0 | F9: =SUMPRODUCT((emprunt!B7:B55="Pelles de maçon")*(emprunt!C7:C55)) -> 0 | G9: =C9-F9 -> 0
E10: =C10+D10 -> 0 | F10: =SUMPRODUCT((emprunt!B8:B56="Pelles de maçon")*(emprunt!C8:C56)) -> 0 | G10: =C10-F10 -> 0
E11: =C11+D11 -> 0 | F11: =SUMPRODUCT((emprunt!B9:B57="Pelles de maçon")*(emprunt!C9:C57)) -> 0 | G11: =C11-F11 -> 0
E12: =C12+D12 -> 0 | F12: =SUMPRODUCT((emprunt!B10:B58="Pelles de maçon")*(emprunt!C10:C58)) -> 0 | G12: =C12-F12 -> 0
E13: =C13+D13 -> 0 | F13: =SUMPRODUCT((emprunt!B11:B59="Pelles de maçon")*(emprunt!C11:C59)) -> 0 | G13: =C13-F13 -> 0
E14: =C14+D14 -> 0 | F14: =SUMPRODUCT((emprunt!B12:B60="Pelles de maçon")*(emprunt!C12:C60)) -> 0 | G14: =C14-F14 -> 0
E15: =C15+D15 -> 0 | F15: =SUMPRODUCT((emprunt!B13:B61="Pelles de maçon")*(emprunt!C13:C61)) -> 0 | G15: =C15-F15 -> 0
E16: =C16+D16 -> 0 | F16: =SUMPRODUCT((emprunt!B14:B62="Pelles de maçon")*(emprunt!C14:C62)) -> 0 | G16: =C16-F16 -> 0
E17: =C17+D17 -> 0 | F17: =SUMPRODUCT((emprunt!B15:B63="Pelles de maçon")*(emprunt!C15:C63)) -> 0 | G17: =C17-F17 -> 0
E18: =C18+D18 -> 0 | F18: =SUMPRODUCT((emprunt!B16:B64="Pelles de maçon")*(emprunt!C16:C64)) -> 0 | G18: =C18-F18 -> 0
E19: =C19+D19 -> 0 | F19: =SUMPRODUCT((emprunt!B17:B65="Pelles de maçon")*(emprunt!C17:C65)) -> 0 | G19: =C19-F19 -> 0
E20: =C20+D20 -> 0 | F20: =SUMPRODUCT((emprunt!B18:B66="Pelles de maçon")*(emprunt!C18:C66)) -> 0 | G20: =C20-F20 -> 0
... E30: =C30+D30 -> 0 | F30: =SUMPRODUCT((emprunt!B28:B76="Pelles de maçon")*(emprunt!C28:C76)) -> 0 | G30: =C30-F30 -> 0

Sheet emprunt
A1: emprunteur | B1: telephone | C1: matériel | D1: nombre | E1: date d'emprunt | F1: retour d'emprunt | G1: reparation à prevoir
A2: exemple 1 | C2: pelles de maçon | D2: 2 | E2: 40969 | F2: 44284
A3: exemple 2 | C3: truelles | D3: 5
A4: exemple 3 | C4: balayettes | D4: 3
A5: exemple 4 | C5: pelles de maçon | D5: 3
A6: exemple 2 | C6: seaux | D6: 5

Sheet liste données
A1: agents | D1: ='inventaire matériel'!A3 -> matériel
A2: exemple 1 | D2: ='inventaire matériel'!A4 -> pelles de maçon
A3: exemple 2 | D3: ='inventaire matériel'!A5 -> pioches
A4: exemple 3 | D4: ='inventaire matériel'!A6 -> truelles
A5: exemple 4 | D5: ='inventaire matériel'!A7 -> balayettes
D6: ='inventaire matériel'!A8 -> seaux
