Workbook

Sheet Janvier
AR1: PODIUM
A2: ENTREES D'ORDRES 2022 | AR2: Nom | AS2: Entrèes d'Ordres | AT2: Nouveaux Clients | AU2: Nombre de commandes
AR3: Sébastien Gillette | AS3: =SUMIF(O3:O1004,"sg",P3:P10034) -> 13747.8 | AT3: =SUMIF(O3:O1004,"sg",X3:X1004) -> 0 | AU3: =COUNTIF(O3:O1004,"sg") -> 2
A4: DATE DE CDE | B4: N° DE DEVIS | C4: CODE CLT | D4: NOM CLT | E4: NOM CHANTIER | F4: TYPE DE PDT 1 | G4: QTE | H4: TYPE DE PDT 2 | I4: QTE2 | J4: TYPE DE PDT 3 | K4: QTE3 | L4: TYPE DE PDT 4 | M4: QTE4 | N4: DEPT | O4: COMMERCIAL | P4: MONTANT HT | Q4: ACOMPTE | R4: TVA | S4: TTC | T4: TYPE DE COMM | U4: % DE COMM | V4: TX DE REMISE | W4: PP | X4: NVX CLT | Y4: DATE DE CREATION CLT | Z4: N° DE CLT | AA4: Date de pose | AB4: Numéro de Facture | AC4: DATE DE FACTURE | AD4: TOTAL HT | AE4: DATE DE REGLT | AF4: ECHEANCE | AG4: Numéro de facture 2 | AH4: DATE DE FACTURE2 | AI4: TOTAL HT2 | AJ4: DATE DE REGLT2 | AK4: ECHEANCE2 | AL4: Numéro de facture 3 | AM4: DATE DE FACTURE3 | AN4: TOTAL HT3 | AO4: DATE DE REGLT3 | AP4: ECHEANCE3 | AR4: Jacques Audureau | AS4: =SUMIF(O3:O1004,"ja",P3:P1004) -> -653.7 | AT4: =SUMIF(O3:O1004,"ja",X3:X1004) -> 0 | AU4: =COUNTIF(O3:O1004,"ja") -> 1
A5: 44564 | B5: 21/1175 | C5: 49LYCCAB | D5: LYCEE CARNOT BERTIN | E5: MAGA - REGUL DECEMBRE | F5: RIDEAUX | G5: 1 | N5: 49 | O5: JA | P5: -653.7 | R5: 0.2 | S5: -784.44 | U5: 0.02 | V5: 0.45 | Z5: C5F191 | AR5: William Osborn | AS5: =SUMIF(O3:O1004,"wo",P3:P1004) -> 299.8 | AT5: =SUMIF(O3:O1004,"wo",X3:X1004) -> 0 | AU5: =COUNTIF(O3:O1004,"wo") -> 1
A6: 44565 | B6: 21/678 | C6: 41MAIBLO | D6: MAIRIE BLOIS | E6: MAISON MAGIE - TRANCHE 2 | F6: RIDEAUX | G6: 1 | N6: 41 | O6: SG | P6: 10416.8 | R6: 0.2 | S6: 12500.16 | U6: 0.06 | V6: 0.4 | Z6: C1C307
A7: 44567 | B7: 21/828 | C7: 41MAIBLO | D7: MAIRIE BLOIS | E7: ECOLE RAPHAEL PERIE | F7: REENTOILAGE | G7: 1 | H7: CHGT MOTEUR | I7: 1 | N7: 41 | O7: SG | P7: 3331 | R7: 0.2 | S7: 3997.2 | U7: 0.06 | V7: 0.4 | Z7: C1C307
A8: 44567 | B8: 22/003 | C8: 37MAIAMB | D8: MAIRIE AMBOISE | E8: HOTEL DE VILLE | F8: CHGT MOTEUR | G8: 1 | N8: 37 | O8: WO | P8: 299.8 | R8: 0.2 | S8: 359.76 | T8: Bureau | U8: 0.02 | V8: 0.5 | Z8: C6N026

Sheet Février
AR1: PODIUM
A2: ENTREES D'ORDRES 2022 | AR2: Nom | AS2: Entrèes d'Ordres | AT2: Nouveaux Clients | AU2: Nombre de commandes
AR3: Sébastien Gillette | AS3: =SUMIF(O3:O1001,"sg",P3:P10031) -> 0 | AT3: =SUMIF(O3:O1001,"sg",X3:X1001) -> 0 | AU3: =COUNTIF(O3:O1001,"sg") -> 0
A4: DATE DE CDE | B4: N° DE DEVIS | C4: CODE CLT | D4: NOM CLT | E4: NOM CHANTIER | F4: TYPE DE PDT 1 | G4: QTE | H4: TYPE DE PDT 2 | I4: QTE2 | J4: TYPE DE PDT 3 | K4: QTE3 | L4: TYPE DE PDT 4 | M4: QTE4 | N4: DEPT | O4: COMMERCIAL | P4: MONTANT HT | Q4: ACOMPTE | R4: TVA | S4: TTC | T4: TYPE DE COMM | U4: % DE COMM | V4: TX DE REMISE | W4: PP | X4: NVX CLT | Y4: DATE DE CREATION CLT | Z4: N° DE CLT | AA4: Date de pose | AB4: Numéro de Facture | AC4: DATE DE FACTURE | AD4: TOTAL HT | AE4: DATE DE REGLT | AF4: ECHEANCE | AG4: Numéro de facture 2 | AH4: DATE DE FACTURE2 | AI4: TOTAL HT2 | AJ4: DATE DE REGLT2 | AK4: ECHEANCE2 | AL4: Numéro de facture 3 | AM4: DATE DE FACTURE3 | AN4: TOTAL HT3 | AO4: DATE DE REGLT3 | AP4: ECHEANCE3 | AR4: Jacques Audureau | AS4: =SUMIF(O3:O1001,"ja",P3:P1001) -> 0 | AT4: =SUMIF(O3:O1001,"ja",X3:X1001) -> 0 | AU4: =COUNTIF(O3:O1001,"ja") -> 0
S5: =t_M02[[#This Row],[MONTANT HT]]+(t_M02[[#This Row],[MONTANT HT]]*t_M02[[#This Row],[TVA]]) -> 0 | AR5: William Osborn | AS5: =SUMIF(O3:O1001,"wo",P3:P1001) -> 0 | AT5: =SUMIF(O3:O1001,"wo",X3:X1001) -> 0 | AU5: =COUNTIF(O3:O1001,"wo") -> 0

Sheet Mars
AR1: PODIUM
A2: ENTREES D'ORDRES 2022 | AR2: Nom | AS2: Entrèes d'Ordres | AT2: Nouveaux Clients | AU2: Nombre de commandes
AR3: Sébastien Gillette | AS3: =SUMIF(O3:O1001,"sg",P3:P10031) -> 0 | AT3: =SUMIF(O3:O1001,"sg",X3:X1001) -> 0 | AU3: =COUNTIF(O3:O1001,"sg") -> 0
A4: DATE DE CDE | B4: N° DE DEVIS | C4: CODE CLT | D4: NOM CLT | E4: NOM CHANTIER | F4: TYPE DE PDT 1 | G4: QTE | H4: TYPE DE PDT 2 | I4: QTE2 | J4: TYPE DE PDT 3 | K4: QTE3 | L4: TYPE DE PDT 4 | M4: QTE4 | N4: DEPT | O4: COMMERCIAL | P4: MONTANT HT | Q4: ACOMPTE | R4: TVA | S4: TTC | T4: TYPE DE COMM | U4: % DE COMM | V4: TX DE REMISE | W4: PP | X4: NVX CLT | Y4: DATE DE CREATION CLT | Z4: N° DE CLT | AA4: Date de pose | AB4: Numéro de Facture | AC4: DATE DE FACTURE | AD4: TOTAL HT | AE4: DATE DE REGLT | AF4: ECHEANCE | AG4: Numéro de facture 2 | AH4: DATE DE FACTURE2 | AI4: TOTAL HT2 | AJ4: DATE DE REGLT2 | AK4: ECHEANCE2 | AL4: Numéro de facture 3 | AM4: DATE DE FACTURE3 | AN4: TOTAL HT3 | AO4: DATE DE REGLT3 | AP4: ECHEANCE3 | AR4: Jacques Audureau | AS4: =SUMIF(O3:O1001,"ja",P3:P1001) -> 0 | AT4: =SUMIF(O3:O1001,"ja",X3:X1001) -> 0 | AU4: =COUNTIF(O3:O1001,"ja") -> 0
S5: =t_M022[[#This Row],[MONTANT HT]]+(t_M022[[#This Row],[MONTANT HT]]*t_M022[[#This Row],[TVA]]) -> 0 | AR5: William Osborn | AS5: =SUMIF(O3:O1001,"wo",P3:P1001) -> 0 | AT5: =SUMIF(O3:O1001,"wo",X3:X1001) -> 0 | AU5: =COUNTIF(O3:O1001,"wo") -> 0

Sheet Avril
AR1: PODIUM
A2: ENTREES D'ORDRES 2022 | AR2: Nom | AS2: Entrèes d'Ordres | AT2: Nouveaux Clients | AU2: Nombre de commandes
AR3: Sébastien Gillette | AS3: =SUMIF(O3:O1001,"sg",P3:P10031) -> 0 | AT3: =SUMIF(O3:O1001,"sg",X3:X1001) -> 0 | AU3: =COUNTIF(O3:O1001,"sg") -> 0
A4: DATE DE CDE | B4: N° DE DEVIS | C4: CODE CLT | D4: NOM CLT | E4: NOM CHANTIER | F4: TYPE DE PDT 1 | G4: QTE | H4: TYPE DE PDT 2 | I4: QTE2 | J4: TYPE DE PDT 3 | K4: QTE3 | L4: TYPE DE PDT 4 | M4: QTE4 | N4: DEPT | O4: COMMERCIAL | P4: MONTANT HT | Q4: ACOMPTE | R4: TVA | S4: TTC | T4: TYPE DE COMM | U4: % DE COMM | V4: TX DE REMISE | W4: PP | X4: NVX CLT | Y4: DATE DE CREATION CLT | Z4: N° DE CLT | AA4: Date de pose | AB4: Numéro de Facture | AC4: DATE DE FACTURE | AD4: TOTAL HT | AE4: DATE DE REGLT | AF4: ECHEANCE | AG4: Numéro de facture 2 | AH4: DATE DE FACTURE2 | AI4: TOTAL HT2 | AJ4: DATE DE REGLT2 | AK4: ECHEANCE2 | AL4: Numéro de facture 3 | AM4: DATE DE FACTURE3 | AN4: TOTAL HT3 | AO4: DATE DE REGLT3 | AP4: ECHEANCE3 | AR4: Jacques Audureau | AS4: =SUMIF(O3:O1001,"ja",P3:P1001) -> 0 | AT4: =SUMIF(O3:O1001,"ja",X3:X1001) -> 0 | AU4: =COUNTIF(O3:O1001,"ja") -> 0
S5: =t_M0227[[#This Row],[MONTANT HT]]+(t_M0227[[#This Row],[MONTANT HT]]*t_M0227[[#This Row],[TVA]]) -> 0 | AR5: William Osborn | AS5: =SUMIF(O3:O1001,"wo",P3:P1001) -> 0 | AT5: =SUMIF(O3:O1001,"wo",X3:X1001) -> 0 | AU5: =COUNTIF(O3:O1001,"wo") -> 0

Sheet Mai
AR1: PODIUM
A2: ENTREES D'ORDRES 2022 | AR2: Nom | AS2: Entrèes d'Ordres | AT2: Nouveaux Clients | AU2: Nombre de commandes
AR3: Sébastien Gillette | AS3: =SUMIF(O3:O1001,"sg",P3:P10031) -> 0 | AT3: =SUMIF(O3:O1001,"sg",X3:X1001) -> 0 | AU3: =COUNTIF(O3:O1001,"sg") -> 0
A4: DATE DE CDE | B4: N° DE DEVIS | C4: CODE CLT | D4: NOM CLT | E4: NOM CHANTIER | F4: TYPE DE PDT 1 | G4: QTE | H4: TYPE DE PDT 2 | I4: QTE2 | J4: TYPE DE PDT 3 | K4: QTE3 | L4: TYPE DE PDT 4 | M4: QTE4 | N4: DEPT | O4: COMMERCIAL | P4: MONTANT HT | Q4: ACOMPTE | R4: TVA | S4: TTC | T4: TYPE DE COMM | U4: % DE COMM | V4: TX DE REMISE | W4: PP | X4: NVX CLT | Y4: DATE DE CREATION CLT | Z4: N° DE CLT | AA4: Date de pose | AB4: Numéro de Facture | AC4: DATE DE FACTURE | AD4: TOTAL HT | AE4: DATE DE REGLT | AF4: ECHEANCE | AG4: Numéro de facture 2 | AH4: DATE DE FACTURE2 | AI4: TOTAL HT2 | AJ4: DATE DE REGLT2 | AK4: ECHEANCE2 | AL4: Numéro de facture 3 | AM4: DATE DE FACTURE3 | AN4: TOTAL HT3 | AO4: DATE DE REGLT3 | AP4: ECHEANCE3 | AR4: Jacques Audureau | AS4: =SUMIF(O3:O1001,"ja",P3:P1001) -> 0 | AT4: =SUMIF(O3:O1001,"ja",X3:X1001) -> 0 | AU4: =COUNTIF(O3:O1001,"ja") -> 0
S5: =t_M02278[[#This Row],[MONTANT HT]]+(t_M02278[[#This Row],[MONTANT HT]]*t_M02278[[#This Row],[TVA]]) -> 0 | AR5: William Osborn | AS5: =SUMIF(O3:O1001,"wo",P3:P1001) -> 0 | AT5: =SUMIF(O3:O1001,"wo",X3:X1001) -> 0 | AU5: =COUNTIF(O3:O1001,"wo") -> 0

Sheet Juin
AR1: PODIUM
A2: ENTREES D'ORDRES 2022 | AR2: Nom | AS2: Entrèes d'Ordres | AT2: Nouveaux Clients | AU2: Nombre de commandes
AR3: Sébastien Gillette | AS3: =SUMIF(O3:O1001,"sg",P3:P10031) -> 0 | AT3: =SUMIF(O3:O1001,"sg",X3:X1001) -> 0 | AU3: =COUNTIF(O3:O1001,"sg") -> 0
A4: DATE DE CDE | B4: N° DE DEVIS | C4: CODE CLT | D4: NOM CLT | E4: NOM CHANTIER | F4: TYPE DE PDT 1 | G4: QTE | H4: TYPE DE PDT 2 | I4: QTE2 | J4: TYPE DE PDT 3 | K4: QTE3 | L4: TYPE DE PDT 4 | M4: QTE4 | N4: DEPT | O4: COMMERCIAL | P4: MONTANT HT | Q4: ACOMPTE | R4: TVA | S4: TTC | T4: TYPE DE COMM | U4: % DE COMM | V4: TX DE REMISE | W4: PP | X4: NVX CLT | Y4: DATE DE CREATION CLT | Z4: N° DE CLT | AA4: Date de pose | AB4: Numéro de Facture | AC4: DATE DE FACTURE | AD4: TOTAL HT | AE4: DATE DE REGLT | AF4: ECHEANCE | AG4: Numéro de facture 2 | AH4: DATE DE FACTURE2 | AI4: TOTAL HT2 | AJ4: DATE DE REGLT2 | AK4: ECHEANCE2 | AL4: Numéro de facture 3 | AM4: DATE DE FACTURE3 | AN4: TOTAL HT3 | AO4: DATE DE REGLT3 | AP4: ECHEANCE3 | AR4: Jacques Audureau | AS4: =SUMIF(O3:O1001,"ja",P3:P1001) -> 0 | AT4: =SUMIF(O3:O1001,"ja",X3:X1001) -> 0 | AU4: =COUNTIF(O3:O1001,"ja") -> 0
S5: =t_M022789[[#This Row],[MONTANT HT]]+(t_M022789[[#This Row],[MONTANT HT]]*t_M022789[[#This Row],[TVA]]) -> 0 | AR5: William Osborn | AS5: =SUMIF(O3:O1001,"wo",P3:P1001) -> 0 | AT5: =SUMIF(O3:O1001,"wo",X3:X1001) -> 0 | AU5: =COUNTIF(O3:O1001,"wo") -> 0

Sheet Juillet
AR1: PODIUM
A2: ENTREES D'ORDRES 2022 | AR2: Nom | AS2: Entrèes d'Ordres | AT2: Nouveaux Clients | AU2: Nombre de commandes
AR3: Sébastien Gillette | AS3: =SUMIF(O3:O1001,"sg",P3:P10031) -> 0 | AT3: =SUMIF(O3:O1001,"sg",X3:X1001) -> 0 | AU3: =COUNTIF(O3:O1001,"sg") -> 0
A4: DATE DE CDE | B4: N° DE DEVIS | C4: CODE CLT | D4: NOM CLT | E4: NOM CHANTIER | F4: TYPE DE PDT 1 | G4: QTE | H4: TYPE DE PDT 2 | I4: QTE2 | J4: TYPE DE PDT 3 | K4: QTE3 | L4: TYPE DE PDT 4 | M4: QTE4 | N4: DEPT | O4: COMMERCIAL | P4: MONTANT HT | Q4: ACOMPTE | R4: TVA | S4: TTC | T4: TYPE DE COMM | U4: % DE COMM | V4: TX DE REMISE | W4: PP | X4: NVX CLT | Y4: DATE DE CREATION CLT | Z4: N° DE CLT | AA4: Date de pose | AB4: Numéro de Facture | AC4: DATE DE FACTURE | AD4: TOTAL HT | AE4: DATE DE REGLT | AF4: ECHEANCE | AG4: Numéro de facture 2 | AH4: DATE DE FACTURE2 | AI4: TOTAL HT2 | AJ4: DATE DE REGLT2 | AK4: ECHEANCE2 | AL4: Numéro de facture 3 | AM4: DATE DE FACTURE3 | AN4: TOTAL HT3 | AO4: DATE DE REGLT3 | AP4: ECHEANCE3 | AR4: Jacques Audureau | AS4: =SUMIF(O3:O1001,"ja",P3:P1001) -> 0 | AT4: =SUMIF(O3:O1001,"ja",X3:X1001) -> 0 | AU4: =COUNTIF(O3:O1001,"ja") -> 0
S5: =t_M02278910[[#This Row],[MONTANT HT]]+(t_M02278910[[#This Row],[MONTANT HT]]*t_M02278910[[#This Row],[TVA]]) -> 0 | AR5: William Osborn | AS5: =SUMIF(O3:O1001,"wo",P3:P1001) -> 0 | AT5: =SUMIF(O3:O1001,"wo",X3:X1001) -> 0 | AU5: =COUNTIF(O3:O1001,"wo") -> 0

Sheet Aout
AR1: PODIUM
A2: ENTREES D'ORDRES 2022 | AR2: Nom | AS2: Entrèes d'Ordres | AT2: Nouveaux Clients | AU2: Nombre de commandes
AR3: Sébastien Gillette | AS3: =SUMIF(O3:O1001,"sg",P3:P10031) -> 0 | AT3: =SUMIF(O3:O1001,"sg",X3:X1001) -> 0 | AU3: =COUNTIF(O3:O1001,"sg") -> 0
A4: DATE DE CDE | B4: N° DE DEVIS | C4: CODE CLT | D4: NOM CLT | E4: NOM CHANTIER | F4: TYPE DE PDT 1 | G4: QTE | H4: TYPE DE PDT 2 | I4: QTE2 | J4: TYPE DE PDT 3 | K4: QTE3 | L4: TYPE DE PDT 4 | M4: QTE4 | N4: DEPT | O4: COMMERCIAL | P4: MONTANT HT | Q4: ACOMPTE | R4: TVA | S4: TTC | T4: TYPE DE COMM | U4: % DE COMM | V4: TX DE REMISE | W4: PP | X4: NVX CLT | Y4: DATE DE CREATION CLT | Z4: N° DE CLT | AA4: Date de pose | AB4: Numéro de Facture | AC4: DATE DE FACTURE | AD4: TOTAL HT | AE4: DATE DE REGLT | AF4: ECHEANCE | AG4: Numéro de facture 2 | AH4: DATE DE FACTURE2 | AI4: TOTAL HT2 | AJ4: DATE DE REGLT2 | AK4: ECHEANCE2 | AL4: Numéro de facture 3 | AM4: DATE DE FACTURE3 | AN4: TOTAL HT3 | AO4: DATE DE REGLT3 | AP4: ECHEANCE3 | AR4: Jacques Audureau | AS4: =SUMIF(O3:O1001,"ja",P3:P1001) -> 0 | AT4: =SUMIF(O3:O1001,"ja",X3:X1001) -> 0 | AU4: =COUNTIF(O3:O1001,"ja") -> 0
S5: =t_M0227891011[[#This Row],[MONTANT HT]]+(t_M0227891011[[#This Row],[MONTANT HT]]*t_M0227891011[[#This Row],[TVA]]) -> 0 | AR5: William Osborn | AS5: =SUMIF(O3:O1001,"wo",P3:P1001) -> 0 | AT5: =SUMIF(O3:O1001,"wo",X3:X1001) -> 0 | AU5: =COUNTIF(O3:O1001,"wo") -> 0

Sheet Septembre
AR1: PODIUM
A2: ENTREES D'ORDRES 2022 | AR2: Nom | AS2: Entrèes d'Ordres | AT2: Nouveaux Clients | AU2: Nombre de commandes
AR3: Sébastien Gillette | AS3: =SUMIF(O3:O1001,"sg",P3:P10031) -> 0 | AT3: =SUMIF(O3:O1001,"sg",X3:X1001) -> 0 | AU3: =COUNTIF(O3:O1001,"sg") -> 0
A4: DATE DE CDE | B4: N° DE DEVIS | C4: CODE CLT | D4: NOM CLT | E4: NOM CHANTIER | F4: TYPE DE PDT 1 | G4: QTE | H4: TYPE DE PDT 2 | I4: QTE2 | J4: TYPE DE PDT 3 | K4: QTE3 | L4: TYPE DE PDT 4 | M4: QTE4 | N4: DEPT | O4: COMMERCIAL | P4: MONTANT HT | Q4: ACOMPTE | R4: TVA | S4: TTC | T4: TYPE DE COMM | U4: % DE COMM | V4: TX DE REMISE | W4: PP | X4: NVX CLT | Y4: DATE DE CREATION CLT | Z4: N° DE CLT | AA4: Date de pose | AB4: Numéro de Facture | AC4: DATE DE FACTURE | AD4: TOTAL HT | AE4: DATE DE REGLT | AF4: ECHEANCE | AG4: Numéro de facture 2 | AH4: DATE DE FACTURE2 | AI4: TOTAL HT2 | AJ4: DATE DE REGLT2 | AK4: ECHEANCE2 | AL4: Numéro de facture 3 | AM4: DATE DE FACTURE3 | AN4: TOTAL HT3 | AO4: DATE DE REGLT3 | AP4: ECHEANCE3 | AR4: Jacques Audureau | AS4: =SUMIF(O3:O1001,"ja",P3:P1001) -> 0 | AT4: =SUMIF(O3:O1001,"ja",X3:X1001) -> 0 | AU4: =COUNTIF(O3:O1001,"ja") -> 0
S5: =t_M022789101112[[#This Row],[MONTANT HT]]+(t_M022789101112[[#This Row],[MONTANT HT]]*t_M022789101112[[#This Row],[TVA]]) -> 0 | AR5: William Osborn | AS5: =SUMIF(O3:O1001,"wo",P3:P1001) -> 0 | AT5: =SUMIF(O3:O1001,"wo",X3:X1001) -> 0 | AU5: =COUNTIF(O3:O1001,"wo") -> 0

Sheet Octobre
AR1: PODIUM
A2: ENTREES D'ORDRES 2022 | AR2: Nom | AS2: Entrèes d'Ordres | AT2: Nouveaux Clients | AU2: Nombre de commandes
AR3: Sébastien Gillette | AS3: =SUMIF(O3:O1001,"sg",P3:P10031) -> 0 | AT3: =SUMIF(O3:O1001,"sg",X3:X1001) -> 0 | AU3: =COUNTIF(O3:O1001,"sg") -> 0
A4: DATE DE CDE | B4: N° DE DEVIS | C4: CODE CLT | D4: NOM CLT | E4: NOM CHANTIER | F4: TYPE DE PDT 1 | G4: QTE | H4: TYPE DE PDT 2 | I4: QTE2 | J4: TYPE DE PDT 3 | K4: QTE3 | L4: TYPE DE PDT 4 | M4: QTE4 | N4: DEPT | O4: COMMERCIAL | P4: MONTANT HT | Q4: ACOMPTE | R4: TVA | S4: TTC | T4: TYPE DE COMM | U4: % DE COMM | V4: TX DE REMISE | W4: PP | X4: NVX CLT | Y4: DATE DE CREATION CLT | Z4: N° DE CLT | AA4: Date de pose | AB4: Numéro de Facture | AC4: DATE DE FACTURE | AD4: TOTAL HT | AE4: DATE DE REGLT | AF4: ECHEANCE | AG4: Numéro de facture 2 | AH4: DATE DE FACTURE2 | AI4: TOTAL HT2 | AJ4: DATE DE REGLT2 | AK4: ECHEANCE2 | AL4: Numéro de facture 3 | AM4: DATE DE FACTURE3 | AN4: TOTAL HT3 | AO4: DATE DE REGLT3 | AP4: ECHEANCE3 | AR4: Jacques Audureau | AS4: =SUMIF(O3:O1001,"ja",P3:P1001) -> 0 | AT4: =SUMIF(O3:O1001,"ja",X3:X1001) -> 0 | AU4: =COUNTIF(O3:O1001,"ja") -> 0
S5: =t_M02278910111213[[#This Row],[MONTANT HT]]+(t_M02278910111213[[#This Row],[MONTANT HT]]*t_M02278910111213[[#This Row],[TVA]]) -> 0 | AR5: William Osborn | AS5: =SUMIF(O3:O1001,"wo",P3:P1001) -> 0 | AT5: =SUMIF(O3:O1001,"wo",X3:X1001) -> 0 | AU5: =COUNTIF(O3:O1001,"wo") -> 0

Sheet Novembre
AR1: PODIUM
A2: ENTREES D'ORDRES 2022 | AR2: Nom | AS2: Entrèes d'Ordres | AT2: Nouveaux Clients | AU2: Nombre de commandes
AR3: Sébastien Gillette | AS3: =SUMIF(O3:O1001,"sg",P3:P10031) -> 0 | AT3: =SUMIF(O3:O1001,"sg",X3:X1001) -> 0 | AU3: =COUNTIF(O3:O1001,"sg") -> 0
A4: DATE DE CDE | B4: N° DE DEVIS | C4: CODE CLT | D4: NOM CLT | E4: NOM CHANTIER | F4: TYPE DE PDT 1 | G4: QTE | H4: TYPE DE PDT 2 | I4: QTE2 | J4: TYPE DE PDT 3 | K4: QTE3 | L4: TYPE DE PDT 4 | M4: QTE4 | N4: DEPT | O4: COMMERCIAL | P4: MONTANT HT | Q4: ACOMPTE | R4: TVA | S4: TTC | T4: TYPE DE COMM | U4: % DE COMM | V4: TX DE REMISE | W4: PP | X4: NVX CLT | Y4: DATE DE CREATION CLT | Z4: N° DE CLT | AA4: Date de pose | AB4: Numéro de Facture | AC4: DATE DE FACTURE | AD4: TOTAL HT | AE4: DATE DE REGLT | AF4: ECHEANCE | AG4: Numéro de facture 2 | AH4: DATE DE FACTURE2 | AI4: TOTAL HT2 | AJ4: DATE DE REGLT2 | AK4: ECHEANCE2 | AL4: Numéro de facture 3 | AM4: DATE DE FACTURE3 | AN4: TOTAL HT3 | AO4: DATE DE REGLT3 | AP4: ECHEANCE3 | AR4: Jacques Audureau | AS4: =SUMIF(O3:O1001,"ja",P3:P1001) -> 0 | AT4: =SUMIF(O3:O1001,"ja",X3:X1001) -> 0 | AU4: =COUNTIF(O3:O1001,"ja") -> 0
S5: =t_M0227891011121314[[#This Row],[MONTANT HT]]+(t_M0227891011121314[[#This Row],[MONTANT HT]]*t_M0227891011121314[[#This Row],[TVA]]) -> 0 | AR5: William Osborn | AS5: =SUMIF(O3:O1001,"wo",P3:P1001) -> 0 | AT5: =SUMIF(O3:O1001,"wo",X3:X1001) -> 0 | AU5: =COUNTIF(O3:O1001,"wo") -> 0

Sheet Décembre
AR1: PODIUM
A2: ENTREES D'ORDRES 2022 | AR2: Nom | AS2: Entrèes d'Ordres | AT2: Nouveaux Clients | AU2: Nombre de commandes
AR3: Sébastien Gillette | AS3: =SUMIF(O3:O1001,"sg",P3:P10031) -> 0 | AT3: =SUMIF(O3:O1001,"sg",X3:X1001) -> 0 | AU3: =COUNTIF(O3:O1001,"sg") -> 0
A4: DATE DE CDE | B4: N° DE DEVIS | C4: CODE CLT | D4: NOM CLT | E4: NOM CHANTIER | F4: TYPE DE PDT 1 | G4: QTE | H4: TYPE DE PDT 2 | I4: QTE2 | J4: TYPE DE PDT 3 | K4: QTE3 | L4: TYPE DE PDT 4 | M4: QTE4 | N4: DEPT | O4: COMMERCIAL | P4: MONTANT HT | Q4: ACOMPTE | R4: TVA | S4: TTC | T4: TYPE DE COMM | U4: % DE COMM | V4: TX DE REMISE | W4: PP | X4: NVX CLT | Y4: DATE DE CREATION CLT | Z4: N° DE CLT | AA4: Date de pose | AB4: Numéro de Facture | AC4: DATE DE FACTURE | AD4: TOTAL HT | AE4: DATE DE REGLT | AF4: ECHEANCE | AG4: Numéro de facture 2 | AH4: DATE DE FACTURE2 | AI4: TOTAL HT2 | AJ4: DATE DE REGLT2 | AK4: ECHEANCE2 | AL4: Numéro de facture 3 | AM4: DATE DE FACTURE3 | AN4: TOTAL HT3 | AO4: DATE DE REGLT3 | AP4: ECHEANCE3 | AR4: Jacques Audureau | AS4: =SUMIF(O3:O1001,"ja",P3:P1001) -> 0 | AT4: =SUMIF(O3:O1001,"ja",X3:X1001) -> 0 | AU4: =COUNTIF(O3:O1001,"ja") -> 0
S5: =t_M022789101112131415[[#This Row],[MONTANT HT]]+(t_M022789101112131415[[#This Row],[MONTANT HT]]*t_M022789101112131415[[#This Row],[TVA]]) -> 0 | AR5: William Osborn | AS5: =SUMIF(O3:O1001,"wo",P3:P1001) -> 0 | AT5: =SUMIF(O3:O1001,"wo",X3:X1001) -> 0 | AU5: =COUNTIF(O3:O1001,"wo") -> 0

Sheet Encours Commandes
A2: ENCOURS COMMANDES
A4: DEPT | B4: NOM CLT | C4: DATE DE CDE | D4: MONTANT HT
A5: 49 | B5: LYCEE CARNOT BERTIN | C5: 44564 | D5: -653.7
A6: 41 | B6: MAIRIE BLOIS | C6: 44565 | D6: 10416.8
A7: 41 | B7: MAIRIE BLOIS | C7: 44567 | D7: 3331
A8: 37 | B8: MAIRIE AMBOISE | C8: 44567 | D8: 299.8
A20: Total | D20: =SUBTOTAL(109,EncoursCommande[MONTANT HT]) -> 13393.9

Sheet Commandes Posées Livrées
A2: COMMANDES POSEES/LIVREES
A4: Date de pose | B4: NOM CLT | C4: MONTANT HT | D4: DATE DE CDE | E4: Numéro de Facture
A6: Total | C6: =SUBTOTAL(109,CommandesPoséesLivrées[MONTANT HT]) -> 0

Sheet RECAP DPT MENSUEL
B1: 18 | C1: 35 | D1: 36 | E1: 37 | F1: 41 | G1: 44 | H1: 441 | I1: 49 | J1: 491 | K1: 53 | L1: 72 | M1: 85 | N1: 86 | O1: 861 | P1: 28 | Q1: TOTAL
A2: JANVIER | B2: =SUMIF(Janvier!$N$5:$N$1006,"=18",Janvier!$P$5:$P$1006) -> 0 | C2: =SUMIF(Janvier!$N$5:$N$1006,"=35",Janvier!$P$5:$P$1006) -> 0 | D2: =SUMIF(Janvier!$N$5:$N$1006,"=36",Janvier!$P$5:$P$1006) -> 0 | E2: =SUMIF(Janvier!$N$5:$N$1006,"=37",Janvier!$P$5:$P$1006) -> 299.8 | F2: =SUMIF(Janvier!$N$5:$N$1006,"=41",Janvier!$P$5:$P$1006) -> 13747.8 | G2: =SUMIF(Janvier!$N$5:$N$1006,"=44",Janvier!$P$5:$P$1006) -> 0 | H2: =SUMIF(Janvier!$N$5:$N$1006,"=441",Janvier!$P$5:$P$1006) -> 0 | I2: =SUMIF(Janvier!$N$5:$N$1006,"=49",Janvier!$P$5:$P$1006) -> -653.7 | J2: =SUMIF(Janvier!$N$5:$N$1006,"=491",Janvier!$P$5:$P$1006) -> 0 | K2: =SUMIF(Janvier!$N$5:$N$1006,"=53",Janvier!$P$5:$P$1006) -> 0 | L2: =SUMIF(Janvier!$N$5:$N$1006,"=72",Janvier!$P$5:$P$1006) -> 0 | M2: =SUMIF(Janvier!$N$5:$N$1006,"=85",Janvier!$P$5:$P$1006) -> 0 | N2: =SUMIF(Janvier!$N$5:$N$1006,"=86",Janvier!$P$5:$P$1006) -> 0 | O2: =SUMIF(Janvier!$N$5:$N$1006,"=861",Janvier!$P$5:$P$1006) -> 0 | P2: =SUMIF(Janvier!$N$5:$N$1006,"=28",Janvier!$P$5:$P$1006) -> 0 | Q2: =SUM(B2:P2) -> 13393.9
A3: FÉVRIER | B3: =SUMIF(Février!$N$5:$N$998,"=18",Février!$P$5:$P$998) -> 0 | C3: =SUMIF(Février!$N$5:$N$998,"=35",Février!$P$5:$P$998) -> 0 | D3: =SUMIF(Février!$N$5:$N$998,"=36",Février!$P$5:$P$998) -> 0 | E3: =SUMIF(Février!$N$5:$N$998,"=37",Février!$P$5:$P$998) -> 0 | F3: =SUMIF(Février!$N$5:$N$998,"=41",Février!$P$5:$P$998) -> 0 | G3: =SUMIF(Février!$N$5:$N$998,"=44",Février!$P$5:$P$998) -> 0 | H3: =SUMIF(Février!$N$5:$N$998,"=441",Février!$P$5:$P$998) -> 0 | I3: =SUMIF(Février!$N$5:$N$998,"=49",Février!$P$5:$P$998) -> 0 | J3: =SUMIF(Février!$N$5:$N$998,"=491",Février!$P$5:$P$998) -> 0 | K3: =SUMIF(Février!$N$5:$N$998,"=53",Février!$P$5:$P$998) -> 0 | L3: =SUMIF(Février!$N$5:$N$998,"=72",Février!$P$5:$P$998) -> 0 | M3: =SUMIF(Février!$N$5:$N$998,"=85",Février!$P$5:$P$998) -> 0 | N3: =SUMIF(Février!$N$5:$N$998,"=86",Février!$P$5:$P$998) -> 0 | O3: =SUMIF(Février!$N$5:$N$998,"=861",Février!$P$5:$P$998) -> 0 | P3: =SUMIF(Février!$N$5:$N$998,"=28",Février!$P$5:$P$998) -> 0 | Q3: =SUM(B3:P3) -> 0
A4: MARS | B4: =SUMIF(Mars!$N$5:$N$1003,"=18",Mars!$P$5:$P$1003) -> 0 | C4: =SUMIF(Mars!$N$5:$N$1003,"=35",Mars!$P$5:$P$1003) -> 0 | D4: =SUMIF(Mars!$N$5:$N$1003,"=36",Mars!$P$5:$P$1003) -> 0 | E4: =SUMIF(Mars!$N$5:$N$1003,"=37",Mars!$P$5:$P$1003) -> 0 | F4: =SUMIF(Mars!$N$5:$N$1003,"=41",Mars!$P$5:$P$1003) -> 0 | G4: =SUMIF(Mars!$N$5:$N$1003,"=44",Mars!$P$5:$P$1003) -> 0 | H4: =SUMIF(Mars!$N$5:$N$1003,"=441",Mars!$P$5:$P$1003) -> 0 | I4: =SUMIF(Mars!$N$5:$N$1003,"=49",Mars!$P$5:$P$1003) -> 0 | J4: =SUMIF(Mars!$N$5:$N$1003,"=491",Mars!$P$5:$P$1003) -> 0 | K4: =SUMIF(Mars!$N$5:$N$1003,"=53",Mars!$P$5:$P$1003) -> 0 | L4: =SUMIF(Mars!$N$5:$N$1003,"=72",Mars!$P$5:$P$1003) -> 0 | M4: =SUMIF(Mars!$N$5:$N$1003,"=85",Mars!$P$5:$P$1003) -> 0 | N4: =SUMIF(Mars!$N$5:$N$1003,"=86",Mars!$P$5:$P$1003) -> 0 | O4: =SUMIF(Mars!$N$5:$N$1003,"=861",Mars!$P$5:$P$1003) -> 0 | P4: =SUMIF(Mars!$N$5:$N$1003,"=28",Mars!$P$5:$P$1003) -> 0 | Q4: =SUM(B4:P4) -> 0
A5: AVRIL | B5: =SUMIF(Avril!$N$5:$N$1003,"=18",Avril!$P$5:$P$1003) -> 0 | C5: =SUMIF(Avril!$N$5:$N$1003,"=35",Avril!$P$5:$P$1003) -> 0 | D5: =SUMIF(Avril!$N$5:$N$1003,"=36",Avril!$P$5:$P$1003) -> 0 | E5: =SUMIF(Avril!$N$5:$N$1003,"=37",Avril!$P$5:$P$1003) -> 0 | F5: =SUMIF(Avril!$N$5:$N$1003,"=41",Avril!$P$5:$P$1003) -> 0 | G5: =SUMIF(Avril!$N$5:$N$1003,"=44",Avril!$P$5:$P$1003) -> 0 | H5: =SUMIF(Avril!$N$5:$N$1003,"=441",Avril!$P$5:$P$1003) -> 0 | I5: =SUMIF(Avril!$N$5:$N$1003,"=49",Avril!$P$5:$P$1003) -> 0 | J5: =SUMIF(Avril!$N$5:$N$1003,"=491",Avril!$P$5:$P$1003) -> 0 | K5: =SUMIF(Avril!$N$5:$N$1003,"=53",Avril!$P$5:$P$1003) -> 0 | L5: =SUMIF(Avril!$N$5:$N$1003,"=72",Avril!$P$5:$P$1003) -> 0 | M5: =SUMIF(Avril!$N$5:$N$1003,"=85",Avril!$P$5:$P$1003) -> 0 | N5: =SUMIF(Avril!$N$5:$N$1003,"=86",Avril!$P$5:$P$1003) -> 0 | O5: =SUMIF(Avril!$N$5:$N$1003,"=861",Avril!$P$5:$P$1003) -> 0 | P5: =SUMIF(Avril!$N$5:$N$1003,"=28",Avril!$P$5:$P$1003) -> 0 | Q5: =SUM(B5:P5) -> 0
A6: MAI | B6: =SUMIF(Mai!$N$5:$N$1003,"=18",Mai!$P$5:$P$1003) -> 0 | C6: =SUMIF(Mai!$N$5:$N$1003,"=35",Mai!$P$5:$P$1003) -> 0 | D6: =SUMIF(Mai!$N$5:$N$1003,"=36",Mai!$P$5:$P$1003) -> 0 | E6: =SUMIF(Mai!$N$5:$N$1003,"=37",Mai!$P$5:$P$1003) -> 0 | F6: =SUMIF(Mai!$N$5:$N$1003,"=41",Mai!$P$5:$P$1003) -> 0 | G6: =SUMIF(Mai!$N$5:$N$1003,"=44",Mai!$P$5:$P$1003) -> 0 | H6: =SUMIF(Mai!$N$5:$N$1003,"=441",Mai!$P$5:$P$1003) -> 0 | I6: =SUMIF(Mai!$N$5:$N$1003,"=49",Mai!$P$5:$P$1003) -> 0 | J6: =SUMIF(Mai!$N$5:$N$1003,"=491",Mai!$P$5:$P$1003) -> 0 | K6: =SUMIF(Mai!$N$5:$N$1003,"=53",Mai!$P$5:$P$1003) -> 0 | L6: =SUMIF(Mai!$N$5:$N$1003,"=72",Mai!$P$5:$P$1003) -> 0 | M6: =SUMIF(Mai!$N$5:$N$1003,"=85",Mai!$P$5:$P$1003) -> 0 | N6: =SUMIF(Mai!$N$5:$N$1003,"=86",Mai!$P$5:$P$1003) -> 0 | O6: =SUMIF(Mai!$N$5:$N$1003,"=861",Mai!$P$5:$P$1003) -> 0 | P6: =SUMIF(Mai!$N$5:$N$1003,"=28",Mai!$P$5:$P$1003) -> 0 | Q6: =SUM(B6:P6) -> 0
A7: JUIN | B7: =SUMIF(Juin!$N$5:$N$1003,"=18",Juin!$P$5:$P$1003) -> 0 | C7: =SUMIF(Juin!$N$5:$N$1003,"=35",Juin!$P$5:$P$1003) -> 0 | D7: =SUMIF(Juin!$N$5:$N$1003,"=36",Juin!$P$5:$P$1003) -> 0 | E7: =SUMIF(Juin!$N$5:$N$1003,"=37",Juin!$P$5:$P$1003) -> 0 | F7: =SUMIF(Juin!$N$5:$N$1003,"=41",Juin!$P$5:$P$1003) -> 0 | G7: =SUMIF(Juin!$N$5:$N$1003,"=44",Juin!$P$5:$P$1003) -> 0 | H7: =SUMIF(Juin!$N$5:$N$1003,"=441",Juin!$P$5:$P$1003) -> 0 | I7: =SUMIF(Juin!$N$5:$N$1003,"=49",Juin!$P$5:$P$1003) -> 0 | J7: =SUMIF(Juin!$N$5:$N$1003,"=491",Juin!$P$5:$P$1003) -> 0 | K7: =SUMIF(Juin!$N$5:$N$1003,"=53",Juin!$P$5:$P$1003) -> 0 | L7: =SUMIF(Juin!$N$5:$N$1003,"=72",Juin!$P$5:$P$1003) -> 0 | M7: =SUMIF(Juin!$N$5:$N$1003,"=85",Juin!$P$5:$P$1003) -> 0 | N7: =SUMIF(Juin!$N$5:$N$1003,"=86",Juin!$P$5:$P$1003) -> 0 | O7: =SUMIF(Juin!$N$5:$N$1003,"=861",Juin!$P$5:$P$1003) -> 0 | P7: =SUMIF(Juin!$N$5:$N$1003,"=28",Juin!$P$5:$P$1003) -> 0 | Q7: =SUM(B7:P7) -> 0
A8: JUILLET | B8: =SUMIF(Juillet!$N$5:$N$1003,"=18",Juillet!$P$5:$P$1003) -> 0 | C8: =SUMIF(Juillet!$N$5:$N$1003,"=35",Juillet!$P$5:$P$1003) -> 0 | D8: =SUMIF(Juillet!$N$5:$N$1003,"=36",Juillet!$P$5:$P$1003) -> 0 | E8: =SUMIF(Juillet!$N$5:$N$1003,"=37",Juillet!$P$5:$P$1003) -> 0 | F8: =SUMIF(Juillet!$N$5:$N$1003,"=41",Juillet!$P$5:$P$1003) -> 0 | G8: =SUMIF(Juillet!$N$5:$N$1003,"=44",Juillet!$P$5:$P$1003) -> 0 | H8: =SUMIF(Juillet!$N$5:$N$1003,"=441",Juillet!$P$5:$P$1003) -> 0 | I8: =SUMIF(Juillet!$N$5:$N$1003,"=49",Juillet!$P$5:$P$1003) -> 0 | J8: =SUMIF(Juillet!$N$5:$N$1003,"=491",Juillet!$P$5:$P$1003) -> 0 | K8: =SUMIF(Juillet!$N$5:$N$1003,"=53",Juillet!$P$5:$P$1003) -> 0 | L8: =SUMIF(Juillet!$N$5:$N$1003,"=72",Juillet!$P$5:$P$1003) -> 0 | M8: =SUMIF(Juillet!$N$5:$N$1003,"=85",Juillet!$P$5:$P$1003) -> 0 | N8: =SUMIF(Juillet!$N$5:$N$1003,"=86",Juillet!$P$5:$P$1003) -> 0 | O8: =SUMIF(Juillet!$N$5:$N$1003,"=861",Juillet!$P$5:$P$1003) -> 0 | P8: =SUMIF(Juillet!$N$5:$N$1003,"=28",Juillet!$P$5:$P$1003) -> 0 | Q8: =SUM(B8:P8) -> 0
A9: AOÛT | B9: =SUMIF(Aout!$N$5:$N$1003,"=18",Aout!$P$5:$P$1003) -> 0 | C9: =SUMIF(Aout!$N$5:$N$1003,"=35",Aout!$P$5:$P$1003) -> 0 | D9: =SUMIF(Aout!$N$5:$N$1003,"=36",Aout!$P$5:$P$1003) -> 0 | E9: =SUMIF(Aout!$N$5:$N$1003,"=37",Aout!$P$5:$P$1003) -> 0 | F9: =SUMIF(Aout!$N$5:$N$1003,"=41",Aout!$P$5:$P$1003) -> 0 | G9: =SUMIF(Aout!$N$5:$N$1003,"=44",Aout!$P$5:$P$1003) -> 0 | H9: =SUMIF(Aout!$N$5:$N$1003,"=441",Aout!$P$5:$P$1003) -> 0 | I9: =SUMIF(Aout!$N$5:$N$1003,"=49",Aout!$P$5:$P$1003) -> 0 | J9: =SUMIF(Aout!$N$5:$N$1003,"=491",Aout!$P$5:$P$1003) -> 0 | K9: =SUMIF(Aout!$N$5:$N$1003,"=53",Aout!$P$5:$P$1003) -> 0 | L9: =SUMIF(Aout!$N$5:$N$1003,"=72",Aout!$P$5:$P$1003) -> 0 | M9: =SUMIF(Aout!$N$5:$N$1003,"=85",Aout!$P$5:$P$1003) -> 0 | N9: =SUMIF(Aout!$N$5:$N$1003,"=86",Aout!$P$5:$P$1003) -> 0 | O9: =SUMIF(Aout!$N$5:$N$1003,"=861",Aout!$P$5:$P$1003) -> 0 | P9: =SUMIF(Aout!$N$5:$N$1003,"=28",Aout!$P$5:$P$1003) -> 0 | Q9: =SUM(B9:P9) -> 0
A10: SEPTEMBRE | B10: =SUMIF(Septembre!$N$5:$N$1003,"=18",Septembre!$P$5:$P$1003) -> 0 | C10: =SUMIF(Septembre!$N$5:$N$1003,"=35",Septembre!$P$5:$P$1003) -> 0 | D10: =SUMIF(Septembre!$N$5:$N$1003,"=36",Septembre!$P$5:$P$1003) -> 0 | E10: =SUMIF(Septembre!$N$5:$N$1003,"=37",Septembre!$P$5:$P$1003) -> 0 | F10: =SUMIF(Septembre!$N$5:$N$1003,"=41",Septembre!$P$5:$P$1003) -> 0 | G10: =SUMIF(Septembre!$N$5:$N$1003,"=44",Septembre!$P$5:$P$1003) -> 0 | H10: =SUMIF(Septembre!$N$5:$N$1003,"=441",Septembre!$P$5:$P$1003) -> 0 | I10: =SUMIF(Septembre!$N$5:$N$1003,"=49",Septembre!$P$5:$P$1003) -> 0 | J10: =SUMIF(Septembre!$N$5:$N$1003,"=491",Septembre!$P$5:$P$1003) -> 0 | K10: =SUMIF(Septembre!$N$5:$N$1003,"=53",Septembre!$P$5:$P$1003) -> 0 | L10: =SUMIF(Septembre!$N$5:$N$1003,"=72",Septembre!$P$5:$P$1003) -> 0 | M10: =SUMIF(Septembre!$N$5:$N$1003,"=85",Septembre!$P$5:$P$1003) -> 0 | N10: =SUMIF(Septembre!$N$5:$N$1003,"=86",Septembre!$P$5:$P$1003) -> 0 | O10: =SUMIF(Septembre!$N$5:$N$1003,"=861",Septembre!$P$5:$P$1003) -> 0 | P10: =SUMIF(Septembre!$N$5:$N$1003,"=28",Septembre!$P$5:$P$1003) -> 0 | Q10: =SUM(B10:P10) -> 0
A11: OCTOBRE | B11: =SUMIF(Octobre!$N$5:$N$1003,"=18",Octobre!$P$5:$P$1003) -> 0 | C11: =SUMIF(Octobre!$N$5:$N$1003,"=35",Octobre!$P$5:$P$1003) -> 0 | D11: =SUMIF(Octobre!$N$5:$N$1003,"=36",Octobre!$P$5:$P$1003) -> 0 | E11: =SUMIF(Octobre!$N$5:$N$1003,"=37",Octobre!$P$5:$P$1003) -> 0 | F11: =SUMIF(Octobre!$N$5:$N$1003,"=41",Octobre!$P$5:$P$1003) -> 0 | G11: =SUMIF(Octobre!$N$5:$N$1003,"=44",Octobre!$P$5:$P$1003) -> 0 | H11: =SUMIF(Octobre!$N$5:$N$1003,"=441",Octobre!$P$5:$P$1003) -> 0 | I11: =SUMIF(Octobre!$N$5:$N$1003,"=49",Octobre!$P$5:$P$1003) -> 0 | J11: =SUMIF(Octobre!$N$5:$N$1003,"=491",Octobre!$P$5:$P$1003) -> 0 | K11: =SUMIF(Octobre!$N$5:$N$1003,"=53",Octobre!$P$5:$P$1003) -> 0 | L11: =SUMIF(Octobre!$N$5:$N$1003,"=72",Octobre!$P$5:$P$1003) -> 0 | M11: =SUMIF(Octobre!$N$5:$N$1003,"=85",Octobre!$P$5:$P$1003) -> 0 | N11: =SUMIF(Octobre!$N$5:$N$1003,"=86",Octobre!$P$5:$P$1003) -> 0 | O11: =SUMIF(Octobre!$N$5:$N$1003,"=861",Octobre!$P$5:$P$1003) -> 0 | P11: =SUMIF(Octobre!$N$5:$N$1003,"=28",Octobre!$P$5:$P$1003) -> 0 | Q11: =SUM(B11:P11) -> 0
A12: NOVEMBRE | B12: =SUMIF(Novembre!$N$5:$N$1003,"=18",Novembre!$P$5:$P$1003) -> 0 | C12: =SUMIF(Novembre!$N$5:$N$1003,"=35",Novembre!$P$5:$P$1003) -> 0 | D12: =SUMIF(Novembre!$N$5:$N$1003,"=36",Novembre!$P$5:$P$1003) -> 0 | E12: =SUMIF(Novembre!$N$5:$N$1003,"=37",Novembre!$P$5:$P$1003) -> 0 | F12: =SUMIF(Novembre!$N$5:$N$1003,"=41",Novembre!$P$5:$P$1003) -> 0 | G12: =SUMIF(Novembre!$N$5:$N$1003,"=44",Novembre!$P$5:$P$1003) -> 0 | H12: =SUMIF(Novembre!$N$5:$N$1003,"=441",Novembre!$P$5:$P$1003) -> 0 | I12: =SUMIF(Novembre!$N$5:$N$1003,"=49",Novembre!$P$5:$P$1003) -> 0 | J12: =SUMIF(Novembre!$N$5:$N$1003,"=491",Novembre!$P$5:$P$1003) -> 0 | K12: =SUMIF(Novembre!$N$5:$N$1003,"=53",Novembre!$P$5:$P$1003) -> 0 | L12: =SUMIF(Novembre!$N$5:$N$1003,"=72",Novembre!$P$5:$P$1003) -> 0 | M12: =SUMIF(Novembre!$N$5:$N$1003,"=85",Novembre!$P$5:$P$1003) -> 0 | N12: =SUMIF(Novembre!$N$5:$N$1003,"=86",Novembre!$P$5:$P$1003) -> 0 | O12: =SUMIF(Novembre!$N$5:$N$1003,"=861",Novembre!$P$5:$P$1003) -> 0 | P12: =SUMIF(Novembre!$N$5:$N$1003,"=28",Novembre!$P$5:$P$1003) -> 0 | Q12: =SUM(B12:P12) -> 0
A13: DÉCEMBRE | B13: =SUMIF(Décembre!$N$5:$N$1003,"=18",Décembre!$P$5:$P$1003) -> 0 | C13: =SUMIF(Décembre!$N$5:$N$1003,"=35",Décembre!$P$5:$P$1003) -> 0 | D13: =SUMIF(Décembre!$N$5:$N$1003,"=36",Décembre!$P$5:$P$1003) -> 0 | E13: =SUMIF(Décembre!$N$5:$N$1003,"=37",Décembre!$P$5:$P$1003) -> 0 | F13: =SUMIF(Décembre!$N$5:$N$1003,"=41",Décembre!$P$5:$P$1003) -> 0 | G13: =SUMIF(Décembre!$N$5:$N$1003,"=44",Décembre!$P$5:$P$1003) -> 0 | H13: =SUMIF(Décembre!$N$5:$N$1003,"=441",Décembre!$P$5:$P$1003) -> 0 | I13: =SUMIF(Décembre!$N$5:$N$1003,"=49",Décembre!$P$5:$P$1003) -> 0 | J13: =SUMIF(Décembre!$N$5:$N$1003,"=491",Décembre!$P$5:$P$1003) -> 0 | K13: =SUMIF(Décembre!$N$5:$N$1003,"=53",Décembre!$P$5:$P$1003) -> 0 | L13: =SUMIF(Décembre!$N$5:$N$1003,"=72",Décembre!$P$5:$P$1003) -> 0 | M13: =SUMIF(Décembre!$N$5:$N$1003,"=85",Décembre!$P$5:$P$1003) -> 0 | N13: =SUMIF(Décembre!$N$5:$N$1003,"=86",Décembre!$P$5:$P$1003) -> 0 | O13: =SUMIF(Décembre!$N$5:$N$1003,"=861",Décembre!$P$5:$P$1003) -> 0 | P13: =SUMIF(Décembre!$N$5:$N$1003,"=28",Décembre!$P$5:$P$1003) -> 0 | Q13: =SUM(B13:P13) -> 0
Q14: =SUM(Q2:Q13) -> 13393.9

Sheet Feuil1
A1: Menus Déroulants
A2: Produits | B2: Départements | C2: Commercial | D2: Type de comm | E2: % de comm | F2: TVA
E3: 0 | F3: 0.2
A4: SLV | B4: 18 | C4: WO | D4: AO | E4: 0.01 | F4: 0.1
A5: PLISSES | B5: 28 | C5: SG | D5: Bureau | E5: 0.02 | F5: 0
A6: VENITIENS | B6: 36 | C6: LG | D6: MBC | E6: 0.03
A7: SEI | B7: 37 | C7: JA | E7: 0.04
A8: SEIXL | B8: 41 | E8: 0.05
A9: SEE | B9: 44 | E9: 0.06
A10: RIDEAUX | B10: 49 | E10: 0.07
A11: STORES BANNES | B11: 53 | E11: 0.08
A12: REPAR BANNES | B12: 72
A13: COFFRES 83 | B13: 85
A14: BANNETTES | B14: 86
A15: EGR | B15: 491
A16: ABT | B16: 441
A17: STT | B17: 861
A18: CORBEILLES | B18: 29
A19: RII | B19: 35
A20: FILMS
A21: COFFRES 55
A22: VR RENO
A23: VR TRADI
A24: REPARATIONS VR
A25: TABLIERS
A26: FT
A27: VELUMS
A28: BATEAUX
A29: REENTOILAGE
A30: REPARATION SEE
A31: CHGT MOTEUR
... A34: MOUSTIQUAIRES
