Workbook
Name _GoBack: 'Etat des Formations'!$M$7

Sheet Etat des Formations
AX1: MAJ 211012
P4: Etat des formations management suivies par les encadrants de la DGA ADEM de 2018 au 01/09/2021
M6: Typologie Encadrant | Q6: IP : Intermédiaire et Proximité - Strate 3 et 4 | AD6: EC : Encadrement Technique - Strate 5 | AK6: SS : Stratégique et Supérieur - Strate 1 et 2 | AS6: Toute Strate | AV6: Formations "Hors Dispositif"
A8: Matricule | B8: Nom | C8: Prénom | D8: Service père | E8: Service | F8: Nbre de Formations Proposées | G8: Nbre de Formations suivies /Par Strate | H8: Nbre de jours de Formations suivies / Par Strate | I8: En % | J8: Formations Effectuées "Hors Dispositif" | K8: Ancienne Strate | L8: Nbre de Formations suivies | P8: Nbre de Jours / Formation | Q8: =Liste!H28 -> 3 | R8: =Liste!H29 -> 3 | S8: =Liste!H30 -> 2 | T8: =Liste!H31 -> 4 | U8: =Liste!H32 -> 2 | V8: =Liste!H33 -> 2 | W8: =Liste!H34 -> 2 | X8: =Liste!H35 -> 3 | Y8: =Liste!H36 -> 1 | Z8: =Liste!H37 -> 1 | AA8: =Liste!H38 -> 1 | AB8: =Liste!H39 -> 1 | AC8: =SUM(Q8:AB8) -> 25 | AD8: =Liste!H42 -> 3 | AE8: =Liste!H43 -> 3 | AF8: =Liste!H44 -> 2 | AG8: =Liste!H45 -> 1 | AH8: =Liste!H46 -> 1 | AI8: =Liste!H47 -> 1 | AJ8: =SUM(AD8:AI8) -> 11 | AK8: =Liste!H50 -> 2 | AL8: =Liste!H51 -> 2 | AM8: =Liste!H52 -> 1 | AN8: =Liste!H53 -> 1 | AO8: =Liste!H54 -> 1 | AP8: =Liste!H55 -> 1 | AQ8: =Liste!H56 -> 1 | AR8: =SUM(AK8:AQ8) -> 9 | AS8: =Liste!H59 -> 1 | AT8: =Liste!H60 -> 2 | AU8: =SUM(AS8:AT8) -> 3 | AV8: =Liste!H65 -> 3 | AW8: =Liste!H66 -> 2 | AX8: =Liste!H67 -> 1 | AY8: =Liste!H68 -> 1 | AZ8: =Liste!H69 -> 3 | BA8: =SUM(AV8:AZ8) -> 10
F9: =IF(M9="O",12,IF(N9="O",6,IF(O9="O",7)))+Liste!H$23 -> 14 | G9: =IF(M10="O",COUNTA(Q10:AB10,AS10:AT10),IF(N10="O",COUNTA(AD10:AI10,AS10:AT10),IF(O10="O",COUNTA(AK10:AQ10,AS10:AT10),""))) -> 2 | H9: =IF(M9="O",SUMIF(Q9:AB9,"<>",Q$8:AB$8),IF(N9="O",SUMIF(AD9:AI9,"<>",AD$8:AI$8),IF(O9="O",SUMIF(AK9:AQ9,"<>",AK$8:AQ$8),0))) -> 0 | I9: =G9/F9 -> 0.14285714 | J9: =COUNTA(AV9:AZ9) -> 0 | M9: O
F10: =IF(M10="O",12,IF(N10="O",6,IF(O10="O",7)))+Liste!H$23 -> 8 | G10: =IF(M11="O",COUNTA(Q11:AB11,AS11:AT11),IF(N11="O",COUNTA(AD11:AI11,AS11:AT11),IF(O11="O",COUNTA(AK11:AQ11,AS11:AT11),""))) -> 1 | H10: =IF(M10="O",SUMIF(Q10:AB10,"<>",Q$8:AB$8),IF(N10="O",SUMIF(AD10:AI10,"<>",AD$8:AI$8),IF(O10="O",SUMIF(AK10:AQ10,"<>",AK$8:AQ$8),0))) -> 5 | I10: =G10/F10 -> 0.125 | J10: =COUNTA(AV10:AZ10) -> 0 | N10: O | AE10: 43724 | AF10: 43412
F11: =IF(M11="O",12,IF(N11="O",6,IF(O11="O",7)))+Liste!H$23 -> 8 | G11: =IF(M12="O",COUNTA(Q12:AB12,AS12:AT12),IF(N12="O",COUNTA(AD12:AI12,AS12:AT12),IF(O12="O",COUNTA(AK12:AQ12,AS12:AT12),""))) -> 0 | H11: =IF(M11="O",SUMIF(Q11:AB11,"<>",Q$8:AB$8),IF(N11="O",SUMIF(AD11:AI11,"<>",AD$8:AI$8),IF(O11="O",SUMIF(AK11:AQ11,"<>",AK$8:AQ$8),0))) -> 3 | I11: =G11/F11 -> 0 | J11: =COUNTA(AV11:AZ11) -> 1 | N11: O | AD11: 43240 | AV11: 43685
F12: =IF(M12="O",12,IF(N12="O",6,IF(O12="O",7)))+Liste!H$23 -> 14 | G12: =IF(M13="O",COUNTA(Q13:AB13,AS13:AT13),IF(N13="O",COUNTA(AD13:AI13,AS13:AT13),IF(O13="O",COUNTA(AK13:AQ13,AS13:AT13),""))) -> 0 | H12: =IF(M12="O",SUMIF(Q12:AB12,"<>",Q$8:AB$8),IF(N12="O",SUMIF(AD12:AI12,"<>",AD$8:AI$8),IF(O12="O",SUMIF(AK12:AQ12,"<>",AK$8:AQ$8),0))) -> 0 | I12: =G12/F12 -> 0 | J12: =COUNTA(AV12:AZ12) -> 0 | M12: O
F13: =IF(M13="O",12,IF(N13="O",6,IF(O13="O",7)))+Liste!H$23 -> 9 | G13: =IF(M14="O",COUNTA(Q14:AB14,AS14:AT14),IF(N14="O",COUNTA(AD14:AI14,AS14:AT14),IF(O14="O",COUNTA(AK14:AQ14,AS14:AT14),""))) -> 0 | H13: =IF(M13="O",SUMIF(Q13:AB13,"<>",Q$8:AB$8),IF(N13="O",SUMIF(AD13:AI13,"<>",AD$8:AI$8),IF(O13="O",SUMIF(AK13:AQ13,"<>",AK$8:AQ$8),0))) -> 0 | I13: =G13/F13 -> 0 | J13: =COUNTA(AV13:AZ13) -> 2 | O13: O | AW13: 43384 | AX13: 43210
F14: =IF(M14="O",12,IF(N14="O",6,IF(O14="O",7)))+Liste!H$23 -> 8 | G14: =IF(M15="O",COUNTA(Q15:AB15,AS15:AT15),IF(N15="O",COUNTA(AD15:AI15,AS15:AT15),IF(O15="O",COUNTA(AK15:AQ15,AS15:AT15),""))) -> 1 | H14: =IF(M14="O",SUMIF(Q14:AB14,"<>",Q$8:AB$8),IF(N14="O",SUMIF(AD14:AI14,"<>",AD$8:AI$8),IF(O14="O",SUMIF(AK14:AQ14,"<>",AK$8:AQ$8),0))) -> 0 | I14: =G14/F14 -> 0.125 | J14: =COUNTA(AV14:AZ14) -> 1 | N14: O | AV14: 43817
F15: =IF(M15="O",12,IF(N15="O",6,IF(O15="O",7)))+Liste!H$23 -> 14 | G15: =IF(M16="O",COUNTA(Q16:AB16,AS16:AT16),IF(N16="O",COUNTA(AD16:AI16,AS16:AT16),IF(O16="O",COUNTA(AK16:AQ16,AS16:AT16),""))) -> 2 | H15: =IF(M15="O",SUMIF(Q15:AB15,"<>",Q$8:AB$8),IF(N15="O",SUMIF(AD15:AI15,"<>",AD$8:AI$8),IF(O15="O",SUMIF(AK15:AQ15,"<>",AK$8:AQ$8),0))) -> 3 | I15: =G15/F15 -> 0.14285714 | J15: =COUNTA(AV15:AZ15) -> 0 | M15: O | Q15: 43619
F16: =IF(M16="O",12,IF(N16="O",6,IF(O16="O",7)))+Liste!H$23 -> 8 | G16: =IF(M17="O",COUNTA(Q17:AB17,AS17:AT17),IF(N17="O",COUNTA(AD17:AI17,AS17:AT17),IF(O17="O",COUNTA(AK17:AQ17,AS17:AT17),""))) -> 0 | H16: =IF(M16="O",SUMIF(Q16:AB16,"<>",Q$8:AB$8),IF(N16="O",SUMIF(AD16:AI16,"<>",AD$8:AI$8),IF(O16="O",SUMIF(AK16:AQ16,"<>",AK$8:AQ$8),0))) -> 5 | I16: =G16/F16 -> 0 | J16: =COUNTA(AV16:AZ16) -> 0 | N16: O | AD16: 43605 | AF16: 44103
F17: =IF(M17="O",12,IF(N17="O",6,IF(O17="O",7)))+Liste!H$23 -> 8 | G17: =IF(M18="O",COUNTA(Q18:AB18,AS18:AT18),IF(N18="O",COUNTA(AD18:AI18,AS18:AT18),IF(O18="O",COUNTA(AK18:AQ18,AS18:AT18),""))) -> 0 | H17: =IF(M17="O",SUMIF(Q17:AB17,"<>",Q$8:AB$8),IF(N17="O",SUMIF(AD17:AI17,"<>",AD$8:AI$8),IF(O17="O",SUMIF(AK17:AQ17,"<>",AK$8:AQ$8),0))) -> 0 | I17: =G17/F17 -> 0 | J17: =COUNTA(AV17:AZ17) -> 0 | N17: O
F18: =IF(M18="O",12,IF(N18="O",6,IF(O18="O",7)))+Liste!H$23 -> 9 | G18: =IF(M19="O",COUNTA(Q19:AB19,AS19:AT19),IF(N19="O",COUNTA(AD19:AI19,AS19:AT19),IF(O19="O",COUNTA(AK19:AQ19,AS19:AT19),""))) -> 2 | H18: =IF(M18="O",SUMIF(Q18:AB18,"<>",Q$8:AB$8),IF(N18="O",SUMIF(AD18:AI18,"<>",AD$8:AI$8),IF(O18="O",SUMIF(AK18:AQ18,"<>",AK$8:AQ$8),0))) -> 0 | I18: =G18/F18 -> 0.22222222 | J18: =COUNTA(AV18:AZ18) -> 0 | K18: IP | L18: =COUNTA(Q18:AB18) -> 3 | O18: O | Q18: 43262 | S18: 43374 | U18: 43808
F19: =IF(M19="O",12,IF(N19="O",6,IF(O19="O",7)))+Liste!H$23 -> 8 | G19: =IF(M20="O",COUNTA(Q20:AB20,AS20:AT20),IF(N20="O",COUNTA(AD20:AI20,AS20:AT20),IF(O20="O",COUNTA(AK20:AQ20,AS20:AT20),""))) -> 3 | H19: =IF(M19="O",SUMIF(Q19:AB19,"<>",Q$8:AB$8),IF(N19="O",SUMIF(AD19:AI19,"<>",AD$8:AI$8),IF(O19="O",SUMIF(AK19:AQ19,"<>",AK$8:AQ$8),0))) -> 6 | I19: =G19/F19 -> 0.375 | J19: =COUNTA(AV19:AZ19) -> 0 | N19: O | AD19: 43605 | AE19: 43815
F20: =IF(M20="O",12,IF(N20="O",6,IF(O20="O",7)))+Liste!H$23 -> 8 | G20: =IF(M21="O",COUNTA(Q21:AB21,AS21:AT21),IF(N21="O",COUNTA(AD21:AI21,AS21:AT21),IF(O21="O",COUNTA(AK21:AQ21,AS21:AT21),""))) -> 3 | H20: =IF(M20="O",SUMIF(Q20:AB20,"<>",Q$8:AB$8),IF(N20="O",SUMIF(AD20:AI20,"<>",AD$8:AI$8),IF(O20="O",SUMIF(AK20:AQ20,"<>",AK$8:AQ$8),0))) -> 8 | I20: =G20/F20 -> 0.375 | J20: =COUNTA(AV20:AZ20) -> 0 | N20: O | AD20: 43647 | AE20: 43628 | AF20: 43797
F21: =IF(M21="O",12,IF(N21="O",6,IF(O21="O",7)))+Liste!H$23 -> 14 | G21: =IF(M22="O",COUNTA(Q22:AB22,AS22:AT22),IF(N22="O",COUNTA(AD22:AI22,AS22:AT22),IF(O22="O",COUNTA(AK22:AQ22,AS22:AT22),""))) -> 0 | H21: =IF(M21="O",SUMIF(Q21:AB21,"<>",Q$8:AB$8),IF(N21="O",SUMIF(AD21:AI21,"<>",AD$8:AI$8),IF(O21="O",SUMIF(AK21:AQ21,"<>",AK$8:AQ$8),0))) -> 8 | I21: =G21/F21 -> 0 | J21: =COUNTA(AV21:AZ21) -> 0 | M21: O | S21: 43528 | T21: 43713 | U21: 43808
F22: =IF(M22="O",12,IF(N22="O",6,IF(O22="O",7)))+Liste!H$23 -> 8 | G22: =IF(M23="O",COUNTA(Q23:AB23,AS23:AT23),IF(N23="O",COUNTA(AD23:AI23,AS23:AT23),IF(O23="O",COUNTA(AK23:AQ23,AS23:AT23),""))) -> 0 | H22: =IF(M22="O",SUMIF(Q22:AB22,"<>",Q$8:AB$8),IF(N22="O",SUMIF(AD22:AI22,"<>",AD$8:AI$8),IF(O22="O",SUMIF(AK22:AQ22,"<>",AK$8:AQ$8),0))) -> 0 | I22: =G22/F22 -> 0 | J22: =COUNTA(AV22:AZ22) -> 1 | N22: O | AV22: 43832
F23: =IF(M23="O",12,IF(N23="O",6,IF(O23="O",7)))+Liste!H$23 -> 14 | G23: =IF(M24="O",COUNTA(Q24:AB24,AS24:AT24),IF(N24="O",COUNTA(AD24:AI24,AS24:AT24),IF(O24="O",COUNTA(AK24:AQ24,AS24:AT24),""))) -> 3 | H23: =IF(M23="O",SUMIF(Q23:AB23,"<>",Q$8:AB$8),IF(N23="O",SUMIF(AD23:AI23,"<>",AD$8:AI$8),IF(O23="O",SUMIF(AK23:AQ23,"<>",AK$8:AQ$8),0))) -> 0 | I23: =G23/F23 -> 0.21428571 | J23: =COUNTA(AV23:AZ23) -> 0 | M23: O
F24: =IF(M24="O",12,IF(N24="O",6,IF(O24="O",7)))+Liste!H$23 -> 8 | G24: =IF(M25="O",COUNTA(Q25:AB25,AS25:AT25),IF(N25="O",COUNTA(AD25:AI25,AS25:AT25),IF(O25="O",COUNTA(AK25:AQ25,AS25:AT25),""))) -> 2 | H24: =IF(M24="O",SUMIF(Q24:AB24,"<>",Q$8:AB$8),IF(N24="O",SUMIF(AD24:AI24,"<>",AD$8:AI$8),IF(O24="O",SUMIF(AK24:AQ24,"<>",AK$8:AQ$8),0))) -> 8 | I24: =G24/F24 -> 0.25 | J24: =COUNTA(AV24:AZ24) -> 0 | N24: O | AD24: 43741 | AE24: 43628 | AF24: 43643
F25: =IF(M25="O",12,IF(N25="O",6,IF(O25="O",7)))+Liste!H$23 -> 8 | G25: =IF(M26="O",COUNTA(Q26:AB26,AS26:AT26),IF(N26="O",COUNTA(AD26:AI26,AS26:AT26),IF(O26="O",COUNTA(AK26:AQ26,AS26:AT26),""))) -> 0 | H25: =IF(M25="O",SUMIF(Q25:AB25,"<>",Q$8:AB$8),IF(N25="O",SUMIF(AD25:AI25,"<>",AD$8:AI$8),IF(O25="O",SUMIF(AK25:AQ25,"<>",AK$8:AQ$8),0))) -> 6 | I25: =G25/F25 -> 0 | J25: =COUNTA(AV25:AZ25) -> 1 | N25: O | AD25: 43605 | AE25: 43383 | AV25: 43369
F26: =IF(M26="O",12,IF(N26="O",6,IF(O26="O",7)))+Liste!H$23 -> 14 | G26: =IF(M27="O",COUNTA(Q27:AB27,AS27:AT27),IF(N27="O",COUNTA(AD27:AI27,AS27:AT27),IF(O27="O",COUNTA(AK27:AQ27,AS27:AT27),""))) -> 0 | H26: =IF(M26="O",SUMIF(Q26:AB26,"<>",Q$8:AB$8),IF(N26="O",SUMIF(AD26:AI26,"<>",AD$8:AI$8),IF(O26="O",SUMIF(AK26:AQ26,"<>",AK$8:AQ$8),0))) -> 0 | I26: =G26/F26 -> 0 | J26: =COUNTA(AV26:AZ26) -> 0 | M26: O
F27: =IF(M27="O",12,IF(N27="O",6,IF(O27="O",7)))+Liste!H$23 -> 9 | G27: =IF(M28="O",COUNTA(Q28:AB28,AS28:AT28),IF(N28="O",COUNTA(AD28:AI28,AS28:AT28),IF(O28="O",COUNTA(AK28:AQ28,AS28:AT28),""))) -> 0 | H27: =IF(M27="O",SUMIF(Q27:AB27,"<>",Q$8:AB$8),IF(N27="O",SUMIF(AD27:AI27,"<>",AD$8:AI$8),IF(O27="O",SUMIF(AK27:AQ27,"<>",AK$8:AQ$8),0))) -> 0 | I27: =G27/F27 -> 0 | J27: =COUNTA(AV27:AZ27) -> 1 | K27: IP | L27: =COUNTA(Q27:AB27) -> 2 | O27: O | R27: 43264 | T27: 43563 | AY27: 44216
F28: =IF(M28="O",12,IF(N28="O",6,IF(O28="O",7)))+Liste!H$23 -> 8 | G28: =IF(M29="O",COUNTA(Q29:AB29,AS29:AT29),IF(N29="O",COUNTA(AD29:AI29,AS29:AT29),IF(O29="O",COUNTA(AK29:AQ29,AS29:AT29),""))) -> 0 | H28: =IF(M28="O",SUMIF(Q28:AB28,"<>",Q$8:AB$8),IF(N28="O",SUMIF(AD28:AI28,"<>",AD$8:AI$8),IF(O28="O",SUMIF(AK28:AQ28,"<>",AK$8:AQ$8),0))) -> 0 | I28: =G28/F28 -> 0 | J28: =COUNTA(AV28:AZ28) -> 1 | N28: O | AV28: 44120
F29: =IF(M29="O",12,IF(N29="O",6,IF(O29="O",7)))+Liste!H$23 -> 14 | G29: =IF(M30="O",COUNTA(Q30:AB30,AS30:AT30),IF(N30="O",COUNTA(AD30:AI30,AS30:AT30),IF(O30="O",COUNTA(AK30:AQ30,AS30:AT30),""))) -> 2 | H29: =IF(M29="O",SUMIF(Q29:AB29,"<>",Q$8:AB$8),IF(N29="O",SUMIF(AD29:AI29,"<>",AD$8:AI$8),IF(O29="O",SUMIF(AK29:AQ29,"<>",AK$8:AQ$8),0))) -> 0 | I29: =G29/F29 -> 0.14285714 | J29: =COUNTA(AV29:AZ29) -> 0 | M29: O
F30: =IF(M30="O",12,IF(N30="O",6,IF(O30="O",7)))+Liste!H$23 -> 8 | G30: =IF(M31="O",COUNTA(Q31:AB31,AS31:AT31),IF(N31="O",COUNTA(AD31:AI31,AS31:AT31),IF(O31="O",COUNTA(AK31:AQ31,AS31:AT31),""))) -> 0 | H30: =IF(M30="O",SUMIF(Q30:AB30,"<>",Q$8:AB$8),IF(N30="O",SUMIF(AD30:AI30,"<>",AD$8:AI$8),IF(O30="O",SUMIF(AK30:AQ30,"<>",AK$8:AQ$8),0))) -> 5 | I30: =G30/F30 -> 0 | J30: =COUNTA(AV30:AZ30) -> 1 | N30: O | AD30: 43741 | AF30: 43717 | AV30: 43259
F31: =IF(M31="O",12,IF(N31="O",6,IF(O31="O",7)))+Liste!H$23 -> 8 | G31: =IF(M32="O",COUNTA(Q32:AB32,AS32:AT32),IF(N32="O",COUNTA(AD32:AI32,AS32:AT32),IF(O32="O",COUNTA(AK32:AQ32,AS32:AT32),""))) -> 0 | H31: =IF(M31="O",SUMIF(Q31:AB31,"<>",Q$8:AB$8),IF(N31="O",SUMIF(AD31:AI31,"<>",AD$8:AI$8),IF(O31="O",SUMIF(AK31:AQ31,"<>",AK$8:AQ$8),0))) -> 0 | I31: =G31/F31 -> 0 | J31: =COUNTA(AV31:AZ31) -> 0 | N31: O
F32: =IF(M32="O",12,IF(N32="O",6,IF(O32="O",7)))+Liste!H$23 -> 8 | G32: =IF(M33="O",COUNTA(Q33:AB33,AS33:AT33),IF(N33="O",COUNTA(AD33:AI33,AS33:AT33),IF(O33="O",COUNTA(AK33:AQ33,AS33:AT33),""))) -> 1 | H32: =IF(M32="O",SUMIF(Q32:AB32,"<>",Q$8:AB$8),IF(N32="O",SUMIF(AD32:AI32,"<>",AD$8:AI$8),IF(O32="O",SUMIF(AK32:AQ32,"<>",AK$8:AQ$8),0))) -> 0 | I32: =G32/F32 -> 0.125 | J32: =COUNTA(AV32:AZ32) -> 0 | N32: O
F33: =IF(M33="O",12,IF(N33="O",6,IF(O33="O",7)))+Liste!H$23 -> 8 | G33: =IF(M34="O",COUNTA(Q34:AB34,AS34:AT34),IF(N34="O",COUNTA(AD34:AI34,AS34:AT34),IF(O34="O",COUNTA(AK34:AQ34,AS34:AT34),""))) -> 0 | H33: =IF(M33="O",SUMIF(Q33:AB33,"<>",Q$8:AB$8),IF(N33="O",SUMIF(AD33:AI33,"<>",AD$8:AI$8),IF(O33="O",SUMIF(AK33:AQ33,"<>",AK$8:AQ$8),0))) -> 3 | I33: =G33/F33 -> 0 | J33: =COUNTA(AV33:AZ33) -> 0 | N33: O | AD33: 43741
F34: =IF(M34="O",12,IF(N34="O",6,IF(O34="O",7)))+Liste!H$23 -> 14 | G34: =IF(M35="O",COUNTA(Q35:AB35,AS35:AT35),IF(N35="O",COUNTA(AD35:AI35,AS35:AT35),IF(O35="O",COUNTA(AK35:AQ35,AS35:AT35),""))) -> 1 | H34: =IF(M34="O",SUMIF(Q34:AB34,"<>",Q$8:AB$8),IF(N34="O",SUMIF(AD34:AI34,"<>",AD$8:AI$8),IF(O34="O",SUMIF(AK34:AQ34,"<>",AK$8:AQ$8),0))) -> 0 | I34: =G34/F34 -> 0.071428571 | J34: =COUNTA(AV34:AZ34) -> 0 | M34: O
F35: =IF(M35="O",12,IF(N35="O",6,IF(O35="O",7)))+Liste!H$23 -> 14 | G35: =IF(M36="O",COUNTA(Q36:AB36,AS36:AT36),IF(N36="O",COUNTA(AD36:AI36,AS36:AT36),IF(O36="O",COUNTA(AK36:AQ36,AS36:AT36),""))) -> 1 | H35: =IF(M35="O",SUMIF(Q35:AB35,"<>",Q$8:AB$8),IF(N35="O",SUMIF(AD35:AI35,"<>",AD$8:AI$8),IF(O35="O",SUMIF(AK35:AQ35,"<>",AK$8:AQ$8),0))) -> 3 | I35: =G35/F35 -> 0.071428571 | J35: =COUNTA(AV35:AZ35) -> 0 | M35: O | R35: 43773
F36: =IF(M36="O",12,IF(N36="O",6,IF(O36="O",7)))+Liste!H$23 -> 14 | G36: =IF(M37="O",COUNTA(Q37:AB37,AS37:AT37),IF(N37="O",COUNTA(AD37:AI37,AS37:AT37),IF(O37="O",COUNTA(AK37:AQ37,AS37:AT37),""))) -> 2 | H36: =IF(M36="O",SUMIF(Q36:AB36,"<>",Q$8:AB$8),IF(N36="O",SUMIF(AD36:AI36,"<>",AD$8:AI$8),IF(O36="O",SUMIF(AK36:AQ36,"<>",AK$8:AQ$8),0))) -> 2 | I36: =G36/F36 -> 0.14285714 | J36: =COUNTA(AV36:AZ36) -> 0 | M36: O | U36: 44088
F37: =IF(M37="O",12,IF(N37="O",6,IF(O37="O",7)))+Liste!H$23 -> 8 | G37: =IF(M38="O",COUNTA(Q38:AB38,AS38:AT38),IF(N38="O",COUNTA(AD38:AI38,AS38:AT38),IF(O38="O",COUNTA(AK38:AQ38,AS38:AT38),""))) -> 0 | H37: =IF(M37="O",SUMIF(Q37:AB37,"<>",Q$8:AB$8),IF(N37="O",SUMIF(AD37:AI37,"<>",AD$8:AI$8),IF(O37="O",SUMIF(AK37:AQ37,"<>",AK$8:AQ$8),0))) -> 6 | I37: =G37/F37 -> 0 | J37: =COUNTA(AV37:AZ37) -> 0 | N37: O | AD37: 43647 | AE37: 43724
F38: =IF(M38="O",12,IF(N38="O",6,IF(O38="O",7)))+Liste!H$23 -> 14 | G38: =IF(M39="O",COUNTA(Q39:AB39,AS39:AT39),IF(N39="O",COUNTA(AD39:AI39,AS39:AT39),IF(O39="O",COUNTA(AK39:AQ39,AS39:AT39),""))) -> 2 | H38: =IF(M38="O",SUMIF(Q38:AB38,"<>",Q$8:AB$8),IF(N38="O",SUMIF(AD38:AI38,"<>",AD$8:AI$8),IF(O38="O",SUMIF(AK38:AQ38,"<>",AK$8:AQ$8),0))) -> 0 | I38: =G38/F38 -> 0.14285714 | J38: =COUNTA(AV38:AZ38) -> 0 | M38: O
F39: =IF(M39="O",12,IF(N39="O",6,IF(O39="O",7)))+Liste!H$23 -> 8 | G39: =IF(M40="O",COUNTA(Q40:AB40,AS40:AT40),IF(N40="O",COUNTA(AD40:AI40,AS40:AT40),IF(O40="O",COUNTA(AK40:AQ40,AS40:AT40),""))) -> 1 | H39: =IF(M39="O",SUMIF(Q39:AB39,"<>",Q$8:AB$8),IF(N39="O",SUMIF(AD39:AI39,"<>",AD$8:AI$8),IF(O39="O",SUMIF(AK39:AQ39,"<>",AK$8:AQ$8),0))) -> 5 | I39: =G39/F39 -> 0.125 | J39: =COUNTA(AV39:AZ39) -> 0 | N39: O | AE39: 43383 | AF39: 43412
F40: =IF(M40="O",12,IF(N40="O",6,IF(O40="O",7)))+Liste!H$23 -> 14 | G40: =IF(M41="O",COUNTA(Q41:AB41,AS41:AT41),IF(N41="O",COUNTA(AD41:AI41,AS41:AT41),IF(O41="O",COUNTA(AK41:AQ41,AS41:AT41),""))) -> 0 | H40: =IF(M40="O",SUMIF(Q40:AB40,"<>",Q$8:AB$8),IF(N40="O",SUMIF(AD40:AI40,"<>",AD$8:AI$8),IF(O40="O",SUMIF(AK40:AQ40,"<>",AK$8:AQ$8),0))) -> 4 | I40: =G40/F40 -> 0 | J40: =COUNTA(AV40:AZ40) -> 0 | M40: O | T40: 43713
F41: =IF(M41="O",12,IF(N41="O",6,IF(O41="O",7)))+Liste!H$23 -> 8 | G41: =IF(M42="O",COUNTA(Q42:AB42,AS42:AT42),IF(N42="O",COUNTA(AD42:AI42,AS42:AT42),IF(O42="O",COUNTA(AK42:AQ42,AS42:AT42),""))) -> 2 | H41: =IF(M41="O",SUMIF(Q41:AB41,"<>",Q$8:AB$8),IF(N41="O",SUMIF(AD41:AI41,"<>",AD$8:AI$8),IF(O41="O",SUMIF(AK41:AQ41,"<>",AK$8:AQ$8),0))) -> 0 | I41: =G41/F41 -> 0.25 | J41: =COUNTA(AV41:AZ41) -> 0 | N41: O | S41: 44448
F42: =IF(M42="O",12,IF(N42="O",6,IF(O42="O",7)))+Liste!H$23 -> 14 | G42: =IF(M43="O",COUNTA(Q43:AB43,AS43:AT43),IF(N43="O",COUNTA(AD43:AI43,AS43:AT43),IF(O43="O",COUNTA(AK43:AQ43,AS43:AT43),""))) -> 2 | H42: =IF(M42="O",SUMIF(Q42:AB42,"<>",Q$8:AB$8),IF(N42="O",SUMIF(AD42:AI42,"<>",AD$8:AI$8),IF(O42="O",SUMIF(AK42:AQ42,"<>",AK$8:AQ$8),0))) -> 7 | I42: =G42/F42 -> 0.14285714 | J42: =COUNTA(AV42:AZ42) -> 0 | M42: O | Q42: 43794 | T42: 43355
F43: =IF(M43="O",12,IF(N43="O",6,IF(O43="O",7)))+Liste!H$23 -> 8 | G43: =IF(M44="O",COUNTA(Q44:AB44,AS44:AT44),IF(N44="O",COUNTA(AD44:AI44,AS44:AT44),IF(O44="O",COUNTA(AK44:AQ44,AS44:AT44),""))) -> 1 | H43: =IF(M43="O",SUMIF(Q43:AB43,"<>",Q$8:AB$8),IF(N43="O",SUMIF(AD43:AI43,"<>",AD$8:AI$8),IF(O43="O",SUMIF(AK43:AQ43,"<>",AK$8:AQ$8),0))) -> 6 | I43: =G43/F43 -> 0.125 | J43: =COUNTA(AV43:AZ43) -> 1 | N43: O | AD43: 43647 | AE43: 43724 | AV43: 43735
F44: =IF(M44="O",12,IF(N44="O",6,IF(O44="O",7)))+Liste!H$23 -> 8 | G44: =IF(M45="O",COUNTA(Q45:AB45,AS45:AT45),IF(N45="O",COUNTA(AD45:AI45,AS45:AT45),IF(O45="O",COUNTA(AK45:AQ45,AS45:AT45),""))) -> 0 | H44: =IF(M44="O",SUMIF(Q44:AB44,"<>",Q$8:AB$8),IF(N44="O",SUMIF(AD44:AI44,"<>",AD$8:AI$8),IF(O44="O",SUMIF(AK44:AQ44,"<>",AK$8:AQ$8),0))) -> 2 | I44: =G44/F44 -> 0 | J44: =COUNTA(AV44:AZ44) -> 1 | N44: O | AF44: 44103 | AV44: 43845
...

Sheet Liste
D5: Intermédiaire et Proximité | H5: Encadrement Technique | L5: Stratégique et Supérieur
D7: Chef de service | I7: Chef d'Equipe | M7: Direction
D8: Chef de Bureau | I8: Chef d'Exploitation | M8: Direction Adjointe
D9: Responsable Parc JJR | M9: DGA
D10: Responsable Marais de Sacy
D11: Responsable UTD
D12: Chef de centre
D13: Chef Adjoint Service
D14: Responsable d'équipe
D19: Formations "Hors dispositifs" | H19: =COUNTA('Etat des Formations'!AV7:AZ7) -> 0
D20: Nombre de Formation Intermédiaire et Proximité | H20: =COUNTA('Etat des Formations'!Q7:AB7) -> 0
D21: Nombre de Formation Encadrement technique | H21: =COUNTA('Etat des Formations'!AD7:AI7) -> 0
D22: Nombre de Formation Stratégique et Supérieur | H22: =COUNTA('Etat des Formations'!AK7:AQ7) -> 0
D23: Nombre de Formation "Toute Strate" | H23: =COUNTA(D59:G60) -> 2
H26: Nombre de jours
D27: Intermédiaire et Proximité - Strates 3 et 4
D28: Travailler en mode projet | H28: 3
D29: Le manager, vecteur de l'accompagnement au changement | H29: 3
D30: Le courage managérial | H30: 2
D31: Personnalités et générations : comprendre pour manager les différences | H31: 4
D32: Manager en prévenant les risques psycho-sociaux | H32: 2
D33: Le management innovant : réinventer son management | H33: 2
D34: L'appropriation d'une démarche collaborative : le design de service | H34: 2
D35: L'organisation et l'animation des réunions créatives de résolution de problèmes | H35: 3
D36: Propos et comportements sexistes au travail | H36: 1
D37: L'erreur comme un levier de réussite | H37: 1
D38: Sensibilisation à la prévention des discriminations | H38: 1
D39: La prévention du harcèlement au travail | H39: 1
D40: TOTAL | H40: =SUM(H28:H39) -> 25
D41: Encadrement Technique - Strate 5
D42: Encadrer une équipe au quotidien | H42: 3
D43: Communiquer efficacement et donner du sens au travail d'équipe | H43: 3
D44: Manager en prévenant les risques psycho-sociaux | H44: 2
D45: La prévention du harcèlement au travail | H45: 1
D46: Sensibilisation à la prévention des discriminations | H46: 1
D47: Propos et comportements sexistes au travail | H47: 1
D48: TOTAL | H48: =SUM(H42:H47) -> 11
D49: Stratégique et Supérieur - States 1 et 2
D50: Manager en prévenant les risques psycho-sociaux | H50: 2
D51: L'appropriation d'une démarche collaborative : le design de service | H51: 2
...

Sheet Départs
A1: ETAT DES DEPARTS
J6: Typologie Encadrant | N6: Intermédiaire et Proximité - Strate 3 et 4 | AA6: Encadrement Technique - Strate 5 | AH6: Stratégique et Supérieur - Strate 1 et 2 | AP6: Toute Strate | AS6: Formations "Hors Dispositif"
J7: INTERMEDIAIRE ET PROXIMITE (12 Formations = 25 jours) | K7: ENCADREMENT TECHNIQUE (6 Formations = 11 jours) | L7: STRATEGIQUE ET SUPERIEUR (7 Formations = 9 jours) | N7: TRAVAILLER EN MODE PROJET | O7: LE MANAGER, VECTEUR DE L'ACCOMPAGNEMENT AU CHANGEMENT | P7: LE COURAGE MANAGERIAL | Q7: PERSONNALITES ET GENERATIONS : COMPRENDRE POUR MANAGER LES DIFFERENCES | R7: MANAGER EN PREVENANT LES RISQUES PSYCHO-SOCIAUX | S7: LE MANAGEMENT INNOVANT : REINVENTER SON MANAGEMENT | T7: L'APPROPRIATION D'UNE DEMARCHE COLLABORATIVE : LE DESIGN DE SERVICE | U7: L'ORGANISATION ET L'ANIMATION DES REUNIONS CREATIVES DE RESOLUTION DE PROBLEMES | V7: LA PREVENTION DU HARCELEMENT AU TRAVAIL | W7: PROPOS ET COMPORTEMENTS SEXISTES AU TRAVAIL | X7: L'ERREUR COMME UN LEVIER DE REUSSITE | Y7: SENSIBILISATION A LA PREVENTION DES DISCRIMINATIONS | AA7: ENCADRER UNE EQUIPE AU QUOTIDIEN | AB7: COMMUNIQUER EFFICACEMENT ET DONNER DU SENS AU TRAVAIL D'EQUIPE | AC7: MANAGER EN PREVENANT LES RISQUES PSYCHO-SOCIAUX | AD7: LA PREVENTION DU HARCELEMENT AU TRAVAIL | AE7: SENSIBILISATION A LA PREVENTION DES DISCRIMINATION | AF7: PROPOS ET COMPORTEMENTS SEXISTES AU TRAVAIL | AH7: MANAGER EN PREVENANT LES RISQUES PSYCHO-SOCIAUX | AI7: L'APPROPRIATION D'UNE DEMARCHE COLLABORATIVE : LE DESIGN DE SERVICE | AJ7: PROPOS ET COMPORTEMENTS SEXISTES AU TRAVAIL : LIBERATION DE LA PAROLE A LA PREVENTION | AK7: LA PREVENTION DU HARCELEMENT AU TRAVAIL | AL7: LE COURAGE MANAGERIAL | AM7: L'ERRREUR COMME UN LEVIER DE REUSSITE | AN7: SENSIBILISATION A LA PREVENTION DES DISCRIMINATIONS | AP7: LE MANAGER RECRUTEUR | AQ7: TECHNIQUE ET POSTURE POUR MENER UN ENTRETIEN D'EVALUATION | AS7: ACCOMPAGNEMENT PRISE DE POSTE CHEFS D'EQUIPE DES ROUTES | AT7: LE DEPLOIEMENT ET LA COMMUNICATION D'UNE DECISION STRATEGIQUE POUR INDUIRE LE CHANGEMENT DE CULTURE MANAGARIAL | AU7: CONFERENCE DEBAT SUR L'INNOVATION MANAGERIALE | AV7: WEBINAIRE INTRODUCTION A L'INNOVATION PUBLIQUE GROUPE 2 | AW7: LE DEPLOIEMENT D'UN PLAN STRATEGIQUE PRECONCU - STRATES 3 ET 4
A8: Matricule | B8: Nom | C8: Prénom | D8: Service père | E8: Service | F8: Nbre de Formations Proposées | G8: Nbre de Formations suivies | H8: En % | I8: Formations Effectuées "Hors Dispositif"
