Workbook
Name _GoBack: 'Etat des Formations'!$M$7

Sheet Etat des Formations
AX1: MAJ 211012
P4: Etat des formations management suivies par les encadrants de la DGA ADEM de 2018 au 01/09/2021
M6: Typologie Encadrant | Q6: IP : Intermédiaire et Proximité - Strate 3 et 4 | AD6: EC : Encadrement Technique - Strate 5 | AK6: SS : Stratégique et Supérieur - Strate 1 et 2 | AS6: Toute Strate | AV6: Formations "Hors Dispositif"
A8: Matricule | B8: Nom | C8: Prénom | D8: Service père | E8: Service | F8: Nbre de Formations Proposées | G8: Nbre de Formations suivies /Par Strate | H8: Nbre de jours de Formations suivies / Par Strate | I8: En % | J8: Formations Effectuées "Hors Dispositif" | K8: Ancienne Strate | L8: Nbre de Formations suivies | P8: Nbre de Jours / Formation | Q8: =Liste!H28 -> 3 | R8: =Liste!H29 -> 3 | S8: =Liste!H30 -> 2 | T8: =Liste!H31 -> 4 | U8: =Liste!H32 -> 2 | V8: =Liste!H33 -> 2 | W8: =Liste!H34 -> 2 | X8: =Liste!H35 -> 3 | Y8: =Liste!H36 -> 1 | Z8: =Liste!H37 -> 1 | AA8: =Liste!H38 -> 1 | AB8: =Liste!H39 -> 1 | AC8: =SUM(Q8:AB8) -> 25 | AD8: =Liste!H42 -> 3 | AE8: =Liste!H43 -> 3 | AF8: =Liste!H44 -> 2 | AG8: =Liste!H45 -> 1 | AH8: =Liste!H46 -> 1 | AI8: =Liste!H47 -> 1 | AJ8: =SUM(AD8:AI8) -> 11 | AK8: =Liste!H50 -> 2 | AL8: =Liste!H51 -> 2 | AM8: =Liste!H52 -> 1 | AN8: =Liste!H53 -> 1 | AO8: =Liste!H54 -> 1 | AP8: =Liste!H55 -> 1 | AQ8: =Liste!H56 -> 1 | AR8: =SUM(AK8:AQ8) -> 9 | AS8: =Liste!H59 -> 1 | AT8: =Liste!H60 -> 2 | AU8: =SUM(AS8:AT8) -> 3 | AV8: =Liste!H65 -> 3 | AW8: =Liste!H66 -> 2 | AX8: =Liste!H67 -> 1 | AY8: =Liste!H68 -> 1 | AZ8: =Liste!H69 -> 3 | BA8: =SUM(AV8:AZ8) -> 10
F9: =IF(M9="O",12,IF(N9="O",6,IF(O9="O",7)))+Liste!H$23 -> 14 | G9: =IF(M10="O",COUNTA(Q10:AB10,AS10:AT10),IF(N10="O",COUNTA(AD10:AI10,AS10:AT10),IF(O10="O",COUNTA(AK10:AQ10,AS10:AT10),""))) -> 2 | H9: =IF(M9="O",SUMIF(Q9:AB9,"<>",Q$8:AB$8),IF(N9="O",SUMIF(AD9:AI9,"<>",AD$8:AI$8),IF(O9="O",SUMIF(AK9:AQ9,"<>",AK$8:AQ$8),0))) -> 0 | I9: =G9/F9 -> 0.14285714 | J9: =COUNTA(AV9:AZ9) -> 0 | M9: O
F10: =IF(M10="O",12,IF(N10="O",6,IF(O10="O",7)))+Liste!H$23 -> 8 | G10: =IF(M11="O",COUNTA(Q11:AB11,AS11:AT11),IF(N11="O",COUNTA(AD11:AI11,AS11:AT11),IF(O11="O",COUNTA(AK11:AQ11,AS11:AT11),""))) -> 1 | H10: =IF(M10="O",SUMIF(Q10:AB10,"<>",Q$8:AB$8),IF(N10="O",SUMIF(AD10:AI10,"<>",AD$8:AI$8),IF(O10="O",SUMIF(AK10:AQ10,"<>",AK$8:AQ$8),0))) -> 5 | I10: =G10/F10 -> 0.125 | J10: =COUNTA(AV10:AZ10) -> 0 | N10: O | AE10: 43724 | AF10: 43412
F11: =IF(M11="O",12,IF(N11="O",6,IF(O11="O",7)))+Liste!H$23 -> 8 | G11: =IF(M12="O",COUNTA(Q12:AB12,AS12:AT12),IF(N12="O",COUNTA(AD12:AI12,AS12:AT12),IF(O12="O",COUNTA(AK12:AQ12,AS12:AT12),""))) -> 0 | H11: =IF(M11="O",SUMIF(Q11:AB11,"<>",Q$8:AB$8),IF(N11="O",SUMIF(AD11:AI11,"<>",AD$8:AI$8),IF(O11="O",SUMIF(AK11:AQ11,"<>",AK$8:AQ$8),0))) -> 3 | I11: =G11/F11 -> 0 | J11: =COUNTA(AV11:AZ11) -> 1 | N11: O | AD11: 43240 | AV11: 43685
F12: =IF(M12="O",12,IF(N12="O",6,IF(O12="O",7)))+Liste!H$23 -> 14 | G12: =IF(M13="O",COUNTA(Q13:AB13,AS13:AT13),IF(N13="O",COUNTA(AD13:AI13,AS13:AT13),IF(O13="O",COUNTA(AK13:AQ13,AS13:AT13),""))) -> 0 | H12: =IF(M12="O",SUMIF(Q12:AB12,"<>",Q$8:AB$8),IF(N12="O",SUMIF(AD12:AI12,"<>",AD$8:AI$8),IF(O12="O",SUMIF(AK12:AQ12,"<>",AK$8:AQ$8),0))) -> 0 | I12: =G12/F12 -> 0 | J12: =COUNTA(AV12:AZ12) -> 0 | M12: O
F13: =IF(M13="O",12,IF(N13="O",6,IF(O13="O",7)))+Liste!H$23 -> 9 | G13: =IF(M14="O",COUNTA(Q14:AB14,AS14:AT14),IF(N14="O",COUNTA(AD14:AI14,AS14:AT14),IF(O14="O",COUNTA(AK14:AQ14,AS14:AT14),""))) -> 0 | H13: =IF(M13="O",SUMIF(Q13:AB13,"<>",Q$8:AB$8),IF(N13="O",SUMIF(AD13:AI13,"<>",AD$8:AI$8),IF(O13="O",SUMIF(AK13:AQ13,"<>",AK$8:AQ$8),0))) -> 0 | I13: =G13/F13 -> 0 | J13: =COUNTA(AV13:AZ13) -> 2 | O13: O | AW13: 43384 | AX13: 43210
F14: =IF(M14="O",12,IF(N14="O",6,IF(O14="O",7)))+Liste!H$23 -> 8 | G14: =IF(M15="O",COUNTA(Q15:AB15,AS15:AT15),IF(N15="O",COUNTA(AD15:AI15,AS15:AT15),IF(O15="O",COUNTA(AK15:AQ15,AS15:AT15),""))) -> 1 | H14: =IF(M14="O",SUMIF(Q14:AB14,"<>",Q$8:AB$8),IF(N14="O",SUMIF(AD14:AI14,"<>",AD$8:AI$8),IF(O14="O",SUMIF(AK14:AQ14,"<>",AK$8:AQ$8),0))) -> 0 | I14: =G14/F14 -> 0.125 | J14: =COUNTA(AV14:AZ14) -> 1 | N14: O | AV14: 43817
F15: =IF(M15="O",12,IF(N15="O",6,IF(O15="O",7)))+Liste!H$23 -> 14 | G15: =IF(M16="O",COUNTA(Q16:AB16,AS16:AT16),IF(N16="O",COUNTA(AD16:AI16,AS16:AT16),IF(O16="O",COUNTA(AK16:AQ16,AS16:AT16),""))) -> 2 | H15: =IF(M15="O",SUMIF(Q15:AB15,"<>",Q$8:AB$8),IF(N15="O",SUMIF(AD15:AI15,"<>",AD$8:AI$8),IF(O15="O",SUMIF(AK15:AQ15,"<>",AK$8:AQ$8),0))) -> 3 | I15: =G15/F15 -> 0.14285714 | J15: =COUNTA(AV15:AZ15) -> 0 | M15: O | Q15: 43619
F16: =IF(M16="O",12,IF(N16="O",6,IF(O16="O",7)))+Liste!H$23 -> 8 | G16: =IF(M17="O",COUNTA(Q17:AB17,AS17:AT17),IF(N17="O",COUNTA(AD17:AI17,AS17:AT17),IF(O17="O",COUNTA(AK17:AQ17,AS17:AT17),""))) -> 0 | H16: =IF(M16="O",SUMIF(Q16:AB16,"<>",Q$8:AB$8),IF(N16="O",SUMIF(AD16:AI16,"<>",AD$8:AI$8),IF(O16="O",SUMIF(AK16:AQ16,"<>",AK$8:AQ$8),0))) -> 5 | I16: =G16/F16 -> 0 | J16: =COUNTA(AV16:AZ16) -> 0 | N16: O | AD16: 43605 | AF16: 44103
F17: =IF(M17="O",12,IF(N17="O",6,IF(O17="O",7)))+Liste!H$23 -> 8 | G17: =IF(M18="O",COUNTA(Q18:AB18,AS18:AT18),IF(N18="O",COUNTA(AD18:AI18,AS18:AT18),IF(O18="O",COUNTA(AK18:AQ18,AS18:AT18),""))) -> 0 | H17: =IF(M17="O",SUMIF(Q17:AB17,"<>",Q$8:AB$8),IF(N17="O",SUMIF(AD17:AI17,"<>",AD$8:AI$8),IF(O17="O",SUMIF(AK17:AQ17,"<>",AK$8:AQ$8),0))) -> 0 | I17: =G17/F17 -> 0 | J17: =COUNTA(AV17:AZ17) -> 0 | N17: O
F18: =IF(M18="O",12,IF(N18="O",6,IF(O18="O",7)))+Liste!H$23 -> 9 | G18: =IF(M19="O",COUNTA(Q19:AB19,AS19:AT19),IF(N19="O",COUNTA(AD19:AI19,AS19:AT19),IF(O19="O",COUNTA(AK19:AQ19,AS19:AT19),""))) -> 2 | H18: =IF(M18="O",SUMIF(Q18:AB18,"<>",Q$8:AB$8),IF(N18="O",SUMIF(AD18:AI18,"<>",AD$8:AI$8),IF(O18="O",SUMIF(AK18:AQ18,"<>",AK$8:AQ$8),0))) -> 0 | I18: =G18/F18 -> 0.22222222 | J18: =COUNTA(AV18:AZ18) -> 0 | K18: IP | L18: =COUNTA(Q18:AB18) -> 3 | O18: O | Q18: 43262 | S18: 43374 | U18: 43808
F19: =IF(M19="O",12,IF(N19="O",6,IF(O19="O",7)))+Liste!H$23 -> 8 | G19: =IF(M20="O",COUNTA(Q20:AB20,AS20:AT20),IF(N20="O",COUNTA(AD20:AI20,AS20:AT20),IF(O20="O",COUNTA(AK20:AQ20,AS20:AT20),""))) -> 3 | H19: =IF(M19="O",SUMIF(Q19:AB19,"<>",Q$8:AB$8),IF(N19="O",SUMIF(AD19:AI19,"<>",AD$8:AI$8),IF(O19="O",SUMIF(AK19:AQ19,"<>",AK$8:AQ$8),0))) -> 6 | I19: =G19/F19 -> 0.375 | J19: =COUNTA(AV19:AZ19) -> 0 | N19: O | AD19: 43605 | AE19: 43815
F20: =IF(M20="O",12,IF(N20="O",6,IF(O20="O",7)))+Liste!H$23 -> 8 | G20: =IF(M21="O",COUNTA(Q21:AB21,AS21:AT21),IF(N21="O",COUNTA(AD21:AI21,AS21:AT21),IF(O21="O",COUNTA(AK21:AQ21,AS21:AT21),""))) -> 3 | H20: =IF(M20="O",SUMIF(Q20:AB20,"<>",Q$8:AB$8),IF(N20="O",SUMIF(AD20:AI20,"<>",AD$8:AI$8),IF(O20="O",SUMIF(AK20:AQ20,"<>",AK$8:AQ$8),0))) -> 8 | I20: =G20/F20 -> 0.375 | J20: =COUNTA(AV20:AZ20) -> 0 | N20: O | AD20: 43647 | AE20: 43628 | AF20: 43797
F21: =IF(M21="O",12,IF(N21="O",6,IF(O21="O",7)))+Liste!H$23 -> 14 | G21: =IF(M22="O",COUNTA(Q22:AB22,AS22:AT22),IF(N22="O",COUNTA(AD22:AI22,AS22:AT22),IF(O22="O",COUNTA(AK22:AQ22,AS22:AT22),""))) -> 0 | H21: =IF(M21="O",SUMIF(Q21:AB21,"<>",Q$8:AB$8),IF(N21="O",SUMIF(AD21:AI21,"<>",AD$8:AI$8),IF(O21="O",SUMIF(AK21:AQ21,"<>",AK$8:AQ$8),0))) -> 8 | I21: =G21/F21 -> 0 | J21: =COUNTA(AV21:AZ21) -> 0 | M21: O | S21: 43528 | T21: 43713 | U21: 43808
F22: =IF(M22="O",12,IF(N22="O",6,IF(O22="O",7)))+Liste!H$23 -> 8 | G22: =IF(M23="O",COUNTA(Q23:AB23,AS23:AT23),IF(N23="O",COUNTA(AD23:AI23,AS23:AT23),IF(O23="O",COUNTA(AK23:AQ23,AS23:AT23),""))) -> 0 | H22: =IF(M22="O",SUMIF(Q22:AB22,"<>",Q$8:AB$8),IF(N22="O",SUMIF(AD22:AI22,"<>",AD$8:AI$8),IF(O22="O",SUMIF(AK22:AQ22,"<>",AK$8:AQ$8),0))) -> 0 | I22: =G22/F22 -> 0 | J22: =COUNTA(AV22:AZ22) -> 1 | N22: O | AV22: 43832
F23: =IF(M23="O",12,IF(N23="O",6,IF(O23="O",7)))+Liste!H$23 -> 14 | G23: =IF(M24="O",COUNTA(Q24:AB24,AS24:AT24),IF(N24="O",COUNTA(AD24:AI24,AS24:AT24),IF(O24="O",COUNTA(AK24:AQ24,AS24:AT24),""))) -> 3 | H23: =IF(M23="O",SUMIF(Q23:AB23,"<>",Q$8:AB$8),IF(N23="O",SUMIF(AD23:AI23,"<>",AD$8:AI$8),IF(O23="O",SUMIF(AK23:AQ23,"<>",AK$8:AQ$8),0))) -> 0 | I23: =G23/F23 -> 0.21428571 | J23: =COUNTA(AV23:AZ23) -> 0 | M23: O
F24: =IF(M24="O",12,IF(N24="O",6,IF(O24="O",7)))+Liste!H$23 -> 8 | G24: =IF(M25="O",COUNTA(Q25:AB25,AS25:AT25),IF(N25="O",COUNTA(AD25:AI25,AS25:AT25),IF(O25="O",COUNTA(AK25:AQ25,AS25:AT25),""))) -> 2 | H24: =IF(M24="O",SUMIF(Q24:AB24,"<>",Q$8:AB$8),IF(N24="O",SUMIF(AD24:AI24,"<>",AD$8:AI$8),IF(O24="O",SUMIF(AK24:AQ24,"<>",AK$8:AQ$8),0))) -> 8 | I24: =G24/F24 -> 0.25 | J24: =COUNTA(AV24:AZ24) -> 0 | N24: O | AD24: 43741 | AE24: 43628 | AF24: 43643
F25: =IF(M25="O",12,IF(N25="O",6,IF(O25="O",7)))+Liste!H$23 -> 8 | G25: =IF(M26="O",COUNTA(Q26:AB26,AS26:AT26),IF(N26="O",COUNTA(AD26:AI26,AS26:AT26),IF(O26="O",COUNTA(AK26:AQ26,AS26:AT26),""))) -> 0 | H25: =IF(M25="O",SUMIF(Q25:AB25,"<>",Q$8:AB$8),IF(N25="O",SUMIF(AD25:AI25,"<>",AD$8:AI$8),IF(O25="O",SUMIF(AK25:AQ25,"<>",AK$8:AQ$8),0))) -> 6 | I25: =G25/F25 -> 0 | J25: =COUNTA(AV25:AZ25) -> 1 | N25: O | AD25: 43605 | AE25: 43383 | AV25: 43369
F26: =IF(M26="O",12,IF(N26="O",6,IF(O26="O",7)))+Liste!H$23 -> 14 | G26: =IF(M27="O",COUNTA(Q27:AB27,AS27:AT27),IF(N27="O",COUNTA(AD27:AI27,AS27:AT27),IF(O27="O",COUNTA(AK27:AQ27,AS27:AT27),""))) -> 0 | H26: =IF(M26="O",SUMIF(Q26:AB26,"<>",Q$8:AB$8),IF(N26="O",SUMIF(AD26:AI26,"<>",AD$8:AI$8),IF(O26="O",SUMIF(AK26:AQ26,"<>",AK$8:AQ$8),0))) -> 0 | I26: =G26/F26 -> 0 | J26: =COUNTA(AV26:AZ26) -> 0 | M26: O
F27: =IF(M27="O",12,IF(N27="O",6,IF(O27="O",7)))+Liste!H$23 -> 9 | G27: =IF(M28="O",COUNTA(Q28:AB28,AS28:AT28),IF(N28="O",COUNTA(AD28:AI28,AS28:AT28),IF(O28="O",COUNTA(AK28:AQ28,AS28:AT28),""))) -> 0 | H27: =IF(M27="O",SUMIF(Q27:AB27,"<>",Q$8:AB$8),IF(N27="O",SUMIF(AD27:AI27,"<>",AD$8:AI$8),IF(O27="O",SUMIF(AK27:AQ27,"<>",AK$8:AQ$8),0))) -> 0 | I27: =G27/F27 -> 0 | J27: =COUNTA(AV27:AZ27) -> 1 | K27: IP | L27: =COUNTA(Q27:AB27) -> 2 | O27: O | R27: 43264 | T27: 43563 | AY27: 44216
F28: =IF(M28="O",12,IF(N28="O",6,IF(O28="O",7)))+Liste!H$23 -> 8 | G28: =IF(M29="O",COUNTA(Q29:AB29,AS29:AT29),IF(N29="O",COUNTA(AD29:AI29,AS29:AT29),IF(O29="O",COUNTA(AK29:AQ29,AS29:AT29),""))) -> 0 | H28: =IF(M28="O",SUMIF(Q28:AB28,"<>",Q$8:AB$8),IF(N28="O",SUMIF(AD28:AI28,"<>",AD$8:AI$8),IF(O28="O",SUMIF(AK28:AQ28,"<>",AK$8:AQ$8),0))) -> 0 | I28: =G28/F28 -> 0 | J28: =COUNTA(AV28:AZ28) -> 1 | N28: O | AV28: 44120
F29: =IF(M29="O",12,IF(N29="O",6,IF(O29="O",7)))+Liste!H$23 -> 14 | G29: =IF(M30="O",COUNTA(Q30:AB30,AS30:AT30),IF(N30="O",COUNTA(AD30:AI30,AS30:AT30),IF(O30="O",COUNTA(AK30:AQ30,AS30:AT30),""))) -> 2 | H29: =IF(M29="O",SUMIF(Q29:AB29,"<>",Q$8:AB$8),IF(N29="O",SUMIF(AD29:AI29,"<>",AD$8:AI$8),IF(O29="O",SUMIF(AK29:AQ29,"<>",AK$8:AQ$8),0))) -> 0 | I29: =G29/F29 -> 0.14285714 | J29: =COUNTA(AV29:AZ29) -> 0 | M29: O
F30: =IF(M30="O",12,IF(N30="O",6,IF(O30="O",7)))+Liste!H$23 -> 8 | G30: =IF(M31="O",COUNTA(Q31:AB31,AS31:AT31),IF(N31="O",COUNTA(AD31:AI31,AS31:AT31),IF(O31="O",COUNTA(AK31:AQ31,AS31:AT31),""))) -> 0 | H30: =IF(M30="O",SUMIF(Q30:AB30,"<>",Q$8:AB$8),IF(N30="O",SUMIF(AD30:AI30,"<>",AD$8:AI$8),IF(O30="O",SUMIF(AK30:AQ30,"<>",AK$8:AQ$8),0))) -> 5 | I30: =G30/F30 -> 0 | J30: =COUNTA(AV30:AZ30) -> 1 | N30: O | AD30: 43741 | AF30: 43717 | AV30: 43259
F31: =IF(M31="O",12,IF(N31="O",6,IF(O31="O",7)))+Liste!H$23 -> 8 | G31: =IF(M32="O",COUNTA(Q32:AB32,AS32:AT32),IF(N32="O",COUNTA(AD32:AI32,AS32:AT32),IF(O32="O",COUNTA(AK32:AQ32,AS32:AT32),""))) -> 0 | H31: =IF(M31="O",SUMIF(Q31:AB31,"<>",Q$8:AB$8),IF(N31="O",SUMIF(AD31:AI31,"<>",AD$8:AI$8),IF(O31="O",SUMIF(AK31:AQ31,"<>",AK$8:AQ$8),0))) -> 0 | I31: =G31/F31 -> 0 | J31: =COUNTA(AV31:AZ31) -> 0 | N31: O
F32: =IF(M32="O",12,IF(N32="O",6,IF(O32="O",7)))+Liste!H$23 -> 8 | G32: =IF(M33="O",COUNTA(Q33:AB33,AS33:AT33),IF(N33="O",COUNTA(AD33:AI33,AS33:AT33),IF(O33="O",COUNTA(AK33:AQ33,AS33:AT33),""))) -> 1 | H32: =IF(M32="O",SUMIF(Q32:AB32,"<>",Q$8:AB$8),IF(N32="O",SUMIF(AD32:AI32,"<>",AD$8:AI$8),IF(O32="O",SUMIF(AK32:AQ32,"<>",AK$8:AQ$8),0))) -> 0 | I32: =G32/F32 -> 0.125 | J32: =COUNTA(AV32:AZ32) -> 0 | N32: O
F33: =IF(M33="O",12,IF(N33="O",6,IF(O33="O",7)))+Liste!H$23 -> 8 | G33: =IF(M34="O",COUNTA(Q34:AB34,AS34:AT34),IF(N34="O",COUNTA(AD34:AI34,AS34:AT34),IF(O34="O",COUNTA(AK34:AQ34,AS34:AT34),""))) -> 0 | H33: =IF(M33="O",SUMIF(Q33:AB33,"<>",Q$8:AB$8),IF(N33="O",SUMIF(AD33:AI33,"<>",AD$8:AI$8),IF(O33="O",SUMIF(AK33:AQ33,"<>",AK$8:AQ$8),0))) -> 3 | I33: =G33/F33 -> 0 | J33: =COUNTA(AV33:AZ33) -> 0 | N33: O | AD33: 43741
F34: =IF(M34="O",12,IF(N34="O",6,IF(O34="O",7)))+Liste!H$23 -> 14 | G34: =IF(M35="O",COUNTA(Q35:AB35,AS35:AT35),IF(N35="O",COUNTA(AD35:AI35,AS35:AT35),IF(O35="O",COUNTA(AK35:AQ35,AS35:AT35),""))) -> 1 | H34: =IF(M34="O",SUMIF(Q34:AB34,"<>",Q$8:AB$8),IF(N34="O",SUMIF(AD34:AI34,"<>",AD$8:AI$8),IF(O34="O",SUMIF(AK34:AQ34,"<>",AK$8:AQ$8),0))) -> 0 | I34: =G34/F34 -> 0.071428571 | J34: =COUNTA(AV34:AZ34) -> 0 | M34: O
F35: =IF(M35="O",12,IF(N35="O",6,IF(O35="O",7)))+Liste!H$23 -> 14 | G35: =IF(M36="O",COUNTA(Q36:AB36,AS36:AT36),IF(N36="O",COUNTA(AD36:AI36,AS36:AT36),IF(O36="O",COUNTA(AK36:AQ36,AS36:AT36),""))) -> 1 | H35: =IF(M35="O",SUMIF(Q35:AB35,"<>",Q$8:AB$8),IF(N35="O",SUMIF(AD35:AI35,"<>",AD$8:AI$8),IF(O35="O",SUMIF(AK35:AQ35,"<>",AK$8:AQ$8),0))) -> 3 | I35: =G35/F35 -> 0.071428571 | J35: =COUNTA(AV35:AZ35) -> 0 | M35: O | R35: 43773
F36: =IF(M36="O",12,IF(N36="O",6,IF(O36="O",7)))+Liste!H$23 -> 14 | G36: =IF(M37="O",COUNTA(Q37:AB37,AS37:AT37),IF(N37="O",COUNTA(AD37:AI37,AS37:AT37),IF(O37="O",COUNTA(AK37:AQ37,AS37:AT37),""))) -> 2 | H36: =IF(M36="O",SUMIF(Q36:AB36,"<>",Q$8:AB$8),IF(N36="O",SUMIF(AD36:AI36,"<>",AD$8:AI$8),IF(O36="O",SUMIF(AK36:AQ36,"<>",AK$8:AQ$8),0))) -> 2 | I36: =G36/F36 -> 0.14285714 | J36: =COUNTA(AV36:AZ36) -> 0 | M36: O | U36: 44088
F37: =IF(M37="O",12,IF(N37="O",6,IF(O37="O",7)))+Liste!H$23 -> 8 | G37: =IF(M38="O",COUNTA(Q38:AB38,AS38:AT38),IF(N38="O",COUNTA(AD38:AI38,AS38:AT38),IF(O38="O",COUNTA(AK38:AQ38,AS38:AT38),""))) -> 0 | H37: =IF(M37="O",SUMIF(Q37:AB37,"<>",Q$8:AB$8),IF(N37="O",SUMIF(AD37:AI37,"<>",AD$8:AI$8),IF(O37="O",SUMIF(AK37:AQ37,"<>",AK$8:AQ$8),0))) -> 6 | I37: =G37/F37 -> 0 | J37: =COUNTA(AV37:AZ37) -> 0 | N37: O | AD37: 43647 | AE37: 43724
F38: =IF(M38="O",12,IF(N38="O",6,IF(O38="O",7)))+Liste!H$23 -> 14 | G38: =IF(M39="O",COUNTA(Q39:AB39,AS39:AT39),IF(N39="O",COUNTA(AD39:AI39,AS39:AT39),IF(O39="O",COUNTA(AK39:AQ39,AS39:AT39),""))) -> 2 | H38: =IF(M38="O",SUMIF(Q38:AB38,"<>",Q$8:AB$8),IF(N38="O",SUMIF(AD38:AI38,"<>",AD$8:AI$8),IF(O38="O",SUMIF(AK38:AQ38,"<>",AK$8:AQ$8),0))) -> 0 | I38: =G38/F38 -> 0.14285714 | J38: =COUNTA(AV38:AZ38) -> 0 | M38: O
F39: =IF(M39="O",12,IF(N39="O",6,IF(O39="O",7)))+Liste!H$23 -> 8 | G39: =IF(M40="O",COUNTA(Q40:AB40,AS40:AT40),IF(N40="O",COUNTA(AD40:AI40,AS40:AT40),IF(O40="O",COUNTA(AK40:AQ40,AS40:AT40),""))) -> 1 | H39: =IF(M39="O",SUMIF(Q39:AB39,"<>",Q$8:AB$8),IF(N39="O",SUMIF(AD39:AI39,"<>",AD$8:AI$8),IF(O39="O",SUMIF(AK39:AQ39,"<>",AK$8:AQ$8),0))) -> 5 | I39: =G39/F39 -> 0.125 | J39: =COUNTA(AV39:AZ39) -> 0 | N39: O | AE39: 43383 | AF39: 43412
F40: =IF(M40="O",12,IF(N40="O",6,IF(O40="O",7)))+Liste!H$23 -> 14 | G40: =IF(M41="O",COUNTA(Q41:AB41,AS41:AT41),IF(N41="O",COUNTA(AD41:AI41,AS41:AT41),IF(O41="O",COUNTA(AK41:AQ41,AS41:AT41),""))) -> 0 | H40: =IF(M40="O",SUMIF(Q40:AB40,"<>",Q$8:AB$8),IF(N40="O",SUMIF(AD40:AI40,"<>",AD$8:AI$8),IF(O40="O",SUMIF(AK40:AQ40,"<>",AK$8:AQ$8),0))) -> 4 | I40: =G40/F40 -> 0 | J40: =COUNTA(AV40:AZ40) -> 0 | M40: O | T40: 43713
F41: =IF(M41="O",12,IF(N41="O",6,IF(O41="O",7)))+Liste!H$23 -> 8 | G41: =IF(M42="O",COUNTA(Q42:AB42,AS42:AT42),IF(N42="O",COUNTA(AD42:AI42,AS42:AT42),IF(O42="O",COUNTA(AK42:AQ42,AS42:AT42),""))) -> 2 | H41: =IF(M41="O",SUMIF(Q41:AB41,"<>",Q$8:AB$8),IF(N41="O",SUMIF(AD41:AI41,"<>",AD$8:AI$8),IF(O41="O",SUMIF(AK41:AQ41,"<>",AK$8:AQ$8),0))) -> 0 | I41: =G41/F41 -> 0.25 | J41: =COUNTA(AV41:AZ41) -> 0 | N41: O | S41: 44448
F42: =IF(M42="O",12,IF(N42="O",6,IF(O42="O",7)))+Liste!H$23 -> 14 | G42: =IF(M43="O",COUNTA(Q43:AB43,AS43:AT43),IF(N43="O",COUNTA(AD43:AI43,AS43:AT43),IF(O43="O",COUNTA(AK43:AQ43,AS43:AT43),""))) -> 2 | H42: =IF(M42="O",SUMIF(Q42:AB42,"<>",Q$8:AB$8),IF(N42="O",SUMIF(AD42:AI42,"<>",AD$8:AI$8),IF(O42="O",SUMIF(AK42:AQ42,"<>",AK$8:AQ$8),0))) -> 7 | I42: =G42/F42 -> 0.14285714 | J42: =COUNTA(AV42:AZ42) -> 0 | M42: O | Q42: 43794 | T42: 43355
F43: =IF(M43="O",12,IF(N43="O",6,IF(O43="O",7)))+Liste!H$23 -> 8 | G43: =IF(M44="O",COUNTA(Q44:AB44,AS44:AT44),IF(N44="O",COUNTA(AD44:AI44,AS44:AT44),IF(O44="O",COUNTA(AK44:AQ44,AS44:AT44),""))) -> 1 | H43: =IF(M43="O",SUMIF(Q43:AB43,"<>",Q$8:AB$8),IF(N43="O",SUMIF(AD43:AI43,"<>",AD$8:AI$8),IF(O43="O",SUMIF(AK43:AQ43,"<>",AK$8:AQ$8),0))) -> 6 | I43: =G43/F43 -> 0.125 | J43: =COUNTA(AV43:AZ43) -> 1 | N43: O | AD43: 43647 | AE43: 43724 | AV43: 43735
F44: =IF(M44="O",12,IF(N44="O",6,IF(O44="O",7)))+Liste!H$23 -> 8 | G44: =IF(M45="O",COUNTA(Q45:AB45,AS45:AT45),IF(N45="O",COUNTA(AD45:AI45,AS45:AT45),IF(O45="O",COUNTA(AK45:AQ45,AS45:AT45),""))) -> 0 | H44: =IF(M44="O",SUMIF(Q44:AB44,"<>",Q$8:AB$8),IF(N44="O",SUMIF(AD44:AI44,"<>",AD$8:AI$8),IF(O44="O",SUMIF(AK44:AQ44,"<>",AK$8:AQ$8),0))) -> 2 | I44: =G44/F44 -> 0 | J44: =COUNTA(AV44:AZ44) -> 1 | N44: O | AF44: 44103 | AV44: 43845
F45: =IF(M45="O",12,IF(N45="O",6,IF(O45="O",7)))+Liste!H$23 -> 14 | G45: =IF(M46="O",COUNTA(Q46:AB46,AS46:AT46),IF(N46="O",COUNTA(AD46:AI46,AS46:AT46),IF(O46="O",COUNTA(AK46:AQ46,AS46:AT46),""))) -> 2 | H45: =IF(M45="O",SUMIF(Q45:AB45,"<>",Q$8:AB$8),IF(N45="O",SUMIF(AD45:AI45,"<>",AD$8:AI$8),IF(O45="O",SUMIF(AK45:AQ45,"<>",AK$8:AQ$8),0))) -> 0 | I45: =G45/F45 -> 0.14285714 | J45: =COUNTA(AV45:AZ45) -> 0 | M45: O
F46: =IF(M46="O",12,IF(N46="O",6,IF(O46="O",7)))+Liste!H$23 -> 14 | G46: =IF(M47="O",COUNTA(Q47:AB47,AS47:AT47),IF(N47="O",COUNTA(AD47:AI47,AS47:AT47),IF(O47="O",COUNTA(AK47:AQ47,AS47:AT47),""))) -> 0 | H46: =IF(M46="O",SUMIF(Q46:AB46,"<>",Q$8:AB$8),IF(N46="O",SUMIF(AD46:AI46,"<>",AD$8:AI$8),IF(O46="O",SUMIF(AK46:AQ46,"<>",AK$8:AQ$8),0))) -> 5 | I46: =G46/F46 -> 0 | J46: =COUNTA(AV46:AZ46) -> 0 | M46: O | Q46: 44454 | S46: 43731
F47: =IF(M47="O",12,IF(N47="O",6,IF(O47="O",7)))+Liste!H$23 -> 8 | G47: =IF(M48="O",COUNTA(Q48:AB48,AS48:AT48),IF(N48="O",COUNTA(AD48:AI48,AS48:AT48),IF(O48="O",COUNTA(AK48:AQ48,AS48:AT48),""))) -> 0 | H47: =IF(M47="O",SUMIF(Q47:AB47,"<>",Q$8:AB$8),IF(N47="O",SUMIF(AD47:AI47,"<>",AD$8:AI$8),IF(O47="O",SUMIF(AK47:AQ47,"<>",AK$8:AQ$8),0))) -> 0 | I47: =G47/F47 -> 0 | J47: =COUNTA(AV47:AZ47) -> 0 | N47: O
F48: =IF(M48="O",12,IF(N48="O",6,IF(O48="O",7)))+Liste!H$23 -> 14 | G48: =IF(M49="O",COUNTA(Q49:AB49,AS49:AT49),IF(N49="O",COUNTA(AD49:AI49,AS49:AT49),IF(O49="O",COUNTA(AK49:AQ49,AS49:AT49),""))) -> 0 | H48: =IF(M48="O",SUMIF(Q48:AB48,"<>",Q$8:AB$8),IF(N48="O",SUMIF(AD48:AI48,"<>",AD$8:AI$8),IF(O48="O",SUMIF(AK48:AQ48,"<>",AK$8:AQ$8),0))) -> 0 | I48: =G48/F48 -> 0 | J48: =COUNTA(AV48:AZ48) -> 0 | M48: O
F49: =IF(M49="O",12,IF(N49="O",6,IF(O49="O",7)))+Liste!H$23 -> 14 | G49: =IF(M50="O",COUNTA(Q50:AB50,AS50:AT50),IF(N50="O",COUNTA(AD50:AI50,AS50:AT50),IF(O50="O",COUNTA(AK50:AQ50,AS50:AT50),""))) -> 3 | H49: =IF(M49="O",SUMIF(Q49:AB49,"<>",Q$8:AB$8),IF(N49="O",SUMIF(AD49:AI49,"<>",AD$8:AI$8),IF(O49="O",SUMIF(AK49:AQ49,"<>",AK$8:AQ$8),0))) -> 0 | I49: =G49/F49 -> 0.21428571 | J49: =COUNTA(AV49:AZ49) -> 0 | M49: O
F50: =IF(M50="O",12,IF(N50="O",6,IF(O50="O",7)))+Liste!H$23 -> 14 | G50: =IF(M51="O",COUNTA(Q51:AB51,AS51:AT51),IF(N51="O",COUNTA(AD51:AI51,AS51:AT51),IF(O51="O",COUNTA(AK51:AQ51,AS51:AT51),""))) -> 1 | H50: =IF(M50="O",SUMIF(Q50:AB50,"<>",Q$8:AB$8),IF(N50="O",SUMIF(AD50:AI50,"<>",AD$8:AI$8),IF(O50="O",SUMIF(AK50:AQ50,"<>",AK$8:AQ$8),0))) -> 9 | I50: =G50/F50 -> 0.071428571 | J50: =COUNTA(AV50:AZ50) -> 1 | M50: O | Q50: 43262 | T50: 43563 | U50: 43724 | AZ50: 43402
F51: =IF(M51="O",12,IF(N51="O",6,IF(O51="O",7)))+Liste!H$23 -> 9 | G51: =IF(M52="O",COUNTA(Q52:AB52,AS52:AT52),IF(N52="O",COUNTA(AD52:AI52,AS52:AT52),IF(O52="O",COUNTA(AK52:AQ52,AS52:AT52),""))) -> 1 | H51: =IF(M51="O",SUMIF(Q51:AB51,"<>",Q$8:AB$8),IF(N51="O",SUMIF(AD51:AI51,"<>",AD$8:AI$8),IF(O51="O",SUMIF(AK51:AQ51,"<>",AK$8:AQ$8),0))) -> 1 | I51: =G51/F51 -> 0.11111111 | J51: =COUNTA(AV51:AZ51) -> 1 | K51: IP | L51: =COUNTA(Q51:AB51) -> 1 | O51: O | R51: 44091 | AN51: 44448 | AY51: 44216
F52: =IF(M52="O",12,IF(N52="O",6,IF(O52="O",7)))+Liste!H$23 -> 8 | G52: =IF(M53="O",COUNTA(Q53:AB53,AS53:AT53),IF(N53="O",COUNTA(AD53:AI53,AS53:AT53),IF(O53="O",COUNTA(AK53:AQ53,AS53:AT53),""))) -> 2 | H52: =IF(M52="O",SUMIF(Q52:AB52,"<>",Q$8:AB$8),IF(N52="O",SUMIF(AD52:AI52,"<>",AD$8:AI$8),IF(O52="O",SUMIF(AK52:AQ52,"<>",AK$8:AQ$8),0))) -> 3 | I52: =G52/F52 -> 0.25 | J52: =COUNTA(AV52:AZ52) -> 0 | N52: O | AD52: 43605
F53: =IF(M53="O",12,IF(N53="O",6,IF(O53="O",7)))+Liste!H$23 -> 14 | G53: =IF(M54="O",COUNTA(Q54:AB54,AS54:AT54),IF(N54="O",COUNTA(AD54:AI54,AS54:AT54),IF(O54="O",COUNTA(AK54:AQ54,AS54:AT54),""))) -> 0 | H53: =IF(M53="O",SUMIF(Q53:AB53,"<>",Q$8:AB$8),IF(N53="O",SUMIF(AD53:AI53,"<>",AD$8:AI$8),IF(O53="O",SUMIF(AK53:AQ53,"<>",AK$8:AQ$8),0))) -> 5 | I53: =G53/F53 -> 0 | J53: =COUNTA(AV53:AZ53) -> 0 | M53: O | S53: 44448 | X53: 44354 | AD53: 43741 | AF53: 43643
F54: =IF(M54="O",12,IF(N54="O",6,IF(O54="O",7)))+Liste!H$23 -> 8 | G54: =IF(M55="O",COUNTA(Q55:AB55,AS55:AT55),IF(N55="O",COUNTA(AD55:AI55,AS55:AT55),IF(O55="O",COUNTA(AK55:AQ55,AS55:AT55),""))) -> 0 | H54: =IF(M54="O",SUMIF(Q54:AB54,"<>",Q$8:AB$8),IF(N54="O",SUMIF(AD54:AI54,"<>",AD$8:AI$8),IF(O54="O",SUMIF(AK54:AQ54,"<>",AK$8:AQ$8),0))) -> 0 | I54: =G54/F54 -> 0 | J54: =COUNTA(AV54:AZ54) -> 1 | N54: O | AV54: 44063
F55: =IF(M55="O",12,IF(N55="O",6,IF(O55="O",7)))+Liste!H$23 -> 14 | G55: =IF(M56="O",COUNTA(Q56:AB56,AS56:AT56),IF(N56="O",COUNTA(AD56:AI56,AS56:AT56),IF(O56="O",COUNTA(AK56:AQ56,AS56:AT56),""))) -> 1 | H55: =IF(M55="O",SUMIF(Q55:AB55,"<>",Q$8:AB$8),IF(N55="O",SUMIF(AD55:AI55,"<>",AD$8:AI$8),IF(O55="O",SUMIF(AK55:AQ55,"<>",AK$8:AQ$8),0))) -> 0 | I55: =G55/F55 -> 0.071428571 | J55: =COUNTA(AV55:AZ55) -> 0 | M55: O | AE55: 43628 | AF55: 43717
F56: =IF(M56="O",12,IF(N56="O",6,IF(O56="O",7)))+Liste!H$23 -> 14 | G56: =IF(M57="O",COUNTA(Q57:AB57,AS57:AT57),IF(N57="O",COUNTA(AD57:AI57,AS57:AT57),IF(O57="O",COUNTA(AK57:AQ57,AS57:AT57),""))) -> 0 | H56: =IF(M56="O",SUMIF(Q56:AB56,"<>",Q$8:AB$8),IF(N56="O",SUMIF(AD56:AI56,"<>",AD$8:AI$8),IF(O56="O",SUMIF(AK56:AQ56,"<>",AK$8:AQ$8),0))) -> 3 | I56: =G56/F56 -> 0 | J56: =COUNTA(AV56:AZ56) -> 0 | M56: O | R56: 44091
F57: =IF(M57="O",12,IF(N57="O",6,IF(O57="O",7)))+Liste!H$23 -> 14 | G57: =IF(M58="O",COUNTA(Q58:AB58,AS58:AT58),IF(N58="O",COUNTA(AD58:AI58,AS58:AT58),IF(O58="O",COUNTA(AK58:AQ58,AS58:AT58),""))) -> 0 | H57: =IF(M57="O",SUMIF(Q57:AB57,"<>",Q$8:AB$8),IF(N57="O",SUMIF(AD57:AI57,"<>",AD$8:AI$8),IF(O57="O",SUMIF(AK57:AQ57,"<>",AK$8:AQ$8),0))) -> 0 | I57: =G57/F57 -> 0 | J57: =COUNTA(AV57:AZ57) -> 0 | M57: O | AD57: 43278 | AE57: 43628 | AF57: 43643
F58: =IF(M58="O",12,IF(N58="O",6,IF(O58="O",7)))+Liste!H$23 -> 14 | G58: =IF(M59="O",COUNTA(Q59:AB59,AS59:AT59),IF(N59="O",COUNTA(AD59:AI59,AS59:AT59),IF(O59="O",COUNTA(AK59:AQ59,AS59:AT59),""))) -> 0 | H58: =IF(M58="O",SUMIF(Q58:AB58,"<>",Q$8:AB$8),IF(N58="O",SUMIF(AD58:AI58,"<>",AD$8:AI$8),IF(O58="O",SUMIF(AK58:AQ58,"<>",AK$8:AQ$8),0))) -> 0 | I58: =G58/F58 -> 0 | J58: =COUNTA(AV58:AZ58) -> 0 | M58: O
F59: =IF(M59="O",12,IF(N59="O",6,IF(O59="O",7)))+Liste!H$23 -> 8 | G59: =IF(M60="O",COUNTA(Q60:AB60,AS60:AT60),IF(N60="O",COUNTA(AD60:AI60,AS60:AT60),IF(O60="O",COUNTA(AK60:AQ60,AS60:AT60),""))) -> 1 | H59: =IF(M59="O",SUMIF(Q59:AB59,"<>",Q$8:AB$8),IF(N59="O",SUMIF(AD59:AI59,"<>",AD$8:AI$8),IF(O59="O",SUMIF(AK59:AQ59,"<>",AK$8:AQ$8),0))) -> 0 | I59: =G59/F59 -> 0.125 | J59: =COUNTA(AV59:AZ59) -> 0 | N59: O
F60: =IF(M60="O",12,IF(N60="O",6,IF(O60="O",7)))+Liste!H$23 -> 8 | G60: =IF(M61="O",COUNTA(Q61:AB61,AS61:AT61),IF(N61="O",COUNTA(AD61:AI61,AS61:AT61),IF(O61="O",COUNTA(AK61:AQ61,AS61:AT61),""))) -> 2 | H60: =IF(M60="O",SUMIF(Q60:AB60,"<>",Q$8:AB$8),IF(N60="O",SUMIF(AD60:AI60,"<>",AD$8:AI$8),IF(O60="O",SUMIF(AK60:AQ60,"<>",AK$8:AQ$8),0))) -> 2 | I60: =G60/F60 -> 0.25 | J60: =COUNTA(AV60:AZ60) -> 1 | N60: O | AF60: 44103 | AV60: 43419
F61: =IF(M61="O",12,IF(N61="O",6,IF(O61="O",7)))+Liste!H$23 -> 8 | G61: =IF(M62="O",COUNTA(Q62:AB62,AS62:AT62),IF(N62="O",COUNTA(AD62:AI62,AS62:AT62),IF(O62="O",COUNTA(AK62:AQ62,AS62:AT62),""))) -> 0 | H61: =IF(M61="O",SUMIF(Q61:AB61,"<>",Q$8:AB$8),IF(N61="O",SUMIF(AD61:AI61,"<>",AD$8:AI$8),IF(O61="O",SUMIF(AK61:AQ61,"<>",AK$8:AQ$8),0))) -> 5 | I61: =G61/F61 -> 0 | J61: =COUNTA(AV61:AZ61) -> 1 | N61: O | AD61: 43741 | AF61: 43717 | AV61: 43613
F62: =IF(M62="O",12,IF(N62="O",6,IF(O62="O",7)))+Liste!H$23 -> 14 | G62: =IF(M63="O",COUNTA(Q63:AB63,AS63:AT63),IF(N63="O",COUNTA(AD63:AI63,AS63:AT63),IF(O63="O",COUNTA(AK63:AQ63,AS63:AT63),""))) -> 1 | H62: =IF(M62="O",SUMIF(Q62:AB62,"<>",Q$8:AB$8),IF(N62="O",SUMIF(AD62:AI62,"<>",AD$8:AI$8),IF(O62="O",SUMIF(AK62:AQ62,"<>",AK$8:AQ$8),0))) -> 0 | I62: =G62/F62 -> 0.071428571 | J62: =COUNTA(AV62:AZ62) -> 0 | M62: O
F63: =IF(M63="O",12,IF(N63="O",6,IF(O63="O",7)))+Liste!H$23 -> 8 | G63: =IF(M64="O",COUNTA(Q64:AB64,AS64:AT64),IF(N64="O",COUNTA(AD64:AI64,AS64:AT64),IF(O64="O",COUNTA(AK64:AQ64,AS64:AT64),""))) -> 1 | H63: =IF(M63="O",SUMIF(Q63:AB63,"<>",Q$8:AB$8),IF(N63="O",SUMIF(AD63:AI63,"<>",AD$8:AI$8),IF(O63="O",SUMIF(AK63:AQ63,"<>",AK$8:AQ$8),0))) -> 2 | I63: =G63/F63 -> 0.125 | J63: =COUNTA(AV63:AZ63) -> 0 | N63: O | AF63: 43717
F64: =IF(M64="O",12,IF(N64="O",6,IF(O64="O",7)))+Liste!H$23 -> 14 | G64: =IF(M65="O",COUNTA(Q65:AB65,AS65:AT65),IF(N65="O",COUNTA(AD65:AI65,AS65:AT65),IF(O65="O",COUNTA(AK65:AQ65,AS65:AT65),""))) -> 3 | H64: =IF(M64="O",SUMIF(Q64:AB64,"<>",Q$8:AB$8),IF(N64="O",SUMIF(AD64:AI64,"<>",AD$8:AI$8),IF(O64="O",SUMIF(AK64:AQ64,"<>",AK$8:AQ$8),0))) -> 4 | I64: =G64/F64 -> 0.21428571 | J64: =COUNTA(AV64:AZ64) -> 0 | M64: O | T64: 43355
F65: =IF(M65="O",12,IF(N65="O",6,IF(O65="O",7)))+Liste!H$23 -> 14 | G65: =IF(M66="O",COUNTA(Q66:AB66,AS66:AT66),IF(N66="O",COUNTA(AD66:AI66,AS66:AT66),IF(O66="O",COUNTA(AK66:AQ66,AS66:AT66),""))) -> 0 | H65: =IF(M65="O",SUMIF(Q65:AB65,"<>",Q$8:AB$8),IF(N65="O",SUMIF(AD65:AI65,"<>",AD$8:AI$8),IF(O65="O",SUMIF(AK65:AQ65,"<>",AK$8:AQ$8),0))) -> 8 | I65: =G65/F65 -> 0 | J65: =COUNTA(AV65:AZ65) -> 0 | M65: O | Q65: 43610 | R65: 43619 | U65: 43741
F66: =IF(M66="O",12,IF(N66="O",6,IF(O66="O",7)))+Liste!H$23 -> 8 | G66: =IF(M67="O",COUNTA(Q67:AB67,AS67:AT67),IF(N67="O",COUNTA(AD67:AI67,AS67:AT67),IF(O67="O",COUNTA(AK67:AQ67,AS67:AT67),""))) -> 0 | H66: =IF(M66="O",SUMIF(Q66:AB66,"<>",Q$8:AB$8),IF(N66="O",SUMIF(AD66:AI66,"<>",AD$8:AI$8),IF(O66="O",SUMIF(AK66:AQ66,"<>",AK$8:AQ$8),0))) -> 0 | I66: =G66/F66 -> 0 | J66: =COUNTA(AV66:AZ66) -> 0 | N66: O
F67: =IF(M67="O",12,IF(N67="O",6,IF(O67="O",7)))+Liste!H$23 -> 14 | G67: =IF(M68="O",COUNTA(Q68:AB68,AS68:AT68),IF(N68="O",COUNTA(AD68:AI68,AS68:AT68),IF(O68="O",COUNTA(AK68:AQ68,AS68:AT68),""))) -> 2 | H67: =IF(M67="O",SUMIF(Q67:AB67,"<>",Q$8:AB$8),IF(N67="O",SUMIF(AD67:AI67,"<>",AD$8:AI$8),IF(O67="O",SUMIF(AK67:AQ67,"<>",AK$8:AQ$8),0))) -> 0 | I67: =G67/F67 -> 0.14285714 | J67: =COUNTA(AV67:AZ67) -> 0 | M67: O
F68: =IF(M68="O",12,IF(N68="O",6,IF(O68="O",7)))+Liste!H$23 -> 8 | G68: =IF(M69="O",COUNTA(Q69:AB69,AS69:AT69),IF(N69="O",COUNTA(AD69:AI69,AS69:AT69),IF(O69="O",COUNTA(AK69:AQ69,AS69:AT69),""))) -> 0 | H68: =IF(M68="O",SUMIF(Q68:AB68,"<>",Q$8:AB$8),IF(N68="O",SUMIF(AD68:AI68,"<>",AD$8:AI$8),IF(O68="O",SUMIF(AK68:AQ68,"<>",AK$8:AQ$8),0))) -> 5 | I68: =G68/F68 -> 0 | J68: =COUNTA(AV68:AZ68) -> 1 | N68: O | AD68: 43647 | AF68: 43717 | AV68: 43369
F69: =IF(M69="O",12,IF(N69="O",6,IF(O69="O",7)))+Liste!H$23 -> 8 | G69: =IF(M70="O",COUNTA(Q70:AB70,AS70:AT70),IF(N70="O",COUNTA(AD70:AI70,AS70:AT70),IF(O70="O",COUNTA(AK70:AQ70,AS70:AT70),""))) -> 0 | H69: =IF(M69="O",SUMIF(Q69:AB69,"<>",Q$8:AB$8),IF(N69="O",SUMIF(AD69:AI69,"<>",AD$8:AI$8),IF(O69="O",SUMIF(AK69:AQ69,"<>",AK$8:AQ$8),0))) -> 0 | I69: =G69/F69 -> 0 | J69: =COUNTA(AV69:AZ69) -> 0 | N69: O
F70: =IF(M70="O",12,IF(N70="O",6,IF(O70="O",7)))+Liste!H$23 -> 9 | G70: =IF(M71="O",COUNTA(Q71:AB71,AS71:AT71),IF(N71="O",COUNTA(AD71:AI71,AS71:AT71),IF(O71="O",COUNTA(AK71:AQ71,AS71:AT71),""))) -> 0 | H70: =IF(M70="O",SUMIF(Q70:AB70,"<>",Q$8:AB$8),IF(N70="O",SUMIF(AD70:AI70,"<>",AD$8:AI$8),IF(O70="O",SUMIF(AK70:AQ70,"<>",AK$8:AQ$8),0))) -> 0 | I70: =G70/F70 -> 0 | J70: =COUNTA(AV70:AZ70) -> 1 | O70: O | AY70: 44216
F71: =IF(M71="O",12,IF(N71="O",6,IF(O71="O",7)))+Liste!H$23 -> 8 | G71: =IF(M72="O",COUNTA(Q72:AB72,AS72:AT72),IF(N72="O",COUNTA(AD72:AI72,AS72:AT72),IF(O72="O",COUNTA(AK72:AQ72,AS72:AT72),""))) -> 4 | H71: =IF(M71="O",SUMIF(Q71:AB71,"<>",Q$8:AB$8),IF(N71="O",SUMIF(AD71:AI71,"<>",AD$8:AI$8),IF(O71="O",SUMIF(AK71:AQ71,"<>",AK$8:AQ$8),0))) -> 0 | I71: =G71/F71 -> 0.5 | J71: =COUNTA(AV71:AZ71) -> 0 | N71: O
F72: =IF(M72="O",12,IF(N72="O",6,IF(O72="O",7)))+Liste!H$23 -> 14 | G72: =IF(M73="O",COUNTA(Q73:AB73,AS73:AT73),IF(N73="O",COUNTA(AD73:AI73,AS73:AT73),IF(O73="O",COUNTA(AK73:AQ73,AS73:AT73),""))) -> 3 | H72: =IF(M72="O",SUMIF(Q72:AB72,"<>",Q$8:AB$8),IF(N72="O",SUMIF(AD72:AI72,"<>",AD$8:AI$8),IF(O72="O",SUMIF(AK72:AQ72,"<>",AK$8:AQ$8),0))) -> 12 | I72: =G72/F72 -> 0.21428571 | J72: =COUNTA(AV72:AZ72) -> 0 | M72: O | Q72: 43416 | R72: 43598 | T72: 43766 | U72: 43748
F73: =IF(M73="O",12,IF(N73="O",6,IF(O73="O",7)))+Liste!H$23 -> 8 | G73: =IF(M74="O",COUNTA(Q74:AB74,AS74:AT74),IF(N74="O",COUNTA(AD74:AI74,AS74:AT74),IF(O74="O",COUNTA(AK74:AQ74,AS74:AT74),""))) -> 1 | H73: =IF(M73="O",SUMIF(Q73:AB73,"<>",Q$8:AB$8),IF(N73="O",SUMIF(AD73:AI73,"<>",AD$8:AI$8),IF(O73="O",SUMIF(AK73:AQ73,"<>",AK$8:AQ$8),0))) -> 8 | I73: =G73/F73 -> 0.125 | J73: =COUNTA(AV73:AZ73) -> 0 | N73: O | AD73: 43412 | AE73: 43412 | AF73: 43412
F74: =IF(M74="O",12,IF(N74="O",6,IF(O74="O",7)))+Liste!H$23 -> 14 | G74: =IF(M75="O",COUNTA(Q75:AB75,AS75:AT75),IF(N75="O",COUNTA(AD75:AI75,AS75:AT75),IF(O75="O",COUNTA(AK75:AQ75,AS75:AT75),""))) -> 1 | H74: =IF(M74="O",SUMIF(Q74:AB74,"<>",Q$8:AB$8),IF(N74="O",SUMIF(AD74:AI74,"<>",AD$8:AI$8),IF(O74="O",SUMIF(AK74:AQ74,"<>",AK$8:AQ$8),0))) -> 4 | I74: =G74/F74 -> 0.071428571 | J74: =COUNTA(AV74:AZ74) -> 0 | M74: O | T74: 44095
F75: =IF(M75="O",12,IF(N75="O",6,IF(O75="O",7)))+Liste!H$23 -> 8 | G75: =IF(M76="O",COUNTA(Q76:AB76,AS76:AT76),IF(N76="O",COUNTA(AD76:AI76,AS76:AT76),IF(O76="O",COUNTA(AK76:AQ76,AS76:AT76),""))) -> 3 | H75: =IF(M75="O",SUMIF(Q75:AB75,"<>",Q$8:AB$8),IF(N75="O",SUMIF(AD75:AI75,"<>",AD$8:AI$8),IF(O75="O",SUMIF(AK75:AQ75,"<>",AK$8:AQ$8),0))) -> 3 | I75: =G75/F75 -> 0.375 | J75: =COUNTA(AV75:AZ75) -> 0 | N75: O | AD75: 43605
F76: =IF(M76="O",12,IF(N76="O",6,IF(O76="O",7)))+Liste!H$23 -> 8 | G76: =IF(M77="O",COUNTA(Q77:AB77,AS77:AT77),IF(N77="O",COUNTA(AD77:AI77,AS77:AT77),IF(O77="O",COUNTA(AK77:AQ77,AS77:AT77),""))) -> 2 | H76: =IF(M76="O",SUMIF(Q76:AB76,"<>",Q$8:AB$8),IF(N76="O",SUMIF(AD76:AI76,"<>",AD$8:AI$8),IF(O76="O",SUMIF(AK76:AQ76,"<>",AK$8:AQ$8),0))) -> 8 | I76: =G76/F76 -> 0.25 | J76: =COUNTA(AV76:AZ76) -> 0 | N76: O | AD76: 43278 | AE76: 43383 | AF76: 43412
F77: =IF(M77="O",12,IF(N77="O",6,IF(O77="O",7)))+Liste!H$23 -> 14 | G77: =IF(M78="O",COUNTA(Q78:AB78,AS78:AT78),IF(N78="O",COUNTA(AD78:AI78,AS78:AT78),IF(O78="O",COUNTA(AK78:AQ78,AS78:AT78),""))) -> 0 | H77: =IF(M77="O",SUMIF(Q77:AB77,"<>",Q$8:AB$8),IF(N77="O",SUMIF(AD77:AI77,"<>",AD$8:AI$8),IF(O77="O",SUMIF(AK77:AQ77,"<>",AK$8:AQ$8),0))) -> 6 | I77: =G77/F77 -> 0 | J77: =COUNTA(AV77:AZ77) -> 0 | M77: O | Q77: 43416 | R77: 43794
F78: =IF(M78="O",12,IF(N78="O",6,IF(O78="O",7)))+Liste!H$23 -> 8 | G78: =IF(M79="O",COUNTA(Q79:AB79,AS79:AT79),IF(N79="O",COUNTA(AD79:AI79,AS79:AT79),IF(O79="O",COUNTA(AK79:AQ79,AS79:AT79),""))) -> 1 | H78: =IF(M78="O",SUMIF(Q78:AB78,"<>",Q$8:AB$8),IF(N78="O",SUMIF(AD78:AI78,"<>",AD$8:AI$8),IF(O78="O",SUMIF(AK78:AQ78,"<>",AK$8:AQ$8),0))) -> 0 | I78: =G78/F78 -> 0.125 | J78: =COUNTA(AV78:AZ78) -> 1 | N78: O | AV78: 43699
F79: =IF(M79="O",12,IF(N79="O",6,IF(O79="O",7)))+Liste!H$23 -> 9 | G79: =IF(M80="O",COUNTA(Q80:AB80,AS80:AT80),IF(N80="O",COUNTA(AD80:AI80,AS80:AT80),IF(O80="O",COUNTA(AK80:AQ80,AS80:AT80),""))) -> 2 | H79: =IF(M79="O",SUMIF(Q79:AB79,"<>",Q$8:AB$8),IF(N79="O",SUMIF(AD79:AI79,"<>",AD$8:AI$8),IF(O79="O",SUMIF(AK79:AQ79,"<>",AK$8:AQ$8),0))) -> 1 | I79: =G79/F79 -> 0.22222222 | J79: =COUNTA(AV79:AZ79) -> 2 | O79: O | AO79: 43574 | AX79: 43210 | AY79: 44216
F80: =IF(M80="O",12,IF(N80="O",6,IF(O80="O",7)))+Liste!H$23 -> 14 | G80: =IF(M81="O",COUNTA(Q81:AB81,AS81:AT81),IF(N81="O",COUNTA(AD81:AI81,AS81:AT81),IF(O81="O",COUNTA(AK81:AQ81,AS81:AT81),""))) -> 0 | H80: =IF(M80="O",SUMIF(Q80:AB80,"<>",Q$8:AB$8),IF(N80="O",SUMIF(AD80:AI80,"<>",AD$8:AI$8),IF(O80="O",SUMIF(AK80:AQ80,"<>",AK$8:AQ$8),0))) -> 5 | I80: =G80/F80 -> 0 | J80: =COUNTA(AV80:AZ80) -> 0 | M80: O | R80: 43598 | U80: 43741
F81: =IF(M81="O",12,IF(N81="O",6,IF(O81="O",7)))+Liste!H$23 -> 8 | G81: =IF(M82="O",COUNTA(Q82:AB82,AS82:AT82),IF(N82="O",COUNTA(AD82:AI82,AS82:AT82),IF(O82="O",COUNTA(AK82:AQ82,AS82:AT82),""))) -> 0 | H81: =IF(M81="O",SUMIF(Q81:AB81,"<>",Q$8:AB$8),IF(N81="O",SUMIF(AD81:AI81,"<>",AD$8:AI$8),IF(O81="O",SUMIF(AK81:AQ81,"<>",AK$8:AQ$8),0))) -> 0 | I81: =G81/F81 -> 0 | J81: =COUNTA(AV81:AZ81) -> 0 | N81: O
F82: =IF(M82="O",12,IF(N82="O",6,IF(O82="O",7)))+Liste!H$23 -> 14 | G82: =IF(M83="O",COUNTA(Q83:AB83,AS83:AT83),IF(N83="O",COUNTA(AD83:AI83,AS83:AT83),IF(O83="O",COUNTA(AK83:AQ83,AS83:AT83),""))) -> 4 | H82: =IF(M82="O",SUMIF(Q82:AB82,"<>",Q$8:AB$8),IF(N82="O",SUMIF(AD82:AI82,"<>",AD$8:AI$8),IF(O82="O",SUMIF(AK82:AQ82,"<>",AK$8:AQ$8),0))) -> 0 | I82: =G82/F82 -> 0.28571429 | J82: =COUNTA(AV82:AZ82) -> 0 | M82: O
F83: =IF(M83="O",12,IF(N83="O",6,IF(O83="O",7)))+Liste!H$23 -> 14 | G83: =IF(M84="O",COUNTA(Q84:AB84,AS84:AT84),IF(N84="O",COUNTA(AD84:AI84,AS84:AT84),IF(O84="O",COUNTA(AK84:AQ84,AS84:AT84),""))) -> 0 | H83: =IF(M83="O",SUMIF(Q83:AB83,"<>",Q$8:AB$8),IF(N83="O",SUMIF(AD83:AI83,"<>",AD$8:AI$8),IF(O83="O",SUMIF(AK83:AQ83,"<>",AK$8:AQ$8),0))) -> 12 | I83: =G83/F83 -> 0 | J83: =COUNTA(AV83:AZ83) -> 0 | M83: O | R83: 43264 | T83: 43563 | U83: 43377 | X83: 44354
F84: =IF(M84="O",12,IF(N84="O",6,IF(O84="O",7)))+Liste!H$23 -> 14 | G84: =IF(M85="O",COUNTA(Q85:AB85,AS85:AT85),IF(N85="O",COUNTA(AD85:AI85,AS85:AT85),IF(O85="O",COUNTA(AK85:AQ85,AS85:AT85),""))) -> 0 | H84: =IF(M84="O",SUMIF(Q84:AB84,"<>",Q$8:AB$8),IF(N84="O",SUMIF(AD84:AI84,"<>",AD$8:AI$8),IF(O84="O",SUMIF(AK84:AQ84,"<>",AK$8:AQ$8),0))) -> 0 | I84: =G84/F84 -> 0 | J84: =COUNTA(AV84:AZ84) -> 0 | M84: O
F85: =IF(M85="O",12,IF(N85="O",6,IF(O85="O",7)))+Liste!H$23 -> 8 | G85: =IF(M86="O",COUNTA(Q86:AB86,AS86:AT86),IF(N86="O",COUNTA(AD86:AI86,AS86:AT86),IF(O86="O",COUNTA(AK86:AQ86,AS86:AT86),""))) -> 2 | H85: =IF(M85="O",SUMIF(Q85:AB85,"<>",Q$8:AB$8),IF(N85="O",SUMIF(AD85:AI85,"<>",AD$8:AI$8),IF(O85="O",SUMIF(AK85:AQ85,"<>",AK$8:AQ$8),0))) -> 0 | I85: =G85/F85 -> 0.25 | J85: =COUNTA(AV85:AZ85) -> 0 | N85: O
F86: =IF(M86="O",12,IF(N86="O",6,IF(O86="O",7)))+Liste!H$23 -> 14 | G86: =IF(M87="O",COUNTA(Q87:AB87,AS87:AT87),IF(N87="O",COUNTA(AD87:AI87,AS87:AT87),IF(O87="O",COUNTA(AK87:AQ87,AS87:AT87),""))) -> 2 | H86: =IF(M86="O",SUMIF(Q86:AB86,"<>",Q$8:AB$8),IF(N86="O",SUMIF(AD86:AI86,"<>",AD$8:AI$8),IF(O86="O",SUMIF(AK86:AQ86,"<>",AK$8:AQ$8),0))) -> 4 | I86: =G86/F86 -> 0.14285714 | J86: =COUNTA(AV86:AZ86) -> 0 | M86: O | S86: 44448 | U86: 43377
F87: =IF(M87="O",12,IF(N87="O",6,IF(O87="O",7)))+Liste!H$23 -> 8 | G87: =IF(M88="O",COUNTA(Q88:AB88,AS88:AT88),IF(N88="O",COUNTA(AD88:AI88,AS88:AT88),IF(O88="O",COUNTA(AK88:AQ88,AS88:AT88),""))) -> 0 | H87: =IF(M87="O",SUMIF(Q87:AB87,"<>",Q$8:AB$8),IF(N87="O",SUMIF(AD87:AI87,"<>",AD$8:AI$8),IF(O87="O",SUMIF(AK87:AQ87,"<>",AK$8:AQ$8),0))) -> 5 | I87: =G87/F87 -> 0 | J87: =COUNTA(AV87:AZ87) -> 1 | N87: O | AD87: 43605 | AF87: 43717 | AV87: 43410
F88: =IF(M88="O",12,IF(N88="O",6,IF(O88="O",7)))+Liste!H$23 -> 14 | G88: =IF(M89="O",COUNTA(Q89:AB89,AS89:AT89),IF(N89="O",COUNTA(AD89:AI89,AS89:AT89),IF(O89="O",COUNTA(AK89:AQ89,AS89:AT89),""))) -> 0 | H88: =IF(M88="O",SUMIF(Q88:AB88,"<>",Q$8:AB$8),IF(N88="O",SUMIF(AD88:AI88,"<>",AD$8:AI$8),IF(O88="O",SUMIF(AK88:AQ88,"<>",AK$8:AQ$8),0))) -> 0 | I88: =G88/F88 -> 0 | J88: =COUNTA(AV88:AZ88) -> 0 | M88: O
F89: =IF(M89="O",12,IF(N89="O",6,IF(O89="O",7)))+Liste!H$23 -> 14 | G89: =IF(M90="O",COUNTA(Q90:AB90,AS90:AT90),IF(N90="O",COUNTA(AD90:AI90,AS90:AT90),IF(O90="O",COUNTA(AK90:AQ90,AS90:AT90),""))) -> 4 | H89: =IF(M89="O",SUMIF(Q89:AB89,"<>",Q$8:AB$8),IF(N89="O",SUMIF(AD89:AI89,"<>",AD$8:AI$8),IF(O89="O",SUMIF(AK89:AQ89,"<>",AK$8:AQ$8),0))) -> 0 | I89: =G89/F89 -> 0.28571429 | J89: =COUNTA(AV89:AZ89) -> 0 | M89: O
F90: =IF(M90="O",12,IF(N90="O",6,IF(O90="O",7)))+Liste!H$23 -> 14 | G90: =IF(M91="O",COUNTA(Q91:AB91,AS91:AT91),IF(N91="O",COUNTA(AD91:AI91,AS91:AT91),IF(O91="O",COUNTA(AK91:AQ91,AS91:AT91),""))) -> 0 | H90: =IF(M90="O",SUMIF(Q90:AB90,"<>",Q$8:AB$8),IF(N90="O",SUMIF(AD90:AI90,"<>",AD$8:AI$8),IF(O90="O",SUMIF(AK90:AQ90,"<>",AK$8:AQ$8),0))) -> 12 | I90: =G90/F90 -> 0 | J90: =COUNTA(AV90:AZ90) -> 0 | M90: O | Q90: 43416 | R90: 43598 | S90: 43731 | T90: 44095
F91: =IF(M91="O",12,IF(N91="O",6,IF(O91="O",7)))+Liste!H$23 -> 8 | G91: =IF(M92="O",COUNTA(Q92:AB92,AS92:AT92),IF(N92="O",COUNTA(AD92:AI92,AS92:AT92),IF(O92="O",COUNTA(AK92:AQ92,AS92:AT92),""))) -> 3 | H91: =IF(M91="O",SUMIF(Q91:AB91,"<>",Q$8:AB$8),IF(N91="O",SUMIF(AD91:AI91,"<>",AD$8:AI$8),IF(O91="O",SUMIF(AK91:AQ91,"<>",AK$8:AQ$8),0))) -> 0 | I91: =G91/F91 -> 0.375 | J91: =COUNTA(AV91:AZ91) -> 0 | N91: O
F92: =IF(M92="O",12,IF(N92="O",6,IF(O92="O",7)))+Liste!H$23 -> 14 | G92: =IF(M93="O",COUNTA(Q93:AB93,AS93:AT93),IF(N93="O",COUNTA(AD93:AI93,AS93:AT93),IF(O93="O",COUNTA(AK93:AQ93,AS93:AT93),""))) -> 2 | H92: =IF(M92="O",SUMIF(Q92:AB92,"<>",Q$8:AB$8),IF(N92="O",SUMIF(AD92:AI92,"<>",AD$8:AI$8),IF(O92="O",SUMIF(AK92:AQ92,"<>",AK$8:AQ$8),0))) -> 10 | I92: =G92/F92 -> 0.14285714 | J92: =COUNTA(AV92:AZ92) -> 0 | M92: O | Q92: 43545 | R92: 43794 | T92: 43766
F93: =IF(M93="O",12,IF(N93="O",6,IF(O93="O",7)))+Liste!H$23 -> 8 | G93: =IF(M94="O",COUNTA(Q94:AB94,AS94:AT94),IF(N94="O",COUNTA(AD94:AI94,AS94:AT94),IF(O94="O",COUNTA(AK94:AQ94,AS94:AT94),""))) -> 2 | H93: =IF(M93="O",SUMIF(Q93:AB93,"<>",Q$8:AB$8),IF(N93="O",SUMIF(AD93:AI93,"<>",AD$8:AI$8),IF(O93="O",SUMIF(AK93:AQ93,"<>",AK$8:AQ$8),0))) -> 5 | I93: =G93/F93 -> 0.25 | J93: =COUNTA(AV93:AZ93) -> 0 | N93: O | AE93: 43724 | AF93: 43412
F94: =IF(M94="O",12,IF(N94="O",6,IF(O94="O",7)))+Liste!H$23 -> 8 | G94: =IF(M95="O",COUNTA(Q95:AB95,AS95:AT95),IF(N95="O",COUNTA(AD95:AI95,AS95:AT95),IF(O95="O",COUNTA(AK95:AQ95,AS95:AT95),""))) -> 3 | H94: =IF(M94="O",SUMIF(Q94:AB94,"<>",Q$8:AB$8),IF(N94="O",SUMIF(AD94:AI94,"<>",AD$8:AI$8),IF(O94="O",SUMIF(AK94:AQ94,"<>",AK$8:AQ$8),0))) -> 6 | I94: =G94/F94 -> 0.375 | J94: =COUNTA(AV94:AZ94) -> 0 | N94: O | AD94: 43741 | AE94: 43815
F95: =IF(M95="O",12,IF(N95="O",6,IF(O95="O",7)))+Liste!H$23 -> 8 | G95: =IF(M96="O",COUNTA(Q96:AB96,AS96:AT96),IF(N96="O",COUNTA(AD96:AI96,AS96:AT96),IF(O96="O",COUNTA(AK96:AQ96,AS96:AT96),""))) -> 0 | H95: =IF(M95="O",SUMIF(Q95:AB95,"<>",Q$8:AB$8),IF(N95="O",SUMIF(AD95:AI95,"<>",AD$8:AI$8),IF(O95="O",SUMIF(AK95:AQ95,"<>",AK$8:AQ$8),0))) -> 8 | I95: =G95/F95 -> 0 | J95: =COUNTA(AV95:AZ95) -> 0 | N95: O | AD95: 43647 | AE95: 43628 | AF95: 43797
F96: =IF(M96="O",12,IF(N96="O",6,IF(O96="O",7)))+Liste!H$23 -> 8 | G96: =IF(M97="O",COUNTA(Q97:AB97,AS97:AT97),IF(N97="O",COUNTA(AD97:AI97,AS97:AT97),IF(O97="O",COUNTA(AK97:AQ97,AS97:AT97),""))) -> 0 | H96: =IF(M96="O",SUMIF(Q96:AB96,"<>",Q$8:AB$8),IF(N96="O",SUMIF(AD96:AI96,"<>",AD$8:AI$8),IF(O96="O",SUMIF(AK96:AQ96,"<>",AK$8:AQ$8),0))) -> 0 | I96: =G96/F96 -> 0 | J96: =COUNTA(AV96:AZ96) -> 0 | N96: O
F97: =IF(M97="O",12,IF(N97="O",6,IF(O97="O",7)))+Liste!H$23 -> 8 | G97: =IF(M98="O",COUNTA(Q98:AB98,AS98:AT98),IF(N98="O",COUNTA(AD98:AI98,AS98:AT98),IF(O98="O",COUNTA(AK98:AQ98,AS98:AT98),""))) -> 0 | H97: =IF(M97="O",SUMIF(Q97:AB97,"<>",Q$8:AB$8),IF(N97="O",SUMIF(AD97:AI97,"<>",AD$8:AI$8),IF(O97="O",SUMIF(AK97:AQ97,"<>",AK$8:AQ$8),0))) -> 0 | I97: =G97/F97 -> 0 | J97: =COUNTA(AV97:AZ97) -> 0 | N97: O
F98: =IF(M98="O",12,IF(N98="O",6,IF(O98="O",7)))+Liste!H$23 -> 14 | G98: =IF(M99="O",COUNTA(Q99:AB99,AS99:AT99),IF(N99="O",COUNTA(AD99:AI99,AS99:AT99),IF(O99="O",COUNTA(AK99:AQ99,AS99:AT99),""))) -> 0 | H98: =IF(M98="O",SUMIF(Q98:AB98,"<>",Q$8:AB$8),IF(N98="O",SUMIF(AD98:AI98,"<>",AD$8:AI$8),IF(O98="O",SUMIF(AK98:AQ98,"<>",AK$8:AQ$8),0))) -> 0 | I98: =G98/F98 -> 0 | J98: =COUNTA(AV98:AZ98) -> 0 | M98: O
F99: =IF(M99="O",12,IF(N99="O",6,IF(O99="O",7)))+Liste!H$23 -> 8 | G99: =IF(M100="O",COUNTA(Q100:AB100,AS100:AT100),IF(N100="O",COUNTA(AD100:AI100,AS100:AT100),IF(O100="O",COUNTA(AK100:AQ100,AS100:AT100),""))) -> 0 | H99: =IF(M99="O",SUMIF(Q99:AB99,"<>",Q$8:AB$8),IF(N99="O",SUMIF(AD99:AI99,"<>",AD$8:AI$8),IF(O99="O",SUMIF(AK99:AQ99,"<>",AK$8:AQ$8),0))) -> 0 | I99: =G99/F99 -> 0 | J99: =COUNTA(AV99:AZ99) -> 0 | N99: O
F100: =IF(M100="O",12,IF(N100="O",6,IF(O100="O",7)))+Liste!H$23 -> 8 | G100: =IF(M101="O",COUNTA(Q101:AB101,AS101:AT101),IF(N101="O",COUNTA(AD101:AI101,AS101:AT101),IF(O101="O",COUNTA(AK101:AQ101,AS101:AT101),""))) -> 2 | H100: =IF(M100="O",SUMIF(Q100:AB100,"<>",Q$8:AB$8),IF(N100="O",SUMIF(AD100:AI100,"<>",AD$8:AI$8),IF(O100="O",SUMIF(AK100:AQ100,"<>",AK$8:AQ$8),0))) -> 0 | I100: =G100/F100 -> 0.25 | J100: =COUNTA(AV100:AZ100) -> 1 | N100: O | AV100: 44139
F101: =IF(M101="O",12,IF(N101="O",6,IF(O101="O",7)))+Liste!H$23 -> 8 | G101: =IF(M102="O",COUNTA(Q102:AB102,AS102:AT102),IF(N102="O",COUNTA(AD102:AI102,AS102:AT102),IF(O102="O",COUNTA(AK102:AQ102,AS102:AT102),""))) -> 3 | H101: =IF(M101="O",SUMIF(Q101:AB101,"<>",Q$8:AB$8),IF(N101="O",SUMIF(AD101:AI101,"<>",AD$8:AI$8),IF(O101="O",SUMIF(AK101:AQ101,"<>",AK$8:AQ$8),0))) -> 5 | I101: =G101/F101 -> 0.375 | J101: =COUNTA(AV101:AZ101) -> 0 | N101: O | AE101: 43724 | AF101: 43717
F102: =IF(M102="O",12,IF(N102="O",6,IF(O102="O",7)))+Liste!H$23 -> 8 | G102: =IF(M103="O",COUNTA(Q103:AB103,AS103:AT103),IF(N103="O",COUNTA(AD103:AI103,AS103:AT103),IF(O103="O",COUNTA(AK103:AQ103,AS103:AT103),""))) -> 2 | H102: =IF(M102="O",SUMIF(Q102:AB102,"<>",Q$8:AB$8),IF(N102="O",SUMIF(AD102:AI102,"<>",AD$8:AI$8),IF(O102="O",SUMIF(AK102:AQ102,"<>",AK$8:AQ$8),0))) -> 8 | I102: =G102/F102 -> 0.25 | J102: =COUNTA(AV102:AZ102) -> 0 | N102: O | AD102: 43647 | AE102: 43815 | AF102: 43797
F103: =IF(M103="O",12,IF(N103="O",6,IF(O103="O",7)))+Liste!H$23 -> 8 | G103: =IF(M104="O",COUNTA(Q104:AB104,AS104:AT104),IF(N104="O",COUNTA(AD104:AI104,AS104:AT104),IF(O104="O",COUNTA(AK104:AQ104,AS104:AT104),""))) | H103: =IF(M103="O",SUMIF(Q103:AB103,"<>",Q$8:AB$8),IF(N103="O",SUMIF(AD103:AI103,"<>",AD$8:AI$8),IF(O103="O",SUMIF(AK103:AQ103,"<>",AK$8:AQ$8),0))) -> 5 | I103: =G103/F103 -> #VALUE! | J103: =COUNTA(AV103:AZ103) -> 0 | N103: O | AE103: 43815 | AF103: 43717
D104: TOTAL | F104: =SUM(F9:F103) -> 1006 | G104: =SUM(G10:G103) -> 98 | I104: =G104/F104 -> 0.097415507 | J104: =SUM(J10:J103) -> 23 | M104: =COUNTA(M9:M103) -> 40 | N104: =COUNTA(N9:N103) -> 49 | O104: =COUNTA(O9:O103) -> 6 | Q104: =COUNTA(Q9:Q103) -> 10 | R104: =COUNTA(R10:R103) -> 11 | S104: =COUNTA(S10:S103) -> 7 | T104: =COUNTA(T10:T103) -> 11 | U104: =COUNTA(U10:U103) -> 9 | V104: =COUNTA(V10:V103) -> 0 | W104: =COUNTA(W10:W103) -> 0 | X104: =COUNTA(X10:X103) -> 2 | Y104: =COUNTA(Y10:Y103) -> 0 | Z104: =COUNTA(Z9:Z103) -> 0 | AA104: =COUNTA(AA10:AA103) -> 0 | AB104: =COUNTA(AB10:AB103) -> 0 | AD104: =COUNTA(AD10:AD103) -> 22 | AE104: =COUNTA(AE10:AE103) -> 18 | AF104: =COUNTA(AF10:AF103) -> 22 | AG104: =COUNTA(AG10:AG103) -> 0 | AH104: =COUNTA(AH10:AH103) -> 0 | AI104: =COUNTA(AI10:AI103) -> 0 | AK104: =COUNTA(AK10:AK103) -> 0 | AL104: =COUNTA(AL10:AL103) -> 0 | AM104: =COUNTA(AM10:AM103) -> 0 | AN104: =COUNTA(AN10:AN103) -> 1 | AO104: =COUNTA(AO10:AO103) -> 1 | AP104: =COUNTA(AP10:AP103) -> 0 | AQ104: =COUNTA(AQ10:AQ103) -> 0 | AS104: =COUNTA(AS9:AS103) -> 0 | AT104: =COUNTA(AT9:AT103) -> 0 | AV104: =COUNTA(AV10:AV103) -> 15 | AW104: =COUNTA(AW10:AW103) -> 1 | AX104: =COUNTA(AX10:AX103) -> 2 | AY104: =COUNTA(AY10:AY103) -> 4 | AZ104: =COUNTA(AZ10:AZ103) -> 1
...

Sheet Liste
D5: Intermédiaire et Proximité | H5: Encadrement Technique | L5: Stratégique et Supérieur
D7: Chef de service | I7: Chef d'Equipe | M7: Direction
D8: Chef de Bureau | I8: Chef d'Exploitation | M8: Direction Adjointe
D9: Responsable Parc JJR | M9: DGA
D10: Responsable Marais de Sacy
D11: Responsable UTD
D12: Chef de centre
D13: Chef Adjoint Service
D14: Responsable d'équipe
D19: Formations "Hors dispositifs" | H19: =COUNTA('Etat des Formations'!AV7:AZ7) -> 0
D20: Nombre de Formation Intermédiaire et Proximité | H20: =COUNTA('Etat des Formations'!Q7:AB7) -> 0
D21: Nombre de Formation Encadrement technique | H21: =COUNTA('Etat des Formations'!AD7:AI7) -> 0
D22: Nombre de Formation Stratégique et Supérieur | H22: =COUNTA('Etat des Formations'!AK7:AQ7) -> 0
D23: Nombre de Formation "Toute Strate" | H23: =COUNTA(D59:G60) -> 2
H26: Nombre de jours
D27: Intermédiaire et Proximité - Strates 3 et 4
D28: Travailler en mode projet | H28: 3
D29: Le manager, vecteur de l'accompagnement au changement | H29: 3
D30: Le courage managérial | H30: 2
D31: Personnalités et générations : comprendre pour manager les différences | H31: 4
D32: Manager en prévenant les risques psycho-sociaux | H32: 2
D33: Le management innovant : réinventer son management | H33: 2
D34: L'appropriation d'une démarche collaborative : le design de service | H34: 2
D35: L'organisation et l'animation des réunions créatives de résolution de problèmes | H35: 3
D36: Propos et comportements sexistes au travail | H36: 1
D37: L'erreur comme un levier de réussite | H37: 1
D38: Sensibilisation à la prévention des discriminations | H38: 1
D39: La prévention du harcèlement au travail | H39: 1
D40: TOTAL | H40: =SUM(H28:H39) -> 25
D41: Encadrement Technique - Strate 5
D42: Encadrer une équipe au quotidien | H42: 3
D43: Communiquer efficacement et donner du sens au travail d'équipe | H43: 3
D44: Manager en prévenant les risques psycho-sociaux | H44: 2
D45: La prévention du harcèlement au travail | H45: 1
D46: Sensibilisation à la prévention des discriminations | H46: 1
D47: Propos et comportements sexistes au travail | H47: 1
D48: TOTAL | H48: =SUM(H42:H47) -> 11
D49: Stratégique et Supérieur - States 1 et 2
D50: Manager en prévenant les risques psycho-sociaux | H50: 2
D51: L'appropriation d'une démarche collaborative : le design de service | H51: 2
D52: Propos et comportements sexistes au travail : libération de la parole à la prévention | H52: 1
D53: La prévention du harcèlement au travail | H53: 1
D54: Le courage managérial | H54: 1
D55: L'erreur comme un levier de réussite | H55: 1
D56: Sensibilisation à la prévention des discriminations | H56: 1
D57: TOTAL | H57: =SUM(H50:H56) -> 9
D58: Toutes Strates
D59: Le manager Recruteur | H59: 1
D60: Technique et posture pour mener un entretien d'évaluation | H60: 2
D61: TOTAL | H61: =SUM(H59:H60) -> 3
D62: NOMBRE DE JOURS DE FORMATIONS TOTAL | H62: =SUM(H40+H48+H57+H61) -> 48
C64: Strate 5 | D64: Formations effectuées "Hors Dispositif"
B65: Strate 5 | C65: Strate 1 | D65: Accompagnement Prise de Poste Chefs d'Equipe des routes | H65: 3
B66: Strate 1 et 2 | C66: Strate 1 | D66: Le déploiement et la communication d'une décision stratégique pour induire le changement de culture managérial | H66: 2
B67: Strate 1 et 2 | C67: Strate 1 | D67: Conférence débat sur l'innovation managériale | H67: 1
B68: Strate 1 et 2 | C68: Strate 3 et 4 | D68: Webinaire introduction à l'innovation publique - Groupe 2 | H68: 1
B69: Strate 3 et 4 | D69: Le déploiement d'un plan stratégique préconçu | H69: 3
D70: TOTAL | H70: =SUM(H65:H69) -> 10

Sheet Départs
A1: ETAT DES DEPARTS
J6: Typologie Encadrant | N6: Intermédiaire et Proximité - Strate 3 et 4 | AA6: Encadrement Technique - Strate 5 | AH6: Stratégique et Supérieur - Strate 1 et 2 | AP6: Toute Strate | AS6: Formations "Hors Dispositif"
J7: INTERMEDIAIRE ET PROXIMITE (12 Formations = 25 jours) | K7: ENCADREMENT TECHNIQUE (6 Formations = 11 jours) | L7: STRATEGIQUE ET SUPERIEUR (7 Formations = 9 jours) | N7: TRAVAILLER EN MODE PROJET | O7: LE MANAGER, VECTEUR DE L'ACCOMPAGNEMENT AU CHANGEMENT | P7: LE COURAGE MANAGERIAL | Q7: PERSONNALITES ET GENERATIONS : COMPRENDRE POUR MANAGER LES DIFFERENCES | R7: MANAGER EN PREVENANT LES RISQUES PSYCHO-SOCIAUX | S7: LE MANAGEMENT INNOVANT : REINVENTER SON MANAGEMENT | T7: L'APPROPRIATION D'UNE DEMARCHE COLLABORATIVE : LE DESIGN DE SERVICE | U7: L'ORGANISATION ET L'ANIMATION DES REUNIONS CREATIVES DE RESOLUTION DE PROBLEMES | V7: LA PREVENTION DU HARCELEMENT AU TRAVAIL | W7: PROPOS ET COMPORTEMENTS SEXISTES AU TRAVAIL | X7: L'ERREUR COMME UN LEVIER DE REUSSITE | Y7: SENSIBILISATION A LA PREVENTION DES DISCRIMINATIONS | AA7: ENCADRER UNE EQUIPE AU QUOTIDIEN | AB7: COMMUNIQUER EFFICACEMENT ET DONNER DU SENS AU TRAVAIL D'EQUIPE | AC7: MANAGER EN PREVENANT LES RISQUES PSYCHO-SOCIAUX | AD7: LA PREVENTION DU HARCELEMENT AU TRAVAIL | AE7: SENSIBILISATION A LA PREVENTION DES DISCRIMINATION | AF7: PROPOS ET COMPORTEMENTS SEXISTES AU TRAVAIL | AH7: MANAGER EN PREVENANT LES RISQUES PSYCHO-SOCIAUX | AI7: L'APPROPRIATION D'UNE DEMARCHE COLLABORATIVE : LE DESIGN DE SERVICE | AJ7: PROPOS ET COMPORTEMENTS SEXISTES AU TRAVAIL : LIBERATION DE LA PAROLE A LA PREVENTION | AK7: LA PREVENTION DU HARCELEMENT AU TRAVAIL | AL7: LE COURAGE MANAGERIAL | AM7: L'ERRREUR COMME UN LEVIER DE REUSSITE | AN7: SENSIBILISATION A LA PREVENTION DES DISCRIMINATIONS | AP7: LE MANAGER RECRUTEUR | AQ7: TECHNIQUE ET POSTURE POUR MENER UN ENTRETIEN D'EVALUATION | AS7: ACCOMPAGNEMENT PRISE DE POSTE CHEFS D'EQUIPE DES ROUTES | AT7: LE DEPLOIEMENT ET LA COMMUNICATION D'UNE DECISION STRATEGIQUE POUR INDUIRE LE CHANGEMENT DE CULTURE MANAGARIAL | AU7: CONFERENCE DEBAT SUR L'INNOVATION MANAGERIALE | AV7: WEBINAIRE INTRODUCTION A L'INNOVATION PUBLIQUE GROUPE 2 | AW7: LE DEPLOIEMENT D'UN PLAN STRATEGIQUE PRECONCU - STRATES 3 ET 4
A8: Matricule | B8: Nom | C8: Prénom | D8: Service père | E8: Service | F8: Nbre de Formations Proposées | G8: Nbre de Formations suivies | H8: En % | I8: Formations Effectuées "Hors Dispositif"
