Workbook

Sheet Feuil1
A1: Rang | B1: Pays ou territoire | C1: PIB (en milliards de dollars/an) | D1: Afrique | E1: Am. latine | F1: Europe | G1: Moy orient | H1: Europe Est | I1: Extreme orient | J1: Maghreb | K1: Océanie | L1: Caraïbes | M1: Asie du Nord et centrale | N1: Asie du sud
A2: 1 | B2: États-Unis | C2: 20 494,05
A3: 2 | B3: Chine[note 2] | C3: 13 407,40 | I3: X
A4: 3 | B4: Japon | C4: 4 971,93 | I4: X
A5: 4 | B5: Allemagne | C5: 4000.39 | F5: X
A6: 5 | B6: Royaume-Uni | C6: 2828.64 | F6: X
A7: 6 | B7: France | C7: 2775.25 | F7: X
A8: 7 | B8: Inde | C8: 2 716,75 | N8: X
A9: 8 | B9: Italie | C9: 2072.2 | F9: X
A10: 9 | B10: Brésil | C10: 1 868,18 | E10: X
A11: 10 | B11: Canada | C11: 1 711,39
A12: 11 | B12: Russie[note 3] | C12: 1 630,66 | M12: X
A13: 12 | B13: Corée du Sud | C13: 1 619,42 | I13: X
A14: 13 | B14: Espagne | C14: 1425.87 | F14: X
A15: 14 | B15: Australie | C15: 1 418,28 | K15: X
A16: 15 | B16: Mexique | C16: 1 223,36 | E16: X
A17: 16 | B17: Indonésie | C17: 1 022,45 | I17: X
A18: 17 | B18: Pays-Bas | C18: 912.9 | F18: X
A19: 18 | B19: Arabie saoudite | C19: 782.48 | G19: X
A20: 19 | B20: Turquie | C20: 766.43 | G20: X
A21: 20 | B21: Suisse | C21: 703.75 | F21: X
A22: 21 | B22: Taïwan | C22: 589.39 | I22: X
A23: 22 | B23: Pologne | C23: 586.02 | F23: X | H23: X
A24: 23 | B24: Suède | C24: 551.14 | F24: X
A25: 24 | B25: Belgique | C25: 533.15 | F25: X
A26: 25 | B26: Argentine | C26: 518.09 | E26: X
A27: 26 | B27: Thaïlande | C27: 487.24 | I27: X
A28: 27 | B28: Autriche | C28: 457.64 | F28: X
A29: 28 | B29: Iran | C29: 452.28 | G29: X
A30: 29 | B30: Norvège | C30: 434.94 | F30: X
A31: 30 | B31: Émirats arabes unis | C31: 424.64 | G31: X
A32: 31 | B32: Nigeria | C32: 397.27 | D32: X
A33: 32 | B33: Irlande | C33: 372.7 | F33: X
A34: 33 | B34: Israël | C34: 369.84 | G34: X
A35: 34 | B35: Afrique du Sud | C35: 368.14 | D35: X
A36: 35 | B36: Hong Kong | C36: 363.03 | I36: X
A37: 36 | B37: Singapour | C37: 361.11 | I37: X
A38: 37 | B38: Malaisie | C38: 354.35 | I38: X
A39: 38 | B39: Danemark | C39: 350.87 | F39: X
A40: 39 | B40: Colombie | C40: 333.11 | E40: X
A41: 40 | B41: Philippines | C41: 330.85 | I41: X
A42: 41 | B42: Pakistan | C42: 312.57 | M42: X
A43: 42 | B43: Chili | C43: 298.17 | E43: X
A44: 43 | B44: Bangladesh | C44: 287.63 | N44: X
A45: 44 | B45: Finlande | C45: 275.32 | F45: X
A46: 45 | B46: Égypte | C46: 249.56 | G46: X
A47: 46 | B47: République tchèque | C47: 242.05 | F47: X | H47: X
A48: 47 | B48: Viêt Nam | C48: 241.27 | I48: X
A49: 48 | B49: Roumanie | C49: 239.85 | F49: X | H49: X
A50: 49 | B50: Portugal | C50: 238.51 | F50: X
A51: 50 | B51: Irak | C51: 226.07 | G51: X
A52: 51 | B52: Pérou | C52: 225.2 | E52: X
A53: 52 | B53: Grèce | C53: 219.1 | F53: X
A54: 53 | B54: Nouvelle-Zélande | C54: 203.4 | K54: X
A55: 54 | B55: Qatar | C55: 192.45 | G55: X
A56: 55 | B56: Algérie | C56: 180.44 | J56: X
A57: 56 | B57: Kazakhstan | C57: 170.54 | M57: X
A58: 57 | B58: Hongrie | C58: 155.7 | F58: X | H58: X
A59: 58 | B59: Koweït | C59: 141.05 | G59: X
A60: 59 | B60: Ukraine | C60: 124.6 | F60: X | H60: X
A61: 60 | B61: Maroc | C61: 118.31 | J61: X
A62: 61 | B62: Équateur | C62: 107.51 | E62: X
A63: 62 | B63: Angola | C63: 107.32 | D63: X
A64: 63 | B64: Slovaquie | C64: 106.59 | F64: X | H64: X
A65: 64 | B65: Porto Rico | C65: 104.34 | E65: X
A66: 65 | B66: Venezuela | C66: 98.47 | E66: X
A67: 66 | B67: Kenya | C67: 89.21 | D67: X
A68: 67 | B68: Sri Lanka | C68: 88.22 | N68: X
A69: 68 | B69: Oman | C69: 82.24 | G69: X
A70: 69 | B70: République dominicaine | C70: 80.94 | E70: X
A71: 70 | B71: Éthiopie | C71: 80.28 | D71: X
A72: 71 | B72: Guatemala | C72: 78.98 | E72: X
A73: 72 | B73: Luxembourg | C73: 68.77 | F73: X
A74: 73 | B74: Birmanie | C74: 68.56 | I74: X
A75: 74 | B75: Panama | C75: 65.21 | E75: X
A76: 75 | B76: Ghana | C76: 65.19 | D76: X
A77: 76 | B77: Bulgarie | C77: 64.96 | F77: X | H77: X
A78: 77 | B78: Croatie | C78: 60.69 | F78: X | H78: X
A79: 78 | B79: Uruguay | C79: 60.18 | E79: X
A80: 79 | B80: Syrie | C80: 60,04 | G80: X
A81: 80 | B81: Biélorussie | C81: 59.64 | F81: X | H81: X
A82: 81 | B82: Costa Rica | C82: 59.01 | E82: X
A83: 82 | B83: Tanzanie | C83: 57.86 | D83: X
A84: 83 | B84: Liban | C84: 56.41 | G84: X
A85: 84 | B85: Macao | C85: 54.55 | I85: X
A86: 85 | B86: Slovénie | C86: 54.24 | F86: X | H86: X
A87: 86 | B87: Lituanie | C87: 53.32 | F87: X | H87: X
A88: 87 | B88: Serbie | C88: 50.65 | F88: X | H88: X
A89: 88 | B89: Azerbaïdjan | C89: 45.42 | M89: X
A90: 89 | B90: Turkménistan | C90: 44.11 | M90: X
A91: 90 | B91: Libye | C91: 43.59 | J91: X
A92: 91 | B92: Côte d'Ivoire | C92: 43.03 | D92: X
A93: 92 | B93: République démocratique du Congo | C93: 42.64 | D93: X
A94: 93 | B94: Jordanie | C94: 42.37 | G94: X
A95: 94 | B95: Paraguay | C95: 41.6 | E95: X
A96: 95 | B96: Bolivie | C96: 41.41 | E96: X
A97: 96 | B97: Ouzbékistan | C97: 41.24 | M97: X
A98: 97 | B98: Tunisie | C98: 39.91 | J98: X
A99: 98 | B99: Cameroun | C99: 38.52 | D99: X
A100: 99 | B100: Bahreïn | C100: 38.29 | G100: X
...

Sheet Feuil2

Sheet Feuil3
A1: PIB Form 1 | B1: Colonne1 | C1: PIB | D1: Pays | E1: PIB Form 2
A2: =SUBSTITUTE(J2," ","") -> 4000,39 | B2: =VALUE(A2) -> 4000.39 | C2: =VALUE(A2) -> 4000.39 | D2: Allemagne | E2: =VALUE((SUBSTITUTE(Feuil3!A2," ",""))) -> 4000.39 | J2: 4000.39
A3: =SUBSTITUTE(J3," ","") -> 2828,64 | C3: =VALUE(A3) -> 2828.64 | D3: Royaume-Uni | E3: =VALUE((SUBSTITUTE(Feuil3!A3," ",""))) -> 2828.64 | J3: 2828.64
A4: =SUBSTITUTE(J4," ","") -> 2775,25 | C4: =VALUE(A4) -> 2775.25 | D4: France | E4: =VALUE((SUBSTITUTE(Feuil3!A4," ",""))) -> 2775.25 | J4: 2775.25
A5: =SUBSTITUTE(J5," ","") -> 2072,2 | C5: =VALUE(A5) -> 2072.2 | D5: Italie | E5: =VALUE((SUBSTITUTE(Feuil3!A5," ",""))) -> 2072.2 | J5: 2072.2
A6: =SUBSTITUTE(J6," ","") -> 1425,87 | C6: =VALUE(A6) -> 1425.87 | D6: Espagne | E6: =VALUE((SUBSTITUTE(Feuil3!A6," ",""))) -> 1425.87 | J6: 1425.87
A7: =SUBSTITUTE(J7," ","") -> 912,9 | C7: =VALUE(A7) -> 912.9 | D7: Pays-Bas | E7: =VALUE((SUBSTITUTE(Feuil3!A7," ",""))) -> 912.9 | J7: 912.9
A8: =SUBSTITUTE(J8," ","") -> 703,75 | C8: =VALUE(A8) -> 703.75 | D8: Suisse | E8: =VALUE((SUBSTITUTE(Feuil3!A8," ",""))) -> 703.75 | J8: 703.75
A9: =SUBSTITUTE(J9," ","") -> 586,02 | C9: =VALUE(A9) -> 586.02 | D9: Pologne | E9: =VALUE((SUBSTITUTE(Feuil3!A9," ",""))) -> 586.02 | J9: 586.02
A10: =SUBSTITUTE(J10," ","") -> 551,14 | C10: =VALUE(A10) -> 551.14 | D10: Suède | E10: =VALUE((SUBSTITUTE(Feuil3!A10," ",""))) -> 551.14 | J10: 551.14
A11: =SUBSTITUTE(J11," ","") -> 533,15 | C11: =VALUE(A11) -> 533.15 | D11: Belgique | E11: =VALUE((SUBSTITUTE(Feuil3!A11," ",""))) -> 533.15 | J11: 533.15
A12: =SUBSTITUTE(J12," ","") -> 457,64 | C12: =VALUE(A12) -> 457.64 | D12: Autriche | E12: =VALUE((SUBSTITUTE(Feuil3!A12," ",""))) -> 457.64 | J12: 457.64
A13: =SUBSTITUTE(J13," ","") -> 434,94 | C13: =VALUE(A13) -> 434.94 | D13: Norvège | E13: =VALUE((SUBSTITUTE(Feuil3!A13," ",""))) -> 434.94 | J13: 434.94
A14: =SUBSTITUTE(J14," ","") -> 372,7 | C14: =VALUE(A14) -> 372.7 | D14: Irlande | E14: =VALUE((SUBSTITUTE(Feuil3!A14," ",""))) -> 372.7 | J14: 372.7
... A39: =SUBSTITUTE(J39," ","") -> 5,4 | C39: =VALUE(A39) -> 5.4 | D39: Monténégro | E39: =VALUE((SUBSTITUTE(Feuil3!A39," ",""))) -> 5.4 | J39: 5.4
